{"text_format":"1","workbook":"xlsx","n_sheets":11,"sheets":["Introductie","Resultaten","Invoer","Invoerhulp","Berekeningen","Neerslagberekeningen","Klimaatscenario","Inrichtingskosten","Onderhoudskosten","Bronvermelding","Definities"],"not_rendered":{"charts":42,"images":6,"macros":1,"external_links":0,"defined_names":43,"comments":5,"pivot_tables":0},"unopened":[],"bounds":{"document_bytes":16777216,"sheet_cells":100000,"rows_first":2000,"rows_last":500,"rows_between":2000,"halvings":0,"cell_chars":16384,"cell_head_chars":4096},"cells_cut":0,"cells_raw":0,"read":"whole","date_system":"1900"}

{"sheet":"Introductie","index":0,"n_rows":127,"n_cols":10,"rows_kept":127,"cut":false,"hidden":false,"merged":[[109,4,109,5],[109,6,109,7],[109,8,109,11],[17,1,17,11],[34,1,34,11],[36,1,36,11],[71,4,71,5],[71,6,71,7],[93,4,93,5],[86,4,86,5],[86,6,86,7]]}
[]
[null,"Introductieblad "]
[null,"MKBA klimaatbestendig ontwerp"]
[null,"Algemene gegevens"]
[null,"Datum:","2023-10-01",null,null,null,null,null,"Auteur: ","Msc. Nick van der Lee (Versie 3) & ing. Andy Bruijns (Versie 2) & M.M. Rouvoet BBE (Versie 1)"]
[null,"Versie:","V3.3",null,null,null,null,null,"Contact: ","j.kluck@hva.nl"]
[null,"Kosten uit jaar:",2015,null,null,null,null,null,null,"Hogeschool van Amsterdam"]
[]
[]
[null,"Uitleg"]
[null,"Vul alleen de gele vlakken in. Er mogen geen cellen los worden gekopieerd, geknipt of geplakt. "]
[null,"In de invoerbladen praktijkvoorbeelden mogen alleen horizontaal regels worden gekopieerd. Dit geldt alleen voor de regels die onder de kop Kostenpost vallen."]
[null,"Bij verticaal of verkeerd kopieren kan deze MKBA zijn werking verliezen of foutieve waarden geven"]
[null,"Wanneer er regels worden toegevoegd in de werkbladen: Inrichtings-kosten en Onderhouds-kosten, moeten alle regels (exclusief titels) "]
[null,"van A-Z worden gesorteerd op object. Het is aan te bevelen om voor elk project een kopie van de MKBA te maken."]
[]
[null,"Resultaten"]
[null,"Het tabblad ‘Resultaten ’geeft een overzicht weer van de uitkomsten uit het model. Dit wordt weergegeven in enkele tabellen en grafieken. Deze tab is gesplitst in de onderdelen ‘Resultaten’ en ‘Uitgebreide resultaten’. \nOnder ‘Resultaten’ wordt een overzicht gegeven van de kosten (inrichtings-, onderhouds- en schadekosten) en groenbaten en infiltratiewaardes per jaar.\nDe aanlegkosten per jaar zijn berekend op basis van de hoeveelhedenstaat uit het tabblad ‘Invoer’ en de kostenkengetallen uit het tabblad ‘Inrichtingskosten’. De groenbaten bestaan uit de verminderde gezondheidskosten, de woningwaarde stijging en de voordelen voor de waterhuishuiding. Deze laatste uiten zich in kostenvermindering voor het waterschap. De infiltratiewaardes geven het percentage van de gemiddelde netto jaarneerslag (zonder verdamping) die ten goede komt aan het grondwater, ook al wordt het grondwater daardoor direct gedraineerd."]
[null,"Invoer"]
[null,"In dit blad kunnen alle kenmerken van een (klimaatbestendige) inrichting worden ingevuld. Door van linksboven naar rechtsonder het rekenblad af te werken voorkomt u fouten."]
[null,"De tabbladen van de hellende praktijkvoorbeelden zijn blauw gekleurd. De vlakke voorbeelden zijn geel gekleurd. "]
[null,"Voordat u dit rekenblad goed kan invullen is een ontwerp nodig van 4 varianten. Variant 0 wordt gebruikt als traditioneel referentie ontwerp. De varianten 1,2 en 3 "]
[null,"worden gebruikt als klimaatbestendige varianten."]
[null,"De tabel en grafiek bovenaan het blad geven de uitkomsten van de MKBA weer. Onder deze tabel begint het invoerveld. Bij de algemene gegevens geeft u "]
[null,"een aantal kenmerken van uw project / inrichting. In de hoeveelhedenstaat vult u alle hoeveelheden die in het ontwerp aanwezig zijn in. De aanwezige objecten kunt u via het "]
[null,"dropdown-menu onder kostenpost selecteren. Per variant en per object geeft u aan wat u met het object in jaar 0 gaat doen. Vervolgens geeft u aan "]
[null,"wat u de aankomende jaren met het object gaat doen. De kosten worden vervolgens gesommeerd en contant gemaakt. "]
[null,"In de tabel en grafiek boven aan het rekenblad worden de uitkomsten weergegeven"]
[]
[null,"Invoerhulp"]
[null,"Dit tabblad kan gebruikt worden als hulp voor het invullen van het Invoertabblad. Dit doorlopen geeft een werkende MKB analyse."]
[null,"Alle te doorlopen stappen staan vermeld en uitgelegd. Ook zijn er rekenhulpen en kengetallen gegeven bij iedere stap waar dat op van toepassing is."]
[]
[null,"Berekeningen"]
[null,"Het tabblad ‘Berekeningen’ bevat de belangrijkste berekeningen van de tool: zo worden de kosten bepaald op basis van de hoeveelhedenstaat in het tabblad ‘Invoer’; worden de waterschadekosten bepaald; de groenbaten ingeschat en de contante waarde wordt berekend.\nIn dit tabblad hoeft op geen enkele locatie iets gewijzigd en/of ingevoerd te worden. De uitkomsten van dit tabblad worden nader (grafisch) weergegeven in het tabblad ‘Resultaten’.\n"]
[null,"Neerslagberekeningen"]
[null,"Het tabblad ‘Neerslagberekeningen’ bevat berekeningen die niet direct belangrijk zijn voor de resultaten en het gebruik van de tool, zoals het rioleringsmodel en de waterschadeschatter. Deze berekeningen zijn voornamelijk apart in de tool opgenomen om het overzicht te behouden. "]
[null,"Klimaatscenario"]
[null,"Het tabblad 'Klimaatscenario' toont het gebruikte klimaatscenario en hoe deze geïnterpoleerd en geëxtrapoleerd is."]
[null,"Dit tabblad is zo ingericht dat het invoeren van een nieuw klimaatscenario niet te veel werk kost."]
[]
[null,"Inrichtingskosten"]
[null,"In dit blad zijn alle inrichtingskosten van de objecten opgenomen. Een object kan meerdere regels omvatten. Er wordt per object onderscheidt gemaakt "]
[null,"tussen aanleg-, vervanging- en verwijderingskosten. Aan elke regel is een kostprijs gebonden. De Indexkosten geven de geindexeerde kostprijs weer. "]
[null,"De indexprijs wordt gehanteerd in het invoerblad praktijkvoorbeeld. U kunt achter elke regel zelf een eigenwaarde invullen. "]
[null,"Wanneer u in het introductieblad aangeeft een eigenwaarde te willen gebruiken, vervalt de indexprijs voor deze regel en wordt er met uw eigenwaarde verder gerekend. "]
[null,"U kunt ook zelf een nieuw object toevoegen. Doe dit door een willekeurige ingevulde regel te kopieren en deze onderaan de tabel te plakken."]
[null,"Vervang de gegevens naar het object wat u wilt toevoegen. Geef voor elke kolom, behalve de indexprijs, een waarde en sorteer de volledige lijst van A-Z "]
[null,"als laatst op kolom object."]
[]
[null,"Onderhoudskosten"]
[null,"In dit blad zijn alle onderhoudskosten van de objecten opgenomen. Ook hier kan een object meerdere regels omvatten. De jaarlijkse kostprijs wordt berekent "]
[null,"aan de hand van een marktprijs, frequentie van het onderhoud en het percentage van het object wat wordt onderhouden. De indexprijs geeft geeft "]
[null,"de geindexeerde kostprijs weer. U kunt achter elke regel wederom een eigenwaarde invullen. Geef dan wel op dit blad aan of u deze waarde wilt meenemen"]
[null,"in de berekening. U kunt ook zelf een object toevoegen. Dit kan door een willekeurige ingevulde regel te kopieren en deze onderaan de tabel en plakken. "]
[null,"Geef voor alle kolommen, behalve de kostprijs en indexprijs, een waarde. Sorteer de lijst als laatst van A-Z op kolom object."]
[]
[null,"Definities"]
[null,"Dit tabblad bevat een aantal definities van termen gebruikt in de MKBA tool en hoe ze berekend zijn."]
[null,"Deze lijst is niet uitputtend."]
[]
[]
[]
[null,null,null,null,"Alleen gele- en oranje velden "]
[null,null,null,null,"dienen ingevuld te worden"]
[]
[]
[]
[null,"Versiebeheer"]
[null,"Logboek van aanpassingen en wijzigingen."]
[]
[null,"Versie","Datum wijziging","Auteur wijziging","Wijziging in tabblad",null,"cellen aangepast",null,"Eigenlijke wijziging"]
[]
[]
[null,"3.3","02-10-2023","Ronald Loeve","Invoer",null,"diverse",null,"aantal dropdownmenu's hersteld (waren harde verwijzingen)"]
[null,"3.2","01-07-2023","Ted Veldkamp","Invoer",null,"diverse",null,"Nog wat foute verwijzingen aangepast."]
[null,"3.1","09-02-2023","Nick van der Lee","Onderhoudskosten",null,"Rij 165",null,"De Tergakolk heeft dezelfde onderhoudskosten als een gewone kolken. Tenzij alle kolken in een groot gebied Tergakolken zijn, dan is het mogelijk minder door de grotere zandvang."]
[null,"3.1","09-02-2023","Nick van der Lee","Berekeningen",null,"Yt/mAF gemengd riool",null,"de kosten van gemengd riool was een rij naar onder geschoven t.o.v. de naam van de kostenpost waar ze bij horen. Dus alles stond verkeerd daar."]
[null,"3.1","08-02-2023","Nick van der Lee","berekeningen",null,"108&111; Ct/mF",null,"de berekening minder patienten was niet per 1000 inwoners, zoals de bron zegt. Nu wel."]
[null,"3.0","23-01-2023","Nick van der Lee","Introductie",null,"Uitlegtekst",null,"Tekst voor de nieuwe tabbladen Invoerhulp en Klimaatscenario toegevoegd."]
[null,"3.0","20-01-2023","Nick van der Lee","Resultaten",null,"Bt/mG25",null,"Weergave van de door de gemeente gemaakte kosten per inwoner van de straat"]
[null,"3.0","20-01-2023","Nick van der Lee","Resultaten",null,"M39t/mU82",null,"max waterstand op straat per herhalingstijd en ontwerpvariant weergegeven in tabel en grafiek"]
[null,"3.0","11-01-2023","Nick van der Lee","berekeningen",null,"Bt/mF 100t/m107",null,"Monetaire groenbaten vanuit de waterhuishouding in lijn gebracht met nieuwe infiltratieberekeningen"]
[null,"3.0","11-01-2023","Merel Hoevenaar en Nick van der Lee","Invoerhulp",null,"alle",null,"Tabblad invoerhulp aangemaakt met een stappenplan en rekenhulpmiddelen om het invoertabblad in te vullen."]
[null,"3.0","11-01-2023","Nick van der Lee","berekeningen",null,"Groenbaten tabel",null,"Volledige waardestijging bij 30% en 50% groen oppervlak, maar nu ook lineaire stijging tussen 0% en 30% of 50% groen oppervlak. Stijging woningwaarde was eerst abrubte stijging van 0% waarde toename naar 100% waarde toename bij 30% en 50% groen oppervlak zonder bomen. Effect bomen wordt dus nog steeds niet meegeteld in huizenprijzen."]
[null,"3.0","11-01-2023","Nick van der Lee","berekeningen",null,"Groenbaten tabel",null,"Groenbaten ook voor variant 0 uit laten rekenen, omdat deze variant anders onredelijk nadelig belicht wordt."]
[null,"3.0","10-01-2023","Nick van der Lee","Resultaten, Invoer, Berekeningen en Neerslagberekeningen",null,"Res. H&I 11t/m16; Inv Bt/mG 13&15; Ber Bt/mF 110t/m114; neer 774 en lager",null,"Let op! onderstaande celwijzigingen voor 'Invoer' en 'Berekeningen' tabbladen kloppen niet meer door verschuivingen. Infiltratieberekeningen toegevoegd! Van iedere variant wordt nu berekend of per soort oppervlak (verhard, onverhard, dak) alle of niet alle NETTO jaarneerslag kan infiltreren. Bij niet alle druppels telt dat oppervlak niet meer mee. Heel streng dus. Netto jaarneerslag = jaarneerslag - verdamping."]
[null,"2.11","22-12-2022","Nick van der Lee","berekeningen",null,"Groenbaten tabel",null,"Kleurencode per variant in lijn gebracht met rest van document. Dit waren eerst groentinten"]
[null,"2.11","20-12-2022","Nick van der Lee","inrichtingskosten",null,"de invoeren onder 'zand'",null,"Toevoegen van bergende lagen voor in wegfunderingen en innovatieve kolken en buizen. Mogelijk om apart geotextiel enzo toe te voegen. Toegevoegd: hardsteen, betongranulaat, WAVICORE buis, Tergakolk, Lava & bims, ROCKFLOW, AA schelpenmix, AA minerals, geogrid, geotextiel los"]
[null,"2.11","12-12-2022","Nick van der Lee","neerslagberekeningen",null,"C335t/m340",null,"Verduidelijking termen onderin rioleringsberekeningen per herhalingstijd"]
[null,"2.11","12-12-2022","Nick van der Lee","neerslagberekeningen",null,"B256 en verder",null,"Herziening berekening water op straat. Infiltratie vanuit berging vind nu vanaf begin plaats en niet na 1 uur. Berging kan gelijk gevuld worden en niet met 1/60e van de berging per minuut."]
[null,"2.10","03-11-2022","Nick van der Lee","resultaten",null,"rij 29",null,"verzekeraarsbaten voerden onvolledige berekening uit"]
[null,"2.10","03-11-2022","Nick van der Lee","neerslagberekeningen",null,"M7&M54&M101&M148",null,"Herhalingskansberekening werd op 1jaar gezet bij 0mm berging, maar dit is te grof. Staat nu op 0,1jaar herhalingskans"]
[null,"2.10","02-11-2022","Nick van der Lee","Neerslagberekeningen (achtergrond berekeningen)",null,"naam tabblad",null,"Tabblad achtergrondberekeningen hernoemd naar neerslagberekeningen"]
[null,"2.10","27-10-2022","Nick van der Lee","resultaten",null,"H5",null,"per jaar' toegevoegd"]
[null,"2.10","27-10-2022","Nick van der Lee","resultaten",null,"B5",null,"Verduidelijkt dat de tabel kosten per jaar weergeeft"]
[null,"2.10","13-10-2022","Nick van der Lee","berekeningen",null,"D,H,L,P217",null,"verduidelijkt dat het gaat om de contante waarde van de kosten"]
[null,"2.10","13-10-2022","Nick van der Lee","resultaten ",null,"D20&21",null,"verduidelijkt dat het gaat om de contante waarde van de kosten"]
[null,"2.10","13-10-2022","Nick van der Lee","invoer",null,"O42",null,"onzichtbaar onzinnig getal verwijderd"]
[null,"2.10","13-10-2022","Nick van der Lee","berekeningen",null,"E,I,M,Q 218",null,"Restwaarde berekening berekend over te resteren levensduur, niet over de geleefde levensduur"]
[null,"2.10","13-10-2022","Nick van der Lee","invoer",null,"B15",null,"Afkoppelen ja/nee verduidelijk naar Afkoppelen daken? Ja/nee"]
[null,"2.10","11-10-2022","Nick van der Lee","berekeningen",null,"B82t/mF82",null,"toename groen % veranderd in toename groen procentpunten, want Maas et al., 2009, heeft het niet over procentuele veranderingen t.o.v. een basispercentage, maar t.o.v. het % groen binnen een straal van 1km."]
[null,"2.10","07-10-2022","Nick van der Lee","berekeningen",null,"B80",null,"Notitie die uitlegt dat bladerdijk telt als groen op 1e verdieping boven openbare ruimte."]
[null,"2.10","06-01-2022","Nick van der Lee","berekeningen",null,"U83t/mZ91",null,"verwijzing naar invoercellen groen toegevoegd, want XLOOKUP geeft errors als naar ander tabblad verwezen worden"]
[null,"2.10","06-01-2022","Nick van der Lee","berekeningen",null,"C82t/mF82",null,"dubbele telling van bomen eruit gehaald"]
[null,"2.10","06-01-2022","Nick van der Lee","berekeningen",null,"C81t/mF81",null,"berekening wadi oppervlak uitgezet, moest anders toch vervangen worden door XLOOKUP en deze vakjes worden nu nergens meer voor gebruikt"]
[null,"2.10","06-01-2022","Nick van der Lee","berekeningen",null,"C80t/mF80",null,"VLOOKUP vervangen door XLOOKUP wat geen errors geeft"]
[null,"2.10","06-01-2022","Nick van der Lee","berekeningen",null,"C79t/mF79",null,"dubbele telling van wadi's er uit gehaald, wadis zitten al in de invoer van totaal groen opp."]
[null,"2.10","06-01-2022","Nick van der Lee","berekeningen",null,"C219",null,"Discontovoet aangepast van 3% naar 2,25% (rapport werkgroep discontovoet 2020)"]
[null,"2.10","05-10-2022","Nick van der Lee","achtergrond berekeningen & klimaatscenario",null,"alle cellen in Achtergrondberekeningen met neerslag bui T=herhalingskans [mm]",null,"tabblad Klimaatscenario toegevoegd waar klimaatscenarios berekend en vergeleken kunnen worden. Achtergrondberekeningen verwijst nu naar de tabel met het geïnterpoleerde gebruikte scenario en is niet meer hardcoded"]
[null,"2.10","03-10-2022","Nick van der Lee","berekeningen",null,"B83",null,"notitie toegevoegd"]
[null,"2.10","26-09-2022","Nick van der Lee","bronvermelding",null,"regel 19",null,"bron 18 toegevoegd"]
[null,"2.10","26-09-2022","Nick van der Lee","berekeningen",null,"X4t/m52t/mAF",null,"Tabel bevatte verwijzingen naar verkeerde regels in invoer of verwijzingen naar regels ontbraken"]
[null,"2.10","26-09-2022","Nick van der Lee","invoer",null,"Xt/mAE34",null,"Verduideling in kolomtitels over 2e herinrichting"]
[null,"2.10","15-09-2022","Nick van der Lee","berekeningen",null,"B108",null,"van totale groenbaten per jaar naar groenbaten 1e jaar, wegens eenmalige woningwaarde stijging"]
[null,"2.10","15-09-2022","Nick van der Lee","resultaten",null,"C42",null,"laten verwijzen naar uitgebreide resultaten i.p.v. de resultatentabel voor consistentie"]
[null,"2.10","14-09-2022","Nick van der Lee","berekeningen",null,"E218",null,"verwijzing naar lege cell in tweede deel formule, i.p.v. kosten excl."]
[null,"2.10","13-09-2022","Nick van der Lee","resultaten",null,"E9",null,"schadekosten variant 3 verwees naar de schade van variant2"]
[null,"2.10","12-09-2022","Nick van der Lee","Definities",null,"alle",null,"Aanmaken tabblad definities"]
[null,"2.10","12-09-2022","Nick van der Lee","resultaten",null,"F29",null,"verwees naar schadekosten variant3 i.p.v. variant2"]
[null,"2.10","12-09-2022","Nick van der Lee","resultaten",null,"F7&E13",null,"cellen hadden geen IFERROR. Cellen eromheen wel."]
[null,"2.10","12-09-2022","Nick van der Lee","berekeningen",null,"E108&F108",null,"Variant 2 en 3 gaven geen waardes zonder investeringskosten in deze variant. Veranderd naar alleen waardes geven wanneer groen oppervlak>0"]
[null,"2.10","12-09-2022","Nick van der Lee","berekeningen",null,"C10t/mF108",null,"totale groenbaten per jaar hadden niet de watersysteembelasing meegenomen. Deze stond wel al in tabel opgenomen, maar niet in de som"]
[null,"2.10","12-09-2022","Nick van der Lee","invoer",null,"B57t/mJ74+",null,"opzetten verziebeheer"]
[null,2.9,"november 2020","Ronald Loeve","berekeningen",null,"K72",null,"Er was een onjuiste link tussen variant 2 en 3 . Cell K72 aangepast: link naar G52 ipv naar I52."]
[null,2.8,"?","Andy Bruijns","hele tool",null,"veel",null,"groenbaten toegevoegd"]
[null,1.1000000000000001,"?","M.M. Rouvoet BBE","hele tool",null,"veel",null,"berekeningen uit ondezoek in tool omzetten"]

{"sheet":"Resultaten","index":1,"n_rows":56,"n_cols":46,"rows_kept":56,"cut":false,"hidden":false,"merged":[[41,17,42,17],[41,18,42,18],[41,19,42,19],[41,20,42,20],[40,12,42,12],[41,13,42,13],[41,14,42,14],[41,15,42,15],[41,16,42,16],[10,7,10,8],[0,2,0,6],[39,1,41,1],[19,3,20,3],[19,4,20,4],[19,5,20,5],[19,6,20,6]]}
[null,null,"Auteurs: M.M. Rouvoet BBE (Versie 1) & ing. A.J. Bruijns (Versie 2) & Msc. N. van der Lee (versie 3)"]
[null,"Werkblad","Productiedatum:  versie 1, december 2016; Versie 2.9, november 2020, Versie 3.1, januari 2023"]
[]
[null,"Resultaten"]
[null,"Bedragen per jaar","Aanlegkosten","Onderhouds-kosten ",{"$f":"IF(Invoer!D6=\"Vlak\",\"Schadekosten\",\"Schadekosten n.v.t.\")","v":"Schadekosten"},"Totale Jaarkosten","Restwaarde na 100 jaar","Groenbaten per jaar","Groenbaten (100 jaar)",null,null,null,null,null,null,null,null,null,null,null,null,null,null,null,null,null,null,null,null,null,null,null,null,null,null,null,null,null,null,"2e contante waarde tabel"]
[null,"Variant 0 ",{"$f":"ROUND((D20-G6-(E6+D6)*Berekeningen!$C$251)/Berekeningen!$C$251,-2)","v":{"$error":"#VALUE!"}},{"$f":"Berekeningen!D73","v":0},{"$f":"IF(Invoer!D6=\"Vlak\",Berekeningen!$I$93,\"0\")","v":"n.v.t."},{"$f":"C6+D6+E6","v":{"$error":"#VALUE!"}},{"$f":"Berekeningen!E253","v":0},{"$f":"I6/100","v":0},{"$f":"Berekeningen!G251","v":0},null,null,null,null,null,null,null,null,null,null,null,null,null,null,null,null,null,null,null,null,null,null,null,null,null,null,null,null,null,null,null,null,"Aanlegkosten","Onderhoudskosten","Schadekosten","Groenbaten","Infiltratie"]
[null,"Variant 1 ",{"$f":"IF(E7=\"n.v.t.\",0,ROUND((E20-G7-(E7+D7)*Berekeningen!$C$251)/Berekeningen!$C$251,-2))","v":0},{"$f":"Berekeningen!F73","v":0},{"$f":"IF(Invoer!D6=\"Vlak\",Berekeningen!$J$93,\"0\")","v":"n.v.t."},{"$f":"IFERROR(C7+D7+E7,0)","v":0},{"$f":"Berekeningen!I253","v":0},{"$f":"I7/100","v":0},{"$f":"Berekeningen!K251","v":0},null,null,null,null,null,null,null,null,null,null,null,null,null,null,null,null,null,null,null,null,null,null,null,null,null,null,null,null,null,null,"Variant 0","Kosten",{"$f":"C12","v":{"$error":"#VALUE!"}},{"$f":"D12","v":{"$error":"#VALUE!"}},{"$f":"E12","v":{"$error":"#VALUE!"}}]
[null,"Variant 2 ",{"$f":"IF(E8=\"n.v.t.\",0,ROUND((F20-G8-(E8+D8)*Berekeningen!$C$251)/Berekeningen!$C$251,-2))","v":0},{"$f":"Berekeningen!H73","v":0},{"$f":"IF(Invoer!D6=\"Vlak\",Berekeningen!$K$93,\"0\")","v":"n.v.t."},{"$f":"IFERROR(C8+D8+E8,0)","v":0},{"$f":"Berekeningen!M253","v":0},{"$f":"I8/100","v":0},{"$f":"IFERROR(Berekeningen!O251,0)","v":0},null,null,null,null,null,null,null,null,null,null,null,null,null,null,null,null,null,null,null,null,null,null,null,null,null,null,null,null,null,null,null,"Groenbaten",null,null,null,{"$f":"F12","v":{"$error":"#VALUE!"}}]
[null,"Variant 3 ",{"$f":"IF(E9=\"n.v.t.\",0,ROUND((G20-G9-(E9+D9)*Berekeningen!$C$251)/Berekeningen!$C$251,-2))","v":0},{"$f":"Berekeningen!J73","v":0},{"$f":"IF(Invoer!D6=\"Vlak\",Berekeningen!$L$93,\"0\")","v":"n.v.t."},{"$f":"IFERROR(C9+D9+E9,0)","v":0},{"$f":"Berekeningen!Q253","v":0},0,{"$f":"IFERROR(Berekeningen!S251,0)","v":0},null,null,null,null,null,null,null,null,null,null,null,null,null,null,null,null,null,null,null,null,null,null,null,null,null,null,null,null,null,null,null,"Infiltratie",null,null,null,null,{"$f":"I12","v":{"$error":"#DIV/0!"}}]
[null,null,null,null,null,null,null,null,null,null,null,null,null,null,null,null,null,null,null,null,null,null,null,null,null,null,null,null,null,null,null,null,null,null,null,null,null,null,null,"Variant 1","Kosten",{"$f":"C13","v":0},{"$f":"D13","v":0},{"$f":"E13","v":0}]
[null,"Relatieve contante waarde","Relatieve aanlegkosten per jaar","Relatieve onderhouds-kosten per jaar",{"$f":"IF(Invoer!D6=\"Vlak\",\"Relatieve schadekosten\",\"Schadekosten n.v.t.\")","v":"Relatieve schadekosten"},"Relatieve groenbaten",null,"Percentage van netto jaarneerslag infiltreerbaar voor grondwater aanvulling",null,null,null,null,null,null,null,null,null,null,null,null,null,null,null,null,null,null,null,null,null,null,null,null,null,null,null,null,null,null,null,null,"Groenbaten",null,null,null,{"$f":"F13","v":{"$error":"#VALUE!"}}]
[null,{"$f":"D20/D20","v":{"$error":"#VALUE!"}},{"$f":"C6/$F$6","v":{"$error":"#VALUE!"}},{"$f":"D6/$F$6","v":{"$error":"#VALUE!"}},{"$f":"E6/$F$6","v":{"$error":"#VALUE!"}},{"$f":"H6/$F$6","v":{"$error":"#VALUE!"}},null,"Variant 0 ",{"$f":"Berekeningen!C139","v":{"$error":"#DIV/0!"}},null,null,null,null,null,null,null,null,null,null,null,null,null,null,null,null,null,null,null,null,null,null,null,null,null,null,null,null,null,null,null,"Infiltratie",null,null,null,null,{"$f":"I13","v":{"$error":"#DIV/0!"}}]
[null,{"$f":"IFERROR(E20/$D$20,0)","v":0},{"$f":"IFERROR(C7/$F$6,0)","v":0},0,0,{"$f":"H7/$F$6","v":{"$error":"#VALUE!"}},null,"Variant 1 ",{"$f":"Berekeningen!D139","v":{"$error":"#DIV/0!"}},null,null,null,null,null,null,null,null,null,null,null,null,null,null,null,null,null,null,null,null,null,null,null,null,null,null,null,null,null,null,"Variant 2","Kosten",{"$f":"C14","v":0},{"$f":"D14","v":0},{"$f":"E14","v":0}]
[null,{"$f":"IFERROR(F20/$D$20,0)","v":0},0,0,0,{"$f":"H8/$F$6","v":{"$error":"#VALUE!"}},null,"Variant 2 ",{"$f":"Berekeningen!E139","v":{"$error":"#DIV/0!"}},null,null,null,null,null,null,null,null,null,null,null,null,null,null,null,null,null,null,null,null,null,null,null,null,null,null,null,null,null,null,null,"Groenbaten",null,null,null,{"$f":"F14","v":{"$error":"#VALUE!"}}]
[null,{"$f":"IFERROR(G20/$D$20,0)","v":0},0,0,{"$f":"IFERROR(E9/$F$6,0)","v":0},{"$f":"H9/$F$6","v":{"$error":"#VALUE!"}},null,"Variant 3 ",{"$f":"Berekeningen!F139","v":{"$error":"#DIV/0!"}},null,null,null,null,null,null,null,null,null,null,null,null,null,null,null,null,null,null,null,null,null,null,null,null,null,null,null,null,null,null,null,"Infiltratie",null,null,null,null,{"$f":"I14","v":{"$error":"#DIV/0!"}}]
[null,null,null,null,null,null,null,null,null,null,null,null,null,null,null,null,null,null,null,null,null,null,null,null,null,null,null,null,null,null,null,null,null,null,null,null,null,null,null,"Variant 3","Kosten",{"$f":"C15","v":0},{"$f":"D15","v":0},{"$f":"E15","v":0}]
[null,null,null,null,null,null,null,null,null,null,null,null,null,null,null,null,null,null,null,null,null,null,null,null,null,null,null,null,null,null,null,null,null,null,null,null,null,null,null,null,"Groenbaten",null,null,null,{"$f":"F15","v":{"$error":"#VALUE!"}}]
[null,"Uitgebreide resultaten",null,null,null,null,null,null,null,null,null,null,null,null,null,null,null,null,null,null,null,null,null,null,null,null,null,null,null,null,null,null,null,null,null,null,null,null,null,null,"Infiltratie",null,null,null,null,{"$f":"I15","v":{"$error":"#DIV/0!"}}]
[null,"Overigen Resultaten",null,"Variant 0","Variant 1","Variant 2","Variant 3"]
[null,"Contante Waarde van de kosten over 100 jaar",null,{"$f":"Berekeningen!E252","v":{"$error":"#VALUE!"}},{"$f":"Berekeningen!I252","v":{"$error":"#VALUE!"}},{"$f":"Berekeningen!M252","v":0},{"$f":"Berekeningen!Q252","v":0}]
[]
[null,"Kosten en Baten per Variant en Stakeholder"]
[null,"Deze rolverdeling kan verschillen per project!","In € per jaar","Variant 0","Variant 1","Variant 2","Variant 3"]
[null,"Gemeente","Kosten",{"$f":"C6+D6","v":{"$error":"#VALUE!"}},{"$f":"C7+D7","v":0},{"$f":"C8+D8","v":0},{"$f":"C9+D9","v":0}]
[null,null,"Kosten per inwoner",{"$f":"D24/Invoer!$D27","v":{"$error":"#VALUE!"}},{"$f":"E24/Invoer!$D27","v":{"$error":"#DIV/0!"}},{"$f":"F24/Invoer!$D27","v":{"$error":"#DIV/0!"}},{"$f":"G24/Invoer!$D27","v":{"$error":"#DIV/0!"}}]
[null,null,"Baten",{"$f":"Berekeningen!C115","v":0},{"$f":"Berekeningen!D115","v":0},{"$f":"Berekeningen!E115","v":0},{"$f":"Berekeningen!F115","v":0}]
[null,"Waterschap","Kosten",0,0,0,0]
[null,null,"Baten",{"$f":"Berekeningen!C119+Berekeningen!C122+Berekeningen!C125+Berekeningen!C127","v":0},{"$f":"Berekeningen!D119+Berekeningen!D122+Berekeningen!D125+Berekeningen!D127","v":0},{"$f":"Berekeningen!E119+Berekeningen!E122+Berekeningen!E125+Berekeningen!E127","v":0},{"$f":"Berekeningen!F119+Berekeningen!F122+Berekeningen!F125+Berekeningen!F127","v":0}]
[null,"Verzekeraar","Kosten",0,0,0,0]
[null,null,"Baten",0,{"$f":"($E$6-E7)+Berekeningen!D106","v":{"$error":"#VALUE!"}},{"$f":"IF(F20=0,0,($E$6-E8)+Berekeningen!E106)","v":0},{"$f":"IF(G20=0,0,($E$6-E9)+Berekeningen!F106)","v":0}]
[null,"Bewoner/Woningeigenaar","Kosten",{"$f":"Berekeningen!C115+Berekeningen!C119+Berekeningen!C117","v":0},{"$f":"Berekeningen!D115+Berekeningen!D119+Berekeningen!D117","v":0},{"$f":"Berekeningen!E115+Berekeningen!E119+Berekeningen!E117","v":0},{"$f":"Berekeningen!F115+Berekeningen!F119+Berekeningen!F117","v":0}]
[null,null,"Baten",{"$f":"Berekeningen!C113/100","v":0},{"$f":"Berekeningen!D113/100","v":0},{"$f":"Berekeningen!E113/100","v":0},{"$f":"Berekeningen!F113/100","v":0}]
[null,"Het Rijk","Kosten",0,0,0,0]
[null,null,"Baten",{"$f":"Berekeningen!C117","v":0},{"$f":"Berekeningen!D117","v":0},{"$f":"Berekeningen!E117","v":0},{"$f":"Berekeningen!F117","v":0}]
[]
[]
[]
[]
[]
[null,"Kosten en Baten per Variant en Stakeholder",null,null,null,null,null,null,null,null,null,null,"Herhalingskans wateroverlast T=",null,{"$f":"Invoer!D31","v":0.1},null,{"$f":"Invoer!E31","v":0.1},null,{"$f":"Invoer!F31","v":0.1},null,{"$f":"Invoer!G31","v":0.1}]
[null,null,"Variant 0",null,"Variant 1",null,"Variant 2",null,"Variant 3",null,null,null,"Water op straat","Variant 0",null,"Variant 1",null,"Variant 2",null,"Variant 3"]
[null,null,"Kosten","Baten","Kosten","Baten","Kosten","Baten","Kosten","Baten",null,null,null,"Max. mm waterhoogte","Droog binnen #uur","Max. mm waterhoogte","Droog binnen #uur","Max. mm waterhoogte","Droog binnen #uur","Max. mm waterhoogte","Droog binnen #uur"]
[null,"Gemeente",{"$f":"D24","v":{"$error":"#VALUE!"}},{"$f":"D26","v":0},{"$f":"E24","v":0},{"$f":"E26","v":0},{"$f":"F24","v":0},{"$f":"F26","v":0},{"$f":"G24","v":0},{"$f":"G26","v":0}]
[null,"Waterschap",{"$f":"D27","v":0},{"$f":"D28","v":0},{"$f":"E27","v":0},{"$f":"E28","v":0},{"$f":"F27","v":0},{"$f":"F28","v":0},{"$f":"G27","v":0},{"$f":"G28","v":0},null,null,"T=1",{"$f":"Neerslagberekeningen!L862","v":{"$error":"#DIV/0!"}},{"$f":"IF(N44>0,IF(Neerslagberekeningen!L836>0,IF(Neerslagberekeningen!L852>0,IF(Neerslagberekeningen!L853>0,IF(Neerslagberekeningen!L854>0,IF(Neerslagberekeningen!L855>0,IF(Neerslagberekeningen!L856>0,IF(Neerslagberekeningen!L857>0,IF(Neerslagberekeningen!L858>0,IF(Neerslagberekeningen!L859>0,IF(Neerslagberekeningen!L860>0,\"Langer\",12960/60),11520/60),5760/60),2880/60),1440/60),720/60),8),4),2),1),0)","v":{"$error":"#DIV/0!"}},{"$f":"Neerslagberekeningen!S862","v":{"$error":"#DIV/0!"}},{"$f":"IF(N44>0,IF(Neerslagberekeningen!S836>0,IF(Neerslagberekeningen!S852>0,IF(Neerslagberekeningen!S853>0,IF(Neerslagberekeningen!S854>0,IF(Neerslagberekeningen!S855>0,IF(Neerslagberekeningen!S856>0,IF(Neerslagberekeningen!S857>0,IF(Neerslagberekeningen!S858>0,IF(Neerslagberekeningen!S859>0,IF(Neerslagberekeningen!S860>0,\"Langer\",12960/60),11520/60),5760/60),2880/60),1440/60),720/60),8),4),2),1),0)","v":{"$error":"#DIV/0!"}},{"$f":"Neerslagberekeningen!Z862","v":{"$error":"#DIV/0!"}},{"$f":"IF(N44>0,IF(Neerslagberekeningen!Z836>0,IF(Neerslagberekeningen!Z852>0,IF(Neerslagberekeningen!Z853>0,IF(Neerslagberekeningen!Z854>0,IF(Neerslagberekeningen!Z855>0,IF(Neerslagberekeningen!Z856>0,IF(Neerslagberekeningen!Z857>0,IF(Neerslagberekeningen!Z858>0,IF(Neerslagberekeningen!Z859>0,IF(Neerslagberekeningen!Z860>0,\"Langer\",12960/60),11520/60),5760/60),2880/60),1440/60),720/60),8),4),2),1),0)","v":{"$error":"#DIV/0!"}},{"$f":"Neerslagberekeningen!AG862","v":{"$error":"#DIV/0!"}},{"$f":"IF(N44>0,IF(Neerslagberekeningen!AG836>0,IF(Neerslagberekeningen!AG852>0,IF(Neerslagberekeningen!AG853>0,IF(Neerslagberekeningen!AG854>0,IF(Neerslagberekeningen!AG855>0,IF(Neerslagberekeningen!AG856>0,IF(Neerslagberekeningen!AG857>0,IF(Neerslagberekeningen!AG858>0,IF(Neerslagberekeningen!AG859>0,IF(Neerslagberekeningen!AG860>0,\"Langer\",12960/60),11520/60),5760/60),2880/60),1440/60),720/60),8),4),2),1),0)","v":{"$error":"#DIV/0!"}}]
[null,"Verzekeraar",{"$f":"D29","v":0},{"$f":"D30","v":0},{"$f":"E29","v":0},{"$f":"E30","v":{"$error":"#VALUE!"}},{"$f":"F29","v":0},{"$f":"F30","v":0},{"$f":"G29","v":0},{"$f":"G30","v":0},null,null,"T=5",{"$f":"Neerslagberekeningen!J335","v":{"$error":"#DIV/0!"}},{"$f":"IF(N45>0,IF(Neerslagberekeningen!J318>0,\"Langer\",1),0)","v":{"$error":"#DIV/0!"}},{"$f":"Neerslagberekeningen!O335","v":{"$error":"#DIV/0!"}},{"$f":"IF(P45>0,IF(Neerslagberekeningen!O318>0,\"Langer\",1),0)","v":{"$error":"#DIV/0!"}},{"$f":"Neerslagberekeningen!T335","v":{"$error":"#DIV/0!"}},{"$f":"IF(R45>0,IF(Neerslagberekeningen!T318>0,\"Langer\",1),0)","v":{"$error":"#DIV/0!"}},{"$f":"Neerslagberekeningen!Y335","v":{"$error":"#DIV/0!"}},{"$f":"IF(T45>0,IF(Neerslagberekeningen!Y318>0,\"Langer\",1),0)","v":{"$error":"#DIV/0!"}}]
[null,"Bewoner/Woningeigenaar",{"$f":"D31","v":0},{"$f":"D32","v":0},{"$f":"E31","v":0},{"$f":"E32","v":0},{"$f":"F31","v":0},{"$f":"F32","v":0},{"$f":"G31","v":0},{"$f":"G32","v":0},null,null,"T=10",{"$f":"Neerslagberekeningen!AH335","v":{"$error":"#DIV/0!"}},{"$f":"IF(N46>0,IF(Neerslagberekeningen!AH318>0,\"Langer\",1),0)","v":{"$error":"#DIV/0!"}},{"$f":"Neerslagberekeningen!AM335","v":{"$error":"#DIV/0!"}},{"$f":"IF(P46>0,IF(Neerslagberekeningen!AM318>0,\"Langer\",1),0)","v":{"$error":"#DIV/0!"}},{"$f":"Neerslagberekeningen!AR335","v":{"$error":"#DIV/0!"}},{"$f":"IF(R46>0,IF(Neerslagberekeningen!AR318>0,\"Langer\",1),0)","v":{"$error":"#DIV/0!"}},{"$f":"Neerslagberekeningen!AW335","v":{"$error":"#DIV/0!"}},{"$f":"IF(T46>0,IF(Neerslagberekeningen!AW318>0,\"Langer\",1),0)","v":{"$error":"#DIV/0!"}}]
[null,"Het Rijk",{"$f":"D33","v":0},{"$f":"D34","v":0},{"$f":"E33","v":0},{"$f":"E34","v":0},{"$f":"F33","v":0},{"$f":"F34","v":0},{"$f":"G33","v":0},{"$f":"G34","v":0},null,null,"T=20",{"$f":"Neerslagberekeningen!J421","v":{"$error":"#DIV/0!"}},{"$f":"IF(N47>0,IF(Neerslagberekeningen!J404>0,\"Langer\",1),0)","v":{"$error":"#DIV/0!"}},{"$f":"Neerslagberekeningen!O421","v":{"$error":"#DIV/0!"}},{"$f":"IF(P47>0,IF(Neerslagberekeningen!O404>0,\"Langer\",1),0)","v":{"$error":"#DIV/0!"}},{"$f":"Neerslagberekeningen!T421","v":{"$error":"#DIV/0!"}},{"$f":"IF(R47>0,IF(Neerslagberekeningen!T404>0,\"Langer\",1),0)","v":{"$error":"#DIV/0!"}},{"$f":"Neerslagberekeningen!Y421","v":{"$error":"#DIV/0!"}},{"$f":"IF(T47>0,IF(Neerslagberekeningen!Y404>0,\"Langer\",1),0)","v":{"$error":"#DIV/0!"}}]
[null,null,null,null,null,null,null,null,null,null,null,null,"T=50",{"$f":"Neerslagberekeningen!AH421","v":{"$error":"#DIV/0!"}},{"$f":"IF(N48>0,IF(Neerslagberekeningen!AH404>0,\"Langer\",1),0)","v":{"$error":"#DIV/0!"}},{"$f":"Neerslagberekeningen!AM421","v":{"$error":"#DIV/0!"}},{"$f":"IF(P48>0,IF(Neerslagberekeningen!AM404>0,\"Langer\",1),0)","v":{"$error":"#DIV/0!"}},{"$f":"Neerslagberekeningen!AR421","v":{"$error":"#DIV/0!"}},{"$f":"IF(R48>0,IF(Neerslagberekeningen!AR404>0,\"Langer\",1),0)","v":{"$error":"#DIV/0!"}},{"$f":"Neerslagberekeningen!AW421","v":{"$error":"#DIV/0!"}},{"$f":"IF(T48>0,IF(Neerslagberekeningen!AW404>0,\"Langer\",1),0)","v":{"$error":"#DIV/0!"}}]
[null,null,null,null,null,null,null,null,null,null,null,null,"T=100",{"$f":"Neerslagberekeningen!J507","v":{"$error":"#DIV/0!"}},{"$f":"IF(N49>0,IF(Neerslagberekeningen!J490>0,\"Langer\",1),0)","v":{"$error":"#DIV/0!"}},{"$f":"Neerslagberekeningen!O507","v":{"$error":"#DIV/0!"}},{"$f":"IF(P49>0,IF(Neerslagberekeningen!O490>0,\"Langer\",1),0)","v":{"$error":"#DIV/0!"}},{"$f":"Neerslagberekeningen!T507","v":{"$error":"#DIV/0!"}},{"$f":"IF(R49>0,IF(Neerslagberekeningen!T490>0,\"Langer\",1),0)","v":{"$error":"#DIV/0!"}},{"$f":"Neerslagberekeningen!Y507","v":{"$error":"#DIV/0!"}},{"$f":"IF(T49>0,IF(Neerslagberekeningen!Y490>0,\"Langer\",1),0)","v":{"$error":"#DIV/0!"}}]
[null,"Groenbaten per jaar",null,null,null,null,null,null,null,null,null,null,"T=200",{"$f":"Neerslagberekeningen!AH507","v":{"$error":"#DIV/0!"}},{"$f":"IF(N50>0,IF(Neerslagberekeningen!AH490>0,\"Langer\",1),0)","v":{"$error":"#DIV/0!"}},{"$f":"Neerslagberekeningen!AM507","v":{"$error":"#DIV/0!"}},{"$f":"IF(P50>0,IF(Neerslagberekeningen!AM490>0,\"Langer\",1),0)","v":{"$error":"#DIV/0!"}},{"$f":"Neerslagberekeningen!AR507","v":{"$error":"#DIV/0!"}},{"$f":"IF(R50>0,IF(Neerslagberekeningen!AR490>0,\"Langer\",1),0)","v":{"$error":"#DIV/0!"}},{"$f":"Neerslagberekeningen!AW507","v":{"$error":"#DIV/0!"}},{"$f":"IF(T50>0,IF(Neerslagberekeningen!AW490>0,\"Langer\",1),0)","v":{"$error":"#DIV/0!"}}]
[null,null,null,null,null,null,null,null,null,null,null,null,"T=250",{"$f":"Neerslagberekeningen!J593","v":{"$error":"#DIV/0!"}},null,{"$f":"Neerslagberekeningen!O593","v":{"$error":"#DIV/0!"}},null,{"$f":"Neerslagberekeningen!T593","v":{"$error":"#DIV/0!"}},null,{"$f":"Neerslagberekeningen!Y593","v":{"$error":"#DIV/0!"}}]
[null,null,null,null,null,null,null,null,null,null,null,null,"T=500",{"$f":"Neerslagberekeningen!AH593","v":{"$error":"#DIV/0!"}},null,{"$f":"Neerslagberekeningen!AM593","v":{"$error":"#DIV/0!"}},null,{"$f":"Neerslagberekeningen!AR593","v":{"$error":"#DIV/0!"}},null,{"$f":"Neerslagberekeningen!AW593","v":{"$error":"#DIV/0!"}}]
[null,null,null,null,null,null,null,null,null,null,null,null,"T=1.000",{"$f":"Neerslagberekeningen!J679","v":{"$error":"#DIV/0!"}},null,{"$f":"Neerslagberekeningen!O679","v":{"$error":"#DIV/0!"}},null,{"$f":"Neerslagberekeningen!T679","v":{"$error":"#DIV/0!"}},null,{"$f":"Neerslagberekeningen!Y679","v":{"$error":"#DIV/0!"}}]
[null,null,null,null,null,null,null,null,null,null,null,null,"T=2.000",{"$f":"Neerslagberekeningen!AH679","v":{"$error":"#DIV/0!"}},null,{"$f":"Neerslagberekeningen!AM679","v":{"$error":"#DIV/0!"}},null,{"$f":"Neerslagberekeningen!AR679","v":{"$error":"#DIV/0!"}},null,{"$f":"Neerslagberekeningen!AW679","v":{"$error":"#DIV/0!"}}]
[null,null,null,null,null,null,null,null,null,null,null,null,"T=4.000",{"$f":"Neerslagberekeningen!J756","v":{"$error":"#DIV/0!"}},null,{"$f":"Neerslagberekeningen!O756","v":{"$error":"#DIV/0!"}},null,{"$f":"Neerslagberekeningen!T756","v":{"$error":"#DIV/0!"}},null,{"$f":"Neerslagberekeningen!Y756","v":{"$error":"#DIV/0!"}}]
[null,null,null,null,null,null,null,null,null,null,null,null,"T=10.000",{"$f":"Neerslagberekeningen!AH756","v":{"$error":"#DIV/0!"}},null,{"$f":"Neerslagberekeningen!AM756","v":{"$error":"#DIV/0!"}},null,{"$f":"Neerslagberekeningen!AR756","v":{"$error":"#DIV/0!"}},null,{"$f":"Neerslagberekeningen!AW756","v":{"$error":"#DIV/0!"}}]

{"sheet":"Invoer","index":2,"n_rows":204,"n_cols":34,"rows_kept":204,"cut":false,"hidden":false,"merged":[[0,2,0,6],[34,1,35,1],[4,1,4,2],[5,1,5,2],[6,1,6,2],[7,1,7,2]]}
[null,null,"Auteurs: M.M. Rouvoet BBE (Versie 1) & ing. A.J. Bruijns (Versie 2) & Msc. N. van der Lee (versie 3)"]
[null,null,"Productiedatum:  versie 1, december 2016; Versie 3.3, oktober 2023"]
[null,"Invoerblad"]
[null,"Algemene gegevens"]
[null,"Jaar",null,2023]
[null,"Gebiedssituatie",null,"Vlak"]
[null,"Herinrichtingsjaar inclusief HWA en DWA",null,0,"jaar"]
[null,"Eigenwaarde",null,"Uit"]
[null,"Afvoer- & Bergingscapaciteit","Eenheid","Variant 0","Variant 1","Variant 2","Variant 3"]
[null,"Berging op straat (Tot. opp.)","mm"]
[null,"Afvoercapaciteit regenwaterriool (Verh. opp)","mm/uur "]
[null,"Afvoercapaciteit regenwatervoorzieningen (Verh. opp)","mm/uur "]
[null,"Waarvan infiltratie naar bodem (Verh. Opp)","mm/uur "]
[null,"Bergingscapaciteit regenwatervoorzieningen (Verh. opp)","mm"]
[null,"Waarvan alle geborgen neerslag infiltreert (Verh. Opp)","mm"]
[null,"Infiltratiecpaciteit onverhard","mm/uur "]
[null,"Afkoppelen daken?",null,"Nee","Nee","Ja","Ja"]
[null,"Oppervlakten"]
[null,"Totaal oppervlak","m²",{"$f":"Dakoppervlak+D21+D23","v":0},{"$f":"E20+E21+E23","v":0},{"$f":"F20+F21+F23","v":0},0]
[null,"Dakoppervlak",{"$f":"C19","v":"m²"}]
[null,"Verhard oppervlak",{"$f":"C20","v":"m²"}]
[null,"Openbare ruimte oppervlak",{"$f":"C21","v":"m²"}]
[null,"Onverhard- en groen oppervlak",{"$f":"C22","v":"m²"}]
[null,"Waarvan Privaat Groen (optioneel)",{"$f":"C23","v":"m²"}]
[null,"Woongegevens"]
[null,"Aantal woningen","st",null,{"$f":"D26","v":0},{"$f":"E26","v":0},{"$f":"F26","v":0}]
[null,"Aantal inwoners","st",null,0,{"$f":"E27","v":0},0]
[null,"Aantal inwoners binnen straal van 1 km","pers.",{"$f":"ROUND(D27/Neerslag_oppervlak*3140000,0)","v":{"$error":"#DIV/0!"}},{"$f":"D28","v":{"$error":"#DIV/0!"}},{"$error":"#DIV/0!"},{"$error":"#DIV/0!"}]
[null,"Gem. Woningwaarde",null,null,{"$f":"D29","v":0},0,0]
[null,"Straatlengte","m",null,0,0,0]
[null,"Herhalingskans wateroverlast T=","Jaar",{"$f":"IF($D$6=\"Vlak\",Berekeningen!$I$86,\"n.v.t.\")","v":0.1},{"$f":"IF($D$6=\"Vlak\",Berekeningen!$J$86,\"n.v.t.\")","v":0.1},{"$f":"IF($D$6=\"Vlak\",Berekeningen!$K$86,\"n.v.t.\")","v":0.1},{"$f":"IF($D$6=\"Vlak\",Berekeningen!$L$86,\"n.v.t.\")","v":0.1}]
[null,"Af- en toename in eerst volgende kwartier na uursom","mm",{"$f":"SUM(Neerslagberekeningen!I196:I207)","v":0},{"$f":"SUM(Neerslagberekeningen!I211:I222)","v":0},{"$f":"SUM(Neerslagberekeningen!I226:I237)","v":0},{"$f":"SUM(Neerslagberekeningen!I241:I252)","v":0}]
[]
[null,"Hoeveelhedenstaat"]
[null,"Ga naar database:",null,"Variant 0","0-situatie","Variant 1",null,"Variant 2",null,"Variant 3",null,null,null,null,null,null,null,null,null,null,null,null,null,"Variant "]
[null,null,"Eenheid","Hoeveelheden","Situatie Herinrichting","Hoeveelheden","Situatie Herinrichting","Hoeveelheden","Situatie Herinrichting","Hoeveelheden","Situatie Herinrichting",null,null,null,null,null,null,null,null,null,null,null,null,0,"2e inrichting",1,"2e inrichting",2,"2e inrichting",3,"2e inrichting",null,"Vervangen","Vervangen 1 & Vervangen 2"]
[null,"Grondwerk",null,null,null,null,null,null,null,null,null,null,null,null,null,null,null,null,null,null,null,null,null,null,null,null,null,null,null,null,null,null,"Verwijderen","Verwijderen nvt"]
[null,"Zand",{"$f":"IFERROR(VLOOKUP(B38,Inrichtingskosten!$C$9:$G$1035,5,FALSE),\"\")","v":"m³"},null,"-",null,"-",null,"-",null,"-",null,null,null,null,null,null,null,null,null,null,null,null,{"$f":"E38","v":"-"},{"$f":"IF(X38=\"Vervangen\",\"Vervangen\", IF(X38=\"Aanleg\",\"Vervangen\",IF(X38=\"Verwijderen\",\"n.v.t.\",\"-\")) )","v":"-"},{"$f":"G38","v":"-"},{"$f":"IF(Z38=\"Vervangen\",\"Vervangen\", IF(Z38=\"Aanleg\",\"Vervangen\",IF(Z38=\"Verwijderen\",\"n.v.t.\",\"-\")) )","v":"-"},{"$f":"I38","v":"-"},{"$f":"IF(AB38=\"Vervangen\",\"Vervangen\", IF(AB38=\"Aanleg\",\"Vervangen\",IF(AB38=\"Verwijderen\",\"n.v.t.\",\"-\")) )","v":"-"},{"$f":"K38","v":"-"},{"$f":"IF(AD38=\"Vervangen\",\"Vervangen\", IF(AD38=\"Aanleg\",\"Vervangen\",IF(AD38=\"Verwijderen\",\"n.v.t.\",\"-\")) )","v":"-"},null,"Aanleg","Aanleggen &  Vervangen"]
[null,"Drainzand",{"$f":"IFERROR(VLOOKUP(B39,Inrichtingskosten!$C$9:$G$1035,5,FALSE),\"\")","v":"m³"},null,"-",null,"-",null,"-",null,"-",null,null,null,null,null,null,null,null,null,null,null,null,{"$f":"E39","v":"-"},{"$f":"IF(X39=\"Vervangen\",\"Vervangen\", IF(X39=\"Aanleg\",\"Vervangen\",IF(X39=\"Verwijderen\",\"n.v.t.\",\"-\")) )","v":"-"},{"$f":"G39","v":"-"},{"$f":"IF(Z39=\"Vervangen\",\"Vervangen\", IF(Z39=\"Aanleg\",\"Vervangen\",IF(Z39=\"Verwijderen\",\"n.v.t.\",\"-\")) )","v":"-"},{"$f":"I39","v":"-"},{"$f":"IF(AB39=\"Vervangen\",\"Vervangen\", IF(AB39=\"Aanleg\",\"Vervangen\",IF(AB39=\"Verwijderen\",\"n.v.t.\",\"-\")) )","v":"-"},{"$f":"K39","v":"-"},{"$f":"IF(AD39=\"Vervangen\",\"Vervangen\", IF(AD39=\"Aanleg\",\"Vervangen\",IF(AD39=\"Verwijderen\",\"n.v.t.\",\"-\")) )","v":"-"},null,"-"]
[null," ",{"$f":"IFERROR(VLOOKUP(B40,Inrichtingskosten!$C$9:$G$1035,5,FALSE),\"\")","v":""},null,"-",null,"-",null,"-",null,"-",null,null,null,null,null,null,null,null,null,null,null,null,"-","-","-","-","-","-","-","-"]
[null,"Elementen verharding"]
[null,"Woonstraat en parkeerterrein van betonstraatstenen",{"$f":"IFERROR(VLOOKUP(B42,Inrichtingskosten!$C$9:$G$1035,5,FALSE),\"\")","v":"m²"},null,"-",null,"-",null,"-",null,"-",null,null,null,null,null,null,null,null,null,null,null,null,{"$f":"E42","v":"-"},{"$f":"IF(X42=\"Vervangen\",\"Vervangen\", IF(X42=\"Aanleg\",\"Vervangen\",IF(X42=\"Verwijderen\",\"n.v.t.\",\"-\")) )","v":"-"},{"$f":"G42","v":"-"},{"$f":"IF(Z42=\"Vervangen\",\"Vervangen\", IF(Z42=\"Aanleg\",\"Vervangen\",IF(Z42=\"Verwijderen\",\"n.v.t.\",\"-\")) )","v":"-"},{"$f":"I42","v":"-"},{"$f":"IF(AB42=\"Vervangen\",\"Vervangen\", IF(AB42=\"Aanleg\",\"Vervangen\",IF(AB42=\"Verwijderen\",\"n.v.t.\",\"-\")) )","v":"-"},{"$f":"K42","v":"-"},{"$f":"IF(AD42=\"Vervangen\",\"Vervangen\", IF(AD42=\"Aanleg\",\"Vervangen\",IF(AD42=\"Verwijderen\",\"n.v.t.\",\"-\")) )","v":"-"}]
[null,"Voetpad/plein van betonstraatstenen",{"$f":"IFERROR(VLOOKUP(B43,Inrichtingskosten!$C$9:$G$1035,5,FALSE),\"\")","v":"m²"},null,"-",null,"-",null,"-",null,"-",null,null,null,null,null,null,null,null,null,null,null,null,{"$f":"E43","v":"-"},{"$f":"IF(X43=\"Vervangen\",\"Vervangen\", IF(X43=\"Aanleg\",\"Vervangen\",IF(X43=\"Verwijderen\",\"n.v.t.\",\"-\")) )","v":"-"},{"$f":"G43","v":"-"},{"$f":"IF(Z43=\"Vervangen\",\"Vervangen\", IF(Z43=\"Aanleg\",\"Vervangen\",IF(Z43=\"Verwijderen\",\"n.v.t.\",\"-\")) )","v":"-"},{"$f":"I43","v":"-"},{"$f":"IF(AB43=\"Vervangen\",\"Vervangen\", IF(AB43=\"Aanleg\",\"Vervangen\",IF(AB43=\"Verwijderen\",\"n.v.t.\",\"-\")) )","v":"-"},{"$f":"K43","v":"-"},{"$f":"IF(AD43=\"Vervangen\",\"Vervangen\", IF(AD43=\"Aanleg\",\"Vervangen\",IF(AD43=\"Verwijderen\",\"n.v.t.\",\"-\")) )","v":"-"}]
[null,"Woonstraat en parkeerterrein van betonstraatstenen",{"$f":"IFERROR(VLOOKUP(B44,Inrichtingskosten!$C$9:$G$1035,5,FALSE),\"\")","v":"m²"},null,"-",null,"-",null,"-",null,"-",null,null,null,null,null,null,null,null,null,null,null,null,{"$f":"E44","v":"-"},{"$f":"IF(X44=\"Vervangen\",\"Vervangen\", IF(X44=\"Aanleg\",\"Vervangen\",IF(X44=\"Verwijderen\",\"n.v.t.\",\"-\")) )","v":"-"},{"$f":"G44","v":"-"},{"$f":"IF(Z44=\"Vervangen\",\"Vervangen\", IF(Z44=\"Aanleg\",\"Vervangen\",IF(Z44=\"Verwijderen\",\"n.v.t.\",\"-\")) )","v":"-"},{"$f":"I44","v":"-"},{"$f":"IF(AB44=\"Vervangen\",\"Vervangen\", IF(AB44=\"Aanleg\",\"Vervangen\",IF(AB44=\"Verwijderen\",\"n.v.t.\",\"-\")) )","v":"-"},{"$f":"K44","v":"-"},{"$f":"IF(AD44=\"Vervangen\",\"Vervangen\", IF(AD44=\"Aanleg\",\"Vervangen\",IF(AD44=\"Verwijderen\",\"n.v.t.\",\"-\")) )","v":"-"}]
[null,"Doorlatende verharding",{"$f":"IFERROR(VLOOKUP(B45,Inrichtingskosten!$C$9:$G$1035,5,FALSE),\"\")","v":"m²"},null,"-",null,"-",null,"-",null,"-",null,null,null,null,null,null,null,null,null,null,null,null,{"$f":"E45","v":"-"},{"$f":"IF(X45=\"Vervangen\",\"Vervangen\", IF(X45=\"Aanleg\",\"Vervangen\",IF(X45=\"Verwijderen\",\"n.v.t.\",\"-\")) )","v":"-"},{"$f":"G45","v":"-"},{"$f":"IF(Z45=\"Vervangen\",\"Vervangen\", IF(Z45=\"Aanleg\",\"Vervangen\",IF(Z45=\"Verwijderen\",\"n.v.t.\",\"-\")) )","v":"-"},{"$f":"I45","v":"-"},{"$f":"IF(AB45=\"Vervangen\",\"Vervangen\", IF(AB45=\"Aanleg\",\"Vervangen\",IF(AB45=\"Verwijderen\",\"n.v.t.\",\"-\")) )","v":"-"},{"$f":"K45","v":"-"},{"$f":"IF(AD45=\"Vervangen\",\"Vervangen\", IF(AD45=\"Aanleg\",\"Vervangen\",IF(AD45=\"Verwijderen\",\"n.v.t.\",\"-\")) )","v":"-"}]
[null," ",{"$f":"IFERROR(VLOOKUP(B46,Inrichtingskosten!$C$9:$G$1035,5,FALSE),\"\")","v":""},null,"-",null,"-",null,"-",null,"-",null,null,null,null,null,null,null,null,null,null,null,null,"-","-","-","-","-","-","-","-"]
[null," ",{"$f":"IFERROR(VLOOKUP(B47,Inrichtingskosten!$C$9:$G$1035,5,FALSE),\"\")","v":""},null,"-",null,"-",null,"-",null,"-",null,null,null,null,null,null,null,null,null,null,null,null,"-","-","-","-","-","-","-","-"]
[null," ",{"$f":"IFERROR(VLOOKUP(B48,Inrichtingskosten!$C$9:$G$1035,5,FALSE),\"\")","v":""},null,"-",null,"-",null,"-",null,"-",null,null,null,null,null,null,null,null,null,null,null,null,"-","-","-","-","-","-","-","-"]
[null," ",{"$f":"IFERROR(VLOOKUP(B49,Inrichtingskosten!$C$9:$G$1035,5,FALSE),\"\")","v":""},null,"-",null,"-",null,"-",null,"-",null,null,null,null,null,null,null,null,null,null,null,null,"-","-","-","-","-","-","-","-"]
[null," ",{"$f":"IFERROR(VLOOKUP(B50,Inrichtingskosten!$C$9:$G$1035,5,FALSE),\"\")","v":""},null,"-",null,"-",null,"-",null,"-",null,null,null,null,null,null,null,null,null,null,null,null,"-","-","-","-","-","-","-","-"]
[null,"Infiltratiesystemen"]
[null,"Centrale wadi",{"$f":"IFERROR(VLOOKUP(B52,Inrichtingskosten!$C$9:$G$1035,5,FALSE),\"\")","v":"m²"},null,"-",null,"-",null,"-",null,"-",null,null,null,null,null,null,null,null,null,null,null,null,{"$f":"E52","v":"-"},{"$f":"IF(X52=\"Vervangen\",\"Vervangen\", IF(X52=\"Aanleg\",\"Vervangen\",IF(X52=\"Verwijderen\",\"n.v.t.\",\"-\")) )","v":"-"},{"$f":"G52","v":"-"},{"$f":"IF(Z52=\"Vervangen\",\"Vervangen\", IF(Z52=\"Aanleg\",\"Vervangen\",IF(Z52=\"Verwijderen\",\"n.v.t.\",\"-\")) )","v":"-"},{"$f":"I52","v":"-"},{"$f":"IF(AB52=\"Vervangen\",\"Vervangen\", IF(AB52=\"Aanleg\",\"Vervangen\",IF(AB52=\"Verwijderen\",\"n.v.t.\",\"-\")) )","v":"-"},{"$f":"K52","v":"-"},{"$f":"IF(AD52=\"Vervangen\",\"Vervangen\", IF(AD52=\"Aanleg\",\"Vervangen\",IF(AD52=\"Verwijderen\",\"n.v.t.\",\"-\")) )","v":"-"}]
[null,"Molgoot",{"$f":"IFERROR(VLOOKUP(B53,Inrichtingskosten!$C$9:$G$1035,5,FALSE),\"\")","v":"m"},null,"-",null,"-",null,"-",null,"-",null,null,null,null,null,null,null,null,null,null,null,null,"-","-","-","-",{"$f":"I53","v":"-"},{"$f":"IF(AB53=\"Vervangen\",\"Vervangen\", IF(AB53=\"Aanleg\",\"Vervangen\",IF(AB53=\"Verwijderen\",\"n.v.t.\",\"-\")) )","v":"-"},"-","-"]
[null,"Verbindingsleiding",{"$f":"IFERROR(VLOOKUP(B54,Inrichtingskosten!$C$9:$G$1035,5,FALSE),\"\")","v":"m"},null,"-",null,"-",null,"-",null,"-",null,null,null,null,null,null,null,null,null,null,null,null,{"$f":"E54","v":"-"},{"$f":"IF(X54=\"Vervangen\",\"Vervangen\", IF(X54=\"Aanleg\",\"Vervangen\",IF(X54=\"Verwijderen\",\"n.v.t.\",\"-\")) )","v":"-"},{"$f":"G54","v":"-"},{"$f":"IF(Z54=\"Vervangen\",\"Vervangen\", IF(Z54=\"Aanleg\",\"Vervangen\",IF(Z54=\"Verwijderen\",\"n.v.t.\",\"-\")) )","v":"-"},{"$f":"I54","v":"-"},{"$f":"IF(AB54=\"Vervangen\",\"Vervangen\", IF(AB54=\"Aanleg\",\"Vervangen\",IF(AB54=\"Verwijderen\",\"n.v.t.\",\"-\")) )","v":"-"},{"$f":"K54","v":"-"},{"$f":"IF(AD54=\"Vervangen\",\"Vervangen\", IF(AD54=\"Aanleg\",\"Vervangen\",IF(AD54=\"Verwijderen\",\"n.v.t.\",\"-\")) )","v":"-"}]
[null,null,{"$f":"IFERROR(VLOOKUP(B55,Inrichtingskosten!$C$9:$G$1035,5,FALSE),\"\")","v":""},null,"-",null,"-",null,"-",null,"-",null,null,null,null,null,null,null,null,null,null,null,null,"-","-","-","-","-","-","-","-"]
[null,null,{"$f":"IFERROR(VLOOKUP(B56,Inrichtingskosten!$C$9:$G$1035,5,FALSE),\"\")","v":""},null,"-",null,"-",null,"-",null,"-",null,null,null,null,null,null,null,null,null,null,null,null,"-","-","-","-","-","-","-","-"]
[null,null,{"$f":"IFERROR(VLOOKUP(B57,Inrichtingskosten!$C$9:$G$1035,5,FALSE),\"\")","v":""},null,"-",null,"-",null,"-",null,"-",null,null,null,null,null,null,null,null,null,null,null,null,"-","-","-","-","-","-","-","-"]
[null,null,{"$f":"IFERROR(VLOOKUP(B58,Inrichtingskosten!$C$9:$G$1035,5,FALSE),\"\")","v":""},null,"-",null,"-",null,"-",null,"-",null,null,null,null,null,null,null,null,null,null,null,null,"-","-","-","-","-","-","-","-"]
[null,null,{"$f":"IFERROR(VLOOKUP(B59,Inrichtingskosten!$C$9:$G$1035,5,FALSE),\"\")","v":""},null,"-",null,"-",null,"-",null,"-",null,null,null,null,null,null,null,null,null,null,null,null,"-","-","-","-","-","-","-","-"]
[null,null,{"$f":"IFERROR(VLOOKUP(B60,Inrichtingskosten!$C$9:$G$1035,5,FALSE),\"\")","v":""},null,"-",null,"-",null,"-",null,"-",null,null,null,null,null,null,null,null,null,null,null,null,"-","-","-","-","-","-","-","-"]
[null,null,{"$f":"IFERROR(VLOOKUP(B61,Inrichtingskosten!$C$9:$G$1035,5,FALSE),\"\")","v":""},null,"-",null,"-",null,"-",null,"-",null,null,null,null,null,null,null,null,null,null,null,null,"-","-","-","-","-","-","-","-"]
[null,null,{"$f":"IFERROR(VLOOKUP(B62,Inrichtingskosten!$C$9:$G$1035,5,FALSE),\"\")","v":""},null,"-",null,"-",null,"-",null,"-",null,null,null,null,null,null,null,null,null,null,null,null,"-","-","-","-","-","-","-","-"]
[null,"Gescheiden hemelwaterriool"]
[null,"Buis beton 400",{"$f":"IFERROR(VLOOKUP(B64,Inrichtingskosten!$C$9:$G$1035,5,FALSE),\"\")","v":"m"},null,"-",null,"-",null,"-",null,"-",null,null,null,null,null,null,null,null,null,null,null,null,{"$f":"E64","v":"-"},{"$f":"IF(X64=\"Vervangen\",\"Vervangen\", IF(X64=\"Aanleg\",\"Vervangen\",IF(X64=\"Verwijderen\",\"n.v.t.\",\"-\")) )","v":"-"},{"$f":"G64","v":"-"},{"$f":"IF(Z64=\"Vervangen\",\"Vervangen\", IF(Z64=\"Aanleg\",\"Vervangen\",IF(Z64=\"Verwijderen\",\"n.v.t.\",\"-\")) )","v":"-"},{"$f":"I64","v":"-"},{"$f":"IF(AB64=\"Vervangen\",\"Vervangen\", IF(AB64=\"Aanleg\",\"Vervangen\",IF(AB64=\"Verwijderen\",\"n.v.t.\",\"-\")) )","v":"-"},{"$f":"K64","v":"-"},{"$f":"IF(AD64=\"Vervangen\",\"Vervangen\", IF(AD64=\"Aanleg\",\"Vervangen\",IF(AD64=\"Verwijderen\",\"n.v.t.\",\"-\")) )","v":"-"}]
[null,"Rioolput beton 400",{"$f":"IFERROR(VLOOKUP(B65,Inrichtingskosten!$C$9:$G$1035,5,FALSE),\"\")","v":"st"},null,"-",null,"-",null,"-",null,"-",null,null,null,null,null,null,null,null,null,null,null,null,"-","-","-","-","-","-","-","-"]
[null,"Perceelaansluiting",{"$f":"IFERROR(VLOOKUP(B66,Inrichtingskosten!$C$9:$G$1035,5,FALSE),\"\")","v":"st"},null,"-",null,"-",null,"-",null,"-",null,null,null,null,null,null,null,null,null,null,null,null,"-","-","-","-","-","-","-","-"]
[null,"Kolk",{"$f":"IFERROR(VLOOKUP(B67,Inrichtingskosten!$C$9:$G$1035,5,FALSE),\"\")","v":"st"},null,"-",null,"-",null,"-",null,"-",null,null,null,null,null,null,null,null,null,null,null,null,"-","-","-","-","-","-","-","-"]
[null,"Drainage",{"$f":"IFERROR(VLOOKUP(B68,Inrichtingskosten!$C$9:$G$1035,5,FALSE),\"\")","v":"m"},null,"-",null,"-",null,"-",null,"-",null,null,null,null,null,null,null,null,null,null,null,null,"-","-","-","-","-","-","-","-"]
[null,null,{"$f":"IFERROR(VLOOKUP(B69,Inrichtingskosten!$C$9:$G$1035,5,FALSE),\"\")","v":""},null,"-",null,"-",null,"-",null,"-",null,null,null,null,null,null,null,null,null,null,null,null,{"$f":"E69","v":"-"},{"$f":"IF(X69=\"Vervangen\",\"Vervangen\", IF(X69=\"Aanleg\",\"Vervangen\",IF(X69=\"Verwijderen\",\"n.v.t.\",\"-\")) )","v":"-"},{"$f":"G69","v":"-"},{"$f":"IF(Z69=\"Vervangen\",\"Vervangen\", IF(Z69=\"Aanleg\",\"Vervangen\",IF(Z69=\"Verwijderen\",\"n.v.t.\",\"-\")) )","v":"-"},{"$f":"I69","v":"-"},{"$f":"IF(AB69=\"Vervangen\",\"Vervangen\", IF(AB69=\"Aanleg\",\"Vervangen\",IF(AB69=\"Verwijderen\",\"n.v.t.\",\"-\")) )","v":"-"},{"$f":"K69","v":"-"},{"$f":"IF(AD69=\"Vervangen\",\"Vervangen\", IF(AD69=\"Aanleg\",\"Vervangen\",IF(AD69=\"Verwijderen\",\"n.v.t.\",\"-\")) )","v":"-"}]
[null,null,{"$f":"IFERROR(VLOOKUP(B70,Inrichtingskosten!$C$9:$G$1035,5,FALSE),\"\")","v":""},null,"-",null,"-",null,"-",null,"-",null,null,null,null,null,null,null,null,null,null,null,null,"-","-","-","-","-","-","-","-"]
[null,null,{"$f":"IFERROR(VLOOKUP(B71,Inrichtingskosten!$C$9:$G$1035,5,FALSE),\"\")","v":""},null,"-",null,"-",null,"-",null,"-",null,null,null,null,null,null,null,null,null,null,null,null,"-","-","-","-","-","-","-","-"]
[null,null,{"$f":"IFERROR(VLOOKUP(B72,Inrichtingskosten!$C$9:$G$1035,5,FALSE),\"\")","v":""},null,"-",null,"-",null,"-",null,"-",null,null,null,null,null,null,null,null,null,null,null,null,{"$f":"E72","v":"-"},{"$f":"IF(X72=\"Vervangen\",\"Vervangen\", IF(X72=\"Aanleg\",\"Vervangen\",IF(X72=\"Verwijderen\",\"n.v.t.\",\"-\")) )","v":"-"},{"$f":"G72","v":"-"},{"$f":"IF(Z72=\"Vervangen\",\"Vervangen\", IF(Z72=\"Aanleg\",\"Vervangen\",IF(Z72=\"Verwijderen\",\"n.v.t.\",\"-\")) )","v":"-"},{"$f":"I72","v":"-"},{"$f":"IF(AB72=\"Vervangen\",\"Vervangen\", IF(AB72=\"Aanleg\",\"Vervangen\",IF(AB72=\"Verwijderen\",\"n.v.t.\",\"-\")) )","v":"-"},{"$f":"K72","v":"-"},{"$f":"IF(AD72=\"Vervangen\",\"Vervangen\", IF(AD72=\"Aanleg\",\"Vervangen\",IF(AD72=\"Verwijderen\",\"n.v.t.\",\"-\")) )","v":"-"}]
[null,null,{"$f":"IFERROR(VLOOKUP(B73,Inrichtingskosten!$C$9:$G$1035,5,FALSE),\"\")","v":""},null,"-",null,"-",null,"-",null,"-",null,null,null,null,null,null,null,null,null,null,null,null,"-","-","-","-","-","-","-","-"]
[null,null,{"$f":"IFERROR(VLOOKUP(B74,Inrichtingskosten!$C$9:$G$1035,5,FALSE),\"\")","v":""},null,"-",null,"-",null,"-",null,"-",null,null,null,null,null,null,null,null,null,null,null,null,"-","-","-","-","-","-","-","-"]
[null,"Gemengd of afvalwaterriool"]
[null,"Buis beton 400",{"$f":"IFERROR(VLOOKUP(B76,Inrichtingskosten!$C$9:$G$1035,5,FALSE),\"\")","v":"m"},null,"-",null,"-",null,"-",null,"-",null,null,null,null,null,null,null,null,null,null,null,null,{"$f":"E76","v":"-"},{"$f":"IF(X76=\"Vervangen\",\"Vervangen\", IF(X76=\"Aanleg\",\"Vervangen\",IF(X76=\"Verwijderen\",\"n.v.t.\",\"-\")) )","v":"-"},{"$f":"G76","v":"-"},{"$f":"IF(Z76=\"Vervangen\",\"Vervangen\", IF(Z76=\"Aanleg\",\"Vervangen\",IF(Z76=\"Verwijderen\",\"n.v.t.\",\"-\")) )","v":"-"},{"$f":"I76","v":"-"},{"$f":"IF(AB76=\"Vervangen\",\"Vervangen\", IF(AB76=\"Aanleg\",\"Vervangen\",IF(AB76=\"Verwijderen\",\"n.v.t.\",\"-\")) )","v":"-"},{"$f":"K76","v":"-"},{"$f":"IF(AD76=\"Vervangen\",\"Vervangen\", IF(AD76=\"Aanleg\",\"Vervangen\",IF(AD76=\"Verwijderen\",\"n.v.t.\",\"-\")) )","v":"-"}]
[null,"Rioolput beton 400",{"$f":"IFERROR(VLOOKUP(B77,Inrichtingskosten!$C$9:$G$1035,5,FALSE),\"\")","v":"st"},null,"-",null,"-",null,"-",null,"-",null,null,null,null,null,null,null,null,null,null,null,null,"-","-","-","-","-","-","-","-"]
[null,"Perceelaansluiting",{"$f":"IFERROR(VLOOKUP(B78,Inrichtingskosten!$C$9:$G$1035,5,FALSE),\"\")","v":"st"},null,"-",null,"-",null,"-",null,"-",null,null,null,null,null,null,null,null,null,null,null,null,"-","-","-","-","-","-","-","-"]
[null,null,{"$f":"IFERROR(VLOOKUP(B79,Inrichtingskosten!$C$9:$G$1035,5,FALSE),\"\")","v":""},null,"-",null,"-",null,"-",null,"-",null,null,null,null,null,null,null,null,null,null,null,null,"-","-","-","-","-","-","-","-"]
[null,null,{"$f":"IFERROR(VLOOKUP(B80,Inrichtingskosten!$C$9:$G$1035,5,FALSE),\"\")","v":""},null,"-",null,"-",null,"-",null,"-",null,null,null,null,null,null,null,null,null,null,null,null,{"$f":"E80","v":"-"},{"$f":"IF(X80=\"Vervangen\",\"Vervangen\", IF(X80=\"Aanleg\",\"Vervangen\",IF(X80=\"Verwijderen\",\"n.v.t.\",\"-\")) )","v":"-"},{"$f":"G80","v":"-"},{"$f":"IF(Z80=\"Vervangen\",\"Vervangen\", IF(Z80=\"Aanleg\",\"Vervangen\",IF(Z80=\"Verwijderen\",\"n.v.t.\",\"-\")) )","v":"-"},{"$f":"I80","v":"-"},{"$f":"IF(AB80=\"Vervangen\",\"Vervangen\", IF(AB80=\"Aanleg\",\"Vervangen\",IF(AB80=\"Verwijderen\",\"n.v.t.\",\"-\")) )","v":"-"},{"$f":"K80","v":"-"},{"$f":"IF(AD80=\"Vervangen\",\"Vervangen\", IF(AD80=\"Aanleg\",\"Vervangen\",IF(AD80=\"Verwijderen\",\"n.v.t.\",\"-\")) )","v":"-"}]
[null,null,{"$f":"IFERROR(VLOOKUP(B81,Inrichtingskosten!$C$9:$G$1035,5,FALSE),\"\")","v":""},null,"-",null,"-",null,"-",null,"-",null,null,null,null,null,null,null,null,null,null,null,null,"-","-","-","-","-","-","-","-"]
[null,null,{"$f":"IFERROR(VLOOKUP(B82,Inrichtingskosten!$C$9:$G$1035,5,FALSE),\"\")","v":""},null,"-",null,"-",null,"-",null,"-",null,null,null,null,null,null,null,null,null,null,null,null,"-","-","-","-","-","-","-","-"]
[null,null,{"$f":"IFERROR(VLOOKUP(B83,Inrichtingskosten!$C$9:$G$1035,5,FALSE),\"\")","v":""},null,"-",null,"-",null,"-",null,"-",null,null,null,null,null,null,null,null,null,null,null,null,"-","-","-","-","-","-","-","-"]
[null,null,{"$f":"IFERROR(VLOOKUP(B84,Inrichtingskosten!$C$9:$G$1035,5,FALSE),\"\")","v":""},null,"-",null,"-",null,"-",null,"-",null,null,null,null,null,null,null,null,null,null,null,null,"-","-","-","-","-","-","-","-"]
[null,null,{"$f":"IFERROR(VLOOKUP(B85,Inrichtingskosten!$C$9:$G$1035,5,FALSE),\"\")","v":""},null,"-",null,"-",null,"-",null,"-",null,null,null,null,null,null,null,null,null,null,null,null,"-","-","-","-","-","-","-","-"]
[null,null,{"$f":"IFERROR(VLOOKUP(B86,Inrichtingskosten!$C$9:$G$1035,5,FALSE),\"\")","v":""},null,"-",null,"-",null,"-",null,"-",null,null,null,null,null,null,null,null,null,null,null,null,{"$f":"E86","v":"-"},"-","-","-","-","-","-","-"]
[null,null,{"$f":"IFERROR(VLOOKUP(B87,Inrichtingskosten!$C$9:$G$1035,5,FALSE),\"\")","v":""},null,"-",null,"-",null,"-",null,"-",null,null,null,null,null,null,null,null,null,null,null,null,"-","-","-","-","-","-","-","-"]
[null,"Groenvoorziening"]
[null,"Gazon",{"$f":"IFERROR(VLOOKUP(B89,Inrichtingskosten!$C$9:$G$1035,5,FALSE),\"\")","v":"m²"},null,"-",null,"-",null,"-",null,"-",null,null,null,null,null,null,null,null,null,null,null,null,{"$f":"E89","v":"-"},{"$f":"IF(X89=\"Vervangen\",\"Vervangen\", IF(X89=\"Aanleg\",\"Vervangen\",IF(X89=\"Verwijderen\",\"n.v.t.\",\"-\")) )","v":"-"},{"$f":"G89","v":"-"},{"$f":"IF(Z89=\"Vervangen\",\"Vervangen\", IF(Z89=\"Aanleg\",\"Vervangen\",IF(Z89=\"Verwijderen\",\"n.v.t.\",\"-\")) )","v":"-"},{"$f":"I89","v":"-"},{"$f":"IF(AB89=\"Vervangen\",\"Vervangen\", IF(AB89=\"Aanleg\",\"Vervangen\",IF(AB89=\"Verwijderen\",\"n.v.t.\",\"-\")) )","v":"-"},{"$f":"K89","v":"-"},{"$f":"IF(AD89=\"Vervangen\",\"Vervangen\", IF(AD89=\"Aanleg\",\"Vervangen\",IF(AD89=\"Verwijderen\",\"n.v.t.\",\"-\")) )","v":"-"}]
[null,"Haag",{"$f":"IFERROR(VLOOKUP(B90,Inrichtingskosten!$C$9:$G$1035,5,FALSE),\"\")","v":"m²"},null,"-",null,"-",null,"-",null,"-",null,null,null,null,null,null,null,null,null,null,null,null,"-","-","-","-","-","-","-","-"]
[null,"Boom in verharding",{"$f":"IFERROR(VLOOKUP(B91,Inrichtingskosten!$C$9:$G$1035,5,FALSE),\"\")","v":"st"},null,"-",null,"-",null,"-",null,"-",null,null,null,null,null,null,null,null,null,null,null,null,"-","-","-","-","-","-","-","-"]
[null,null,{"$f":"IFERROR(VLOOKUP(B92,Inrichtingskosten!$C$9:$G$1035,5,FALSE),\"\")","v":""},null,"-",null,"-",null,"-",null,"-",null,null,null,null,null,null,null,null,null,null,null,null,{"$f":"E92","v":"-"},{"$f":"IF(X92=\"Vervangen\",\"Vervangen\", IF(X92=\"Aanleg\",\"Vervangen\",IF(X92=\"Verwijderen\",\"n.v.t.\",\"-\")) )","v":"-"},{"$f":"G92","v":"-"},{"$f":"IF(Z92=\"Vervangen\",\"Vervangen\", IF(Z92=\"Aanleg\",\"Vervangen\",IF(Z92=\"Verwijderen\",\"n.v.t.\",\"-\")) )","v":"-"},{"$f":"I92","v":"-"},{"$f":"IF(AB92=\"Vervangen\",\"Vervangen\", IF(AB92=\"Aanleg\",\"Vervangen\",IF(AB92=\"Verwijderen\",\"n.v.t.\",\"-\")) )","v":"-"},{"$f":"K92","v":"-"},{"$f":"IF(AD92=\"Vervangen\",\"Vervangen\", IF(AD92=\"Aanleg\",\"Vervangen\",IF(AD92=\"Verwijderen\",\"n.v.t.\",\"-\")) )","v":"-"}]
[null,null,{"$f":"IFERROR(VLOOKUP(B93,Inrichtingskosten!$C$9:$G$1035,5,FALSE),\"\")","v":""},null,"-",null,"-",null,"-",null,"-",null,null,null,null,null,null,null,null,null,null,null,null,"-","-","-","-","-","-","-","-"]
[null,null,{"$f":"IFERROR(VLOOKUP(B94,Inrichtingskosten!$C$9:$G$1035,5,FALSE),\"\")","v":""},null,"-",null,"-",null,"-",null,"-",null,null,null,null,null,null,null,null,null,null,null,null,"-","-","-","-","-","-","-","-"]
[null,null,{"$f":"IFERROR(VLOOKUP(B95,Inrichtingskosten!$C$9:$G$1035,5,FALSE),\"\")","v":""},null,"-",null,"-",null,"-",null,"-",null,null,null,null,null,null,null,null,null,null,null,null,"-","-","-","-","-","-","-","-"]
[null,null,{"$f":"IFERROR(VLOOKUP(B96,Inrichtingskosten!$C$9:$G$1035,5,FALSE),\"\")","v":""},null,"-",null,"-",null,"-",null,"-",null,null,null,null,null,null,null,null,null,null,null,null,"-","-","-","-","-","-","-","-"]
[null,"Overig"]
[null,"Straatverlichting",{"$f":"IFERROR(VLOOKUP(B98,Inrichtingskosten!$C$9:$G$1035,5,FALSE),\"\")","v":"st"},null,"-",null,"-",null,"-",null,"-",null,null,null,null,null,null,null,null,null,null,null,null,{"$f":"E98","v":"-"},{"$f":"IF(X98=\"Vervangen\",\"Vervangen\", IF(X98=\"Aanleg\",\"Vervangen\",IF(X98=\"Verwijderen\",\"n.v.t.\",\"-\")) )","v":"-"},{"$f":"G98","v":"-"},{"$f":"IF(Z98=\"Vervangen\",\"Vervangen\", IF(Z98=\"Aanleg\",\"Vervangen\",IF(Z98=\"Verwijderen\",\"n.v.t.\",\"-\")) )","v":"-"},{"$f":"I98","v":"-"},{"$f":"IF(AB98=\"Vervangen\",\"Vervangen\", IF(AB98=\"Aanleg\",\"Vervangen\",IF(AB98=\"Verwijderen\",\"n.v.t.\",\"-\")) )","v":"-"},{"$f":"K98","v":"-"},{"$f":"IF(AD98=\"Vervangen\",\"Vervangen\", IF(AD98=\"Aanleg\",\"Vervangen\",IF(AD98=\"Verwijderen\",\"n.v.t.\",\"-\")) )","v":"-"}]
[null,null,{"$f":"IFERROR(VLOOKUP(B99,Inrichtingskosten!$C$9:$G$1035,5,FALSE),\"\")","v":""},null,"-",null,"-",null,"-",null,"-",null,null,null,null,null,null,null,null,null,null,null,null,{"$f":"E99","v":"-"},{"$f":"IF(X99=\"Vervangen\",\"Vervangen\", IF(X99=\"Aanleg\",\"Vervangen\",IF(X99=\"Verwijderen\",\"n.v.t.\",\"-\")) )","v":"-"},{"$f":"G99","v":"-"},{"$f":"IF(Z99=\"Vervangen\",\"Vervangen\", IF(Z99=\"Aanleg\",\"Vervangen\",IF(Z99=\"Verwijderen\",\"n.v.t.\",\"-\")) )","v":"-"},{"$f":"I99","v":"-"},{"$f":"IF(AB99=\"Vervangen\",\"Vervangen\", IF(AB99=\"Aanleg\",\"Vervangen\",IF(AB99=\"Verwijderen\",\"n.v.t.\",\"-\")) )","v":"-"},{"$f":"K99","v":"-"},{"$f":"IF(AD99=\"Vervangen\",\"Vervangen\", IF(AD99=\"Aanleg\",\"Vervangen\",IF(AD99=\"Verwijderen\",\"n.v.t.\",\"-\")) )","v":"-"}]
[null,null,{"$f":"IFERROR(VLOOKUP(B100,Inrichtingskosten!$C$9:$G$1035,5,FALSE),\"\")","v":""},null,"-",null,"-",null,"-",null,"-",null,null,null,null,null,null,null,null,null,null,null,null,{"$f":"E100","v":"-"},{"$f":"IF(X100=\"Vervangen\",\"Vervangen\", IF(X100=\"Aanleg\",\"Vervangen\",IF(X100=\"Verwijderen\",\"n.v.t.\",\"-\")) )","v":"-"},{"$f":"G100","v":"-"},{"$f":"IF(Z100=\"Vervangen\",\"Vervangen\", IF(Z100=\"Aanleg\",\"Vervangen\",IF(Z100=\"Verwijderen\",\"n.v.t.\",\"-\")) )","v":"-"},{"$f":"I100","v":"-"},{"$f":"IF(AB100=\"Vervangen\",\"Vervangen\", IF(AB100=\"Aanleg\",\"Vervangen\",IF(AB100=\"Verwijderen\",\"n.v.t.\",\"-\")) )","v":"-"},{"$f":"K100","v":"-"},{"$f":"IF(AD100=\"Vervangen\",\"Vervangen\", IF(AD100=\"Aanleg\",\"Vervangen\",IF(AD100=\"Verwijderen\",\"n.v.t.\",\"-\")) )","v":"-"}]
[null,null,{"$f":"IFERROR(VLOOKUP(B101,Inrichtingskosten!$C$9:$G$1035,5,FALSE),\"\")","v":""},null,"-",null,"-",null,"-",null,"-",null,null,null,null,null,null,null,null,null,null,null,null,{"$f":"E101","v":"-"},{"$f":"IF(X101=\"Vervangen\",\"Vervangen\", IF(X101=\"Aanleg\",\"Vervangen\",IF(X101=\"Verwijderen\",\"n.v.t.\",\"-\")) )","v":"-"},{"$f":"G101","v":"-"},{"$f":"IF(Z101=\"Vervangen\",\"Vervangen\", IF(Z101=\"Aanleg\",\"Vervangen\",IF(Z101=\"Verwijderen\",\"n.v.t.\",\"-\")) )","v":"-"},{"$f":"I101","v":"-"},{"$f":"IF(AB101=\"Vervangen\",\"Vervangen\", IF(AB101=\"Aanleg\",\"Vervangen\",IF(AB101=\"Verwijderen\",\"n.v.t.\",\"-\")) )","v":"-"},{"$f":"K101","v":"-"},{"$f":"IF(AD101=\"Vervangen\",\"Vervangen\", IF(AD101=\"Aanleg\",\"Vervangen\",IF(AD101=\"Verwijderen\",\"n.v.t.\",\"-\")) )","v":"-"}]
[null,null,{"$f":"IFERROR(VLOOKUP(B102,Inrichtingskosten!$C$9:$G$1035,5,FALSE),\"\")","v":""},null,"-",null,"-",null,"-",null,"-",null,null,null,null,null,null,null,null,null,null,null,null,{"$f":"E102","v":"-"},{"$f":"IF(X102=\"Vervangen\",\"Vervangen\", IF(X102=\"Aanleg\",\"Vervangen\",IF(X102=\"Verwijderen\",\"n.v.t.\",\"-\")) )","v":"-"},{"$f":"G102","v":"-"},{"$f":"IF(Z102=\"Vervangen\",\"Vervangen\", IF(Z102=\"Aanleg\",\"Vervangen\",IF(Z102=\"Verwijderen\",\"n.v.t.\",\"-\")) )","v":"-"},{"$f":"I102","v":"-"},{"$f":"IF(AB102=\"Vervangen\",\"Vervangen\", IF(AB102=\"Aanleg\",\"Vervangen\",IF(AB102=\"Verwijderen\",\"n.v.t.\",\"-\")) )","v":"-"},{"$f":"K102","v":"-"},{"$f":"IF(AD102=\"Vervangen\",\"Vervangen\", IF(AD102=\"Aanleg\",\"Vervangen\",IF(AD102=\"Verwijderen\",\"n.v.t.\",\"-\")) )","v":"-"}]
[]
[null,"Overig (Dropdown menu's)"]
[null,null,null,"Dropdown menu opties",null,0]
[null,null,null,"Type","Eenheid",null,null,null,null,null,null,null,null,null,null,null,"Aan","Vlak","Ja"]
[null,"Inrichtingselementen (alle)","Type","Grondwerk",null,"Elementen Verharding",null,"Hemelwatersysteem",null,"Riolering",null,"Groenvoorziening",null,"Straatmeubilair",null,null,"Uit","Hellend","Nee"]
[null,{"$f":"IFERROR(INDEX(Inrichtingskosten!$C$9:$C$643, MATCH(0,COUNTIF($B$107:B107, Inrichtingskosten!$C$9:$C$643), 0)),\"\")","v":"Asfaltverharding"},{"$f":"INDEX(Inrichtingskosten!A9:A643,MATCH(B108,Inrichtingskosten!C9:C643,0))","v":"Elementen verharding"},{"$f":"IFERROR(IF($C108=$D$107,$B108,\"\"),\" \")","v":""},{"$f":"IFERROR(IF(ROWS($1:1)<=COUNTA($D$108:$D$175),INDEX($D$108:$D$175,SMALL(IF($D$108:$D$175<>\"\",ROW($D$108:$D$175)-MIN(ROW($D$108:$D$175))+1),ROWS($1:1))),\"\"),\"\")","v":"Zand"},{"$f":"IFERROR(IF($C108=$F$107,$B108,\"\"),\" \")","v":"Asfaltverharding"},{"$f":"IFERROR(IF(ROWS($1:1)<=COUNTA($F$108:$F$175),INDEX($F$108:$F$175,SMALL(IF($F$108:$F$175<>\"\",ROW($F$108:$F$175)-MIN(ROW($F$108:$F$175))+1),ROWS($1:1))),\"\"),\"\")","v":"Asfaltverharding"},{"$f":"IFERROR(IF($C108=$H$107,$B108,\"\"),\" \")","v":""},{"$f":"IFERROR(IF(ROWS($1:1)<=COUNTA($H$108:$H$175),INDEX($H$108:$H$175,SMALL(IF($H$108:$H$175<>\"\",ROW($H$108:$H$175)-MIN(ROW($H$108:$H$175))+1),ROWS($1:1))),\"\"),\"\")","v":"Centrale wadi"},{"$f":"IFERROR(IF($C108=$J$107,$B108,\"\"),\" \")","v":""},{"$f":"IFERROR(IF(ROWS($1:1)<=COUNTA($J$108:$J$175),INDEX($J$108:$J$175,SMALL(IF($J$108:$J$175<>\"\",ROW($J$108:$J$175)-MIN(ROW($J$108:$J$175))+1),ROWS($1:1))),\"\"),\"\")","v":"Buis beton 1000"},{"$f":"IFERROR(IF($C108=$L$107,$B108,\"\"),\" \")","v":""},{"$f":"IFERROR(IF(ROWS($1:1)<=COUNTA($L$108:$L$175),INDEX($L$108:$L$175,SMALL(IF($L$108:$L$175<>\"\",ROW($L$108:$L$175)-MIN(ROW($L$108:$L$175))+1),ROWS($1:1))),\"\"),\"\")","v":"Boom in beplanting"},{"$f":"IFERROR(IF($C108=$N$107,$B108,\"\"),\" \")","v":""},{"$f":"IFERROR(IF(ROWS($1:1)<=COUNTA($N$108:$N$175),INDEX($N$108:$N$175,SMALL(IF($N$108:$N$175<>\"\",ROW($N$108:$N$175)-MIN(ROW($N$108:$N$175))+1),ROWS($1:1))),\"\"),\"\")","v":"Paal beton"}]
[null,{"$f":"IFERROR(INDEX(Inrichtingskosten!$C$9:$C$643, MATCH(0,COUNTIF($B$107:B108, Inrichtingskosten!$C$9:$C$643), 0)),\"\")","v":"Boom in beplanting"},{"$f":"INDEX(Inrichtingskosten!A10:A644,MATCH(B109,Inrichtingskosten!C10:C644,0))","v":"Groenvoorziening"},{"$f":"IFERROR(IF($C109=$D$107,$B109,\"\"),\" \")","v":""},{"$f":"IFERROR(IF(ROWS($1:2)<=COUNTA($D$108:$D$175),INDEX($D$108:$D$175,SMALL(IF($D$108:$D$175<>\"\",ROW($D$108:$D$175)-MIN(ROW($D$108:$D$175))+1),ROWS($1:2))),\"\"),\"\")","v":"Drainzand"},"",{"$f":"IFERROR(IF(ROWS($1:2)<=COUNTA($F$108:$F$175),INDEX($F$108:$F$175,SMALL(IF($F$108:$F$175<>\"\",ROW($F$108:$F$175)-MIN(ROW($F$108:$F$175))+1),ROWS($1:2))),\"\"),\"\")","v":"Doorlatende verharding"},"",{"$f":"IFERROR(IF(ROWS($1:2)<=COUNTA($H$108:$H$175),INDEX($H$108:$H$175,SMALL(IF($H$108:$H$175<>\"\",ROW($H$108:$H$175)-MIN(ROW($H$108:$H$175))+1),ROWS($1:2))),\"\"),\"\")","v":"Gesloten grindgoot"},"",{"$f":"IFERROR(IF(ROWS($1:2)<=COUNTA($J$108:$J$175),INDEX($J$108:$J$175,SMALL(IF($J$108:$J$175<>\"\",ROW($J$108:$J$175)-MIN(ROW($J$108:$J$175))+1),ROWS($1:2))),\"\"),\"\")","v":"Buis beton 1250"},{"$f":"IFERROR(IF($C109=$L$107,$B109,\"\"),\" \")","v":"Boom in beplanting"},{"$f":"IFERROR(IF(ROWS($1:2)<=COUNTA($L$108:$L$175),INDEX($L$108:$L$175,SMALL(IF($L$108:$L$175<>\"\",ROW($L$108:$L$175)-MIN(ROW($L$108:$L$175))+1),ROWS($1:2))),\"\"),\"\")","v":"Boom in gazon"},"",{"$f":"IFERROR(IF(ROWS($1:2)<=COUNTA($N$108:$N$175),INDEX($N$108:$N$175,SMALL(IF($N$108:$N$175<>\"\",ROW($N$108:$N$175)-MIN(ROW($N$108:$N$175))+1),ROWS($1:2))),\"\"),\"\")","v":"Straatverlichting"},null,0]
[null,{"$f":"IFERROR(INDEX(Inrichtingskosten!$C$9:$C$643, MATCH(0,COUNTIF($B$107:B109, Inrichtingskosten!$C$9:$C$643), 0)),\"\")","v":"Boom in gazon"},{"$f":"INDEX(Inrichtingskosten!A11:A645,MATCH(B110,Inrichtingskosten!C11:C645,0))","v":"Groenvoorziening"},"",{"$f":"IFERROR(IF(ROWS($1:3)<=COUNTA($D$108:$D$175),INDEX($D$108:$D$175,SMALL(IF($D$108:$D$175<>\"\",ROW($D$108:$D$175)-MIN(ROW($D$108:$D$175))+1),ROWS($1:3))),\"\"),\"\")","v":" "},"",{"$f":"IFERROR(IF(ROWS($1:3)<=COUNTA($F$108:$F$175),INDEX($F$108:$F$175,SMALL(IF($F$108:$F$175<>\"\",ROW($F$108:$F$175)-MIN(ROW($F$108:$F$175))+1),ROWS($1:3))),\"\"),\"\")","v":"Fietspad van betonstraatstenen"},"",{"$f":"IFERROR(IF(ROWS($1:3)<=COUNTA($H$108:$H$175),INDEX($H$108:$H$175,SMALL(IF($H$108:$H$175<>\"\",ROW($H$108:$H$175)-MIN(ROW($H$108:$H$175))+1),ROWS($1:3))),\"\"),\"\")","v":"Granudrain"},"",{"$f":"IFERROR(IF(ROWS($1:3)<=COUNTA($J$108:$J$175),INDEX($J$108:$J$175,SMALL(IF($J$108:$J$175<>\"\",ROW($J$108:$J$175)-MIN(ROW($J$108:$J$175))+1),ROWS($1:3))),\"\"),\"\")","v":"Buis beton 300"},"Boom in gazon",{"$f":"IFERROR(IF(ROWS($1:3)<=COUNTA($L$108:$L$175),INDEX($L$108:$L$175,SMALL(IF($L$108:$L$175<>\"\",ROW($L$108:$L$175)-MIN(ROW($L$108:$L$175))+1),ROWS($1:3))),\"\"),\"\")","v":"Boom in verharding"},"",{"$f":"IFERROR(IF(ROWS($1:3)<=COUNTA($N$108:$N$175),INDEX($N$108:$N$175,SMALL(IF($N$108:$N$175<>\"\",ROW($N$108:$N$175)-MIN(ROW($N$108:$N$175))+1),ROWS($1:3))),\"\"),\"\")","v":" "},null,30]
[null,{"$f":"IFERROR(INDEX(Inrichtingskosten!$C$9:$C$643, MATCH(0,COUNTIF($B$107:B110, Inrichtingskosten!$C$9:$C$643), 0)),\"\")","v":"Boom in verharding"},{"$f":"INDEX(Inrichtingskosten!A12:A646,MATCH(B111,Inrichtingskosten!C12:C646,0))","v":"Groenvoorziening"},"",{"$f":"IFERROR(IF(ROWS($1:4)<=COUNTA($D$108:$D$175),INDEX($D$108:$D$175,SMALL(IF($D$108:$D$175<>\"\",ROW($D$108:$D$175)-MIN(ROW($D$108:$D$175))+1),ROWS($1:4))),\"\"),\"\")","v":" "},"",{"$f":"IFERROR(IF(ROWS($1:4)<=COUNTA($F$108:$F$175),INDEX($F$108:$F$175,SMALL(IF($F$108:$F$175<>\"\",ROW($F$108:$F$175)-MIN(ROW($F$108:$F$175))+1),ROWS($1:4))),\"\"),\"\")","v":"Rubbertegels"},"",{"$f":"IFERROR(IF(ROWS($1:4)<=COUNTA($H$108:$H$175),INDEX($H$108:$H$175,SMALL(IF($H$108:$H$175<>\"\",ROW($H$108:$H$175)-MIN(ROW($H$108:$H$175))+1),ROWS($1:4))),\"\"),\"\")","v":"Infiltratie kolk"},"",{"$f":"IFERROR(IF(ROWS($1:4)<=COUNTA($J$108:$J$175),INDEX($J$108:$J$175,SMALL(IF($J$108:$J$175<>\"\",ROW($J$108:$J$175)-MIN(ROW($J$108:$J$175))+1),ROWS($1:4))),\"\"),\"\")","v":"Buis beton 400"},"Boom in verharding",{"$f":"IFERROR(IF(ROWS($1:4)<=COUNTA($L$108:$L$175),INDEX($L$108:$L$175,SMALL(IF($L$108:$L$175<>\"\",ROW($L$108:$L$175)-MIN(ROW($L$108:$L$175))+1),ROWS($1:4))),\"\"),\"\")","v":"Bosplantsoen"},"",{"$f":"IFERROR(IF(ROWS($1:4)<=COUNTA($N$108:$N$175),INDEX($N$108:$N$175,SMALL(IF($N$108:$N$175<>\"\",ROW($N$108:$N$175)-MIN(ROW($N$108:$N$175))+1),ROWS($1:4))),\"\"),\"\")","v":" "}]
[null,{"$f":"IFERROR(INDEX(Inrichtingskosten!$C$9:$C$643, MATCH(0,COUNTIF($B$107:B111, Inrichtingskosten!$C$9:$C$643), 0)),\"\")","v":"Bosplantsoen"},{"$f":"INDEX(Inrichtingskosten!A13:A647,MATCH(B112,Inrichtingskosten!C13:C647,0))","v":"Groenvoorziening"},"",{"$f":"IFERROR(IF(ROWS($1:5)<=COUNTA($D$108:$D$175),INDEX($D$108:$D$175,SMALL(IF($D$108:$D$175<>\"\",ROW($D$108:$D$175)-MIN(ROW($D$108:$D$175))+1),ROWS($1:5))),\"\"),\"\")","v":" "},"",{"$f":"IFERROR(IF(ROWS($1:5)<=COUNTA($F$108:$F$175),INDEX($F$108:$F$175,SMALL(IF($F$108:$F$175<>\"\",ROW($F$108:$F$175)-MIN(ROW($F$108:$F$175))+1),ROWS($1:5))),\"\"),\"\")","v":"Voetpad/plein van betonstraatstenen"},"",{"$f":"IFERROR(IF(ROWS($1:5)<=COUNTA($H$108:$H$175),INDEX($H$108:$H$175,SMALL(IF($H$108:$H$175<>\"\",ROW($H$108:$H$175)-MIN(ROW($H$108:$H$175))+1),ROWS($1:5))),\"\"),\"\")","v":"Infiltratiekrat gemeente makkelijk"},"",{"$f":"IFERROR(IF(ROWS($1:5)<=COUNTA($J$108:$J$175),INDEX($J$108:$J$175,SMALL(IF($J$108:$J$175<>\"\",ROW($J$108:$J$175)-MIN(ROW($J$108:$J$175))+1),ROWS($1:5))),\"\"),\"\")","v":"Buis beton 500"},"Bosplantsoen",{"$f":"IFERROR(IF(ROWS($1:5)<=COUNTA($L$108:$L$175),INDEX($L$108:$L$175,SMALL(IF($L$108:$L$175<>\"\",ROW($L$108:$L$175)-MIN(ROW($L$108:$L$175))+1),ROWS($1:5))),\"\"),\"\")","v":"Gazon"},"",{"$f":"IFERROR(IF(ROWS($1:5)<=COUNTA($N$108:$N$175),INDEX($N$108:$N$175,SMALL(IF($N$108:$N$175<>\"\",ROW($N$108:$N$175)-MIN(ROW($N$108:$N$175))+1),ROWS($1:5))),\"\"),\"\")","v":" "}]
[null,{"$f":"IFERROR(INDEX(Inrichtingskosten!$C$9:$C$643, MATCH(0,COUNTIF($B$107:B112, Inrichtingskosten!$C$9:$C$643), 0)),\"\")","v":"Buis beton 1000"},{"$f":"INDEX(Inrichtingskosten!A14:A648,MATCH(B113,Inrichtingskosten!C14:C648,0))","v":"Riolering"},"",{"$f":"IFERROR(IF(ROWS($1:6)<=COUNTA($D$108:$D$175),INDEX($D$108:$D$175,SMALL(IF($D$108:$D$175<>\"\",ROW($D$108:$D$175)-MIN(ROW($D$108:$D$175))+1),ROWS($1:6))),\"\"),\"\")","v":" "},"",{"$f":"IFERROR(IF(ROWS($1:6)<=COUNTA($F$108:$F$175),INDEX($F$108:$F$175,SMALL(IF($F$108:$F$175<>\"\",ROW($F$108:$F$175)-MIN(ROW($F$108:$F$175))+1),ROWS($1:6))),\"\"),\"\")","v":"Woonstraat en parkeerterrein van betonstraatstenen"},"",{"$f":"IFERROR(IF(ROWS($1:6)<=COUNTA($H$108:$H$175),INDEX($H$108:$H$175,SMALL(IF($H$108:$H$175<>\"\",ROW($H$108:$H$175)-MIN(ROW($H$108:$H$175))+1),ROWS($1:6))),\"\"),\"\")","v":"Infiltratiekrat particulier makkelijk"},{"$f":"IFERROR(IF($C113=$J$107,$B113,\"\"),\" \")","v":"Buis beton 1000"},{"$f":"IFERROR(IF(ROWS($1:6)<=COUNTA($J$108:$J$175),INDEX($J$108:$J$175,SMALL(IF($J$108:$J$175<>\"\",ROW($J$108:$J$175)-MIN(ROW($J$108:$J$175))+1),ROWS($1:6))),\"\"),\"\")","v":"Buis beton 600"},"",{"$f":"IFERROR(IF(ROWS($1:6)<=COUNTA($L$108:$L$175),INDEX($L$108:$L$175,SMALL(IF($L$108:$L$175<>\"\",ROW($L$108:$L$175)-MIN(ROW($L$108:$L$175))+1),ROWS($1:6))),\"\"),\"\")","v":"Haag"},"",{"$f":"IFERROR(IF(ROWS($1:6)<=COUNTA($N$108:$N$175),INDEX($N$108:$N$175,SMALL(IF($N$108:$N$175<>\"\",ROW($N$108:$N$175)-MIN(ROW($N$108:$N$175))+1),ROWS($1:6))),\"\"),\"\")","v":" "}]
[null,{"$f":"IFERROR(INDEX(Inrichtingskosten!$C$9:$C$643, MATCH(0,COUNTIF($B$107:B113, Inrichtingskosten!$C$9:$C$643), 0)),\"\")","v":"Buis beton 1250"},{"$f":"INDEX(Inrichtingskosten!A15:A649,MATCH(B114,Inrichtingskosten!C15:C649,0))","v":"Riolering"},"",{"$f":"IFERROR(IF(ROWS($1:7)<=COUNTA($D$108:$D$175),INDEX($D$108:$D$175,SMALL(IF($D$108:$D$175<>\"\",ROW($D$108:$D$175)-MIN(ROW($D$108:$D$175))+1),ROWS($1:7))),\"\"),\"\")","v":" "},"",{"$f":"IFERROR(IF(ROWS($1:7)<=COUNTA($F$108:$F$175),INDEX($F$108:$F$175,SMALL(IF($F$108:$F$175<>\"\",ROW($F$108:$F$175)-MIN(ROW($F$108:$F$175))+1),ROWS($1:7))),\"\"),\"\")","v":" "},"",{"$f":"IFERROR(IF(ROWS($1:7)<=COUNTA($H$108:$H$175),INDEX($H$108:$H$175,SMALL(IF($H$108:$H$175<>\"\",ROW($H$108:$H$175)-MIN(ROW($H$108:$H$175))+1),ROWS($1:7))),\"\"),\"\")","v":"Infiltratiekrat particulier moeilijk"},"Buis beton 1250",{"$f":"IFERROR(IF(ROWS($1:7)<=COUNTA($J$108:$J$175),INDEX($J$108:$J$175,SMALL(IF($J$108:$J$175<>\"\",ROW($J$108:$J$175)-MIN(ROW($J$108:$J$175))+1),ROWS($1:7))),\"\"),\"\")","v":"Buis beton 700"},"",{"$f":"IFERROR(IF(ROWS($1:7)<=COUNTA($L$108:$L$175),INDEX($L$108:$L$175,SMALL(IF($L$108:$L$175<>\"\",ROW($L$108:$L$175)-MIN(ROW($L$108:$L$175))+1),ROWS($1:7))),\"\"),\"\")","v":"Sierplantsoen"},"",{"$f":"IFERROR(IF(ROWS($1:7)<=COUNTA($N$108:$N$175),INDEX($N$108:$N$175,SMALL(IF($N$108:$N$175<>\"\",ROW($N$108:$N$175)-MIN(ROW($N$108:$N$175))+1),ROWS($1:7))),\"\"),\"\")","v":" "}]
[null,{"$f":"IFERROR(INDEX(Inrichtingskosten!$C$9:$C$643, MATCH(0,COUNTIF($B$107:B114, Inrichtingskosten!$C$9:$C$643), 0)),\"\")","v":"Buis beton 300"},{"$f":"INDEX(Inrichtingskosten!A16:A650,MATCH(B115,Inrichtingskosten!C16:C650,0))","v":"Riolering"},"",{"$f":"IFERROR(IF(ROWS($1:8)<=COUNTA($D$108:$D$175),INDEX($D$108:$D$175,SMALL(IF($D$108:$D$175<>\"\",ROW($D$108:$D$175)-MIN(ROW($D$108:$D$175))+1),ROWS($1:8))),\"\"),\"\")","v":""},"",{"$f":"IFERROR(IF(ROWS($1:8)<=COUNTA($F$108:$F$175),INDEX($F$108:$F$175,SMALL(IF($F$108:$F$175<>\"\",ROW($F$108:$F$175)-MIN(ROW($F$108:$F$175))+1),ROWS($1:8))),\"\"),\"\")","v":" "},"",{"$f":"IFERROR(IF(ROWS($1:8)<=COUNTA($H$108:$H$175),INDEX($H$108:$H$175,SMALL(IF($H$108:$H$175<>\"\",ROW($H$108:$H$175)-MIN(ROW($H$108:$H$175))+1),ROWS($1:8))),\"\"),\"\")","v":"Infiltratiekrat perceelaansluiting makkelijk"},{"$f":"IFERROR(IF($C115=$J$107,$B115,\"\"),\" \")","v":"Buis beton 300"},{"$f":"IFERROR(IF(ROWS($1:8)<=COUNTA($J$108:$J$175),INDEX($J$108:$J$175,SMALL(IF($J$108:$J$175<>\"\",ROW($J$108:$J$175)-MIN(ROW($J$108:$J$175))+1),ROWS($1:8))),\"\"),\"\")","v":"Drainage"},"",{"$f":"IFERROR(IF(ROWS($1:8)<=COUNTA($L$108:$L$175),INDEX($L$108:$L$175,SMALL(IF($L$108:$L$175<>\"\",ROW($L$108:$L$175)-MIN(ROW($L$108:$L$175))+1),ROWS($1:8))),\"\"),\"\")","v":" "},"",{"$f":"IFERROR(IF(ROWS($1:8)<=COUNTA($N$108:$N$175),INDEX($N$108:$N$175,SMALL(IF($N$108:$N$175<>\"\",ROW($N$108:$N$175)-MIN(ROW($N$108:$N$175))+1),ROWS($1:8))),\"\"),\"\")","v":""}]
[null,{"$f":"IFERROR(INDEX(Inrichtingskosten!$C$9:$C$643, MATCH(0,COUNTIF($B$107:B115, Inrichtingskosten!$C$9:$C$643), 0)),\"\")","v":"Buis beton 400"},{"$f":"INDEX(Inrichtingskosten!A17:A651,MATCH(B116,Inrichtingskosten!C17:C651,0))","v":"Riolering"},"",{"$f":"IFERROR(IF(ROWS($1:9)<=COUNTA($D$108:$D$175),INDEX($D$108:$D$175,SMALL(IF($D$108:$D$175<>\"\",ROW($D$108:$D$175)-MIN(ROW($D$108:$D$175))+1),ROWS($1:9))),\"\"),\"\")","v":""},"",{"$f":"IFERROR(IF(ROWS($1:9)<=COUNTA($F$108:$F$175),INDEX($F$108:$F$175,SMALL(IF($F$108:$F$175<>\"\",ROW($F$108:$F$175)-MIN(ROW($F$108:$F$175))+1),ROWS($1:9))),\"\"),\"\")","v":" "},"",{"$f":"IFERROR(IF(ROWS($1:9)<=COUNTA($H$108:$H$175),INDEX($H$108:$H$175,SMALL(IF($H$108:$H$175<>\"\",ROW($H$108:$H$175)-MIN(ROW($H$108:$H$175))+1),ROWS($1:9))),\"\"),\"\")","v":"Infiltratiekrat perceelaansluiting moeilijk"},"Buis beton 400",{"$f":"IFERROR(IF(ROWS($1:9)<=COUNTA($J$108:$J$175),INDEX($J$108:$J$175,SMALL(IF($J$108:$J$175<>\"\",ROW($J$108:$J$175)-MIN(ROW($J$108:$J$175))+1),ROWS($1:9))),\"\"),\"\")","v":"Kolk"},"",{"$f":"IFERROR(IF(ROWS($1:9)<=COUNTA($L$108:$L$175),INDEX($L$108:$L$175,SMALL(IF($L$108:$L$175<>\"\",ROW($L$108:$L$175)-MIN(ROW($L$108:$L$175))+1),ROWS($1:9))),\"\"),\"\")","v":" "},"",{"$f":"IFERROR(IF(ROWS($1:9)<=COUNTA($N$108:$N$175),INDEX($N$108:$N$175,SMALL(IF($N$108:$N$175<>\"\",ROW($N$108:$N$175)-MIN(ROW($N$108:$N$175))+1),ROWS($1:9))),\"\"),\"\")","v":""}]
[null,{"$f":"IFERROR(INDEX(Inrichtingskosten!$C$9:$C$643, MATCH(0,COUNTIF($B$107:B116, Inrichtingskosten!$C$9:$C$643), 0)),\"\")","v":"Buis beton 500"},{"$f":"INDEX(Inrichtingskosten!A18:A652,MATCH(B117,Inrichtingskosten!C18:C652,0))","v":"Riolering"},"",{"$f":"IFERROR(IF(ROWS($1:10)<=COUNTA($D$108:$D$175),INDEX($D$108:$D$175,SMALL(IF($D$108:$D$175<>\"\",ROW($D$108:$D$175)-MIN(ROW($D$108:$D$175))+1),ROWS($1:10))),\"\"),\"\")","v":""},"",{"$f":"IFERROR(IF(ROWS($1:10)<=COUNTA($F$108:$F$175),INDEX($F$108:$F$175,SMALL(IF($F$108:$F$175<>\"\",ROW($F$108:$F$175)-MIN(ROW($F$108:$F$175))+1),ROWS($1:10))),\"\"),\"\")","v":" "},"",{"$f":"IFERROR(IF(ROWS($1:10)<=COUNTA($H$108:$H$175),INDEX($H$108:$H$175,SMALL(IF($H$108:$H$175<>\"\",ROW($H$108:$H$175)-MIN(ROW($H$108:$H$175))+1),ROWS($1:10))),\"\"),\"\")","v":"Molgoot"},"Buis beton 500",{"$f":"IFERROR(IF(ROWS($1:10)<=COUNTA($J$108:$J$175),INDEX($J$108:$J$175,SMALL(IF($J$108:$J$175<>\"\",ROW($J$108:$J$175)-MIN(ROW($J$108:$J$175))+1),ROWS($1:10))),\"\"),\"\")","v":"Perceelaansluiting"},"",{"$f":"IFERROR(IF(ROWS($1:10)<=COUNTA($L$108:$L$175),INDEX($L$108:$L$175,SMALL(IF($L$108:$L$175<>\"\",ROW($L$108:$L$175)-MIN(ROW($L$108:$L$175))+1),ROWS($1:10))),\"\"),\"\")","v":" "},"",{"$f":"IFERROR(IF(ROWS($1:10)<=COUNTA($N$108:$N$175),INDEX($N$108:$N$175,SMALL(IF($N$108:$N$175<>\"\",ROW($N$108:$N$175)-MIN(ROW($N$108:$N$175))+1),ROWS($1:10))),\"\"),\"\")","v":""}]
[null,{"$f":"IFERROR(INDEX(Inrichtingskosten!$C$9:$C$643, MATCH(0,COUNTIF($B$107:B117, Inrichtingskosten!$C$9:$C$643), 0)),\"\")","v":"Buis beton 600"},{"$f":"INDEX(Inrichtingskosten!A19:A653,MATCH(B118,Inrichtingskosten!C19:C653,0))","v":"Riolering"},"",{"$f":"IFERROR(IF(ROWS($1:11)<=COUNTA($D$108:$D$175),INDEX($D$108:$D$175,SMALL(IF($D$108:$D$175<>\"\",ROW($D$108:$D$175)-MIN(ROW($D$108:$D$175))+1),ROWS($1:11))),\"\"),\"\")","v":""},"",{"$f":"IFERROR(IF(ROWS($1:11)<=COUNTA($F$108:$F$175),INDEX($F$108:$F$175,SMALL(IF($F$108:$F$175<>\"\",ROW($F$108:$F$175)-MIN(ROW($F$108:$F$175))+1),ROWS($1:11))),\"\"),\"\")","v":" "},"",{"$f":"IFERROR(IF(ROWS($1:11)<=COUNTA($H$108:$H$175),INDEX($H$108:$H$175,SMALL(IF($H$108:$H$175<>\"\",ROW($H$108:$H$175)-MIN(ROW($H$108:$H$175))+1),ROWS($1:11))),\"\"),\"\")","v":"Onderhoudsarme wadi (inc. beplanting)"},"Buis beton 600",{"$f":"IFERROR(IF(ROWS($1:11)<=COUNTA($J$108:$J$175),INDEX($J$108:$J$175,SMALL(IF($J$108:$J$175<>\"\",ROW($J$108:$J$175)-MIN(ROW($J$108:$J$175))+1),ROWS($1:11))),\"\"),\"\")","v":"Rioolput beton 1000"},"",{"$f":"IFERROR(IF(ROWS($1:11)<=COUNTA($L$108:$L$175),INDEX($L$108:$L$175,SMALL(IF($L$108:$L$175<>\"\",ROW($L$108:$L$175)-MIN(ROW($L$108:$L$175))+1),ROWS($1:11))),\"\"),\"\")","v":" "},"",{"$f":"IFERROR(IF(ROWS($1:11)<=COUNTA($N$108:$N$175),INDEX($N$108:$N$175,SMALL(IF($N$108:$N$175<>\"\",ROW($N$108:$N$175)-MIN(ROW($N$108:$N$175))+1),ROWS($1:11))),\"\"),\"\")","v":""}]
[null,{"$f":"IFERROR(INDEX(Inrichtingskosten!$C$9:$C$643, MATCH(0,COUNTIF($B$107:B118, Inrichtingskosten!$C$9:$C$643), 0)),\"\")","v":"Buis beton 700"},{"$f":"INDEX(Inrichtingskosten!A20:A654,MATCH(B119,Inrichtingskosten!C20:C654,0))","v":"Riolering"},"",{"$f":"IFERROR(IF(ROWS($1:12)<=COUNTA($D$108:$D$175),INDEX($D$108:$D$175,SMALL(IF($D$108:$D$175<>\"\",ROW($D$108:$D$175)-MIN(ROW($D$108:$D$175))+1),ROWS($1:12))),\"\"),\"\")","v":""},"",{"$f":"IFERROR(IF(ROWS($1:12)<=COUNTA($F$108:$F$175),INDEX($F$108:$F$175,SMALL(IF($F$108:$F$175<>\"\",ROW($F$108:$F$175)-MIN(ROW($F$108:$F$175))+1),ROWS($1:12))),\"\"),\"\")","v":""},"",{"$f":"IFERROR(IF(ROWS($1:12)<=COUNTA($H$108:$H$175),INDEX($H$108:$H$175,SMALL(IF($H$108:$H$175<>\"\",ROW($H$108:$H$175)-MIN(ROW($H$108:$H$175))+1),ROWS($1:12))),\"\"),\"\")","v":"Open grindgoot"},"Buis beton 700",{"$f":"IFERROR(IF(ROWS($1:12)<=COUNTA($J$108:$J$175),INDEX($J$108:$J$175,SMALL(IF($J$108:$J$175<>\"\",ROW($J$108:$J$175)-MIN(ROW($J$108:$J$175))+1),ROWS($1:12))),\"\"),\"\")","v":"Rioolput beton 1250"},"",{"$f":"IFERROR(IF(ROWS($1:12)<=COUNTA($L$108:$L$175),INDEX($L$108:$L$175,SMALL(IF($L$108:$L$175<>\"\",ROW($L$108:$L$175)-MIN(ROW($L$108:$L$175))+1),ROWS($1:12))),\"\"),\"\")","v":" "},"",{"$f":"IFERROR(IF(ROWS($1:12)<=COUNTA($N$108:$N$175),INDEX($N$108:$N$175,SMALL(IF($N$108:$N$175<>\"\",ROW($N$108:$N$175)-MIN(ROW($N$108:$N$175))+1),ROWS($1:12))),\"\"),\"\")","v":""}]
[null,{"$f":"IFERROR(INDEX(Inrichtingskosten!$C$9:$C$643, MATCH(0,COUNTIF($B$107:B119, Inrichtingskosten!$C$9:$C$643), 0)),\"\")","v":"Centrale wadi"},{"$f":"INDEX(Inrichtingskosten!A21:A655,MATCH(B120,Inrichtingskosten!C21:C655,0))","v":"Hemelwatersysteem"},"",{"$f":"IFERROR(IF(ROWS($1:14)<=COUNTA($D$108:$D$175),INDEX($D$108:$D$175,SMALL(IF($D$108:$D$175<>\"\",ROW($D$108:$D$175)-MIN(ROW($D$108:$D$175))+1),ROWS($1:14))),\"\"),\"\")","v":""},"",{"$f":"IFERROR(IF(ROWS($1:14)<=COUNTA($F$108:$F$175),INDEX($F$108:$F$175,SMALL(IF($F$108:$F$175<>\"\",ROW($F$108:$F$175)-MIN(ROW($F$108:$F$175))+1),ROWS($1:14))),\"\"),\"\")","v":""},"Centrale wadi",{"$f":"IFERROR(IF(ROWS($1:14)<=COUNTA($H$108:$H$175),INDEX($H$108:$H$175,SMALL(IF($H$108:$H$175<>\"\",ROW($H$108:$H$175)-MIN(ROW($H$108:$H$175))+1),ROWS($1:14))),\"\"),\"\")","v":"Verbindingsleiding"},"",{"$f":"IFERROR(IF(ROWS($1:13)<=COUNTA($J$108:$J$175),INDEX($J$108:$J$175,SMALL(IF($J$108:$J$175<>\"\",ROW($J$108:$J$175)-MIN(ROW($J$108:$J$175))+1),ROWS($1:13))),\"\"),\"\")","v":"Rioolput beton 300"},"",{"$f":"IFERROR(IF(ROWS($1:14)<=COUNTA($L$108:$L$175),INDEX($L$108:$L$175,SMALL(IF($L$108:$L$175<>\"\",ROW($L$108:$L$175)-MIN(ROW($L$108:$L$175))+1),ROWS($1:14))),\"\"),\"\")","v":""},"",{"$f":"IFERROR(IF(ROWS($1:14)<=COUNTA($N$108:$N$175),INDEX($N$108:$N$175,SMALL(IF($N$108:$N$175<>\"\",ROW($N$108:$N$175)-MIN(ROW($N$108:$N$175))+1),ROWS($1:14))),\"\"),\"\")","v":""}]
[null,{"$f":"IFERROR(INDEX(Inrichtingskosten!$C$9:$C$643, MATCH(0,COUNTIF($B$107:B120, Inrichtingskosten!$C$9:$C$643), 0)),\"\")","v":"Doorlatende verharding"},{"$f":"INDEX(Inrichtingskosten!A22:A656,MATCH(B121,Inrichtingskosten!C22:C656,0))","v":"Elementen verharding"},"",{"$f":"IFERROR(IF(ROWS($1:16)<=COUNTA($D$108:$D$175),INDEX($D$108:$D$175,SMALL(IF($D$108:$D$175<>\"\",ROW($D$108:$D$175)-MIN(ROW($D$108:$D$175))+1),ROWS($1:16))),\"\"),\"\")","v":""},"Doorlatende verharding",{"$f":"IFERROR(IF(ROWS($1:16)<=COUNTA($F$108:$F$175),INDEX($F$108:$F$175,SMALL(IF($F$108:$F$175<>\"\",ROW($F$108:$F$175)-MIN(ROW($F$108:$F$175))+1),ROWS($1:16))),\"\"),\"\")","v":""},"",{"$f":"IFERROR(IF(ROWS($1:16)<=COUNTA($H$108:$H$175),INDEX($H$108:$H$175,SMALL(IF($H$108:$H$175<>\"\",ROW($H$108:$H$175)-MIN(ROW($H$108:$H$175))+1),ROWS($1:16))),\"\"),\"\")","v":"Zakput"},"",{"$f":"IFERROR(IF(ROWS($1:14)<=COUNTA($J$108:$J$175),INDEX($J$108:$J$175,SMALL(IF($J$108:$J$175<>\"\",ROW($J$108:$J$175)-MIN(ROW($J$108:$J$175))+1),ROWS($1:14))),\"\"),\"\")","v":"Rioolput beton 400"},"",{"$f":"IFERROR(IF(ROWS($1:16)<=COUNTA($L$108:$L$175),INDEX($L$108:$L$175,SMALL(IF($L$108:$L$175<>\"\",ROW($L$108:$L$175)-MIN(ROW($L$108:$L$175))+1),ROWS($1:16))),\"\"),\"\")","v":""},"",{"$f":"IFERROR(IF(ROWS($1:16)<=COUNTA($N$108:$N$175),INDEX($N$108:$N$175,SMALL(IF($N$108:$N$175<>\"\",ROW($N$108:$N$175)-MIN(ROW($N$108:$N$175))+1),ROWS($1:16))),\"\"),\"\")","v":""}]
[null,{"$f":"IFERROR(INDEX(Inrichtingskosten!$C$9:$C$643, MATCH(0,COUNTIF($B$107:B121, Inrichtingskosten!$C$9:$C$643), 0)),\"\")","v":"Drainage"},{"$f":"INDEX(Inrichtingskosten!A23:A657,MATCH(B122,Inrichtingskosten!C23:C657,0))","v":"Riolering"},"",{"$f":"IFERROR(IF(ROWS($1:17)<=COUNTA($D$108:$D$175),INDEX($D$108:$D$175,SMALL(IF($D$108:$D$175<>\"\",ROW($D$108:$D$175)-MIN(ROW($D$108:$D$175))+1),ROWS($1:17))),\"\"),\"\")","v":""},"",{"$f":"IFERROR(IF(ROWS($1:17)<=COUNTA($F$108:$F$175),INDEX($F$108:$F$175,SMALL(IF($F$108:$F$175<>\"\",ROW($F$108:$F$175)-MIN(ROW($F$108:$F$175))+1),ROWS($1:17))),\"\"),\"\")","v":""},"",{"$f":"IFERROR(IF(ROWS($1:17)<=COUNTA($H$108:$H$175),INDEX($H$108:$H$175,SMALL(IF($H$108:$H$175<>\"\",ROW($H$108:$H$175)-MIN(ROW($H$108:$H$175))+1),ROWS($1:17))),\"\"),\"\")","v":"Bergend pakket hardsteen 8/32 - geen doek"},"Drainage",{"$f":"IFERROR(IF(ROWS($1:15)<=COUNTA($J$108:$J$175),INDEX($J$108:$J$175,SMALL(IF($J$108:$J$175<>\"\",ROW($J$108:$J$175)-MIN(ROW($J$108:$J$175))+1),ROWS($1:15))),\"\"),\"\")","v":"Rioolput beton 500"},"",{"$f":"IFERROR(IF(ROWS($1:17)<=COUNTA($L$108:$L$175),INDEX($L$108:$L$175,SMALL(IF($L$108:$L$175<>\"\",ROW($L$108:$L$175)-MIN(ROW($L$108:$L$175))+1),ROWS($1:17))),\"\"),\"\")","v":""},"",{"$f":"IFERROR(IF(ROWS($1:17)<=COUNTA($N$108:$N$175),INDEX($N$108:$N$175,SMALL(IF($N$108:$N$175<>\"\",ROW($N$108:$N$175)-MIN(ROW($N$108:$N$175))+1),ROWS($1:17))),\"\"),\"\")","v":""}]
[null,{"$f":"IFERROR(INDEX(Inrichtingskosten!$C$9:$C$643, MATCH(0,COUNTIF($B$107:B122, Inrichtingskosten!$C$9:$C$643), 0)),\"\")","v":"Fietspad van betonstraatstenen"},{"$f":"INDEX(Inrichtingskosten!A24:A658,MATCH(B123,Inrichtingskosten!C24:C658,0))","v":"Elementen verharding"},"",{"$f":"IFERROR(IF(ROWS($1:18)<=COUNTA($D$108:$D$175),INDEX($D$108:$D$175,SMALL(IF($D$108:$D$175<>\"\",ROW($D$108:$D$175)-MIN(ROW($D$108:$D$175))+1),ROWS($1:18))),\"\"),\"\")","v":""},"Fietspad van betonstraatstenen",{"$f":"IFERROR(IF(ROWS($1:18)<=COUNTA($F$108:$F$175),INDEX($F$108:$F$175,SMALL(IF($F$108:$F$175<>\"\",ROW($F$108:$F$175)-MIN(ROW($F$108:$F$175))+1),ROWS($1:18))),\"\"),\"\")","v":""},"",{"$f":"IFERROR(IF(ROWS($1:18)<=COUNTA($H$108:$H$175),INDEX($H$108:$H$175,SMALL(IF($H$108:$H$175<>\"\",ROW($H$108:$H$175)-MIN(ROW($H$108:$H$175))+1),ROWS($1:18))),\"\"),\"\")","v":"Bergend pakket Betondgranulaat 12/32 - geen doek"},"",{"$f":"IFERROR(IF(ROWS($1:16)<=COUNTA($J$108:$J$175),INDEX($J$108:$J$175,SMALL(IF($J$108:$J$175<>\"\",ROW($J$108:$J$175)-MIN(ROW($J$108:$J$175))+1),ROWS($1:16))),\"\"),\"\")","v":"Rioolput beton 600"},"",{"$f":"IFERROR(IF(ROWS($1:18)<=COUNTA($L$108:$L$175),INDEX($L$108:$L$175,SMALL(IF($L$108:$L$175<>\"\",ROW($L$108:$L$175)-MIN(ROW($L$108:$L$175))+1),ROWS($1:18))),\"\"),\"\")","v":""},"",{"$f":"IFERROR(IF(ROWS($1:18)<=COUNTA($N$108:$N$175),INDEX($N$108:$N$175,SMALL(IF($N$108:$N$175<>\"\",ROW($N$108:$N$175)-MIN(ROW($N$108:$N$175))+1),ROWS($1:18))),\"\"),\"\")","v":""}]
[null,{"$f":"IFERROR(INDEX(Inrichtingskosten!$C$9:$C$643, MATCH(0,COUNTIF($B$107:B123, Inrichtingskosten!$C$9:$C$643), 0)),\"\")","v":"Gazon"},{"$f":"INDEX(Inrichtingskosten!A25:A659,MATCH(B124,Inrichtingskosten!C25:C659,0))","v":"Groenvoorziening"},"",{"$f":"IFERROR(IF(ROWS($1:19)<=COUNTA($D$108:$D$175),INDEX($D$108:$D$175,SMALL(IF($D$108:$D$175<>\"\",ROW($D$108:$D$175)-MIN(ROW($D$108:$D$175))+1),ROWS($1:19))),\"\"),\"\")","v":""},"",{"$f":"IFERROR(IF(ROWS($1:19)<=COUNTA($F$108:$F$175),INDEX($F$108:$F$175,SMALL(IF($F$108:$F$175<>\"\",ROW($F$108:$F$175)-MIN(ROW($F$108:$F$175))+1),ROWS($1:19))),\"\"),\"\")","v":""},"",{"$f":"IFERROR(IF(ROWS($1:19)<=COUNTA($H$108:$H$175),INDEX($H$108:$H$175,SMALL(IF($H$108:$H$175<>\"\",ROW($H$108:$H$175)-MIN(ROW($H$108:$H$175))+1),ROWS($1:19))),\"\"),\"\")","v":"WAVICORE buis in bergend pakket"},"",{"$f":"IFERROR(IF(ROWS($1:17)<=COUNTA($J$108:$J$175),INDEX($J$108:$J$175,SMALL(IF($J$108:$J$175<>\"\",ROW($J$108:$J$175)-MIN(ROW($J$108:$J$175))+1),ROWS($1:17))),\"\"),\"\")","v":"Rioolput beton 700"},"Gazon",{"$f":"IFERROR(IF(ROWS($1:19)<=COUNTA($L$108:$L$175),INDEX($L$108:$L$175,SMALL(IF($L$108:$L$175<>\"\",ROW($L$108:$L$175)-MIN(ROW($L$108:$L$175))+1),ROWS($1:19))),\"\"),\"\")","v":""},"",{"$f":"IFERROR(IF(ROWS($1:19)<=COUNTA($N$108:$N$175),INDEX($N$108:$N$175,SMALL(IF($N$108:$N$175<>\"\",ROW($N$108:$N$175)-MIN(ROW($N$108:$N$175))+1),ROWS($1:19))),\"\"),\"\")","v":""}]
[null,{"$f":"IFERROR(INDEX(Inrichtingskosten!$C$9:$C$643, MATCH(0,COUNTIF($B$107:B124, Inrichtingskosten!$C$9:$C$643), 0)),\"\")","v":"Gesloten grindgoot"},{"$f":"INDEX(Inrichtingskosten!A26:A660,MATCH(B125,Inrichtingskosten!C26:C660,0))","v":"Hemelwatersysteem"},"",{"$f":"IFERROR(IF(ROWS($1:20)<=COUNTA($D$108:$D$175),INDEX($D$108:$D$175,SMALL(IF($D$108:$D$175<>\"\",ROW($D$108:$D$175)-MIN(ROW($D$108:$D$175))+1),ROWS($1:20))),\"\"),\"\")","v":""},"",{"$f":"IFERROR(IF(ROWS($1:20)<=COUNTA($F$108:$F$175),INDEX($F$108:$F$175,SMALL(IF($F$108:$F$175<>\"\",ROW($F$108:$F$175)-MIN(ROW($F$108:$F$175))+1),ROWS($1:20))),\"\"),\"\")","v":""},"Gesloten grindgoot",{"$f":"IFERROR(IF(ROWS($1:20)<=COUNTA($H$108:$H$175),INDEX($H$108:$H$175,SMALL(IF($H$108:$H$175<>\"\",ROW($H$108:$H$175)-MIN(ROW($H$108:$H$175))+1),ROWS($1:20))),\"\"),\"\")","v":"Bufferblock"},"",{"$f":"IFERROR(IF(ROWS($1:18)<=COUNTA($J$108:$J$175),INDEX($J$108:$J$175,SMALL(IF($J$108:$J$175<>\"\",ROW($J$108:$J$175)-MIN(ROW($J$108:$J$175))+1),ROWS($1:18))),\"\"),\"\")","v":"Rioolput beton 800"},"",{"$f":"IFERROR(IF(ROWS($1:20)<=COUNTA($L$108:$L$175),INDEX($L$108:$L$175,SMALL(IF($L$108:$L$175<>\"\",ROW($L$108:$L$175)-MIN(ROW($L$108:$L$175))+1),ROWS($1:20))),\"\"),\"\")","v":""},"",{"$f":"IFERROR(IF(ROWS($1:20)<=COUNTA($N$108:$N$175),INDEX($N$108:$N$175,SMALL(IF($N$108:$N$175<>\"\",ROW($N$108:$N$175)-MIN(ROW($N$108:$N$175))+1),ROWS($1:20))),\"\"),\"\")","v":""}]
[null,{"$f":"IFERROR(INDEX(Inrichtingskosten!$C$9:$C$643, MATCH(0,COUNTIF($B$107:B125, Inrichtingskosten!$C$9:$C$643), 0)),\"\")","v":"Granudrain"},{"$f":"INDEX(Inrichtingskosten!A27:A661,MATCH(B126,Inrichtingskosten!C27:C661,0))","v":"Hemelwatersysteem"},"",{"$f":"IFERROR(IF(ROWS($1:21)<=COUNTA($D$108:$D$175),INDEX($D$108:$D$175,SMALL(IF($D$108:$D$175<>\"\",ROW($D$108:$D$175)-MIN(ROW($D$108:$D$175))+1),ROWS($1:21))),\"\"),\"\")","v":""},"",{"$f":"IFERROR(IF(ROWS($1:21)<=COUNTA($F$108:$F$175),INDEX($F$108:$F$175,SMALL(IF($F$108:$F$175<>\"\",ROW($F$108:$F$175)-MIN(ROW($F$108:$F$175))+1),ROWS($1:21))),\"\"),\"\")","v":""},"Granudrain",{"$f":"IFERROR(IF(ROWS($1:21)<=COUNTA($H$108:$H$175),INDEX($H$108:$H$175,SMALL(IF($H$108:$H$175<>\"\",ROW($H$108:$H$175)-MIN(ROW($H$108:$H$175))+1),ROWS($1:21))),\"\"),\"\")","v":"Bergend pakket lava of bims 4/32 - geen doek"},"",{"$f":"IFERROR(IF(ROWS($1:19)<=COUNTA($J$108:$J$175),INDEX($J$108:$J$175,SMALL(IF($J$108:$J$175<>\"\",ROW($J$108:$J$175)-MIN(ROW($J$108:$J$175))+1),ROWS($1:19))),\"\"),\"\")","v":"Rioolput beton 900"},"",{"$f":"IFERROR(IF(ROWS($1:21)<=COUNTA($L$108:$L$175),INDEX($L$108:$L$175,SMALL(IF($L$108:$L$175<>\"\",ROW($L$108:$L$175)-MIN(ROW($L$108:$L$175))+1),ROWS($1:21))),\"\"),\"\")","v":""},"",{"$f":"IFERROR(IF(ROWS($1:21)<=COUNTA($N$108:$N$175),INDEX($N$108:$N$175,SMALL(IF($N$108:$N$175<>\"\",ROW($N$108:$N$175)-MIN(ROW($N$108:$N$175))+1),ROWS($1:21))),\"\"),\"\")","v":""}]
[null,{"$f":"IFERROR(INDEX(Inrichtingskosten!$C$9:$C$643, MATCH(0,COUNTIF($B$107:B126, Inrichtingskosten!$C$9:$C$643), 0)),\"\")","v":"Haag"},{"$f":"INDEX(Inrichtingskosten!A28:A662,MATCH(B127,Inrichtingskosten!C28:C662,0))","v":"Groenvoorziening"},"",{"$f":"IFERROR(IF(ROWS($1:22)<=COUNTA($D$108:$D$175),INDEX($D$108:$D$175,SMALL(IF($D$108:$D$175<>\"\",ROW($D$108:$D$175)-MIN(ROW($D$108:$D$175))+1),ROWS($1:22))),\"\"),\"\")","v":""},"",{"$f":"IFERROR(IF(ROWS($1:22)<=COUNTA($F$108:$F$175),INDEX($F$108:$F$175,SMALL(IF($F$108:$F$175<>\"\",ROW($F$108:$F$175)-MIN(ROW($F$108:$F$175))+1),ROWS($1:22))),\"\"),\"\")","v":""},"",{"$f":"IFERROR(IF(ROWS($1:22)<=COUNTA($H$108:$H$175),INDEX($H$108:$H$175,SMALL(IF($H$108:$H$175<>\"\",ROW($H$108:$H$175)-MIN(ROW($H$108:$H$175))+1),ROWS($1:22))),\"\"),\"\")","v":"Bergend pakket ROCKFLOW - geen doek"},"",{"$f":"IFERROR(IF(ROWS($1:20)<=COUNTA($J$108:$J$175),INDEX($J$108:$J$175,SMALL(IF($J$108:$J$175<>\"\",ROW($J$108:$J$175)-MIN(ROW($J$108:$J$175))+1),ROWS($1:20))),\"\"),\"\")","v":"Tergakolk"},"Haag",{"$f":"IFERROR(IF(ROWS($1:22)<=COUNTA($L$108:$L$175),INDEX($L$108:$L$175,SMALL(IF($L$108:$L$175<>\"\",ROW($L$108:$L$175)-MIN(ROW($L$108:$L$175))+1),ROWS($1:22))),\"\"),\"\")","v":""},"",{"$f":"IFERROR(IF(ROWS($1:22)<=COUNTA($N$108:$N$175),INDEX($N$108:$N$175,SMALL(IF($N$108:$N$175<>\"\",ROW($N$108:$N$175)-MIN(ROW($N$108:$N$175))+1),ROWS($1:22))),\"\"),\"\")","v":""}]
[null,{"$f":"IFERROR(INDEX(Inrichtingskosten!$C$9:$C$643, MATCH(0,COUNTIF($B$107:B127, Inrichtingskosten!$C$9:$C$643), 0)),\"\")","v":"Infiltratie kolk"},{"$f":"INDEX(Inrichtingskosten!A29:A663,MATCH(B128,Inrichtingskosten!C29:C663,0))","v":"Hemelwatersysteem"},"",{"$f":"IFERROR(IF(ROWS($1:23)<=COUNTA($D$108:$D$175),INDEX($D$108:$D$175,SMALL(IF($D$108:$D$175<>\"\",ROW($D$108:$D$175)-MIN(ROW($D$108:$D$175))+1),ROWS($1:23))),\"\"),\"\")","v":""},"",{"$f":"IFERROR(IF(ROWS($1:23)<=COUNTA($F$108:$F$175),INDEX($F$108:$F$175,SMALL(IF($F$108:$F$175<>\"\",ROW($F$108:$F$175)-MIN(ROW($F$108:$F$175))+1),ROWS($1:23))),\"\"),\"\")","v":""},"Infiltratie kolk",{"$f":"IFERROR(IF(ROWS($1:23)<=COUNTA($H$108:$H$175),INDEX($H$108:$H$175,SMALL(IF($H$108:$H$175<>\"\",ROW($H$108:$H$175)-MIN(ROW($H$108:$H$175))+1),ROWS($1:23))),\"\"),\"\")","v":"Bergend pakket AA Schelpenmix - geen doek"},"",{"$f":"IFERROR(IF(ROWS($1:21)<=COUNTA($J$108:$J$175),INDEX($J$108:$J$175,SMALL(IF($J$108:$J$175<>\"\",ROW($J$108:$J$175)-MIN(ROW($J$108:$J$175))+1),ROWS($1:21))),\"\"),\"\")","v":" "},"",{"$f":"IFERROR(IF(ROWS($1:23)<=COUNTA($L$108:$L$175),INDEX($L$108:$L$175,SMALL(IF($L$108:$L$175<>\"\",ROW($L$108:$L$175)-MIN(ROW($L$108:$L$175))+1),ROWS($1:23))),\"\"),\"\")","v":""},"",{"$f":"IFERROR(IF(ROWS($1:23)<=COUNTA($N$108:$N$175),INDEX($N$108:$N$175,SMALL(IF($N$108:$N$175<>\"\",ROW($N$108:$N$175)-MIN(ROW($N$108:$N$175))+1),ROWS($1:23))),\"\"),\"\")","v":""}]
[null,{"$f":"IFERROR(INDEX(Inrichtingskosten!$C$9:$C$643, MATCH(0,COUNTIF($B$107:B128, Inrichtingskosten!$C$9:$C$643), 0)),\"\")","v":"Infiltratiekrat gemeente makkelijk"},{"$f":"INDEX(Inrichtingskosten!A30:A664,MATCH(B129,Inrichtingskosten!C30:C664,0))","v":"Hemelwatersysteem"},"",{"$f":"IFERROR(IF(ROWS($1:24)<=COUNTA($D$108:$D$175),INDEX($D$108:$D$175,SMALL(IF($D$108:$D$175<>\"\",ROW($D$108:$D$175)-MIN(ROW($D$108:$D$175))+1),ROWS($1:24))),\"\"),\"\")","v":""},"",{"$f":"IFERROR(IF(ROWS($1:24)<=COUNTA($F$108:$F$175),INDEX($F$108:$F$175,SMALL(IF($F$108:$F$175<>\"\",ROW($F$108:$F$175)-MIN(ROW($F$108:$F$175))+1),ROWS($1:24))),\"\"),\"\")","v":""},"Infiltratiekrat gemeente makkelijk",{"$f":"IFERROR(IF(ROWS($1:24)<=COUNTA($H$108:$H$175),INDEX($H$108:$H$175,SMALL(IF($H$108:$H$175<>\"\",ROW($H$108:$H$175)-MIN(ROW($H$108:$H$175))+1),ROWS($1:24))),\"\"),\"\")","v":"AA minerals (los)  voor rond drain"},"",{"$f":"IFERROR(IF(ROWS($1:22)<=COUNTA($J$108:$J$175),INDEX($J$108:$J$175,SMALL(IF($J$108:$J$175<>\"\",ROW($J$108:$J$175)-MIN(ROW($J$108:$J$175))+1),ROWS($1:22))),\"\"),\"\")","v":" "},"",{"$f":"IFERROR(IF(ROWS($1:24)<=COUNTA($L$108:$L$175),INDEX($L$108:$L$175,SMALL(IF($L$108:$L$175<>\"\",ROW($L$108:$L$175)-MIN(ROW($L$108:$L$175))+1),ROWS($1:24))),\"\"),\"\")","v":""},"",{"$f":"IFERROR(IF(ROWS($1:24)<=COUNTA($N$108:$N$175),INDEX($N$108:$N$175,SMALL(IF($N$108:$N$175<>\"\",ROW($N$108:$N$175)-MIN(ROW($N$108:$N$175))+1),ROWS($1:24))),\"\"),\"\")","v":""}]
[null,{"$f":"IFERROR(INDEX(Inrichtingskosten!$C$9:$C$643, MATCH(0,COUNTIF($B$107:B129, Inrichtingskosten!$C$9:$C$643), 0)),\"\")","v":"Infiltratiekrat particulier makkelijk"},{"$f":"INDEX(Inrichtingskosten!A31:A665,MATCH(B130,Inrichtingskosten!C31:C665,0))","v":"Hemelwatersysteem"},"",{"$f":"IFERROR(IF(ROWS($1:25)<=COUNTA($D$108:$D$175),INDEX($D$108:$D$175,SMALL(IF($D$108:$D$175<>\"\",ROW($D$108:$D$175)-MIN(ROW($D$108:$D$175))+1),ROWS($1:25))),\"\"),\"\")","v":""},"",{"$f":"IFERROR(IF(ROWS($1:25)<=COUNTA($F$108:$F$175),INDEX($F$108:$F$175,SMALL(IF($F$108:$F$175<>\"\",ROW($F$108:$F$175)-MIN(ROW($F$108:$F$175))+1),ROWS($1:25))),\"\"),\"\")","v":""},"Infiltratiekrat particulier makkelijk",{"$f":"IFERROR(IF(ROWS($1:25)<=COUNTA($H$108:$H$175),INDEX($H$108:$H$175,SMALL(IF($H$108:$H$175<>\"\",ROW($H$108:$H$175)-MIN(ROW($H$108:$H$175))+1),ROWS($1:25))),\"\"),\"\")","v":"Geogrid (los)"},"",{"$f":"IFERROR(IF(ROWS($1:23)<=COUNTA($J$108:$J$175),INDEX($J$108:$J$175,SMALL(IF($J$108:$J$175<>\"\",ROW($J$108:$J$175)-MIN(ROW($J$108:$J$175))+1),ROWS($1:23))),\"\"),\"\")","v":" "},"",{"$f":"IFERROR(IF(ROWS($1:25)<=COUNTA($L$108:$L$175),INDEX($L$108:$L$175,SMALL(IF($L$108:$L$175<>\"\",ROW($L$108:$L$175)-MIN(ROW($L$108:$L$175))+1),ROWS($1:25))),\"\"),\"\")","v":""},"",{"$f":"IFERROR(IF(ROWS($1:25)<=COUNTA($N$108:$N$175),INDEX($N$108:$N$175,SMALL(IF($N$108:$N$175<>\"\",ROW($N$108:$N$175)-MIN(ROW($N$108:$N$175))+1),ROWS($1:25))),\"\"),\"\")","v":""}]
[null,{"$f":"IFERROR(INDEX(Inrichtingskosten!$C$9:$C$643, MATCH(0,COUNTIF($B$107:B130, Inrichtingskosten!$C$9:$C$643), 0)),\"\")","v":"Infiltratiekrat particulier moeilijk"},{"$f":"INDEX(Inrichtingskosten!A32:A666,MATCH(B131,Inrichtingskosten!C32:C666,0))","v":"Hemelwatersysteem"},"",{"$f":"IFERROR(IF(ROWS($1:26)<=COUNTA($D$108:$D$175),INDEX($D$108:$D$175,SMALL(IF($D$108:$D$175<>\"\",ROW($D$108:$D$175)-MIN(ROW($D$108:$D$175))+1),ROWS($1:26))),\"\"),\"\")","v":""},"",{"$f":"IFERROR(IF(ROWS($1:26)<=COUNTA($F$108:$F$175),INDEX($F$108:$F$175,SMALL(IF($F$108:$F$175<>\"\",ROW($F$108:$F$175)-MIN(ROW($F$108:$F$175))+1),ROWS($1:26))),\"\"),\"\")","v":""},"Infiltratiekrat particulier moeilijk",{"$f":"IFERROR(IF(ROWS($1:26)<=COUNTA($H$108:$H$175),INDEX($H$108:$H$175,SMALL(IF($H$108:$H$175<>\"\",ROW($H$108:$H$175)-MIN(ROW($H$108:$H$175))+1),ROWS($1:26))),\"\"),\"\")","v":"geotextiel (los)"},"",{"$f":"IFERROR(IF(ROWS($1:24)<=COUNTA($J$108:$J$175),INDEX($J$108:$J$175,SMALL(IF($J$108:$J$175<>\"\",ROW($J$108:$J$175)-MIN(ROW($J$108:$J$175))+1),ROWS($1:24))),\"\"),\"\")","v":" "},"",{"$f":"IFERROR(IF(ROWS($1:26)<=COUNTA($L$108:$L$175),INDEX($L$108:$L$175,SMALL(IF($L$108:$L$175<>\"\",ROW($L$108:$L$175)-MIN(ROW($L$108:$L$175))+1),ROWS($1:26))),\"\"),\"\")","v":""},"",{"$f":"IFERROR(IF(ROWS($1:26)<=COUNTA($N$108:$N$175),INDEX($N$108:$N$175,SMALL(IF($N$108:$N$175<>\"\",ROW($N$108:$N$175)-MIN(ROW($N$108:$N$175))+1),ROWS($1:26))),\"\"),\"\")","v":""}]
[null,{"$f":"IFERROR(INDEX(Inrichtingskosten!$C$9:$C$643, MATCH(0,COUNTIF($B$107:B131, Inrichtingskosten!$C$9:$C$643), 0)),\"\")","v":"Infiltratiekrat perceelaansluiting makkelijk"},{"$f":"INDEX(Inrichtingskosten!A33:A667,MATCH(B132,Inrichtingskosten!C33:C667,0))","v":"Hemelwatersysteem"},"",{"$f":"IFERROR(IF(ROWS($1:27)<=COUNTA($D$108:$D$175),INDEX($D$108:$D$175,SMALL(IF($D$108:$D$175<>\"\",ROW($D$108:$D$175)-MIN(ROW($D$108:$D$175))+1),ROWS($1:27))),\"\"),\"\")","v":""},"",{"$f":"IFERROR(IF(ROWS($1:27)<=COUNTA($F$108:$F$175),INDEX($F$108:$F$175,SMALL(IF($F$108:$F$175<>\"\",ROW($F$108:$F$175)-MIN(ROW($F$108:$F$175))+1),ROWS($1:27))),\"\"),\"\")","v":""},"Infiltratiekrat perceelaansluiting makkelijk",{"$f":"IFERROR(IF(ROWS($1:27)<=COUNTA($H$108:$H$175),INDEX($H$108:$H$175,SMALL(IF($H$108:$H$175<>\"\",ROW($H$108:$H$175)-MIN(ROW($H$108:$H$175))+1),ROWS($1:27))),\"\"),\"\")","v":" "},"",{"$f":"IFERROR(IF(ROWS($1:25)<=COUNTA($J$108:$J$175),INDEX($J$108:$J$175,SMALL(IF($J$108:$J$175<>\"\",ROW($J$108:$J$175)-MIN(ROW($J$108:$J$175))+1),ROWS($1:25))),\"\"),\"\")","v":" "},"",{"$f":"IFERROR(IF(ROWS($1:27)<=COUNTA($L$108:$L$175),INDEX($L$108:$L$175,SMALL(IF($L$108:$L$175<>\"\",ROW($L$108:$L$175)-MIN(ROW($L$108:$L$175))+1),ROWS($1:27))),\"\"),\"\")","v":""},"",{"$f":"IFERROR(IF(ROWS($1:27)<=COUNTA($N$108:$N$175),INDEX($N$108:$N$175,SMALL(IF($N$108:$N$175<>\"\",ROW($N$108:$N$175)-MIN(ROW($N$108:$N$175))+1),ROWS($1:27))),\"\"),\"\")","v":""}]
[null,{"$f":"IFERROR(INDEX(Inrichtingskosten!$C$9:$C$643, MATCH(0,COUNTIF($B$107:B132, Inrichtingskosten!$C$9:$C$643), 0)),\"\")","v":"Infiltratiekrat perceelaansluiting moeilijk"},{"$f":"INDEX(Inrichtingskosten!A34:A668,MATCH(B133,Inrichtingskosten!C34:C668,0))","v":"Hemelwatersysteem"},"",{"$f":"IFERROR(IF(ROWS($1:28)<=COUNTA($D$108:$D$175),INDEX($D$108:$D$175,SMALL(IF($D$108:$D$175<>\"\",ROW($D$108:$D$175)-MIN(ROW($D$108:$D$175))+1),ROWS($1:28))),\"\"),\"\")","v":""},"",{"$f":"IFERROR(IF(ROWS($1:28)<=COUNTA($F$108:$F$175),INDEX($F$108:$F$175,SMALL(IF($F$108:$F$175<>\"\",ROW($F$108:$F$175)-MIN(ROW($F$108:$F$175))+1),ROWS($1:28))),\"\"),\"\")","v":""},"Infiltratiekrat perceelaansluiting moeilijk",{"$f":"IFERROR(IF(ROWS($1:28)<=COUNTA($H$108:$H$175),INDEX($H$108:$H$175,SMALL(IF($H$108:$H$175<>\"\",ROW($H$108:$H$175)-MIN(ROW($H$108:$H$175))+1),ROWS($1:28))),\"\"),\"\")","v":" "},"",{"$f":"IFERROR(IF(ROWS($1:26)<=COUNTA($J$108:$J$175),INDEX($J$108:$J$175,SMALL(IF($J$108:$J$175<>\"\",ROW($J$108:$J$175)-MIN(ROW($J$108:$J$175))+1),ROWS($1:26))),\"\"),\"\")","v":""},"",{"$f":"IFERROR(IF(ROWS($1:28)<=COUNTA($L$108:$L$175),INDEX($L$108:$L$175,SMALL(IF($L$108:$L$175<>\"\",ROW($L$108:$L$175)-MIN(ROW($L$108:$L$175))+1),ROWS($1:28))),\"\"),\"\")","v":""},"",{"$f":"IFERROR(IF(ROWS($1:28)<=COUNTA($N$108:$N$175),INDEX($N$108:$N$175,SMALL(IF($N$108:$N$175<>\"\",ROW($N$108:$N$175)-MIN(ROW($N$108:$N$175))+1),ROWS($1:28))),\"\"),\"\")","v":""}]
[null,{"$f":"IFERROR(INDEX(Inrichtingskosten!$C$9:$C$643, MATCH(0,COUNTIF($B$107:B133, Inrichtingskosten!$C$9:$C$643), 0)),\"\")","v":"Kolk"},{"$f":"INDEX(Inrichtingskosten!A35:A669,MATCH(B134,Inrichtingskosten!C35:C669,0))","v":"Riolering"},"",{"$f":"IFERROR(IF(ROWS($1:29)<=COUNTA($D$108:$D$175),INDEX($D$108:$D$175,SMALL(IF($D$108:$D$175<>\"\",ROW($D$108:$D$175)-MIN(ROW($D$108:$D$175))+1),ROWS($1:29))),\"\"),\"\")","v":""},"",{"$f":"IFERROR(IF(ROWS($1:29)<=COUNTA($F$108:$F$175),INDEX($F$108:$F$175,SMALL(IF($F$108:$F$175<>\"\",ROW($F$108:$F$175)-MIN(ROW($F$108:$F$175))+1),ROWS($1:29))),\"\"),\"\")","v":""},"",{"$f":"IFERROR(IF(ROWS($1:29)<=COUNTA($H$108:$H$175),INDEX($H$108:$H$175,SMALL(IF($H$108:$H$175<>\"\",ROW($H$108:$H$175)-MIN(ROW($H$108:$H$175))+1),ROWS($1:29))),\"\"),\"\")","v":" "},"Kolk",{"$f":"IFERROR(IF(ROWS($1:27)<=COUNTA($J$108:$J$175),INDEX($J$108:$J$175,SMALL(IF($J$108:$J$175<>\"\",ROW($J$108:$J$175)-MIN(ROW($J$108:$J$175))+1),ROWS($1:27))),\"\"),\"\")","v":""},"",{"$f":"IFERROR(IF(ROWS($1:29)<=COUNTA($L$108:$L$175),INDEX($L$108:$L$175,SMALL(IF($L$108:$L$175<>\"\",ROW($L$108:$L$175)-MIN(ROW($L$108:$L$175))+1),ROWS($1:29))),\"\"),\"\")","v":""},"",{"$f":"IFERROR(IF(ROWS($1:29)<=COUNTA($N$108:$N$175),INDEX($N$108:$N$175,SMALL(IF($N$108:$N$175<>\"\",ROW($N$108:$N$175)-MIN(ROW($N$108:$N$175))+1),ROWS($1:29))),\"\"),\"\")","v":""}]
[null,{"$f":"IFERROR(INDEX(Inrichtingskosten!$C$9:$C$643, MATCH(0,COUNTIF($B$107:B134, Inrichtingskosten!$C$9:$C$643), 0)),\"\")","v":"Molgoot"},{"$f":"INDEX(Inrichtingskosten!A36:A670,MATCH(B135,Inrichtingskosten!C36:C670,0))","v":"Hemelwatersysteem"},"",{"$f":"IFERROR(IF(ROWS($1:30)<=COUNTA($D$108:$D$175),INDEX($D$108:$D$175,SMALL(IF($D$108:$D$175<>\"\",ROW($D$108:$D$175)-MIN(ROW($D$108:$D$175))+1),ROWS($1:30))),\"\"),\"\")","v":""},"",{"$f":"IFERROR(IF(ROWS($1:30)<=COUNTA($F$108:$F$175),INDEX($F$108:$F$175,SMALL(IF($F$108:$F$175<>\"\",ROW($F$108:$F$175)-MIN(ROW($F$108:$F$175))+1),ROWS($1:30))),\"\"),\"\")","v":""},"Molgoot",{"$f":"IFERROR(IF(ROWS($1:30)<=COUNTA($H$108:$H$175),INDEX($H$108:$H$175,SMALL(IF($H$108:$H$175<>\"\",ROW($H$108:$H$175)-MIN(ROW($H$108:$H$175))+1),ROWS($1:30))),\"\"),\"\")","v":" "},"",{"$f":"IFERROR(IF(ROWS($1:28)<=COUNTA($J$108:$J$175),INDEX($J$108:$J$175,SMALL(IF($J$108:$J$175<>\"\",ROW($J$108:$J$175)-MIN(ROW($J$108:$J$175))+1),ROWS($1:28))),\"\"),\"\")","v":""},"",{"$f":"IFERROR(IF(ROWS($1:30)<=COUNTA($L$108:$L$175),INDEX($L$108:$L$175,SMALL(IF($L$108:$L$175<>\"\",ROW($L$108:$L$175)-MIN(ROW($L$108:$L$175))+1),ROWS($1:30))),\"\"),\"\")","v":""},"",{"$f":"IFERROR(IF(ROWS($1:30)<=COUNTA($N$108:$N$175),INDEX($N$108:$N$175,SMALL(IF($N$108:$N$175<>\"\",ROW($N$108:$N$175)-MIN(ROW($N$108:$N$175))+1),ROWS($1:30))),\"\"),\"\")","v":""}]
[null,{"$f":"IFERROR(INDEX(Inrichtingskosten!$C$9:$C$643, MATCH(0,COUNTIF($B$107:B135, Inrichtingskosten!$C$9:$C$643), 0)),\"\")","v":"Onderhoudsarme wadi (inc. beplanting)"},{"$f":"INDEX(Inrichtingskosten!A37:A671,MATCH(B136,Inrichtingskosten!C37:C671,0))","v":"Hemelwatersysteem"},"",{"$f":"IFERROR(IF(ROWS($1:31)<=COUNTA($D$108:$D$175),INDEX($D$108:$D$175,SMALL(IF($D$108:$D$175<>\"\",ROW($D$108:$D$175)-MIN(ROW($D$108:$D$175))+1),ROWS($1:31))),\"\"),\"\")","v":""},"",{"$f":"IFERROR(IF(ROWS($1:31)<=COUNTA($F$108:$F$175),INDEX($F$108:$F$175,SMALL(IF($F$108:$F$175<>\"\",ROW($F$108:$F$175)-MIN(ROW($F$108:$F$175))+1),ROWS($1:31))),\"\"),\"\")","v":""},"Onderhoudsarme wadi (inc. beplanting)",{"$f":"IFERROR(IF(ROWS($1:31)<=COUNTA($H$108:$H$175),INDEX($H$108:$H$175,SMALL(IF($H$108:$H$175<>\"\",ROW($H$108:$H$175)-MIN(ROW($H$108:$H$175))+1),ROWS($1:31))),\"\"),\"\")","v":" "},"",{"$f":"IFERROR(IF(ROWS($1:29)<=COUNTA($J$108:$J$175),INDEX($J$108:$J$175,SMALL(IF($J$108:$J$175<>\"\",ROW($J$108:$J$175)-MIN(ROW($J$108:$J$175))+1),ROWS($1:29))),\"\"),\"\")","v":""},"",{"$f":"IFERROR(IF(ROWS($1:31)<=COUNTA($L$108:$L$175),INDEX($L$108:$L$175,SMALL(IF($L$108:$L$175<>\"\",ROW($L$108:$L$175)-MIN(ROW($L$108:$L$175))+1),ROWS($1:31))),\"\"),\"\")","v":""},"",{"$f":"IFERROR(IF(ROWS($1:31)<=COUNTA($N$108:$N$175),INDEX($N$108:$N$175,SMALL(IF($N$108:$N$175<>\"\",ROW($N$108:$N$175)-MIN(ROW($N$108:$N$175))+1),ROWS($1:31))),\"\"),\"\")","v":""}]
[null,{"$f":"IFERROR(INDEX(Inrichtingskosten!$C$9:$C$643, MATCH(0,COUNTIF($B$107:B136, Inrichtingskosten!$C$9:$C$643), 0)),\"\")","v":"Open grindgoot"},{"$f":"INDEX(Inrichtingskosten!A38:A672,MATCH(B137,Inrichtingskosten!C38:C672,0))","v":"Hemelwatersysteem"},"",{"$f":"IFERROR(IF(ROWS($1:32)<=COUNTA($D$108:$D$175),INDEX($D$108:$D$175,SMALL(IF($D$108:$D$175<>\"\",ROW($D$108:$D$175)-MIN(ROW($D$108:$D$175))+1),ROWS($1:32))),\"\"),\"\")","v":""},"",{"$f":"IFERROR(IF(ROWS($1:32)<=COUNTA($F$108:$F$175),INDEX($F$108:$F$175,SMALL(IF($F$108:$F$175<>\"\",ROW($F$108:$F$175)-MIN(ROW($F$108:$F$175))+1),ROWS($1:32))),\"\"),\"\")","v":""},"Open grindgoot",{"$f":"IFERROR(IF(ROWS($1:32)<=COUNTA($H$108:$H$175),INDEX($H$108:$H$175,SMALL(IF($H$108:$H$175<>\"\",ROW($H$108:$H$175)-MIN(ROW($H$108:$H$175))+1),ROWS($1:32))),\"\"),\"\")","v":""},"",{"$f":"IFERROR(IF(ROWS($1:30)<=COUNTA($J$108:$J$175),INDEX($J$108:$J$175,SMALL(IF($J$108:$J$175<>\"\",ROW($J$108:$J$175)-MIN(ROW($J$108:$J$175))+1),ROWS($1:30))),\"\"),\"\")","v":""},"",{"$f":"IFERROR(IF(ROWS($1:32)<=COUNTA($L$108:$L$175),INDEX($L$108:$L$175,SMALL(IF($L$108:$L$175<>\"\",ROW($L$108:$L$175)-MIN(ROW($L$108:$L$175))+1),ROWS($1:32))),\"\"),\"\")","v":""},"",{"$f":"IFERROR(IF(ROWS($1:32)<=COUNTA($N$108:$N$175),INDEX($N$108:$N$175,SMALL(IF($N$108:$N$175<>\"\",ROW($N$108:$N$175)-MIN(ROW($N$108:$N$175))+1),ROWS($1:32))),\"\"),\"\")","v":""}]
[null,{"$f":"IFERROR(INDEX(Inrichtingskosten!$C$9:$C$643, MATCH(0,COUNTIF($B$107:B137, Inrichtingskosten!$C$9:$C$643), 0)),\"\")","v":"Paal beton"},{"$f":"INDEX(Inrichtingskosten!A39:A673,MATCH(B138,Inrichtingskosten!C39:C673,0))","v":"Straatmeubilair"},"",{"$f":"IFERROR(IF(ROWS($1:33)<=COUNTA($D$108:$D$175),INDEX($D$108:$D$175,SMALL(IF($D$108:$D$175<>\"\",ROW($D$108:$D$175)-MIN(ROW($D$108:$D$175))+1),ROWS($1:33))),\"\"),\"\")","v":""},"",{"$f":"IFERROR(IF(ROWS($1:33)<=COUNTA($F$108:$F$175),INDEX($F$108:$F$175,SMALL(IF($F$108:$F$175<>\"\",ROW($F$108:$F$175)-MIN(ROW($F$108:$F$175))+1),ROWS($1:33))),\"\"),\"\")","v":""},"",{"$f":"IFERROR(IF(ROWS($1:33)<=COUNTA($H$108:$H$175),INDEX($H$108:$H$175,SMALL(IF($H$108:$H$175<>\"\",ROW($H$108:$H$175)-MIN(ROW($H$108:$H$175))+1),ROWS($1:33))),\"\"),\"\")","v":""},"",{"$f":"IFERROR(IF(ROWS($1:31)<=COUNTA($J$108:$J$175),INDEX($J$108:$J$175,SMALL(IF($J$108:$J$175<>\"\",ROW($J$108:$J$175)-MIN(ROW($J$108:$J$175))+1),ROWS($1:31))),\"\"),\"\")","v":""},"",{"$f":"IFERROR(IF(ROWS($1:33)<=COUNTA($L$108:$L$175),INDEX($L$108:$L$175,SMALL(IF($L$108:$L$175<>\"\",ROW($L$108:$L$175)-MIN(ROW($L$108:$L$175))+1),ROWS($1:33))),\"\"),\"\")","v":""},"Paal beton",{"$f":"IFERROR(IF(ROWS($1:33)<=COUNTA($N$108:$N$175),INDEX($N$108:$N$175,SMALL(IF($N$108:$N$175<>\"\",ROW($N$108:$N$175)-MIN(ROW($N$108:$N$175))+1),ROWS($1:33))),\"\"),\"\")","v":""}]
[null,{"$f":"IFERROR(INDEX(Inrichtingskosten!$C$9:$C$643, MATCH(0,COUNTIF($B$107:B138, Inrichtingskosten!$C$9:$C$643), 0)),\"\")","v":"Perceelaansluiting"},{"$f":"INDEX(Inrichtingskosten!A40:A674,MATCH(B139,Inrichtingskosten!C40:C674,0))","v":"Riolering"},"",{"$f":"IFERROR(IF(ROWS($1:34)<=COUNTA($D$108:$D$175),INDEX($D$108:$D$175,SMALL(IF($D$108:$D$175<>\"\",ROW($D$108:$D$175)-MIN(ROW($D$108:$D$175))+1),ROWS($1:34))),\"\"),\"\")","v":""},"",{"$f":"IFERROR(IF(ROWS($1:34)<=COUNTA($F$108:$F$175),INDEX($F$108:$F$175,SMALL(IF($F$108:$F$175<>\"\",ROW($F$108:$F$175)-MIN(ROW($F$108:$F$175))+1),ROWS($1:34))),\"\"),\"\")","v":""},"",{"$f":"IFERROR(IF(ROWS($1:34)<=COUNTA($H$108:$H$175),INDEX($H$108:$H$175,SMALL(IF($H$108:$H$175<>\"\",ROW($H$108:$H$175)-MIN(ROW($H$108:$H$175))+1),ROWS($1:34))),\"\"),\"\")","v":""},"Perceelaansluiting",{"$f":"IFERROR(IF(ROWS($1:32)<=COUNTA($J$108:$J$175),INDEX($J$108:$J$175,SMALL(IF($J$108:$J$175<>\"\",ROW($J$108:$J$175)-MIN(ROW($J$108:$J$175))+1),ROWS($1:32))),\"\"),\"\")","v":""},"",{"$f":"IFERROR(IF(ROWS($1:34)<=COUNTA($L$108:$L$175),INDEX($L$108:$L$175,SMALL(IF($L$108:$L$175<>\"\",ROW($L$108:$L$175)-MIN(ROW($L$108:$L$175))+1),ROWS($1:34))),\"\"),\"\")","v":""},"",{"$f":"IFERROR(IF(ROWS($1:34)<=COUNTA($N$108:$N$175),INDEX($N$108:$N$175,SMALL(IF($N$108:$N$175<>\"\",ROW($N$108:$N$175)-MIN(ROW($N$108:$N$175))+1),ROWS($1:34))),\"\"),\"\")","v":""}]
[null,{"$f":"IFERROR(INDEX(Inrichtingskosten!$C$9:$C$643, MATCH(0,COUNTIF($B$107:B139, Inrichtingskosten!$C$9:$C$643), 0)),\"\")","v":"Regenton"},{"$f":"INDEX(Inrichtingskosten!A41:A599,MATCH(B140,Inrichtingskosten!C41:C599,0))","v":"Hemelwatersysteem"},"",{"$f":"IFERROR(IF(ROWS($1:35)<=COUNTA($D$108:$D$175),INDEX($D$108:$D$175,SMALL(IF($D$108:$D$175<>\"\",ROW($D$108:$D$175)-MIN(ROW($D$108:$D$175))+1),ROWS($1:35))),\"\"),\"\")","v":""},{"$f":"IFERROR(IF($C140=$F$107,$B140,\"\"),\" \")","v":""},{"$f":"IFERROR(IF(ROWS($1:35)<=COUNTA($F$108:$F$175),INDEX($F$108:$F$175,SMALL(IF($F$108:$F$175<>\"\",ROW($F$108:$F$175)-MIN(ROW($F$108:$F$175))+1),ROWS($1:35))),\"\"),\"\")","v":""},{"$f":"IFERROR(IF($C140=$H$107,$B140,\"\"),\" \")","v":"Regenton"},{"$f":"IFERROR(IF(ROWS($1:35)<=COUNTA($H$108:$H$175),INDEX($H$108:$H$175,SMALL(IF($H$108:$H$175<>\"\",ROW($H$108:$H$175)-MIN(ROW($H$108:$H$175))+1),ROWS($1:35))),\"\"),\"\")","v":""},{"$f":"IFERROR(IF($C140=$J$107,$B140,\"\"),\" \")","v":""},{"$f":"IFERROR(IF(ROWS($1:33)<=COUNTA($J$108:$J$175),INDEX($J$108:$J$175,SMALL(IF($J$108:$J$175<>\"\",ROW($J$108:$J$175)-MIN(ROW($J$108:$J$175))+1),ROWS($1:33))),\"\"),\"\")","v":""},{"$f":"IFERROR(IF($C140=$L$107,$B140,\"\"),\" \")","v":""},{"$f":"IFERROR(IF(ROWS($1:35)<=COUNTA($L$108:$L$175),INDEX($L$108:$L$175,SMALL(IF($L$108:$L$175<>\"\",ROW($L$108:$L$175)-MIN(ROW($L$108:$L$175))+1),ROWS($1:35))),\"\"),\"\")","v":""},{"$f":"IFERROR(IF($C140=$N$107,$B140,\"\"),\" \")","v":""},{"$f":"IFERROR(IF(ROWS($1:35)<=COUNTA($N$108:$N$175),INDEX($N$108:$N$175,SMALL(IF($N$108:$N$175<>\"\",ROW($N$108:$N$175)-MIN(ROW($N$108:$N$175))+1),ROWS($1:35))),\"\"),\"\")","v":""}]
[null,{"$f":"IFERROR(INDEX(Inrichtingskosten!$C$9:$C$643, MATCH(0,COUNTIF($B$107:B140, Inrichtingskosten!$C$9:$C$643), 0)),\"\")","v":"Rioolput beton 1000"},{"$f":"INDEX(Inrichtingskosten!A42:A600,MATCH(B141,Inrichtingskosten!C42:C600,0))","v":"Riolering"},"",{"$f":"IFERROR(IF(ROWS($1:36)<=COUNTA($D$108:$D$175),INDEX($D$108:$D$175,SMALL(IF($D$108:$D$175<>\"\",ROW($D$108:$D$175)-MIN(ROW($D$108:$D$175))+1),ROWS($1:36))),\"\"),\"\")","v":""},"",{"$f":"IFERROR(IF(ROWS($1:36)<=COUNTA($F$108:$F$175),INDEX($F$108:$F$175,SMALL(IF($F$108:$F$175<>\"\",ROW($F$108:$F$175)-MIN(ROW($F$108:$F$175))+1),ROWS($1:36))),\"\"),\"\")","v":""},"",{"$f":"IFERROR(IF(ROWS($1:36)<=COUNTA($H$108:$H$175),INDEX($H$108:$H$175,SMALL(IF($H$108:$H$175<>\"\",ROW($H$108:$H$175)-MIN(ROW($H$108:$H$175))+1),ROWS($1:36))),\"\"),\"\")","v":""},"Rioolput beton 1000",{"$f":"IFERROR(IF(ROWS($1:34)<=COUNTA($J$108:$J$175),INDEX($J$108:$J$175,SMALL(IF($J$108:$J$175<>\"\",ROW($J$108:$J$175)-MIN(ROW($J$108:$J$175))+1),ROWS($1:34))),\"\"),\"\")","v":""},"",{"$f":"IFERROR(IF(ROWS($1:36)<=COUNTA($L$108:$L$175),INDEX($L$108:$L$175,SMALL(IF($L$108:$L$175<>\"\",ROW($L$108:$L$175)-MIN(ROW($L$108:$L$175))+1),ROWS($1:36))),\"\"),\"\")","v":""},"",{"$f":"IFERROR(IF(ROWS($1:36)<=COUNTA($N$108:$N$175),INDEX($N$108:$N$175,SMALL(IF($N$108:$N$175<>\"\",ROW($N$108:$N$175)-MIN(ROW($N$108:$N$175))+1),ROWS($1:36))),\"\"),\"\")","v":""}]
[null,{"$f":"IFERROR(INDEX(Inrichtingskosten!$C$9:$C$643, MATCH(0,COUNTIF($B$107:B141, Inrichtingskosten!$C$9:$C$643), 0)),\"\")","v":"Rioolput beton 1250"},{"$f":"INDEX(Inrichtingskosten!A43:A601,MATCH(B142,Inrichtingskosten!C43:C601,0))","v":"Riolering"},"",{"$f":"IFERROR(IF(ROWS($1:37)<=COUNTA($D$108:$D$175),INDEX($D$108:$D$175,SMALL(IF($D$108:$D$175<>\"\",ROW($D$108:$D$175)-MIN(ROW($D$108:$D$175))+1),ROWS($1:37))),\"\"),\"\")","v":""},"",{"$f":"IFERROR(IF(ROWS($1:37)<=COUNTA($F$108:$F$175),INDEX($F$108:$F$175,SMALL(IF($F$108:$F$175<>\"\",ROW($F$108:$F$175)-MIN(ROW($F$108:$F$175))+1),ROWS($1:37))),\"\"),\"\")","v":""},"",{"$f":"IFERROR(IF(ROWS($1:37)<=COUNTA($H$108:$H$175),INDEX($H$108:$H$175,SMALL(IF($H$108:$H$175<>\"\",ROW($H$108:$H$175)-MIN(ROW($H$108:$H$175))+1),ROWS($1:37))),\"\"),\"\")","v":""},"Rioolput beton 1250",{"$f":"IFERROR(IF(ROWS($1:35)<=COUNTA($J$108:$J$175),INDEX($J$108:$J$175,SMALL(IF($J$108:$J$175<>\"\",ROW($J$108:$J$175)-MIN(ROW($J$108:$J$175))+1),ROWS($1:35))),\"\"),\"\")","v":""},"",{"$f":"IFERROR(IF(ROWS($1:37)<=COUNTA($L$108:$L$175),INDEX($L$108:$L$175,SMALL(IF($L$108:$L$175<>\"\",ROW($L$108:$L$175)-MIN(ROW($L$108:$L$175))+1),ROWS($1:37))),\"\"),\"\")","v":""},"",{"$f":"IFERROR(IF(ROWS($1:37)<=COUNTA($N$108:$N$175),INDEX($N$108:$N$175,SMALL(IF($N$108:$N$175<>\"\",ROW($N$108:$N$175)-MIN(ROW($N$108:$N$175))+1),ROWS($1:37))),\"\"),\"\")","v":""}]
[null,{"$f":"IFERROR(INDEX(Inrichtingskosten!$C$9:$C$643, MATCH(0,COUNTIF($B$107:B142, Inrichtingskosten!$C$9:$C$643), 0)),\"\")","v":"Rioolput beton 300"},{"$f":"INDEX(Inrichtingskosten!A44:A602,MATCH(B143,Inrichtingskosten!C44:C602,0))","v":"Riolering"},"",{"$f":"IFERROR(IF(ROWS($1:38)<=COUNTA($D$108:$D$175),INDEX($D$108:$D$175,SMALL(IF($D$108:$D$175<>\"\",ROW($D$108:$D$175)-MIN(ROW($D$108:$D$175))+1),ROWS($1:38))),\"\"),\"\")","v":""},"",{"$f":"IFERROR(IF(ROWS($1:38)<=COUNTA($F$108:$F$175),INDEX($F$108:$F$175,SMALL(IF($F$108:$F$175<>\"\",ROW($F$108:$F$175)-MIN(ROW($F$108:$F$175))+1),ROWS($1:38))),\"\"),\"\")","v":""},"",{"$f":"IFERROR(IF(ROWS($1:38)<=COUNTA($H$108:$H$175),INDEX($H$108:$H$175,SMALL(IF($H$108:$H$175<>\"\",ROW($H$108:$H$175)-MIN(ROW($H$108:$H$175))+1),ROWS($1:38))),\"\"),\"\")","v":""},"Rioolput beton 300",{"$f":"IFERROR(IF(ROWS($1:36)<=COUNTA($J$108:$J$175),INDEX($J$108:$J$175,SMALL(IF($J$108:$J$175<>\"\",ROW($J$108:$J$175)-MIN(ROW($J$108:$J$175))+1),ROWS($1:36))),\"\"),\"\")","v":""},"",{"$f":"IFERROR(IF(ROWS($1:38)<=COUNTA($L$108:$L$175),INDEX($L$108:$L$175,SMALL(IF($L$108:$L$175<>\"\",ROW($L$108:$L$175)-MIN(ROW($L$108:$L$175))+1),ROWS($1:38))),\"\"),\"\")","v":""},"",{"$f":"IFERROR(IF(ROWS($1:38)<=COUNTA($N$108:$N$175),INDEX($N$108:$N$175,SMALL(IF($N$108:$N$175<>\"\",ROW($N$108:$N$175)-MIN(ROW($N$108:$N$175))+1),ROWS($1:38))),\"\"),\"\")","v":""}]
[null,{"$f":"IFERROR(INDEX(Inrichtingskosten!$C$9:$C$643, MATCH(0,COUNTIF($B$107:B143, Inrichtingskosten!$C$9:$C$643), 0)),\"\")","v":"Rioolput beton 400"},{"$f":"INDEX(Inrichtingskosten!A45:A603,MATCH(B144,Inrichtingskosten!C45:C603,0))","v":"Riolering"},"",{"$f":"IFERROR(IF(ROWS($1:40)<=COUNTA($D$108:$D$175),INDEX($D$108:$D$175,SMALL(IF($D$108:$D$175<>\"\",ROW($D$108:$D$175)-MIN(ROW($D$108:$D$175))+1),ROWS($1:40))),\"\"),\"\")","v":""},"",{"$f":"IFERROR(IF(ROWS($1:40)<=COUNTA($F$108:$F$175),INDEX($F$108:$F$175,SMALL(IF($F$108:$F$175<>\"\",ROW($F$108:$F$175)-MIN(ROW($F$108:$F$175))+1),ROWS($1:40))),\"\"),\"\")","v":""},"",{"$f":"IFERROR(IF(ROWS($1:40)<=COUNTA($H$108:$H$175),INDEX($H$108:$H$175,SMALL(IF($H$108:$H$175<>\"\",ROW($H$108:$H$175)-MIN(ROW($H$108:$H$175))+1),ROWS($1:40))),\"\"),\"\")","v":""},{"$f":"IFERROR(IF($C144=$J$107,$B144,\"\"),\" \")","v":"Rioolput beton 400"},{"$f":"IFERROR(IF(ROWS($1:37)<=COUNTA($J$108:$J$175),INDEX($J$108:$J$175,SMALL(IF($J$108:$J$175<>\"\",ROW($J$108:$J$175)-MIN(ROW($J$108:$J$175))+1),ROWS($1:37))),\"\"),\"\")","v":""},"",{"$f":"IFERROR(IF(ROWS($1:40)<=COUNTA($L$108:$L$175),INDEX($L$108:$L$175,SMALL(IF($L$108:$L$175<>\"\",ROW($L$108:$L$175)-MIN(ROW($L$108:$L$175))+1),ROWS($1:40))),\"\"),\"\")","v":""},"",{"$f":"IFERROR(IF(ROWS($1:40)<=COUNTA($N$108:$N$175),INDEX($N$108:$N$175,SMALL(IF($N$108:$N$175<>\"\",ROW($N$108:$N$175)-MIN(ROW($N$108:$N$175))+1),ROWS($1:40))),\"\"),\"\")","v":""}]
[null,{"$f":"IFERROR(INDEX(Inrichtingskosten!$C$9:$C$643, MATCH(0,COUNTIF($B$107:B144, Inrichtingskosten!$C$9:$C$643), 0)),\"\")","v":"Rioolput beton 500"},{"$f":"INDEX(Inrichtingskosten!A46:A674,MATCH(B145,Inrichtingskosten!C46:C674,0))","v":"Riolering"},"",{"$f":"IFERROR(IF(ROWS($1:41)<=COUNTA($D$108:$D$175),INDEX($D$108:$D$175,SMALL(IF($D$108:$D$175<>\"\",ROW($D$108:$D$175)-MIN(ROW($D$108:$D$175))+1),ROWS($1:41))),\"\"),\"\")","v":""},"",{"$f":"IFERROR(IF(ROWS($1:41)<=COUNTA($F$108:$F$175),INDEX($F$108:$F$175,SMALL(IF($F$108:$F$175<>\"\",ROW($F$108:$F$175)-MIN(ROW($F$108:$F$175))+1),ROWS($1:41))),\"\"),\"\")","v":""},"",{"$f":"IFERROR(IF(ROWS($1:41)<=COUNTA($H$108:$H$175),INDEX($H$108:$H$175,SMALL(IF($H$108:$H$175<>\"\",ROW($H$108:$H$175)-MIN(ROW($H$108:$H$175))+1),ROWS($1:41))),\"\"),\"\")","v":""},{"$f":"IFERROR(IF($C145=$J$107,$B145,\"\"),\" \")","v":"Rioolput beton 500"},{"$f":"IFERROR(IF(ROWS($1:38)<=COUNTA($J$108:$J$175),INDEX($J$108:$J$175,SMALL(IF($J$108:$J$175<>\"\",ROW($J$108:$J$175)-MIN(ROW($J$108:$J$175))+1),ROWS($1:38))),\"\"),\"\")","v":""},"",{"$f":"IFERROR(IF(ROWS($1:41)<=COUNTA($L$108:$L$175),INDEX($L$108:$L$175,SMALL(IF($L$108:$L$175<>\"\",ROW($L$108:$L$175)-MIN(ROW($L$108:$L$175))+1),ROWS($1:41))),\"\"),\"\")","v":""},"",{"$f":"IFERROR(IF(ROWS($1:41)<=COUNTA($N$108:$N$175),INDEX($N$108:$N$175,SMALL(IF($N$108:$N$175<>\"\",ROW($N$108:$N$175)-MIN(ROW($N$108:$N$175))+1),ROWS($1:41))),\"\"),\"\")","v":""}]
[null,{"$f":"IFERROR(INDEX(Inrichtingskosten!$C$9:$C$643, MATCH(0,COUNTIF($B$107:B145, Inrichtingskosten!$C$9:$C$643), 0)),\"\")","v":"Rioolput beton 600"},{"$f":"INDEX(Inrichtingskosten!A47:A675,MATCH(B146,Inrichtingskosten!C47:C675,0))","v":"Riolering"},"",{"$f":"IFERROR(IF(ROWS($1:42)<=COUNTA($D$108:$D$175),INDEX($D$108:$D$175,SMALL(IF($D$108:$D$175<>\"\",ROW($D$108:$D$175)-MIN(ROW($D$108:$D$175))+1),ROWS($1:42))),\"\"),\"\")","v":""},"",{"$f":"IFERROR(IF(ROWS($1:42)<=COUNTA($F$108:$F$175),INDEX($F$108:$F$175,SMALL(IF($F$108:$F$175<>\"\",ROW($F$108:$F$175)-MIN(ROW($F$108:$F$175))+1),ROWS($1:42))),\"\"),\"\")","v":""},"",{"$f":"IFERROR(IF(ROWS($1:42)<=COUNTA($H$108:$H$175),INDEX($H$108:$H$175,SMALL(IF($H$108:$H$175<>\"\",ROW($H$108:$H$175)-MIN(ROW($H$108:$H$175))+1),ROWS($1:42))),\"\"),\"\")","v":""},"Rioolput beton 600",{"$f":"IFERROR(IF(ROWS($1:39)<=COUNTA($J$108:$J$175),INDEX($J$108:$J$175,SMALL(IF($J$108:$J$175<>\"\",ROW($J$108:$J$175)-MIN(ROW($J$108:$J$175))+1),ROWS($1:39))),\"\"),\"\")","v":""},"",{"$f":"IFERROR(IF(ROWS($1:42)<=COUNTA($L$108:$L$175),INDEX($L$108:$L$175,SMALL(IF($L$108:$L$175<>\"\",ROW($L$108:$L$175)-MIN(ROW($L$108:$L$175))+1),ROWS($1:42))),\"\"),\"\")","v":""},"",{"$f":"IFERROR(IF(ROWS($1:42)<=COUNTA($N$108:$N$175),INDEX($N$108:$N$175,SMALL(IF($N$108:$N$175<>\"\",ROW($N$108:$N$175)-MIN(ROW($N$108:$N$175))+1),ROWS($1:42))),\"\"),\"\")","v":""}]
[null,{"$f":"IFERROR(INDEX(Inrichtingskosten!$C$9:$C$643, MATCH(0,COUNTIF($B$107:B146, Inrichtingskosten!$C$9:$C$643), 0)),\"\")","v":"Rioolput beton 700"},{"$f":"INDEX(Inrichtingskosten!A48:A676,MATCH(B147,Inrichtingskosten!C48:C676,0))","v":"Riolering"},"",{"$f":"IFERROR(IF(ROWS($1:43)<=COUNTA($D$108:$D$175),INDEX($D$108:$D$175,SMALL(IF($D$108:$D$175<>\"\",ROW($D$108:$D$175)-MIN(ROW($D$108:$D$175))+1),ROWS($1:43))),\"\"),\"\")","v":""},"",{"$f":"IFERROR(IF(ROWS($1:43)<=COUNTA($F$108:$F$175),INDEX($F$108:$F$175,SMALL(IF($F$108:$F$175<>\"\",ROW($F$108:$F$175)-MIN(ROW($F$108:$F$175))+1),ROWS($1:43))),\"\"),\"\")","v":""},"",{"$f":"IFERROR(IF(ROWS($1:43)<=COUNTA($H$108:$H$175),INDEX($H$108:$H$175,SMALL(IF($H$108:$H$175<>\"\",ROW($H$108:$H$175)-MIN(ROW($H$108:$H$175))+1),ROWS($1:43))),\"\"),\"\")","v":""},"Rioolput beton 700",{"$f":"IFERROR(IF(ROWS($1:40)<=COUNTA($J$108:$J$175),INDEX($J$108:$J$175,SMALL(IF($J$108:$J$175<>\"\",ROW($J$108:$J$175)-MIN(ROW($J$108:$J$175))+1),ROWS($1:40))),\"\"),\"\")","v":""},"",{"$f":"IFERROR(IF(ROWS($1:43)<=COUNTA($L$108:$L$175),INDEX($L$108:$L$175,SMALL(IF($L$108:$L$175<>\"\",ROW($L$108:$L$175)-MIN(ROW($L$108:$L$175))+1),ROWS($1:43))),\"\"),\"\")","v":""},"",{"$f":"IFERROR(IF(ROWS($1:43)<=COUNTA($N$108:$N$175),INDEX($N$108:$N$175,SMALL(IF($N$108:$N$175<>\"\",ROW($N$108:$N$175)-MIN(ROW($N$108:$N$175))+1),ROWS($1:43))),\"\"),\"\")","v":""}]
[null,{"$f":"IFERROR(INDEX(Inrichtingskosten!$C$9:$C$643, MATCH(0,COUNTIF($B$107:B147, Inrichtingskosten!$C$9:$C$643), 0)),\"\")","v":"Rioolput beton 800"},{"$f":"INDEX(Inrichtingskosten!A49:A677,MATCH(B148,Inrichtingskosten!C49:C677,0))","v":"Riolering"},"",{"$f":"IFERROR(IF(ROWS($1:44)<=COUNTA($D$108:$D$175),INDEX($D$108:$D$175,SMALL(IF($D$108:$D$175<>\"\",ROW($D$108:$D$175)-MIN(ROW($D$108:$D$175))+1),ROWS($1:44))),\"\"),\"\")","v":""},"",{"$f":"IFERROR(IF(ROWS($1:44)<=COUNTA($F$108:$F$175),INDEX($F$108:$F$175,SMALL(IF($F$108:$F$175<>\"\",ROW($F$108:$F$175)-MIN(ROW($F$108:$F$175))+1),ROWS($1:44))),\"\"),\"\")","v":""},"",{"$f":"IFERROR(IF(ROWS($1:44)<=COUNTA($H$108:$H$175),INDEX($H$108:$H$175,SMALL(IF($H$108:$H$175<>\"\",ROW($H$108:$H$175)-MIN(ROW($H$108:$H$175))+1),ROWS($1:44))),\"\"),\"\")","v":""},"Rioolput beton 800",{"$f":"IFERROR(IF(ROWS($1:41)<=COUNTA($J$108:$J$175),INDEX($J$108:$J$175,SMALL(IF($J$108:$J$175<>\"\",ROW($J$108:$J$175)-MIN(ROW($J$108:$J$175))+1),ROWS($1:41))),\"\"),\"\")","v":""},"",{"$f":"IFERROR(IF(ROWS($1:44)<=COUNTA($L$108:$L$175),INDEX($L$108:$L$175,SMALL(IF($L$108:$L$175<>\"\",ROW($L$108:$L$175)-MIN(ROW($L$108:$L$175))+1),ROWS($1:44))),\"\"),\"\")","v":""},"",{"$f":"IFERROR(IF(ROWS($1:44)<=COUNTA($N$108:$N$175),INDEX($N$108:$N$175,SMALL(IF($N$108:$N$175<>\"\",ROW($N$108:$N$175)-MIN(ROW($N$108:$N$175))+1),ROWS($1:44))),\"\"),\"\")","v":""}]
[null,{"$f":"IFERROR(INDEX(Inrichtingskosten!$C$9:$C$643, MATCH(0,COUNTIF($B$107:B148, Inrichtingskosten!$C$9:$C$643), 0)),\"\")","v":"Rioolput beton 900"},{"$f":"INDEX(Inrichtingskosten!A50:A678,MATCH(B149,Inrichtingskosten!C50:C678,0))","v":"Riolering"},"",{"$f":"IFERROR(IF(ROWS($1:49)<=COUNTA($D$108:$D$175),INDEX($D$108:$D$175,SMALL(IF($D$108:$D$175<>\"\",ROW($D$108:$D$175)-MIN(ROW($D$108:$D$175))+1),ROWS($1:49))),\"\"),\"\")","v":""},"",{"$f":"IFERROR(IF(ROWS($1:49)<=COUNTA($F$108:$F$175),INDEX($F$108:$F$175,SMALL(IF($F$108:$F$175<>\"\",ROW($F$108:$F$175)-MIN(ROW($F$108:$F$175))+1),ROWS($1:49))),\"\"),\"\")","v":""},{"$f":"IFERROR(IF($C149=$H$107,$B149,\"\"),\" \")","v":""},{"$f":"IFERROR(IF(ROWS($1:49)<=COUNTA($H$108:$H$175),INDEX($H$108:$H$175,SMALL(IF($H$108:$H$175<>\"\",ROW($H$108:$H$175)-MIN(ROW($H$108:$H$175))+1),ROWS($1:49))),\"\"),\"\")","v":""},"Rioolput beton 900",{"$f":"IFERROR(IF(ROWS($1:42)<=COUNTA($J$108:$J$175),INDEX($J$108:$J$175,SMALL(IF($J$108:$J$175<>\"\",ROW($J$108:$J$175)-MIN(ROW($J$108:$J$175))+1),ROWS($1:42))),\"\"),\"\")","v":""},"",{"$f":"IFERROR(IF(ROWS($1:49)<=COUNTA($L$108:$L$175),INDEX($L$108:$L$175,SMALL(IF($L$108:$L$175<>\"\",ROW($L$108:$L$175)-MIN(ROW($L$108:$L$175))+1),ROWS($1:49))),\"\"),\"\")","v":""},"",{"$f":"IFERROR(IF(ROWS($1:49)<=COUNTA($N$108:$N$175),INDEX($N$108:$N$175,SMALL(IF($N$108:$N$175<>\"\",ROW($N$108:$N$175)-MIN(ROW($N$108:$N$175))+1),ROWS($1:49))),\"\"),\"\")","v":""}]
[null,{"$f":"IFERROR(INDEX(Inrichtingskosten!$C$9:$C$643, MATCH(0,COUNTIF($B$107:B149, Inrichtingskosten!$C$9:$C$643), 0)),\"\")","v":"Rubbertegels"},{"$f":"INDEX(Inrichtingskosten!A51:A679,MATCH(B150,Inrichtingskosten!C51:C679,0))","v":"Elementen verharding"},"",{"$f":"IFERROR(IF(ROWS($1:50)<=COUNTA($D$108:$D$175),INDEX($D$108:$D$175,SMALL(IF($D$108:$D$175<>\"\",ROW($D$108:$D$175)-MIN(ROW($D$108:$D$175))+1),ROWS($1:50))),\"\"),\"\")","v":""},"Rubbertegels",{"$f":"IFERROR(IF(ROWS($1:50)<=COUNTA($F$108:$F$175),INDEX($F$108:$F$175,SMALL(IF($F$108:$F$175<>\"\",ROW($F$108:$F$175)-MIN(ROW($F$108:$F$175))+1),ROWS($1:50))),\"\"),\"\")","v":""},"",{"$f":"IFERROR(IF(ROWS($1:50)<=COUNTA($H$108:$H$175),INDEX($H$108:$H$175,SMALL(IF($H$108:$H$175<>\"\",ROW($H$108:$H$175)-MIN(ROW($H$108:$H$175))+1),ROWS($1:50))),\"\"),\"\")","v":""},"",{"$f":"IFERROR(IF(ROWS($1:43)<=COUNTA($J$108:$J$175),INDEX($J$108:$J$175,SMALL(IF($J$108:$J$175<>\"\",ROW($J$108:$J$175)-MIN(ROW($J$108:$J$175))+1),ROWS($1:43))),\"\"),\"\")","v":""},"",{"$f":"IFERROR(IF(ROWS($1:50)<=COUNTA($L$108:$L$175),INDEX($L$108:$L$175,SMALL(IF($L$108:$L$175<>\"\",ROW($L$108:$L$175)-MIN(ROW($L$108:$L$175))+1),ROWS($1:50))),\"\"),\"\")","v":""},"",{"$f":"IFERROR(IF(ROWS($1:50)<=COUNTA($N$108:$N$175),INDEX($N$108:$N$175,SMALL(IF($N$108:$N$175<>\"\",ROW($N$108:$N$175)-MIN(ROW($N$108:$N$175))+1),ROWS($1:50))),\"\"),\"\")","v":""}]
[null,{"$f":"IFERROR(INDEX(Inrichtingskosten!$C$9:$C$643, MATCH(0,COUNTIF($B$107:B150, Inrichtingskosten!$C$9:$C$643), 0)),\"\")","v":"Sierplantsoen"},{"$f":"INDEX(Inrichtingskosten!A52:A680,MATCH(B151,Inrichtingskosten!C52:C680,0))","v":"Groenvoorziening"},"",{"$f":"IFERROR(IF(ROWS($1:51)<=COUNTA($D$108:$D$175),INDEX($D$108:$D$175,SMALL(IF($D$108:$D$175<>\"\",ROW($D$108:$D$175)-MIN(ROW($D$108:$D$175))+1),ROWS($1:51))),\"\"),\"\")","v":""},"",{"$f":"IFERROR(IF(ROWS($1:51)<=COUNTA($F$108:$F$175),INDEX($F$108:$F$175,SMALL(IF($F$108:$F$175<>\"\",ROW($F$108:$F$175)-MIN(ROW($F$108:$F$175))+1),ROWS($1:51))),\"\"),\"\")","v":""},"",{"$f":"IFERROR(IF(ROWS($1:51)<=COUNTA($H$108:$H$175),INDEX($H$108:$H$175,SMALL(IF($H$108:$H$175<>\"\",ROW($H$108:$H$175)-MIN(ROW($H$108:$H$175))+1),ROWS($1:51))),\"\"),\"\")","v":""},"",{"$f":"IFERROR(IF(ROWS($1:44)<=COUNTA($J$108:$J$175),INDEX($J$108:$J$175,SMALL(IF($J$108:$J$175<>\"\",ROW($J$108:$J$175)-MIN(ROW($J$108:$J$175))+1),ROWS($1:44))),\"\"),\"\")","v":""},"Sierplantsoen",{"$f":"IFERROR(IF(ROWS($1:51)<=COUNTA($L$108:$L$175),INDEX($L$108:$L$175,SMALL(IF($L$108:$L$175<>\"\",ROW($L$108:$L$175)-MIN(ROW($L$108:$L$175))+1),ROWS($1:51))),\"\"),\"\")","v":""},"",{"$f":"IFERROR(IF(ROWS($1:51)<=COUNTA($N$108:$N$175),INDEX($N$108:$N$175,SMALL(IF($N$108:$N$175<>\"\",ROW($N$108:$N$175)-MIN(ROW($N$108:$N$175))+1),ROWS($1:51))),\"\"),\"\")","v":""}]
[null,{"$f":"IFERROR(INDEX(Inrichtingskosten!$C$9:$C$643, MATCH(0,COUNTIF($B$107:B151, Inrichtingskosten!$C$9:$C$643), 0)),\"\")","v":"Straatverlichting"},{"$f":"INDEX(Inrichtingskosten!A53:A681,MATCH(B152,Inrichtingskosten!C53:C681,0))","v":"Straatmeubilair"},"",{"$f":"IFERROR(IF(ROWS($1:52)<=COUNTA($D$108:$D$175),INDEX($D$108:$D$175,SMALL(IF($D$108:$D$175<>\"\",ROW($D$108:$D$175)-MIN(ROW($D$108:$D$175))+1),ROWS($1:52))),\"\"),\"\")","v":""},"",{"$f":"IFERROR(IF(ROWS($1:52)<=COUNTA($F$108:$F$175),INDEX($F$108:$F$175,SMALL(IF($F$108:$F$175<>\"\",ROW($F$108:$F$175)-MIN(ROW($F$108:$F$175))+1),ROWS($1:52))),\"\"),\"\")","v":""},"",{"$f":"IFERROR(IF(ROWS($1:52)<=COUNTA($H$108:$H$175),INDEX($H$108:$H$175,SMALL(IF($H$108:$H$175<>\"\",ROW($H$108:$H$175)-MIN(ROW($H$108:$H$175))+1),ROWS($1:52))),\"\"),\"\")","v":""},"",{"$f":"IFERROR(IF(ROWS($1:45)<=COUNTA($J$108:$J$175),INDEX($J$108:$J$175,SMALL(IF($J$108:$J$175<>\"\",ROW($J$108:$J$175)-MIN(ROW($J$108:$J$175))+1),ROWS($1:45))),\"\"),\"\")","v":""},"",{"$f":"IFERROR(IF(ROWS($1:52)<=COUNTA($L$108:$L$175),INDEX($L$108:$L$175,SMALL(IF($L$108:$L$175<>\"\",ROW($L$108:$L$175)-MIN(ROW($L$108:$L$175))+1),ROWS($1:52))),\"\"),\"\")","v":""},"Straatverlichting",{"$f":"IFERROR(IF(ROWS($1:52)<=COUNTA($N$108:$N$175),INDEX($N$108:$N$175,SMALL(IF($N$108:$N$175<>\"\",ROW($N$108:$N$175)-MIN(ROW($N$108:$N$175))+1),ROWS($1:52))),\"\"),\"\")","v":""}]
[null,{"$f":"IFERROR(INDEX(Inrichtingskosten!$C$9:$C$643, MATCH(0,COUNTIF($B$107:B152, Inrichtingskosten!$C$9:$C$643), 0)),\"\")","v":"Verbindingsleiding"},{"$f":"INDEX(Inrichtingskosten!A54:A682,MATCH(B153,Inrichtingskosten!C54:C682,0))","v":"Hemelwatersysteem"},"",{"$f":"IFERROR(IF(ROWS($1:53)<=COUNTA($D$108:$D$175),INDEX($D$108:$D$175,SMALL(IF($D$108:$D$175<>\"\",ROW($D$108:$D$175)-MIN(ROW($D$108:$D$175))+1),ROWS($1:53))),\"\"),\"\")","v":""},"",{"$f":"IFERROR(IF(ROWS($1:53)<=COUNTA($F$108:$F$175),INDEX($F$108:$F$175,SMALL(IF($F$108:$F$175<>\"\",ROW($F$108:$F$175)-MIN(ROW($F$108:$F$175))+1),ROWS($1:53))),\"\"),\"\")","v":""},"Verbindingsleiding",{"$f":"IFERROR(IF(ROWS($1:53)<=COUNTA($H$108:$H$175),INDEX($H$108:$H$175,SMALL(IF($H$108:$H$175<>\"\",ROW($H$108:$H$175)-MIN(ROW($H$108:$H$175))+1),ROWS($1:53))),\"\"),\"\")","v":""},"",{"$f":"IFERROR(IF(ROWS($1:46)<=COUNTA($J$108:$J$175),INDEX($J$108:$J$175,SMALL(IF($J$108:$J$175<>\"\",ROW($J$108:$J$175)-MIN(ROW($J$108:$J$175))+1),ROWS($1:46))),\"\"),\"\")","v":""},"",{"$f":"IFERROR(IF(ROWS($1:53)<=COUNTA($L$108:$L$175),INDEX($L$108:$L$175,SMALL(IF($L$108:$L$175<>\"\",ROW($L$108:$L$175)-MIN(ROW($L$108:$L$175))+1),ROWS($1:53))),\"\"),\"\")","v":""},"",{"$f":"IFERROR(IF(ROWS($1:53)<=COUNTA($N$108:$N$175),INDEX($N$108:$N$175,SMALL(IF($N$108:$N$175<>\"\",ROW($N$108:$N$175)-MIN(ROW($N$108:$N$175))+1),ROWS($1:53))),\"\"),\"\")","v":""}]
[null,{"$f":"IFERROR(INDEX(Inrichtingskosten!$C$9:$C$643, MATCH(0,COUNTIF($B$107:B153, Inrichtingskosten!$C$9:$C$643), 0)),\"\")","v":"Voetpad/plein van betonstraatstenen"},{"$f":"INDEX(Inrichtingskosten!A55:A683,MATCH(B154,Inrichtingskosten!C55:C683,0))","v":"Elementen verharding"},"",{"$f":"IFERROR(IF(ROWS($1:58)<=COUNTA($D$108:$D$175),INDEX($D$108:$D$175,SMALL(IF($D$108:$D$175<>\"\",ROW($D$108:$D$175)-MIN(ROW($D$108:$D$175))+1),ROWS($1:58))),\"\"),\"\")","v":""},"Voetpad/plein van betonstraatstenen",{"$f":"IFERROR(IF(ROWS($1:58)<=COUNTA($F$108:$F$175),INDEX($F$108:$F$175,SMALL(IF($F$108:$F$175<>\"\",ROW($F$108:$F$175)-MIN(ROW($F$108:$F$175))+1),ROWS($1:58))),\"\"),\"\")","v":""},"",{"$f":"IFERROR(IF(ROWS($1:58)<=COUNTA($H$108:$H$175),INDEX($H$108:$H$175,SMALL(IF($H$108:$H$175<>\"\",ROW($H$108:$H$175)-MIN(ROW($H$108:$H$175))+1),ROWS($1:58))),\"\"),\"\")","v":""},"",{"$f":"IFERROR(IF(ROWS($1:47)<=COUNTA($J$108:$J$175),INDEX($J$108:$J$175,SMALL(IF($J$108:$J$175<>\"\",ROW($J$108:$J$175)-MIN(ROW($J$108:$J$175))+1),ROWS($1:47))),\"\"),\"\")","v":""},"",{"$f":"IFERROR(IF(ROWS($1:58)<=COUNTA($L$108:$L$175),INDEX($L$108:$L$175,SMALL(IF($L$108:$L$175<>\"\",ROW($L$108:$L$175)-MIN(ROW($L$108:$L$175))+1),ROWS($1:58))),\"\"),\"\")","v":""},"",{"$f":"IFERROR(IF(ROWS($1:58)<=COUNTA($N$108:$N$175),INDEX($N$108:$N$175,SMALL(IF($N$108:$N$175<>\"\",ROW($N$108:$N$175)-MIN(ROW($N$108:$N$175))+1),ROWS($1:58))),\"\"),\"\")","v":""}]
[null,{"$f":"IFERROR(INDEX(Inrichtingskosten!$C$9:$C$643, MATCH(0,COUNTIF($B$107:B154, Inrichtingskosten!$C$9:$C$643), 0)),\"\")","v":"Wadi (meerdere kleine)"},{"$f":"INDEX(Inrichtingskosten!A56:A684,MATCH(B155,Inrichtingskosten!C56:C684,0))","v":"Hemelwatersysteem"},"",{"$f":"IFERROR(IF(ROWS($1:59)<=COUNTA($D$108:$D$175),INDEX($D$108:$D$175,SMALL(IF($D$108:$D$175<>\"\",ROW($D$108:$D$175)-MIN(ROW($D$108:$D$175))+1),ROWS($1:59))),\"\"),\"\")","v":""},"",{"$f":"IFERROR(IF(ROWS($1:59)<=COUNTA($F$108:$F$175),INDEX($F$108:$F$175,SMALL(IF($F$108:$F$175<>\"\",ROW($F$108:$F$175)-MIN(ROW($F$108:$F$175))+1),ROWS($1:59))),\"\"),\"\")","v":""},"Wadi (meerdere kleine)",{"$f":"IFERROR(IF(ROWS($1:59)<=COUNTA($H$108:$H$175),INDEX($H$108:$H$175,SMALL(IF($H$108:$H$175<>\"\",ROW($H$108:$H$175)-MIN(ROW($H$108:$H$175))+1),ROWS($1:59))),\"\"),\"\")","v":""},"",{"$f":"IFERROR(IF(ROWS($1:48)<=COUNTA($J$108:$J$175),INDEX($J$108:$J$175,SMALL(IF($J$108:$J$175<>\"\",ROW($J$108:$J$175)-MIN(ROW($J$108:$J$175))+1),ROWS($1:48))),\"\"),\"\")","v":""},"",{"$f":"IFERROR(IF(ROWS($1:59)<=COUNTA($L$108:$L$175),INDEX($L$108:$L$175,SMALL(IF($L$108:$L$175<>\"\",ROW($L$108:$L$175)-MIN(ROW($L$108:$L$175))+1),ROWS($1:59))),\"\"),\"\")","v":""},"",{"$f":"IFERROR(IF(ROWS($1:59)<=COUNTA($N$108:$N$175),INDEX($N$108:$N$175,SMALL(IF($N$108:$N$175<>\"\",ROW($N$108:$N$175)-MIN(ROW($N$108:$N$175))+1),ROWS($1:59))),\"\"),\"\")","v":""}]
[null,{"$f":"IFERROR(INDEX(Inrichtingskosten!$C$9:$C$643, MATCH(0,COUNTIF($B$107:B155, Inrichtingskosten!$C$9:$C$643), 0)),\"\")","v":"Woonstraat en parkeerterrein van betonstraatstenen"},{"$f":"INDEX(Inrichtingskosten!A57:A685,MATCH(B156,Inrichtingskosten!C57:C685,0))","v":"Elementen verharding"},"",{"$f":"IFERROR(IF(ROWS($1:60)<=COUNTA($D$108:$D$175),INDEX($D$108:$D$175,SMALL(IF($D$108:$D$175<>\"\",ROW($D$108:$D$175)-MIN(ROW($D$108:$D$175))+1),ROWS($1:60))),\"\"),\"\")","v":""},"Woonstraat en parkeerterrein van betonstraatstenen",{"$f":"IFERROR(IF(ROWS($1:60)<=COUNTA($F$108:$F$175),INDEX($F$108:$F$175,SMALL(IF($F$108:$F$175<>\"\",ROW($F$108:$F$175)-MIN(ROW($F$108:$F$175))+1),ROWS($1:60))),\"\"),\"\")","v":""},"",{"$f":"IFERROR(IF(ROWS($1:60)<=COUNTA($H$108:$H$175),INDEX($H$108:$H$175,SMALL(IF($H$108:$H$175<>\"\",ROW($H$108:$H$175)-MIN(ROW($H$108:$H$175))+1),ROWS($1:60))),\"\"),\"\")","v":""},{"$f":"IFERROR(IF($C156=$J$107,$B156,\"\"),\" \")","v":""},{"$f":"IFERROR(IF(ROWS($1:49)<=COUNTA($J$108:$J$175),INDEX($J$108:$J$175,SMALL(IF($J$108:$J$175<>\"\",ROW($J$108:$J$175)-MIN(ROW($J$108:$J$175))+1),ROWS($1:49))),\"\"),\"\")","v":""},"",{"$f":"IFERROR(IF(ROWS($1:60)<=COUNTA($L$108:$L$175),INDEX($L$108:$L$175,SMALL(IF($L$108:$L$175<>\"\",ROW($L$108:$L$175)-MIN(ROW($L$108:$L$175))+1),ROWS($1:60))),\"\"),\"\")","v":""},"",{"$f":"IFERROR(IF(ROWS($1:60)<=COUNTA($N$108:$N$175),INDEX($N$108:$N$175,SMALL(IF($N$108:$N$175<>\"\",ROW($N$108:$N$175)-MIN(ROW($N$108:$N$175))+1),ROWS($1:60))),\"\"),\"\")","v":""}]
[null,{"$f":"IFERROR(INDEX(Inrichtingskosten!$C$9:$C$643, MATCH(0,COUNTIF($B$107:B156, Inrichtingskosten!$C$9:$C$643), 0)),\"\")","v":"Zakput"},{"$f":"INDEX(Inrichtingskosten!A58:A686,MATCH(B157,Inrichtingskosten!C58:C686,0))","v":"Hemelwatersysteem"},"",{"$f":"IFERROR(IF(ROWS($1:61)<=COUNTA($D$108:$D$175),INDEX($D$108:$D$175,SMALL(IF($D$108:$D$175<>\"\",ROW($D$108:$D$175)-MIN(ROW($D$108:$D$175))+1),ROWS($1:61))),\"\"),\"\")","v":""},"",{"$f":"IFERROR(IF(ROWS($1:61)<=COUNTA($F$108:$F$175),INDEX($F$108:$F$175,SMALL(IF($F$108:$F$175<>\"\",ROW($F$108:$F$175)-MIN(ROW($F$108:$F$175))+1),ROWS($1:61))),\"\"),\"\")","v":""},"Zakput",{"$f":"IFERROR(IF(ROWS($1:61)<=COUNTA($H$108:$H$175),INDEX($H$108:$H$175,SMALL(IF($H$108:$H$175<>\"\",ROW($H$108:$H$175)-MIN(ROW($H$108:$H$175))+1),ROWS($1:61))),\"\"),\"\")","v":""},"",{"$f":"IFERROR(IF(ROWS($1:50)<=COUNTA($J$108:$J$175),INDEX($J$108:$J$175,SMALL(IF($J$108:$J$175<>\"\",ROW($J$108:$J$175)-MIN(ROW($J$108:$J$175))+1),ROWS($1:50))),\"\"),\"\")","v":""},"",{"$f":"IFERROR(IF(ROWS($1:61)<=COUNTA($L$108:$L$175),INDEX($L$108:$L$175,SMALL(IF($L$108:$L$175<>\"\",ROW($L$108:$L$175)-MIN(ROW($L$108:$L$175))+1),ROWS($1:61))),\"\"),\"\")","v":""},"",{"$f":"IFERROR(IF(ROWS($1:61)<=COUNTA($N$108:$N$175),INDEX($N$108:$N$175,SMALL(IF($N$108:$N$175<>\"\",ROW($N$108:$N$175)-MIN(ROW($N$108:$N$175))+1),ROWS($1:61))),\"\"),\"\")","v":""}]
[null,{"$f":"IFERROR(INDEX(Inrichtingskosten!$C$9:$C$643, MATCH(0,COUNTIF($B$107:B157, Inrichtingskosten!$C$9:$C$643), 0)),\"\")","v":"Zand"},{"$f":"INDEX(Inrichtingskosten!A59:A687,MATCH(B158,Inrichtingskosten!C59:C687,0))","v":"Grondwerk"},"Zand",{"$f":"IFERROR(IF(ROWS($1:62)<=COUNTA($D$108:$D$175),INDEX($D$108:$D$175,SMALL(IF($D$108:$D$175<>\"\",ROW($D$108:$D$175)-MIN(ROW($D$108:$D$175))+1),ROWS($1:62))),\"\"),\"\")","v":""},"",{"$f":"IFERROR(IF(ROWS($1:62)<=COUNTA($F$108:$F$175),INDEX($F$108:$F$175,SMALL(IF($F$108:$F$175<>\"\",ROW($F$108:$F$175)-MIN(ROW($F$108:$F$175))+1),ROWS($1:62))),\"\"),\"\")","v":""},"",{"$f":"IFERROR(IF(ROWS($1:62)<=COUNTA($H$108:$H$175),INDEX($H$108:$H$175,SMALL(IF($H$108:$H$175<>\"\",ROW($H$108:$H$175)-MIN(ROW($H$108:$H$175))+1),ROWS($1:62))),\"\"),\"\")","v":""},"",{"$f":"IFERROR(IF(ROWS($1:51)<=COUNTA($J$108:$J$175),INDEX($J$108:$J$175,SMALL(IF($J$108:$J$175<>\"\",ROW($J$108:$J$175)-MIN(ROW($J$108:$J$175))+1),ROWS($1:51))),\"\"),\"\")","v":""},"",{"$f":"IFERROR(IF(ROWS($1:62)<=COUNTA($L$108:$L$175),INDEX($L$108:$L$175,SMALL(IF($L$108:$L$175<>\"\",ROW($L$108:$L$175)-MIN(ROW($L$108:$L$175))+1),ROWS($1:62))),\"\"),\"\")","v":""},"",{"$f":"IFERROR(IF(ROWS($1:62)<=COUNTA($N$108:$N$175),INDEX($N$108:$N$175,SMALL(IF($N$108:$N$175<>\"\",ROW($N$108:$N$175)-MIN(ROW($N$108:$N$175))+1),ROWS($1:62))),\"\"),\"\")","v":""}]
[null,{"$f":"IFERROR(INDEX(Inrichtingskosten!$C$9:$C$643, MATCH(0,COUNTIF($B$107:B158, Inrichtingskosten!$C$9:$C$643), 0)),\"\")","v":"Bergend pakket hardsteen 8/32 - geen doek"},{"$f":"INDEX(Inrichtingskosten!A60:A688,MATCH(B159,Inrichtingskosten!C60:C688,0))","v":"Hemelwatersysteem"},"",{"$f":"IFERROR(IF(ROWS($1:63)<=COUNTA($D$108:$D$175),INDEX($D$108:$D$175,SMALL(IF($D$108:$D$175<>\"\",ROW($D$108:$D$175)-MIN(ROW($D$108:$D$175))+1),ROWS($1:63))),\"\"),\"\")","v":""},"",{"$f":"IFERROR(IF(ROWS($1:63)<=COUNTA($F$108:$F$175),INDEX($F$108:$F$175,SMALL(IF($F$108:$F$175<>\"\",ROW($F$108:$F$175)-MIN(ROW($F$108:$F$175))+1),ROWS($1:63))),\"\"),\"\")","v":""},"Bergend pakket hardsteen 8/32 - geen doek",{"$f":"IFERROR(IF(ROWS($1:63)<=COUNTA($H$108:$H$175),INDEX($H$108:$H$175,SMALL(IF($H$108:$H$175<>\"\",ROW($H$108:$H$175)-MIN(ROW($H$108:$H$175))+1),ROWS($1:63))),\"\"),\"\")","v":""},"",{"$f":"IFERROR(IF(ROWS($1:52)<=COUNTA($J$108:$J$175),INDEX($J$108:$J$175,SMALL(IF($J$108:$J$175<>\"\",ROW($J$108:$J$175)-MIN(ROW($J$108:$J$175))+1),ROWS($1:52))),\"\"),\"\")","v":""},"",{"$f":"IFERROR(IF(ROWS($1:63)<=COUNTA($L$108:$L$175),INDEX($L$108:$L$175,SMALL(IF($L$108:$L$175<>\"\",ROW($L$108:$L$175)-MIN(ROW($L$108:$L$175))+1),ROWS($1:63))),\"\"),\"\")","v":""},"",{"$f":"IFERROR(IF(ROWS($1:63)<=COUNTA($N$108:$N$175),INDEX($N$108:$N$175,SMALL(IF($N$108:$N$175<>\"\",ROW($N$108:$N$175)-MIN(ROW($N$108:$N$175))+1),ROWS($1:63))),\"\"),\"\")","v":""}]
[null,{"$f":"IFERROR(INDEX(Inrichtingskosten!$C$9:$C$643, MATCH(0,COUNTIF($B$107:B159, Inrichtingskosten!$C$9:$C$643), 0)),\"\")","v":"Bergend pakket Betondgranulaat 12/32 - geen doek"},{"$f":"INDEX(Inrichtingskosten!A61:A689,MATCH(B160,Inrichtingskosten!C61:C689,0))","v":"Hemelwatersysteem"},"",{"$f":"IFERROR(IF(ROWS($1:64)<=COUNTA($D$108:$D$175),INDEX($D$108:$D$175,SMALL(IF($D$108:$D$175<>\"\",ROW($D$108:$D$175)-MIN(ROW($D$108:$D$175))+1),ROWS($1:64))),\"\"),\"\")","v":""},"",{"$f":"IFERROR(IF(ROWS($1:64)<=COUNTA($F$108:$F$175),INDEX($F$108:$F$175,SMALL(IF($F$108:$F$175<>\"\",ROW($F$108:$F$175)-MIN(ROW($F$108:$F$175))+1),ROWS($1:64))),\"\"),\"\")","v":""},"Bergend pakket Betondgranulaat 12/32 - geen doek",{"$f":"IFERROR(IF(ROWS($1:64)<=COUNTA($H$108:$H$175),INDEX($H$108:$H$175,SMALL(IF($H$108:$H$175<>\"\",ROW($H$108:$H$175)-MIN(ROW($H$108:$H$175))+1),ROWS($1:64))),\"\"),\"\")","v":""},"",{"$f":"IFERROR(IF(ROWS($1:53)<=COUNTA($J$108:$J$175),INDEX($J$108:$J$175,SMALL(IF($J$108:$J$175<>\"\",ROW($J$108:$J$175)-MIN(ROW($J$108:$J$175))+1),ROWS($1:53))),\"\"),\"\")","v":""},"",{"$f":"IFERROR(IF(ROWS($1:64)<=COUNTA($L$108:$L$175),INDEX($L$108:$L$175,SMALL(IF($L$108:$L$175<>\"\",ROW($L$108:$L$175)-MIN(ROW($L$108:$L$175))+1),ROWS($1:64))),\"\"),\"\")","v":""},"",{"$f":"IFERROR(IF(ROWS($1:64)<=COUNTA($N$108:$N$175),INDEX($N$108:$N$175,SMALL(IF($N$108:$N$175<>\"\",ROW($N$108:$N$175)-MIN(ROW($N$108:$N$175))+1),ROWS($1:64))),\"\"),\"\")","v":""}]
[null,{"$f":"IFERROR(INDEX(Inrichtingskosten!$C$9:$C$643, MATCH(0,COUNTIF($B$107:B160, Inrichtingskosten!$C$9:$C$643), 0)),\"\")","v":"WAVICORE buis in bergend pakket"},{"$f":"INDEX(Inrichtingskosten!A62:A690,MATCH(B161,Inrichtingskosten!C62:C690,0))","v":"Hemelwatersysteem"},"",{"$f":"IFERROR(IF(ROWS($1:65)<=COUNTA($D$108:$D$175),INDEX($D$108:$D$175,SMALL(IF($D$108:$D$175<>\"\",ROW($D$108:$D$175)-MIN(ROW($D$108:$D$175))+1),ROWS($1:65))),\"\"),\"\")","v":""},"",{"$f":"IFERROR(IF(ROWS($1:65)<=COUNTA($F$108:$F$175),INDEX($F$108:$F$175,SMALL(IF($F$108:$F$175<>\"\",ROW($F$108:$F$175)-MIN(ROW($F$108:$F$175))+1),ROWS($1:65))),\"\"),\"\")","v":""},"WAVICORE buis in bergend pakket",{"$f":"IFERROR(IF(ROWS($1:65)<=COUNTA($H$108:$H$175),INDEX($H$108:$H$175,SMALL(IF($H$108:$H$175<>\"\",ROW($H$108:$H$175)-MIN(ROW($H$108:$H$175))+1),ROWS($1:65))),\"\"),\"\")","v":""},"",{"$f":"IFERROR(IF(ROWS($1:54)<=COUNTA($J$108:$J$175),INDEX($J$108:$J$175,SMALL(IF($J$108:$J$175<>\"\",ROW($J$108:$J$175)-MIN(ROW($J$108:$J$175))+1),ROWS($1:54))),\"\"),\"\")","v":""},"",{"$f":"IFERROR(IF(ROWS($1:65)<=COUNTA($L$108:$L$175),INDEX($L$108:$L$175,SMALL(IF($L$108:$L$175<>\"\",ROW($L$108:$L$175)-MIN(ROW($L$108:$L$175))+1),ROWS($1:65))),\"\"),\"\")","v":""},"",{"$f":"IFERROR(IF(ROWS($1:65)<=COUNTA($N$108:$N$175),INDEX($N$108:$N$175,SMALL(IF($N$108:$N$175<>\"\",ROW($N$108:$N$175)-MIN(ROW($N$108:$N$175))+1),ROWS($1:65))),\"\"),\"\")","v":""}]
[null,{"$f":"IFERROR(INDEX(Inrichtingskosten!$C$9:$C$643, MATCH(0,COUNTIF($B$107:B161, Inrichtingskosten!$C$9:$C$643), 0)),\"\")","v":"Tergakolk"},{"$f":"INDEX(Inrichtingskosten!A63:A691,MATCH(B162,Inrichtingskosten!C63:C691,0))","v":"Riolering"},"",{"$f":"IFERROR(IF(ROWS($1:66)<=COUNTA($D$108:$D$175),INDEX($D$108:$D$175,SMALL(IF($D$108:$D$175<>\"\",ROW($D$108:$D$175)-MIN(ROW($D$108:$D$175))+1),ROWS($1:66))),\"\"),\"\")","v":""},"",{"$f":"IFERROR(IF(ROWS($1:66)<=COUNTA($F$108:$F$175),INDEX($F$108:$F$175,SMALL(IF($F$108:$F$175<>\"\",ROW($F$108:$F$175)-MIN(ROW($F$108:$F$175))+1),ROWS($1:66))),\"\"),\"\")","v":""},"",{"$f":"IFERROR(IF(ROWS($1:66)<=COUNTA($H$108:$H$175),INDEX($H$108:$H$175,SMALL(IF($H$108:$H$175<>\"\",ROW($H$108:$H$175)-MIN(ROW($H$108:$H$175))+1),ROWS($1:66))),\"\"),\"\")","v":""},"Tergakolk",{"$f":"IFERROR(IF(ROWS($1:55)<=COUNTA($J$108:$J$175),INDEX($J$108:$J$175,SMALL(IF($J$108:$J$175<>\"\",ROW($J$108:$J$175)-MIN(ROW($J$108:$J$175))+1),ROWS($1:55))),\"\"),\"\")","v":""},"",{"$f":"IFERROR(IF(ROWS($1:66)<=COUNTA($L$108:$L$175),INDEX($L$108:$L$175,SMALL(IF($L$108:$L$175<>\"\",ROW($L$108:$L$175)-MIN(ROW($L$108:$L$175))+1),ROWS($1:66))),\"\"),\"\")","v":""},"",{"$f":"IFERROR(IF(ROWS($1:66)<=COUNTA($N$108:$N$175),INDEX($N$108:$N$175,SMALL(IF($N$108:$N$175<>\"\",ROW($N$108:$N$175)-MIN(ROW($N$108:$N$175))+1),ROWS($1:66))),\"\"),\"\")","v":""}]
[null,{"$f":"IFERROR(INDEX(Inrichtingskosten!$C$9:$C$643, MATCH(0,COUNTIF($B$107:B162, Inrichtingskosten!$C$9:$C$643), 0)),\"\")","v":"Bufferblock"},{"$f":"INDEX(Inrichtingskosten!A64:A692,MATCH(B163,Inrichtingskosten!C64:C692,0))","v":"Hemelwatersysteem"},"",{"$f":"IFERROR(IF(ROWS($1:67)<=COUNTA($D$108:$D$175),INDEX($D$108:$D$175,SMALL(IF($D$108:$D$175<>\"\",ROW($D$108:$D$175)-MIN(ROW($D$108:$D$175))+1),ROWS($1:67))),\"\"),\"\")","v":""},"",{"$f":"IFERROR(IF(ROWS($1:67)<=COUNTA($F$108:$F$175),INDEX($F$108:$F$175,SMALL(IF($F$108:$F$175<>\"\",ROW($F$108:$F$175)-MIN(ROW($F$108:$F$175))+1),ROWS($1:67))),\"\"),\"\")","v":""},"Bufferblock",{"$f":"IFERROR(IF(ROWS($1:67)<=COUNTA($H$108:$H$175),INDEX($H$108:$H$175,SMALL(IF($H$108:$H$175<>\"\",ROW($H$108:$H$175)-MIN(ROW($H$108:$H$175))+1),ROWS($1:67))),\"\"),\"\")","v":""},"",{"$f":"IFERROR(IF(ROWS($1:56)<=COUNTA($J$108:$J$175),INDEX($J$108:$J$175,SMALL(IF($J$108:$J$175<>\"\",ROW($J$108:$J$175)-MIN(ROW($J$108:$J$175))+1),ROWS($1:56))),\"\"),\"\")","v":""},"",{"$f":"IFERROR(IF(ROWS($1:67)<=COUNTA($L$108:$L$175),INDEX($L$108:$L$175,SMALL(IF($L$108:$L$175<>\"\",ROW($L$108:$L$175)-MIN(ROW($L$108:$L$175))+1),ROWS($1:67))),\"\"),\"\")","v":""},"",{"$f":"IFERROR(IF(ROWS($1:67)<=COUNTA($N$108:$N$175),INDEX($N$108:$N$175,SMALL(IF($N$108:$N$175<>\"\",ROW($N$108:$N$175)-MIN(ROW($N$108:$N$175))+1),ROWS($1:67))),\"\"),\"\")","v":""}]
[null,{"$f":"IFERROR(INDEX(Inrichtingskosten!$C$9:$C$643, MATCH(0,COUNTIF($B$107:B163, Inrichtingskosten!$C$9:$C$643), 0)),\"\")","v":"Bergend pakket lava of bims 4/32 - geen doek"},{"$f":"INDEX(Inrichtingskosten!A65:A693,MATCH(B164,Inrichtingskosten!C65:C693,0))","v":"Hemelwatersysteem"},"",{"$f":"IFERROR(IF(ROWS($1:68)<=COUNTA($D$108:$D$175),INDEX($D$108:$D$175,SMALL(IF($D$108:$D$175<>\"\",ROW($D$108:$D$175)-MIN(ROW($D$108:$D$175))+1),ROWS($1:68))),\"\"),\"\")","v":""},"",{"$f":"IFERROR(IF(ROWS($1:68)<=COUNTA($F$108:$F$175),INDEX($F$108:$F$175,SMALL(IF($F$108:$F$175<>\"\",ROW($F$108:$F$175)-MIN(ROW($F$108:$F$175))+1),ROWS($1:68))),\"\"),\"\")","v":""},"Bergend pakket lava of bims 4/32 - geen doek",{"$f":"IFERROR(IF(ROWS($1:68)<=COUNTA($H$108:$H$175),INDEX($H$108:$H$175,SMALL(IF($H$108:$H$175<>\"\",ROW($H$108:$H$175)-MIN(ROW($H$108:$H$175))+1),ROWS($1:68))),\"\"),\"\")","v":""},"",{"$f":"IFERROR(IF(ROWS($1:57)<=COUNTA($J$108:$J$175),INDEX($J$108:$J$175,SMALL(IF($J$108:$J$175<>\"\",ROW($J$108:$J$175)-MIN(ROW($J$108:$J$175))+1),ROWS($1:57))),\"\"),\"\")","v":""},"",{"$f":"IFERROR(IF(ROWS($1:68)<=COUNTA($L$108:$L$175),INDEX($L$108:$L$175,SMALL(IF($L$108:$L$175<>\"\",ROW($L$108:$L$175)-MIN(ROW($L$108:$L$175))+1),ROWS($1:68))),\"\"),\"\")","v":""},"",{"$f":"IFERROR(IF(ROWS($1:68)<=COUNTA($N$108:$N$175),INDEX($N$108:$N$175,SMALL(IF($N$108:$N$175<>\"\",ROW($N$108:$N$175)-MIN(ROW($N$108:$N$175))+1),ROWS($1:68))),\"\"),\"\")","v":""}]
[null,{"$f":"IFERROR(INDEX(Inrichtingskosten!$C$9:$C$643, MATCH(0,COUNTIF($B$107:B164, Inrichtingskosten!$C$9:$C$643), 0)),\"\")","v":"Bergend pakket ROCKFLOW - geen doek"},{"$f":"INDEX(Inrichtingskosten!A66:A694,MATCH(B165,Inrichtingskosten!C66:C694,0))","v":"Hemelwatersysteem"},"",{"$f":"IFERROR(IF(ROWS($1:73)<=COUNTA($D$108:$D$175),INDEX($D$108:$D$175,SMALL(IF($D$108:$D$175<>\"\",ROW($D$108:$D$175)-MIN(ROW($D$108:$D$175))+1),ROWS($1:73))),\"\"),\"\")","v":""},"",{"$f":"IFERROR(IF(ROWS($1:73)<=COUNTA($F$108:$F$175),INDEX($F$108:$F$175,SMALL(IF($F$108:$F$175<>\"\",ROW($F$108:$F$175)-MIN(ROW($F$108:$F$175))+1),ROWS($1:73))),\"\"),\"\")","v":""},"Bergend pakket ROCKFLOW - geen doek",{"$f":"IFERROR(IF(ROWS($1:73)<=COUNTA($H$108:$H$175),INDEX($H$108:$H$175,SMALL(IF($H$108:$H$175<>\"\",ROW($H$108:$H$175)-MIN(ROW($H$108:$H$175))+1),ROWS($1:73))),\"\"),\"\")","v":""},"",{"$f":"IFERROR(IF(ROWS($1:58)<=COUNTA($J$108:$J$175),INDEX($J$108:$J$175,SMALL(IF($J$108:$J$175<>\"\",ROW($J$108:$J$175)-MIN(ROW($J$108:$J$175))+1),ROWS($1:58))),\"\"),\"\")","v":""},"",{"$f":"IFERROR(IF(ROWS($1:73)<=COUNTA($L$108:$L$175),INDEX($L$108:$L$175,SMALL(IF($L$108:$L$175<>\"\",ROW($L$108:$L$175)-MIN(ROW($L$108:$L$175))+1),ROWS($1:73))),\"\"),\"\")","v":""},"",{"$f":"IFERROR(IF(ROWS($1:73)<=COUNTA($N$108:$N$175),INDEX($N$108:$N$175,SMALL(IF($N$108:$N$175<>\"\",ROW($N$108:$N$175)-MIN(ROW($N$108:$N$175))+1),ROWS($1:73))),\"\"),\"\")","v":""}]
[null,{"$f":"IFERROR(INDEX(Inrichtingskosten!$C$9:$C$643, MATCH(0,COUNTIF($B$107:B165, Inrichtingskosten!$C$9:$C$643), 0)),\"\")","v":"Bergend pakket AA Schelpenmix - geen doek"},{"$f":"INDEX(Inrichtingskosten!A67:A695,MATCH(B166,Inrichtingskosten!C67:C695,0))","v":"Hemelwatersysteem"},"",{"$f":"IFERROR(IF(ROWS($1:74)<=COUNTA($D$108:$D$175),INDEX($D$108:$D$175,SMALL(IF($D$108:$D$175<>\"\",ROW($D$108:$D$175)-MIN(ROW($D$108:$D$175))+1),ROWS($1:74))),\"\"),\"\")","v":""},"",{"$f":"IFERROR(IF(ROWS($1:74)<=COUNTA($F$108:$F$175),INDEX($F$108:$F$175,SMALL(IF($F$108:$F$175<>\"\",ROW($F$108:$F$175)-MIN(ROW($F$108:$F$175))+1),ROWS($1:74))),\"\"),\"\")","v":""},"Bergend pakket AA Schelpenmix - geen doek",{"$f":"IFERROR(IF(ROWS($1:74)<=COUNTA($H$108:$H$175),INDEX($H$108:$H$175,SMALL(IF($H$108:$H$175<>\"\",ROW($H$108:$H$175)-MIN(ROW($H$108:$H$175))+1),ROWS($1:74))),\"\"),\"\")","v":""},"",{"$f":"IFERROR(IF(ROWS($1:59)<=COUNTA($J$108:$J$175),INDEX($J$108:$J$175,SMALL(IF($J$108:$J$175<>\"\",ROW($J$108:$J$175)-MIN(ROW($J$108:$J$175))+1),ROWS($1:59))),\"\"),\"\")","v":""},"",{"$f":"IFERROR(IF(ROWS($1:74)<=COUNTA($L$108:$L$175),INDEX($L$108:$L$175,SMALL(IF($L$108:$L$175<>\"\",ROW($L$108:$L$175)-MIN(ROW($L$108:$L$175))+1),ROWS($1:74))),\"\"),\"\")","v":""},"",{"$f":"IFERROR(IF(ROWS($1:74)<=COUNTA($N$108:$N$175),INDEX($N$108:$N$175,SMALL(IF($N$108:$N$175<>\"\",ROW($N$108:$N$175)-MIN(ROW($N$108:$N$175))+1),ROWS($1:74))),\"\"),\"\")","v":""}]
[null,{"$f":"IFERROR(INDEX(Inrichtingskosten!$C$9:$C$643, MATCH(0,COUNTIF($B$107:B166, Inrichtingskosten!$C$9:$C$643), 0)),\"\")","v":"AA minerals (los)  voor rond drain"},{"$f":"INDEX(Inrichtingskosten!A68:A696,MATCH(B167,Inrichtingskosten!C68:C696,0))","v":"Hemelwatersysteem"},"",{"$f":"IFERROR(IF(ROWS($1:75)<=COUNTA($D$108:$D$175),INDEX($D$108:$D$175,SMALL(IF($D$108:$D$175<>\"\",ROW($D$108:$D$175)-MIN(ROW($D$108:$D$175))+1),ROWS($1:75))),\"\"),\"\")","v":""},"",{"$f":"IFERROR(IF(ROWS($1:75)<=COUNTA($F$108:$F$175),INDEX($F$108:$F$175,SMALL(IF($F$108:$F$175<>\"\",ROW($F$108:$F$175)-MIN(ROW($F$108:$F$175))+1),ROWS($1:75))),\"\"),\"\")","v":""},"AA minerals (los)  voor rond drain",{"$f":"IFERROR(IF(ROWS($1:75)<=COUNTA($H$108:$H$175),INDEX($H$108:$H$175,SMALL(IF($H$108:$H$175<>\"\",ROW($H$108:$H$175)-MIN(ROW($H$108:$H$175))+1),ROWS($1:75))),\"\"),\"\")","v":""},{"$f":"IFERROR(IF($C167=$J$107,$B167,\"\"),\" \")","v":""},{"$f":"IFERROR(IF(ROWS($1:60)<=COUNTA($J$108:$J$175),INDEX($J$108:$J$175,SMALL(IF($J$108:$J$175<>\"\",ROW($J$108:$J$175)-MIN(ROW($J$108:$J$175))+1),ROWS($1:60))),\"\"),\"\")","v":""},"",{"$f":"IFERROR(IF(ROWS($1:75)<=COUNTA($L$108:$L$175),INDEX($L$108:$L$175,SMALL(IF($L$108:$L$175<>\"\",ROW($L$108:$L$175)-MIN(ROW($L$108:$L$175))+1),ROWS($1:75))),\"\"),\"\")","v":""},"",{"$f":"IFERROR(IF(ROWS($1:75)<=COUNTA($N$108:$N$175),INDEX($N$108:$N$175,SMALL(IF($N$108:$N$175<>\"\",ROW($N$108:$N$175)-MIN(ROW($N$108:$N$175))+1),ROWS($1:75))),\"\"),\"\")","v":""}]
[null,{"$f":"IFERROR(INDEX(Inrichtingskosten!$C$9:$C$643, MATCH(0,COUNTIF($B$107:B167, Inrichtingskosten!$C$9:$C$643), 0)),\"\")","v":"Geogrid (los)"},{"$f":"INDEX(Inrichtingskosten!A69:A697,MATCH(B168,Inrichtingskosten!C69:C697,0))","v":"Hemelwatersysteem"},"",{"$f":"IFERROR(IF(ROWS($1:76)<=COUNTA($D$108:$D$175),INDEX($D$108:$D$175,SMALL(IF($D$108:$D$175<>\"\",ROW($D$108:$D$175)-MIN(ROW($D$108:$D$175))+1),ROWS($1:76))),\"\"),\"\")","v":""},"",{"$f":"IFERROR(IF(ROWS($1:76)<=COUNTA($F$108:$F$175),INDEX($F$108:$F$175,SMALL(IF($F$108:$F$175<>\"\",ROW($F$108:$F$175)-MIN(ROW($F$108:$F$175))+1),ROWS($1:76))),\"\"),\"\")","v":""},"Geogrid (los)",{"$f":"IFERROR(IF(ROWS($1:76)<=COUNTA($H$108:$H$175),INDEX($H$108:$H$175,SMALL(IF($H$108:$H$175<>\"\",ROW($H$108:$H$175)-MIN(ROW($H$108:$H$175))+1),ROWS($1:76))),\"\"),\"\")","v":""},"",{"$f":"IFERROR(IF(ROWS($1:61)<=COUNTA($J$108:$J$175),INDEX($J$108:$J$175,SMALL(IF($J$108:$J$175<>\"\",ROW($J$108:$J$175)-MIN(ROW($J$108:$J$175))+1),ROWS($1:61))),\"\"),\"\")","v":""},"",{"$f":"IFERROR(IF(ROWS($1:76)<=COUNTA($L$108:$L$175),INDEX($L$108:$L$175,SMALL(IF($L$108:$L$175<>\"\",ROW($L$108:$L$175)-MIN(ROW($L$108:$L$175))+1),ROWS($1:76))),\"\"),\"\")","v":""},"",{"$f":"IFERROR(IF(ROWS($1:76)<=COUNTA($N$108:$N$175),INDEX($N$108:$N$175,SMALL(IF($N$108:$N$175<>\"\",ROW($N$108:$N$175)-MIN(ROW($N$108:$N$175))+1),ROWS($1:76))),\"\"),\"\")","v":""}]
[null,{"$f":"IFERROR(INDEX(Inrichtingskosten!$C$9:$C$643, MATCH(0,COUNTIF($B$107:B168, Inrichtingskosten!$C$9:$C$643), 0)),\"\")","v":"geotextiel (los)"},{"$f":"INDEX(Inrichtingskosten!A70:A698,MATCH(B169,Inrichtingskosten!C70:C698,0))","v":"Hemelwatersysteem"},"",{"$f":"IFERROR(IF(ROWS($1:77)<=COUNTA($D$108:$D$175),INDEX($D$108:$D$175,SMALL(IF($D$108:$D$175<>\"\",ROW($D$108:$D$175)-MIN(ROW($D$108:$D$175))+1),ROWS($1:77))),\"\"),\"\")","v":""},"",{"$f":"IFERROR(IF(ROWS($1:77)<=COUNTA($F$108:$F$175),INDEX($F$108:$F$175,SMALL(IF($F$108:$F$175<>\"\",ROW($F$108:$F$175)-MIN(ROW($F$108:$F$175))+1),ROWS($1:77))),\"\"),\"\")","v":""},"geotextiel (los)",{"$f":"IFERROR(IF(ROWS($1:77)<=COUNTA($H$108:$H$175),INDEX($H$108:$H$175,SMALL(IF($H$108:$H$175<>\"\",ROW($H$108:$H$175)-MIN(ROW($H$108:$H$175))+1),ROWS($1:77))),\"\"),\"\")","v":""},"",{"$f":"IFERROR(IF(ROWS($1:62)<=COUNTA($J$108:$J$175),INDEX($J$108:$J$175,SMALL(IF($J$108:$J$175<>\"\",ROW($J$108:$J$175)-MIN(ROW($J$108:$J$175))+1),ROWS($1:62))),\"\"),\"\")","v":""},"",{"$f":"IFERROR(IF(ROWS($1:77)<=COUNTA($L$108:$L$175),INDEX($L$108:$L$175,SMALL(IF($L$108:$L$175<>\"\",ROW($L$108:$L$175)-MIN(ROW($L$108:$L$175))+1),ROWS($1:77))),\"\"),\"\")","v":""},"",{"$f":"IFERROR(IF(ROWS($1:77)<=COUNTA($N$108:$N$175),INDEX($N$108:$N$175,SMALL(IF($N$108:$N$175<>\"\",ROW($N$108:$N$175)-MIN(ROW($N$108:$N$175))+1),ROWS($1:77))),\"\"),\"\")","v":""}]
[null,{"$f":"IFERROR(INDEX(Inrichtingskosten!$C$9:$C$643, MATCH(0,COUNTIF($B$107:B169, Inrichtingskosten!$C$9:$C$643), 0)),\"\")","v":"Drainzand"},{"$f":"INDEX(Inrichtingskosten!A71:A699,MATCH(B170,Inrichtingskosten!C71:C699,0))","v":"Grondwerk"},"Drainzand",{"$f":"IFERROR(IF(ROWS($1:78)<=COUNTA($D$108:$D$175),INDEX($D$108:$D$175,SMALL(IF($D$108:$D$175<>\"\",ROW($D$108:$D$175)-MIN(ROW($D$108:$D$175))+1),ROWS($1:78))),\"\"),\"\")","v":""},"",{"$f":"IFERROR(IF(ROWS($1:78)<=COUNTA($F$108:$F$175),INDEX($F$108:$F$175,SMALL(IF($F$108:$F$175<>\"\",ROW($F$108:$F$175)-MIN(ROW($F$108:$F$175))+1),ROWS($1:78))),\"\"),\"\")","v":""},"",{"$f":"IFERROR(IF(ROWS($1:78)<=COUNTA($H$108:$H$175),INDEX($H$108:$H$175,SMALL(IF($H$108:$H$175<>\"\",ROW($H$108:$H$175)-MIN(ROW($H$108:$H$175))+1),ROWS($1:78))),\"\"),\"\")","v":""},"",{"$f":"IFERROR(IF(ROWS($1:63)<=COUNTA($J$108:$J$175),INDEX($J$108:$J$175,SMALL(IF($J$108:$J$175<>\"\",ROW($J$108:$J$175)-MIN(ROW($J$108:$J$175))+1),ROWS($1:63))),\"\"),\"\")","v":""},"",{"$f":"IFERROR(IF(ROWS($1:78)<=COUNTA($L$108:$L$175),INDEX($L$108:$L$175,SMALL(IF($L$108:$L$175<>\"\",ROW($L$108:$L$175)-MIN(ROW($L$108:$L$175))+1),ROWS($1:78))),\"\"),\"\")","v":""},"",{"$f":"IFERROR(IF(ROWS($1:78)<=COUNTA($N$108:$N$175),INDEX($N$108:$N$175,SMALL(IF($N$108:$N$175<>\"\",ROW($N$108:$N$175)-MIN(ROW($N$108:$N$175))+1),ROWS($1:78))),\"\"),\"\")","v":""}]
[null,{"$f":"IFERROR(INDEX(Inrichtingskosten!$C$9:$C$643, MATCH(0,COUNTIF($B$107:B170, Inrichtingskosten!$C$9:$C$643), 0)),\"\")","v":0},{"$f":"INDEX(Inrichtingskosten!A72:A700,MATCH(B171,Inrichtingskosten!C72:C700,0))","v":{"$error":"#N/A"}}," ",{"$f":"IFERROR(IF(ROWS($1:79)<=COUNTA($D$108:$D$175),INDEX($D$108:$D$175,SMALL(IF($D$108:$D$175<>\"\",ROW($D$108:$D$175)-MIN(ROW($D$108:$D$175))+1),ROWS($1:79))),\"\"),\"\")","v":""}," ",{"$f":"IFERROR(IF(ROWS($1:79)<=COUNTA($F$108:$F$175),INDEX($F$108:$F$175,SMALL(IF($F$108:$F$175<>\"\",ROW($F$108:$F$175)-MIN(ROW($F$108:$F$175))+1),ROWS($1:79))),\"\"),\"\")","v":""}," ",{"$f":"IFERROR(IF(ROWS($1:79)<=COUNTA($H$108:$H$175),INDEX($H$108:$H$175,SMALL(IF($H$108:$H$175<>\"\",ROW($H$108:$H$175)-MIN(ROW($H$108:$H$175))+1),ROWS($1:79))),\"\"),\"\")","v":""}," ",{"$f":"IFERROR(IF(ROWS($1:64)<=COUNTA($J$108:$J$175),INDEX($J$108:$J$175,SMALL(IF($J$108:$J$175<>\"\",ROW($J$108:$J$175)-MIN(ROW($J$108:$J$175))+1),ROWS($1:64))),\"\"),\"\")","v":""}," ",{"$f":"IFERROR(IF(ROWS($1:79)<=COUNTA($L$108:$L$175),INDEX($L$108:$L$175,SMALL(IF($L$108:$L$175<>\"\",ROW($L$108:$L$175)-MIN(ROW($L$108:$L$175))+1),ROWS($1:79))),\"\"),\"\")","v":""}," ",{"$f":"IFERROR(IF(ROWS($1:79)<=COUNTA($N$108:$N$175),INDEX($N$108:$N$175,SMALL(IF($N$108:$N$175<>\"\",ROW($N$108:$N$175)-MIN(ROW($N$108:$N$175))+1),ROWS($1:79))),\"\"),\"\")","v":""}]
[null,{"$f":"IFERROR(INDEX(Inrichtingskosten!$C$9:$C$643, MATCH(0,COUNTIF($B$107:B171, Inrichtingskosten!$C$9:$C$643), 0)),\"\")","v":""},{"$f":"INDEX(Inrichtingskosten!A73:A701,MATCH(B172,Inrichtingskosten!C73:C701,0))","v":{"$error":"#N/A"}}," ",{"$f":"IFERROR(IF(ROWS($1:86)<=COUNTA($D$108:$D$175),INDEX($D$108:$D$175,SMALL(IF($D$108:$D$175<>\"\",ROW($D$108:$D$175)-MIN(ROW($D$108:$D$175))+1),ROWS($1:86))),\"\"),\"\")","v":""}," ",{"$f":"IFERROR(IF(ROWS($1:86)<=COUNTA($F$108:$F$175),INDEX($F$108:$F$175,SMALL(IF($F$108:$F$175<>\"\",ROW($F$108:$F$175)-MIN(ROW($F$108:$F$175))+1),ROWS($1:86))),\"\"),\"\")","v":""}," ",{"$f":"IFERROR(IF(ROWS($1:86)<=COUNTA($H$108:$H$175),INDEX($H$108:$H$175,SMALL(IF($H$108:$H$175<>\"\",ROW($H$108:$H$175)-MIN(ROW($H$108:$H$175))+1),ROWS($1:86))),\"\"),\"\")","v":""}," ",{"$f":"IFERROR(IF(ROWS($1:65)<=COUNTA($J$108:$J$175),INDEX($J$108:$J$175,SMALL(IF($J$108:$J$175<>\"\",ROW($J$108:$J$175)-MIN(ROW($J$108:$J$175))+1),ROWS($1:65))),\"\"),\"\")","v":""}," ",{"$f":"IFERROR(IF(ROWS($1:86)<=COUNTA($L$108:$L$175),INDEX($L$108:$L$175,SMALL(IF($L$108:$L$175<>\"\",ROW($L$108:$L$175)-MIN(ROW($L$108:$L$175))+1),ROWS($1:86))),\"\"),\"\")","v":""}," ",{"$f":"IFERROR(IF(ROWS($1:86)<=COUNTA($N$108:$N$175),INDEX($N$108:$N$175,SMALL(IF($N$108:$N$175<>\"\",ROW($N$108:$N$175)-MIN(ROW($N$108:$N$175))+1),ROWS($1:86))),\"\"),\"\")","v":""}]
[null,{"$f":"IFERROR(INDEX(Inrichtingskosten!$C$9:$C$643, MATCH(0,COUNTIF($B$107:B172, Inrichtingskosten!$C$9:$C$643), 0)),\"\")","v":""},{"$f":"INDEX(Inrichtingskosten!A74:A702,MATCH(B173,Inrichtingskosten!C74:C702,0))","v":{"$error":"#N/A"}}," ",{"$f":"IFERROR(IF(ROWS($1:87)<=COUNTA($D$108:$D$175),INDEX($D$108:$D$175,SMALL(IF($D$108:$D$175<>\"\",ROW($D$108:$D$175)-MIN(ROW($D$108:$D$175))+1),ROWS($1:87))),\"\"),\"\")","v":""}," ",{"$f":"IFERROR(IF(ROWS($1:87)<=COUNTA($F$108:$F$175),INDEX($F$108:$F$175,SMALL(IF($F$108:$F$175<>\"\",ROW($F$108:$F$175)-MIN(ROW($F$108:$F$175))+1),ROWS($1:87))),\"\"),\"\")","v":""}," ",{"$f":"IFERROR(IF(ROWS($1:87)<=COUNTA($H$108:$H$175),INDEX($H$108:$H$175,SMALL(IF($H$108:$H$175<>\"\",ROW($H$108:$H$175)-MIN(ROW($H$108:$H$175))+1),ROWS($1:87))),\"\"),\"\")","v":""}," ",{"$f":"IFERROR(IF(ROWS($1:66)<=COUNTA($J$108:$J$175),INDEX($J$108:$J$175,SMALL(IF($J$108:$J$175<>\"\",ROW($J$108:$J$175)-MIN(ROW($J$108:$J$175))+1),ROWS($1:66))),\"\"),\"\")","v":""}," ",{"$f":"IFERROR(IF(ROWS($1:87)<=COUNTA($L$108:$L$175),INDEX($L$108:$L$175,SMALL(IF($L$108:$L$175<>\"\",ROW($L$108:$L$175)-MIN(ROW($L$108:$L$175))+1),ROWS($1:87))),\"\"),\"\")","v":""}," ",{"$f":"IFERROR(IF(ROWS($1:87)<=COUNTA($N$108:$N$175),INDEX($N$108:$N$175,SMALL(IF($N$108:$N$175<>\"\",ROW($N$108:$N$175)-MIN(ROW($N$108:$N$175))+1),ROWS($1:87))),\"\"),\"\")","v":""}]
[null,{"$f":"IFERROR(INDEX(Inrichtingskosten!$C$9:$C$643, MATCH(0,COUNTIF($B$107:B173, Inrichtingskosten!$C$9:$C$643), 0)),\"\")","v":""},{"$f":"INDEX(Inrichtingskosten!A75:A703,MATCH(B174,Inrichtingskosten!C75:C703,0))","v":{"$error":"#N/A"}}," ",{"$f":"IFERROR(IF(ROWS($1:88)<=COUNTA($D$108:$D$175),INDEX($D$108:$D$175,SMALL(IF($D$108:$D$175<>\"\",ROW($D$108:$D$175)-MIN(ROW($D$108:$D$175))+1),ROWS($1:88))),\"\"),\"\")","v":""}," ",{"$f":"IFERROR(IF(ROWS($1:88)<=COUNTA($F$108:$F$175),INDEX($F$108:$F$175,SMALL(IF($F$108:$F$175<>\"\",ROW($F$108:$F$175)-MIN(ROW($F$108:$F$175))+1),ROWS($1:88))),\"\"),\"\")","v":""}," ",{"$f":"IFERROR(IF(ROWS($1:88)<=COUNTA($H$108:$H$175),INDEX($H$108:$H$175,SMALL(IF($H$108:$H$175<>\"\",ROW($H$108:$H$175)-MIN(ROW($H$108:$H$175))+1),ROWS($1:88))),\"\"),\"\")","v":""}," ",{"$f":"IFERROR(IF(ROWS($1:67)<=COUNTA($J$108:$J$175),INDEX($J$108:$J$175,SMALL(IF($J$108:$J$175<>\"\",ROW($J$108:$J$175)-MIN(ROW($J$108:$J$175))+1),ROWS($1:67))),\"\"),\"\")","v":""}," ",{"$f":"IFERROR(IF(ROWS($1:88)<=COUNTA($L$108:$L$175),INDEX($L$108:$L$175,SMALL(IF($L$108:$L$175<>\"\",ROW($L$108:$L$175)-MIN(ROW($L$108:$L$175))+1),ROWS($1:88))),\"\"),\"\")","v":""}," ",{"$f":"IFERROR(IF(ROWS($1:88)<=COUNTA($N$108:$N$175),INDEX($N$108:$N$175,SMALL(IF($N$108:$N$175<>\"\",ROW($N$108:$N$175)-MIN(ROW($N$108:$N$175))+1),ROWS($1:88))),\"\"),\"\")","v":""}]
[null,{"$f":"IFERROR(INDEX(Inrichtingskosten!$C$9:$C$643, MATCH(0,COUNTIF($B$107:B174, Inrichtingskosten!$C$9:$C$643), 0)),\"\")","v":""},{"$f":"INDEX(Inrichtingskosten!A76:A704,MATCH(B175,Inrichtingskosten!C76:C704,0))","v":{"$error":"#N/A"}}," ",{"$f":"IFERROR(IF(ROWS($1:89)<=COUNTA($D$108:$D$175),INDEX($D$108:$D$175,SMALL(IF($D$108:$D$175<>\"\",ROW($D$108:$D$175)-MIN(ROW($D$108:$D$175))+1),ROWS($1:89))),\"\"),\"\")","v":""}," ",{"$f":"IFERROR(IF(ROWS($1:89)<=COUNTA($F$108:$F$175),INDEX($F$108:$F$175,SMALL(IF($F$108:$F$175<>\"\",ROW($F$108:$F$175)-MIN(ROW($F$108:$F$175))+1),ROWS($1:89))),\"\"),\"\")","v":""}," ",{"$f":"IFERROR(IF(ROWS($1:89)<=COUNTA($H$108:$H$175),INDEX($H$108:$H$175,SMALL(IF($H$108:$H$175<>\"\",ROW($H$108:$H$175)-MIN(ROW($H$108:$H$175))+1),ROWS($1:89))),\"\"),\"\")","v":""}," ",{"$f":"IFERROR(IF(ROWS($1:68)<=COUNTA($J$108:$J$175),INDEX($J$108:$J$175,SMALL(IF($J$108:$J$175<>\"\",ROW($J$108:$J$175)-MIN(ROW($J$108:$J$175))+1),ROWS($1:68))),\"\"),\"\")","v":""}," ",{"$f":"IFERROR(IF(ROWS($1:89)<=COUNTA($L$108:$L$175),INDEX($L$108:$L$175,SMALL(IF($L$108:$L$175<>\"\",ROW($L$108:$L$175)-MIN(ROW($L$108:$L$175))+1),ROWS($1:89))),\"\"),\"\")","v":""}," ",{"$f":"IFERROR(IF(ROWS($1:89)<=COUNTA($N$108:$N$175),INDEX($N$108:$N$175,SMALL(IF($N$108:$N$175<>\"\",ROW($N$108:$N$175)-MIN(ROW($N$108:$N$175))+1),ROWS($1:89))),\"\"),\"\")","v":""}]
[]
[]
[]
[]
[]
[]
[]
[]
[]
[]
[]
[]
[]
[]
[]
[]
[]
[]
[]
[]
[]
[]
[]
[]
[]
[]
[]
[]
[null,{"$f":"IFERROR(INDEX($C$9:$C$205, MATCH(0,COUNTIF(B$8:$O203, $C$9:$C$205), 0)),\"\")","v":""}]

{"sheet":"Invoerhulp","index":3,"n_rows":100,"n_cols":7,"rows_kept":100,"cut":false,"hidden":false,"merged":[[94,1,95,15]]}
[]
[null,"Stappenplan invoeren gegevens MKBA tool"]
["Stap"]
[1,"Verzamel benodigde gegevens zoals technische tekeningen van de ontwerpvarianten. Zowel doorsnedes als plattegronden."]
[null,"Begrijp de hydrologische werking van alle ontwerpvarianten goed"]
[null,"Oppervlakten"]
[2,"Kies de grenzen van het projectgebied (de te analyseren straat). Teken dit in over een kaart van de buurt."]
[null,"Neem de grenzen op de daken langs de scheiding waar water richting voor- of achtertuin stroomt, bijvoorbeeld langs de nokken van de daken."]
[null,"Aangeraden wordt om de grenzen zo te tekenen dat je ongeveer 200-250m straatlengte hebt."]
[3,"Meet alle benodigde oppervlakten en lengtes in en voer deze in op tabblad 'invoer'. Doe eerst de Oppervlakten en Woongegevens en daarna de Afvoer- en Bergingscapaciteit (die in onderstaande stappen beschreven staat)."]
[null,"Als simpele vuistregel kan je de gemiddelde tuin zien als 50% verhard en 50% onverhard (geen bron)"]
[null,"Meet ook privaat oppervlak in."]
[null,"Woongegevens"]
[4,"Tel het aantal woningen en zoek de overige woongegevens op, bijvoorbeeld bij het CBS of het kadaster."]
[null,"https://cbsinuwbuurt.nl/#vierkant100m2020_gemiddelde_huishoudensgrootte"]
[null,"https://cbsinuwbuurt.nl/#vierkant100m2020_gemiddelde_woz_waarde_woning"]
[null,"Verwerking hemelwater"]
[5,"Bekijk of de ontwerpvarianten water kunnen bergen op straat, totdat het water bijna over de laagste drempel naar binnen loopt."]
[null,"Het moment van falen is het moment waarop het water op straat (maaiveld) een kritiek peil bereikt en het water de laagst gelegen woning(en) binnenstroomt."]
[null,"Onderstaande rekenhulp ziet de straat van gevel tot gevel als een rechthoek. Meet met de dwarsdoorsnede straatprofiel hoeveel water er tussen de drempels geborgen kan worden."]
[null,"Houd eventueel zelf rekening met hoogteverschillen in de straat via het AHN en schat hiermee een gereduceerde berging op maaiveld."]
[null,"Belangrijk is dat het aantal mm berging berekend wordt als mm neerslag op het gehele projectgebied."]
[null,"Berging op straat (t.o.v. totaal opp.)","Eenheid","Variant 0","Variant 1","Variant 2","Variant 3"]
[null,"Hoogte","mm",400,400,400,400]
[null,"Breedte straatprofiel","mm",10100,10100,10100,10100]
[null,"Lengte straat","mm",{"$f":"Invoer!D30*1000","v":0},{"$f":"Invoer!E30*1000","v":0},{"$f":"Invoer!F30*1000","v":0},{"$f":"Invoer!G30*1000","v":0}]
[null,"Totaal oppervlak","m²",{"$f":"Invoer!Neerslag_oppervlak","v":0},{"$f":"Invoer!Neerslag_oppervlak","v":0},{"$f":"Invoer!Neerslag_oppervlak","v":0},{"$f":"Invoer!Neerslag_oppervlak","v":0}]
[null,"Verhard oppervlak","m²",{"$f":"Invoer!D21","v":0},{"$f":"Invoer!E21","v":0},{"$f":"Invoer!F21","v":0},{"$f":"Invoer!G21","v":0}]
[null,"Berging op straat","mm",{"$f":"(D24*D25*D26)/(D27*1000000)","v":{"$error":"#DIV/0!"}},{"$f":"(E24*E25*E26)/(E27*1000000)","v":{"$error":"#DIV/0!"}},{"$f":"(F24*F25*F26)/(F27*1000000)","v":{"$error":"#DIV/0!"}},{"$f":"(G24*G25*G26)/(G27*1000000)","v":{"$error":"#DIV/0!"}}]
[]
[6,"Schat in wat de afvoersnelheid is waarmee alle afvoerbuizen en drains de berging van de regenwatervoorzieningen legen. Dit gaat niet over water op straat, maar over water in een speciale berging."]
[null,"Wanneer er bijvoorbeeld zowel een waterbergende weg als een wadi is, geef dan 1 gecombineerde waarde."]
[null,"Deze afvoer is in mm/uur t.o.v. het verharde oppervlak in het projectgebied, maar niet het dakoppervlak."]
[null,"Dit gaat niet om infiltratie naar de bodem, die staat hier onder. Dit is afvoer middels buizen, zoals noodoverlopen."]
[null,"Gebruikt hiervoor eventueel een berekening zoals onderstaande Chézy formule. Beschouw voor deze afvoersnelheidsberekening de berging als vol met water."]
[null,"Gebruik eventueel 2mm/uur per buis."]
[null,"Afvoercapaciteit regenwater voorz."]
[null,"Aantal buizen","-",0,2,1,0]
[null,"A (nat oppervlak)","m²",2.0102399999999999E-2,2.0102399999999999E-2,2.0102399999999999E-2,2.0102399999999999E-2]
[null,"C (Chézy coëfficiënt)","m1/2s-1",{"$f":"LOG((12*D41)/D46)","v":3.0791812460476247},{"$f":"LOG((12*E41)/E46)","v":3.0791812460476247},{"$f":"LOG((12*F41)/F46)","v":3.0791812460476247},3.0791812460476247]
[null,"R (Hydraulische straal A/P)","m",{"$f":"D39/D49","v":0.04},{"$f":"E39/E49","v":0.04},{"$f":"F39/F49","v":0.04},{"$f":"G39/G49","v":0.04}]
[null,"If (verhang ΔH/L)","-",{"$f":"-(D44-D43)/D45","v":9.0476190476190231E-3},{"$f":"-(E44-E43)/E45","v":9.0476190476190231E-3},{"$f":"-(F44-F43)/F45","v":9.0476190476190231E-3},9.0476190476190231E-3]
[null,"H1 (ene kant buis)","m NAP",-5.03,-5.03,-5.03,-5.03]
[null,"H2 (andere kant buis)","m NAP",-5.22,-5.22,-5.22,-5.22]
[null,"L (lengte buizen)","m",21,21,21,21]
[null,"K (wandruwheid)","m",4.0000000000000002E-4,4.0000000000000002E-4,4.0000000000000002E-4,4.0000000000000002E-4]
[null,"r (straal buis)","m",0.08,0.08,0.08,0.08]
[null,"d (diameter buis)","m",0.16,0.16,0.16,0.16]
[null,"P (omtrek)","m",{"$f":"D50*D48","v":0.50256000000000001},{"$f":"E50*E48","v":0.50256000000000001},{"$f":"F50*F48","v":0.50256000000000001},{"$f":"G50*G48","v":0.50256000000000001}]
[null,"π ","-",3.141,3.141,3.141,3.141]
[null,"Q (Afvoer)","m3/s",{"$f":"SQRT((D41*D42))*D39*D40","v":1.1775525903830997E-3},{"$f":"SQRT((E41*E42))*E39*E40","v":1.1775525903830997E-3},{"$f":"SQRT((F41*F42))*F39*F40","v":1.1775525903830997E-3},1.1775525903830997E-3]
[null,null,"mm/uur",{"$f":"(D51/D28)*1000*3600*D38","v":{"$error":"#DIV/0!"}},{"$f":"(E51/E28)*1000*3600*E38","v":{"$error":"#DIV/0!"}},{"$f":"(F51/F28)*1000*3600*F38","v":{"$error":"#DIV/0!"}},{"$f":"(G51/G28)*1000*3600*G38","v":{"$error":"#DIV/0!"}}]
[]
[7,"Schat de infiltratiesnelheid van water vanuit de regenwatervoorziening naar het grondwater of naar de bodem. Gebruik hiervoor metingen of onderstaande tabellen."]
[null,"Belangrijk is dat de mm/dag infiltratiesnelheid uitgedrukt wordt t.o.v. het verharde oppervlak in de openbare ruimte."]
[null,"Het kan hier gaan om infiltratie naar het wegcunet of infiltratie naar de natuurlijke bodem."]
[null,"Infiltratiecapaciteit bodem"]
[null,"K waarde","m/ dag",null,{"$f":"7/1000*24","v":0.16800000000000001},1.4999999999999999E-2]
[null,"breedte berging","mm",null,5000,10100]
[null,"Infiltratiecapaciteit bodem","mm/uur",{"$f":"(D58*D61)*1000/D28/24","v":{"$error":"#DIV/0!"}},{"$f":"(E58*E61)*1000/E28/24","v":{"$error":"#DIV/0!"}},{"$f":"(F58*F61)*1000/F28/24","v":{"$error":"#DIV/0!"}},{"$f":"(G58*G61)*1000/G28/24","v":{"$error":"#DIV/0!"}}]
[null,"contactoppervlak berging-bodem","m²",{"$f":"D59*D26/1000000","v":0},{"$f":"E59*E26/1000000","v":0},{"$f":"F59*F26/1000000","v":0},0]
[]
[null,"Belangrijkste bodemsoort","k-waarde [m/dag]"]
[null,"Klei - zeer dicht",5.0000000000000001E-3]
[null,"Zand - uiterst fijn",0.35]
[null,"Zand - middel fijn (dekzand)",3]
[null,"Duinzand",7]
[null,"Zand - grof",30]
[null,"Fijn grind",5500]
[null,"Grof grind",55000]
[null,"Teelaarde",5]
[]
[8,"Voer op het tabblad 'Invoer' bij afvoercapaciteit regenwatervoorzieningen de som in van de hierboven berekende afvoer regenwatervoorziening en infiltratiecapaciteit bodem."]
[9,"Schat de afvoercapaciteit van de regenwaterriolering in de oude situatie. Dit is ofwel een gemengd ofwel een gescheiden stelsel."]
[null,"Ook dit getal is t.o.v. het verharde oppervlak in de openbare ruimte. Deze kan eventueel op 20mm/uur gezet worden."]
[10,"Bereken de bergingscapaciteit van de regenwatervoorziening in mm t.o.v. het verharde oppervlak. Dit gaat om het volume water dat geborgen kan worden voordat er water op straat komt."]
[null,"Gebruik bijvoorbeeld de aparte tool 'Model - Bergingscapaciteit Wegcunet', echter alleen wanneer de lagen onderling snel genoeg water doorlaten om een klimaatbuis door te kunnen laten."]
[null,"Houdt rekening met de porositeit en gebruik niet alleen het totale volume van de berging."]
[null,"Wanneer er bijvoorbeeld zowel een waterbergende weg als een wadi is, geef dan 1 gecombineerde waarde."]
[11,"Bereken het bergende volume in de regenwatervoorziening dat niet afgevoerd kan worden en dus alleen infiltreerd."]
[null," Dit is bijvoorbeeld het bergende volume onder de overlooppgrens of slokop."]
[12,"Schat de infiltratiecapaciteit van al het onverharde oppervlak. Dit is gelijk voor alle onverharde oppervlakken, dus geef het gemiddelde in mm/uur."]
[null,"De waarde is t.o.v. al het groen(onverharde) oppervlak, dus hoeft niet gecorrigeerd te worden voor andere oppervlakken."]
[null,"De onverharde infiltratiecapaciteit kan eventueel op 20mm/uur gezet worden."]
[13,"Afgekoppelde daken? Ja/Nee. Als de daken afwateren naar het riool (gemengd & gescheiden), dan nee."]
[]
[null,"Hoeveelhedenstaat"]
[null,"Hieronder wordt de hoeveelhedenstaat ingevuld, waarop alle investerings en onderhoudskosten gebaseerd zijn."]
[null,"Bedenk dat aanleggen en verwijderen bij elkaar niet hetzelfde zijn als vervangen, want vervangen is efficiënter."]
[null,"Er zitten geen dubbele werkzaamheden in vervangen waar dit wel zo is bij verwijderen en aanleggen."]
[null,"Bedenk dat geen van de getallen in de hoeveelhedenstaat invloed heeft op de waterberekeningen. Alleen groen heeft invloed op de groenbaten."]
[null,"De rest wordt alleen gebruikt voor de aanleg en onderhoudskosten."]
[14,"Bedenk hoeveel grond er moet worden uitgegraven en hoeveel hiervan wordt verwijdert en andersom voor wordt aangelegd. Al het grondverzet kan als zand aangegeven worden. Kleine maaiveldverschillen kunnen mogelijk genegeerd worden."]
[15,"Als er veranderingen zijn in de verhardingen dan geef je die aan door de oude verhardingen te verwijderen en de nieuwe aan te leggen. Maak gebruik van de bestaande categoriën van verhardingen. Molgoten zijn onderdeel van reguliere bestrating, tenzij ze specifiek doorlatend zijn."]
[16,"Kijk naar de doorsnedes van de oude situatie. Als er een gescheiden stelsel ligt, heb je zowel een hemelwaterriool als een afvalwaterriool. Vaak is de lengte van deze riolering dezelfde lengte als de straat (projectgebied). Als er van een gemengd stelsel naar een gescheiden stelsel wordt gegaan, dan vul je in dat het gescheiden wordt aangelegd en de gemengde wordt verwijderd."]
[]
[17,"Tel het aantal kolken en perceelaansluitingen in de oude en de nieuwe situaties en vul in."]
[18,"Vul alle verschillende soorten groen in"]
[19,"vul straatverlichting en andere inrichtingselementen in"]
[20,"Controleerd of echt de hele openbare ruimte ingevuld is in de hoeveelhedenstaat."]

{"sheet":"Berekeningen","index":4,"n_rows":255,"n_cols":42,"rows_kept":255,"cut":false,"hidden":false,"merged":[[0,2,0,6],[73,8,73,9],[147,1,147,2],[145,1,145,2],[4,1,5,1],[146,1,146,2],[73,2,73,3],[73,4,73,5],[73,6,73,7]]}
[null,null,"Auteurs: M.M. Rouvoet BBE (Versie 1) & ing. A.J. Bruijns (Versie 2) & Msc. N. van der Lee (versie 3)"]
[null,"Berekeningen","Productiedatum:  versie 1, december 2016; Versie 2.9, november 2020, Versie 3.1, januari 2023"]
[]
[null,"Kostenpost",null,null,null,null,null,null,null,null,null,null,null,null,null,null,null,null,null,null,null,null,null,"Uitgesplitst: 2 realisatiefases"]
[null,"Kosten voor de aanleg en onderhoud per variant en per jaar. De balkjes geven het percentage van de totale jaarlijkse kosten weer.","Variant 0",{"$f":"Invoer!E35","v":"0-situatie"},"Variant 1",null,"Variant 2",null,"Variant 3",null,null,null,null,null,null,null,null,null,null,null,null,null,null,"Kostenposten",{"$f":"C5","v":"Variant 0"},{"$f":"D5","v":"0-situatie"},{"$f":"E5","v":"Variant 1"},null,{"$f":"G5","v":"Variant 2"},null,{"$f":"I5","v":"Variant 3"}]
[null,null,"Investeringskosten (€/j)","Onderhoudskosten (€/j)","Investeringskosten ( €/j)","Onderhoudskosten (€/j)","Investeringskosten ( €/j)",{"$f":"F6","v":"Onderhoudskosten (€/j)"},"Investeringskosten ( €/j)","Onderhoudskosten (€/j)",null,null,null,null,null,null,null,null,null,null,null,null,null,null,"Realisatiekosten jaar 0","Realisatiekosten overig","Realisatiekosten jaar 0","Realisatiekosten overig","Realisatiekosten jaar 0","Realisatiekosten overig","Realisatiekosten jaar 0","Realisatiekosten overig",null,null,null,null,"Uitsplitsing Kosten"]
[null,{"$f":"Invoer!B37","v":"Grondwerk"},null,null,null,null,null,null,null,null,null,null,null,null,null,null,null,null,null,null,null,null,null,{"$f":"B7","v":"Grondwerk"},null,null,null,null,null,null,null,null,null,null,null,"In realisatiekosten jaar 0 + realisatiekosten overig (als som)",null,null,"Variant 0","Variant 1","Variant 2","Variant 3"]
[null,{"$f":"Invoer!B38","v":"Zand"},{"$f":"IF(2*(Y8+Z8)/100=0,\"\",2*(Y8+Z8)/100)","v":""},{"$f":"IF(IF(Invoer!E38<>\"Verwijderen\",(SUMIFS(Onderhoudskosten!$K:$K,Onderhoudskosten!$B:$B,Invoer!$B38)*Invoer!D38),\" \")=0,\" \",IF(Invoer!E38<>\"Verwijderen\",(SUMIFS(Onderhoudskosten!$K:$K,Onderhoudskosten!$B:$B,Invoer!$B38)*Invoer!D38),\" \"))","v":" "},{"$f":"IF(2*(AA8+AB8)/100=0,\"\",2*(AA8+AB8)/100)","v":""},{"$f":"IF(IF(Invoer!G38<>\"Verwijderen\",(SUMIFS(Onderhoudskosten!$K:$K,Onderhoudskosten!$B:$B,Invoer!$B38)*Invoer!F38),\" \")=0,\" \",IF(Invoer!G38<>\"Verwijderen\",(SUMIFS(Onderhoudskosten!$K:$K,Onderhoudskosten!$B:$B,Invoer!$B38)*Invoer!F38),\" \"))","v":" "},{"$f":"IF(2*(AC8+AD8)/100=0,\"\",2*(AC8+AD8)/100)","v":""},{"$f":"IF(IF(Invoer!I38<>\"Verwijderen\",(SUMIFS(Onderhoudskosten!$K:$K,Onderhoudskosten!$B:$B,Invoer!$B38)*Invoer!H38),\" \")=0,\" \",IF(Invoer!I38<>\"Verwijderen\",(SUMIFS(Onderhoudskosten!$K:$K,Onderhoudskosten!$B:$B,Invoer!$B38)*Invoer!H38),\" \"))","v":" "},{"$f":"IF(2*(AE8+AF8)/100=0,\"\",2*(AE8+AF8)/100)","v":""},{"$f":"IF(IF(Invoer!K38<>\"Verwijderen\",(SUMIFS(Onderhoudskosten!$K:$K,Onderhoudskosten!$B:$B,Invoer!$B38)*Invoer!J38),\" \")=0,\" \",IF(Invoer!K38<>\"Verwijderen\",(SUMIFS(Onderhoudskosten!$K:$K,Onderhoudskosten!$B:$B,Invoer!$B38)*Invoer!J38),\" \"))","v":" "},null,null,null,null,null,null,null,null,null,null,null,null,null,{"$f":"B8","v":"Zand"},{"$f":"SUMIFS(Inrichtingskosten!$H:$H,Inrichtingskosten!$C:$C,Invoer!$B38,Inrichtingskosten!$B:$B,Invoer!X38)*Invoer!D38","v":0},{"$f":"SUMIFS(Inrichtingskosten!$H:$H,Inrichtingskosten!$C:$C,Invoer!$B38,Inrichtingskosten!$B:$B,Invoer!Y38)*Invoer!D38","v":0},{"$f":"SUMIFS(Inrichtingskosten!$H:$H,Inrichtingskosten!$C:$C,Invoer!$B38,Inrichtingskosten!$B:$B,Invoer!Z38)*Invoer!F38","v":0},{"$f":"SUMIFS(Inrichtingskosten!$H:$H,Inrichtingskosten!$C:$C,Invoer!$B38,Inrichtingskosten!$B:$B,Invoer!AA38)*Invoer!F38","v":0},{"$f":"SUMIFS(Inrichtingskosten!$H:$H,Inrichtingskosten!$C:$C,Invoer!$B38,Inrichtingskosten!$B:$B,Invoer!AB38)*Invoer!H38","v":0},{"$f":"SUMIFS(Inrichtingskosten!$H:$H,Inrichtingskosten!$C:$C,Invoer!$B38,Inrichtingskosten!$B:$B,Invoer!AC38)*Invoer!H38","v":0},{"$f":"SUMIFS(Inrichtingskosten!$H:$H,Inrichtingskosten!$C:$C,Invoer!$B38,Inrichtingskosten!$B:$B,Invoer!AD38)*Invoer!J38","v":0},{"$f":"SUMIFS(Inrichtingskosten!$H:$H,Inrichtingskosten!$C:$C,Invoer!$B38,Inrichtingskosten!$B:$B,Invoer!AE38)*Invoer!J38","v":0},null,null,null,null,"Grondwerk","Realisatie",{"$f":"Y8+Z8","v":0},{"$f":"AA8+AB8","v":0},{"$f":"AC8+AD8","v":0},{"$f":"AE8+AF8","v":0}]
[null,{"$f":"Invoer!B39","v":"Drainzand"},{"$f":"IF(2*(Y9+Z9)/100=0,\"\",2*(Y9+Z9)/100)","v":""},{"$f":"IF(IF(Invoer!E39<>\"Verwijderen\",(SUMIFS(Onderhoudskosten!$K:$K,Onderhoudskosten!$B:$B,Invoer!$B39)*Invoer!D39),\" \")=0,\" \",IF(Invoer!E39<>\"Verwijderen\",(SUMIFS(Onderhoudskosten!$K:$K,Onderhoudskosten!$B:$B,Invoer!$B39)*Invoer!D39),\" \"))","v":" "},{"$f":"IF(2*(AA9+AB9)/100=0,\"\",2*(AA9+AB9)/100)","v":""},{"$f":"IF(IF(Invoer!G39<>\"Verwijderen\",(SUMIFS(Onderhoudskosten!$K:$K,Onderhoudskosten!$B:$B,Invoer!$B39)*Invoer!F39),\" \")=0,\" \",IF(Invoer!G39<>\"Verwijderen\",(SUMIFS(Onderhoudskosten!$K:$K,Onderhoudskosten!$B:$B,Invoer!$B39)*Invoer!F39),\" \"))","v":" "},{"$f":"IF(2*(AC9+AD9)/100=0,\"\",2*(AC9+AD9)/100)","v":""},{"$f":"IF(IF(Invoer!I39<>\"Verwijderen\",(SUMIFS(Onderhoudskosten!$K:$K,Onderhoudskosten!$B:$B,Invoer!$B39)*Invoer!H39),\" \")=0,\" \",IF(Invoer!I39<>\"Verwijderen\",(SUMIFS(Onderhoudskosten!$K:$K,Onderhoudskosten!$B:$B,Invoer!$B39)*Invoer!H39),\" \"))","v":" "},{"$f":"IF(2*(AE9+AF9)/100=0,\"\",2*(AE9+AF9)/100)","v":""},{"$f":"IF(IF(Invoer!K39<>\"Verwijderen\",(SUMIFS(Onderhoudskosten!$K:$K,Onderhoudskosten!$B:$B,Invoer!$B39)*Invoer!J39),\" \")=0,\" \",IF(Invoer!K39<>\"Verwijderen\",(SUMIFS(Onderhoudskosten!$K:$K,Onderhoudskosten!$B:$B,Invoer!$B39)*Invoer!J39),\" \"))","v":" "},null,null,null,null,null,null,null,null,null,null,null,null,null,{"$f":"B9","v":"Drainzand"},{"$f":"SUMIFS(Inrichtingskosten!$H:$H,Inrichtingskosten!$C:$C,Invoer!$B39,Inrichtingskosten!$B:$B,Invoer!X39)*Invoer!D39","v":0},{"$f":"SUMIFS(Inrichtingskosten!$H:$H,Inrichtingskosten!$C:$C,Invoer!$B39,Inrichtingskosten!$B:$B,Invoer!Y39)*Invoer!D39","v":0},{"$f":"SUMIFS(Inrichtingskosten!$H:$H,Inrichtingskosten!$C:$C,Invoer!$B39,Inrichtingskosten!$B:$B,Invoer!Z39)*Invoer!F39","v":0},{"$f":"SUMIFS(Inrichtingskosten!$H:$H,Inrichtingskosten!$C:$C,Invoer!$B39,Inrichtingskosten!$B:$B,Invoer!AA39)*Invoer!F39","v":0},{"$f":"SUMIFS(Inrichtingskosten!$H:$H,Inrichtingskosten!$C:$C,Invoer!$B39,Inrichtingskosten!$B:$B,Invoer!AB39)*Invoer!H39","v":0},{"$f":"SUMIFS(Inrichtingskosten!$H:$H,Inrichtingskosten!$C:$C,Invoer!$B39,Inrichtingskosten!$B:$B,Invoer!AC39)*Invoer!H39","v":0},{"$f":"SUMIFS(Inrichtingskosten!$H:$H,Inrichtingskosten!$C:$C,Invoer!$B39,Inrichtingskosten!$B:$B,Invoer!AD39)*Invoer!J39","v":0},{"$f":"SUMIFS(Inrichtingskosten!$H:$H,Inrichtingskosten!$C:$C,Invoer!$B39,Inrichtingskosten!$B:$B,Invoer!AE39)*Invoer!J39","v":0}]
[null,{"$f":"Invoer!B40","v":" "},"",{"$f":"IF(IF(Invoer!E40<>\"Verwijderen\",(SUMIFS(Onderhoudskosten!$K:$K,Onderhoudskosten!$B:$B,Invoer!$B40)*Invoer!D40),\" \")=0,\" \",IF(Invoer!E40<>\"Verwijderen\",(SUMIFS(Onderhoudskosten!$K:$K,Onderhoudskosten!$B:$B,Invoer!$B40)*Invoer!D40),\" \"))","v":" "},"",{"$f":"IF(IF(Invoer!G40<>\"Verwijderen\",(SUMIFS(Onderhoudskosten!$K:$K,Onderhoudskosten!$B:$B,Invoer!$B40)*Invoer!F40),\" \")=0,\" \",IF(Invoer!G40<>\"Verwijderen\",(SUMIFS(Onderhoudskosten!$K:$K,Onderhoudskosten!$B:$B,Invoer!$B40)*Invoer!F40),\" \"))","v":" "},"",{"$f":"IF(IF(Invoer!I40<>\"Verwijderen\",(SUMIFS(Onderhoudskosten!$K:$K,Onderhoudskosten!$B:$B,Invoer!$B40)*Invoer!H40),\" \")=0,\" \",IF(Invoer!I40<>\"Verwijderen\",(SUMIFS(Onderhoudskosten!$K:$K,Onderhoudskosten!$B:$B,Invoer!$B40)*Invoer!H40),\" \"))","v":" "},"",{"$f":"IF(IF(Invoer!K40<>\"Verwijderen\",(SUMIFS(Onderhoudskosten!$K:$K,Onderhoudskosten!$B:$B,Invoer!$B40)*Invoer!J40),\" \")=0,\" \",IF(Invoer!K40<>\"Verwijderen\",(SUMIFS(Onderhoudskosten!$K:$K,Onderhoudskosten!$B:$B,Invoer!$B40)*Invoer!J40),\" \"))","v":" "},null,null,null,null,null,null,null,null,null,null,null,null,null," ",{"$f":"SUMIFS(Inrichtingskosten!$H:$H,Inrichtingskosten!$C:$C,Invoer!$B40,Inrichtingskosten!$B:$B,Invoer!X40)*Invoer!D40","v":0},{"$f":"SUMIFS(Inrichtingskosten!$H:$H,Inrichtingskosten!$C:$C,Invoer!$B40,Inrichtingskosten!$B:$B,Invoer!Y40)*Invoer!D40","v":0},{"$f":"SUMIFS(Inrichtingskosten!$H:$H,Inrichtingskosten!$C:$C,Invoer!$B40,Inrichtingskosten!$B:$B,Invoer!Z40)*Invoer!F40","v":0},{"$f":"SUMIFS(Inrichtingskosten!$H:$H,Inrichtingskosten!$C:$C,Invoer!$B40,Inrichtingskosten!$B:$B,Invoer!AA40)*Invoer!F40","v":0},{"$f":"SUMIFS(Inrichtingskosten!$H:$H,Inrichtingskosten!$C:$C,Invoer!$B40,Inrichtingskosten!$B:$B,Invoer!AB40)*Invoer!H40","v":0},{"$f":"SUMIFS(Inrichtingskosten!$H:$H,Inrichtingskosten!$C:$C,Invoer!$B40,Inrichtingskosten!$B:$B,Invoer!AC40)*Invoer!H40","v":0},{"$f":"SUMIFS(Inrichtingskosten!$H:$H,Inrichtingskosten!$C:$C,Invoer!$B40,Inrichtingskosten!$B:$B,Invoer!AD40)*Invoer!J40","v":0},{"$f":"SUMIFS(Inrichtingskosten!$H:$H,Inrichtingskosten!$C:$C,Invoer!$B40,Inrichtingskosten!$B:$B,Invoer!AE40)*Invoer!J40","v":0},null,null,null,null,"Grondwerk","Realisatie",{"$f":"Y10+Z10","v":0},{"$f":"AA10+AB10","v":0},{"$f":"AC10+AD10","v":0},{"$f":"AE10+AF10","v":0}]
[null,{"$f":"Invoer!B41","v":"Elementen verharding"},null,null,null,null,null,null,null,null,null,null,null,null,null,null,null,null,null,null,null,null,null,"Elementen verharding",null,null,null,null,null,null,null,null,null,null,null,null,"Elementen verharding",{"$f":"AL8","v":"Realisatie"},{"$f":"SUM(Y12:Y20)+SUM(Z12:Z20)","v":0},{"$f":"SUM(AA12:AA20)+SUM(AB12:AB20)","v":0},{"$f":"SUM(AD12:AD19)+SUM(AC12:AC19)","v":0},{"$f":"SUM(AF12:AF19)+SUM(AE12:AE19)","v":0}]
[null,{"$f":"Invoer!B42","v":"Woonstraat en parkeerterrein van betonstraatstenen"},{"$f":"IF(2*(Y12+Z12)/100=0,\"\",2*(Y12+Z12)/100)","v":""},{"$f":"IF(IF(Invoer!E42<>\"Verwijderen\",(SUMIFS(Onderhoudskosten!$K:$K,Onderhoudskosten!$B:$B,Invoer!$B42)*Invoer!D42),\" \")=0,\" \",IF(Invoer!E42<>\"Verwijderen\",(SUMIFS(Onderhoudskosten!$K:$K,Onderhoudskosten!$B:$B,Invoer!$B42)*Invoer!D42),\" \"))","v":" "},{"$f":"IF(2*(AA12+AB12)/100=0,\"\",2*(AA12+AB12)/100)","v":""},{"$f":"IF(IF(Invoer!G42<>\"Verwijderen\",(SUMIFS(Onderhoudskosten!$K:$K,Onderhoudskosten!$B:$B,Invoer!$B42)*Invoer!F42),\" \")=0,\" \",IF(Invoer!G42<>\"Verwijderen\",(SUMIFS(Onderhoudskosten!$K:$K,Onderhoudskosten!$B:$B,Invoer!$B42)*Invoer!F42),\" \"))","v":" "},{"$f":"IF(2*(AC12+AD12)/100=0,\"\",2*(AC12+AD12)/100)","v":""},{"$f":"IF(IF(Invoer!I42<>\"Verwijderen\",(SUMIFS(Onderhoudskosten!$K:$K,Onderhoudskosten!$B:$B,Invoer!$B42)*Invoer!H42),\" \")=0,\" \",IF(Invoer!I42<>\"Verwijderen\",(SUMIFS(Onderhoudskosten!$K:$K,Onderhoudskosten!$B:$B,Invoer!$B42)*Invoer!H42),\" \"))","v":" "},{"$f":"IF(2*(AE12+AF12)/100=0,\"\",2*(AE12+AF12)/100)","v":""},{"$f":"IF(IF(Invoer!K42<>\"Verwijderen\",(SUMIFS(Onderhoudskosten!$K:$K,Onderhoudskosten!$B:$B,Invoer!$B42)*Invoer!J42),\" \")=0,\" \",IF(Invoer!K42<>\"Verwijderen\",(SUMIFS(Onderhoudskosten!$K:$K,Onderhoudskosten!$B:$B,Invoer!$B42)*Invoer!J42),\" \"))","v":" "},null,null,null,null,null,null,null,null,null,null,null,null,null,"Woonstraat en parkeerterrein van betonstraatstenen",{"$f":"SUMIFS(Inrichtingskosten!$H:$H,Inrichtingskosten!$C:$C,Invoer!$B42,Inrichtingskosten!$B:$B,Invoer!X42)*Invoer!D42","v":0},{"$f":"SUMIFS(Inrichtingskosten!$H:$H,Inrichtingskosten!$C:$C,Invoer!$B42,Inrichtingskosten!$B:$B,Invoer!Y42)*Invoer!D42","v":0},{"$f":"SUMIFS(Inrichtingskosten!$H:$H,Inrichtingskosten!$C:$C,Invoer!$B42,Inrichtingskosten!$B:$B,Invoer!Z42)*Invoer!F42","v":0},{"$f":"SUMIFS(Inrichtingskosten!$H:$H,Inrichtingskosten!$C:$C,Invoer!$B42,Inrichtingskosten!$B:$B,Invoer!AA42)*Invoer!F42","v":0},{"$f":"SUMIFS(Inrichtingskosten!$H:$H,Inrichtingskosten!$C:$C,Invoer!$B42,Inrichtingskosten!$B:$B,Invoer!AB42)*Invoer!H42","v":0},{"$f":"SUMIFS(Inrichtingskosten!$H:$H,Inrichtingskosten!$C:$C,Invoer!$B42,Inrichtingskosten!$B:$B,Invoer!AC42)*Invoer!H42","v":0},{"$f":"SUMIFS(Inrichtingskosten!$H:$H,Inrichtingskosten!$C:$C,Invoer!$B42,Inrichtingskosten!$B:$B,Invoer!AD42)*Invoer!J42","v":0},{"$f":"SUMIFS(Inrichtingskosten!$H:$H,Inrichtingskosten!$C:$C,Invoer!$B42,Inrichtingskosten!$B:$B,Invoer!AE42)*Invoer!J42","v":0},null,null,null,null,null,"Onderhoud",{"$f":"SUM(D12:D20)","v":0},{"$f":"SUM(F12:F20)","v":0},{"$f":"SUM(H12:H20)","v":0},{"$f":"SUM(J12:J20)","v":0}]
[null,{"$f":"Invoer!B43","v":"Voetpad/plein van betonstraatstenen"},{"$f":"IF(2*(Y13+Z13)/100=0,\"\",2*(Y13+Z13)/100)","v":""},{"$f":"IF(IF(Invoer!E43<>\"Verwijderen\",(SUMIFS(Onderhoudskosten!$K:$K,Onderhoudskosten!$B:$B,Invoer!$B43)*Invoer!D43),\" \")=0,\" \",IF(Invoer!E43<>\"Verwijderen\",(SUMIFS(Onderhoudskosten!$K:$K,Onderhoudskosten!$B:$B,Invoer!$B43)*Invoer!D43),\" \"))","v":" "},{"$f":"IF(2*(AA13+AB13)/100=0,\"\",2*(AA13+AB13)/100)","v":""},{"$f":"IF(IF(Invoer!G43<>\"Verwijderen\",(SUMIFS(Onderhoudskosten!$K:$K,Onderhoudskosten!$B:$B,Invoer!$B43)*Invoer!F43),\" \")=0,\" \",IF(Invoer!G43<>\"Verwijderen\",(SUMIFS(Onderhoudskosten!$K:$K,Onderhoudskosten!$B:$B,Invoer!$B43)*Invoer!F43),\" \"))","v":" "},{"$f":"IF(2*(AC13+AD13)/100=0,\"\",2*(AC13+AD13)/100)","v":""},{"$f":"IF(IF(Invoer!I43<>\"Verwijderen\",(SUMIFS(Onderhoudskosten!$K:$K,Onderhoudskosten!$B:$B,Invoer!$B43)*Invoer!H43),\" \")=0,\" \",IF(Invoer!I43<>\"Verwijderen\",(SUMIFS(Onderhoudskosten!$K:$K,Onderhoudskosten!$B:$B,Invoer!$B43)*Invoer!H43),\" \"))","v":" "},{"$f":"IF(2*(AE13+AF13)/100=0,\"\",2*(AE13+AF13)/100)","v":""},{"$f":"IF(IF(Invoer!K43<>\"Verwijderen\",(SUMIFS(Onderhoudskosten!$K:$K,Onderhoudskosten!$B:$B,Invoer!$B43)*Invoer!J43),\" \")=0,\" \",IF(Invoer!K43<>\"Verwijderen\",(SUMIFS(Onderhoudskosten!$K:$K,Onderhoudskosten!$B:$B,Invoer!$B43)*Invoer!J43),\" \"))","v":" "},null,null,null,null,null,null,null,null,null,null,null,null,null,"Voetpad/plein van betonstraatstenen",{"$f":"SUMIFS(Inrichtingskosten!$H:$H,Inrichtingskosten!$C:$C,Invoer!$B43,Inrichtingskosten!$B:$B,Invoer!X43)*Invoer!D43","v":0},{"$f":"SUMIFS(Inrichtingskosten!$H:$H,Inrichtingskosten!$C:$C,Invoer!$B43,Inrichtingskosten!$B:$B,Invoer!Y43)*Invoer!D43","v":0},{"$f":"SUMIFS(Inrichtingskosten!$H:$H,Inrichtingskosten!$C:$C,Invoer!$B43,Inrichtingskosten!$B:$B,Invoer!Z43)*Invoer!F43","v":0},{"$f":"SUMIFS(Inrichtingskosten!$H:$H,Inrichtingskosten!$C:$C,Invoer!$B43,Inrichtingskosten!$B:$B,Invoer!AA43)*Invoer!F43","v":0},{"$f":"SUMIFS(Inrichtingskosten!$H:$H,Inrichtingskosten!$C:$C,Invoer!$B43,Inrichtingskosten!$B:$B,Invoer!AB43)*Invoer!H43","v":0},{"$f":"SUMIFS(Inrichtingskosten!$H:$H,Inrichtingskosten!$C:$C,Invoer!$B43,Inrichtingskosten!$B:$B,Invoer!AC43)*Invoer!H43","v":0},{"$f":"SUMIFS(Inrichtingskosten!$H:$H,Inrichtingskosten!$C:$C,Invoer!$B43,Inrichtingskosten!$B:$B,Invoer!AD43)*Invoer!J43","v":0},{"$f":"SUMIFS(Inrichtingskosten!$H:$H,Inrichtingskosten!$C:$C,Invoer!$B43,Inrichtingskosten!$B:$B,Invoer!AE43)*Invoer!J43","v":0},null,null,null,null,"Infiltratiesystemen",{"$f":"AL11","v":"Realisatie"},{"$f":"SUM(Y22:Y32)+SUM(Z22:Z32)","v":0},{"$f":"SUM(AA22:AA32)+SUM(AB22:AB32)","v":0},{"$f":"SUM(AD22:AD32)+SUM(AC22:AC32)","v":0},{"$f":"SUM(AF22:AF32)+SUM(AE22:AE32)","v":0}]
[null,{"$f":"Invoer!B44","v":"Woonstraat en parkeerterrein van betonstraatstenen"},"",{"$f":"IF(IF(Invoer!E44<>\"Verwijderen\",(SUMIFS(Onderhoudskosten!$K:$K,Onderhoudskosten!$B:$B,Invoer!$B44)*Invoer!D44),\" \")=0,\" \",IF(Invoer!E44<>\"Verwijderen\",(SUMIFS(Onderhoudskosten!$K:$K,Onderhoudskosten!$B:$B,Invoer!$B44)*Invoer!D44),\" \"))","v":" "},"",{"$f":"IF(IF(Invoer!G44<>\"Verwijderen\",(SUMIFS(Onderhoudskosten!$K:$K,Onderhoudskosten!$B:$B,Invoer!$B44)*Invoer!F44),\" \")=0,\" \",IF(Invoer!G44<>\"Verwijderen\",(SUMIFS(Onderhoudskosten!$K:$K,Onderhoudskosten!$B:$B,Invoer!$B44)*Invoer!F44),\" \"))","v":" "},{"$f":"IF(2*(AC14+AD14)/100=0,\"\",2*(AC14+AD14)/100)","v":""},{"$f":"IF(IF(Invoer!I44<>\"Verwijderen\",(SUMIFS(Onderhoudskosten!$K:$K,Onderhoudskosten!$B:$B,Invoer!$B44)*Invoer!H44),\" \")=0,\" \",IF(Invoer!I44<>\"Verwijderen\",(SUMIFS(Onderhoudskosten!$K:$K,Onderhoudskosten!$B:$B,Invoer!$B44)*Invoer!H44),\" \"))","v":" "},"",{"$f":"IF(IF(Invoer!K44<>\"Verwijderen\",(SUMIFS(Onderhoudskosten!$K:$K,Onderhoudskosten!$B:$B,Invoer!$B44)*Invoer!J44),\" \")=0,\" \",IF(Invoer!K44<>\"Verwijderen\",(SUMIFS(Onderhoudskosten!$K:$K,Onderhoudskosten!$B:$B,Invoer!$B44)*Invoer!J44),\" \"))","v":" "},null,null,null,null,null,null,null,null,null,null,null,null,null,"Woonstraat en parkeerterrein van betonstraatstenen",{"$f":"SUMIFS(Inrichtingskosten!$H:$H,Inrichtingskosten!$C:$C,Invoer!$B44,Inrichtingskosten!$B:$B,Invoer!X44)*Invoer!D44","v":0},{"$f":"SUMIFS(Inrichtingskosten!$H:$H,Inrichtingskosten!$C:$C,Invoer!$B44,Inrichtingskosten!$B:$B,Invoer!Y44)*Invoer!D44","v":0},{"$f":"SUMIFS(Inrichtingskosten!$H:$H,Inrichtingskosten!$C:$C,Invoer!$B44,Inrichtingskosten!$B:$B,Invoer!Z44)*Invoer!F44","v":0},{"$f":"SUMIFS(Inrichtingskosten!$H:$H,Inrichtingskosten!$C:$C,Invoer!$B44,Inrichtingskosten!$B:$B,Invoer!AA44)*Invoer!F44","v":0},{"$f":"SUMIFS(Inrichtingskosten!$H:$H,Inrichtingskosten!$C:$C,Invoer!$B44,Inrichtingskosten!$B:$B,Invoer!AB44)*Invoer!H44","v":0},{"$f":"SUMIFS(Inrichtingskosten!$H:$H,Inrichtingskosten!$C:$C,Invoer!$B44,Inrichtingskosten!$B:$B,Invoer!AC44)*Invoer!H44","v":0},{"$f":"SUMIFS(Inrichtingskosten!$H:$H,Inrichtingskosten!$C:$C,Invoer!$B44,Inrichtingskosten!$B:$B,Invoer!AD44)*Invoer!J44","v":0},{"$f":"SUMIFS(Inrichtingskosten!$H:$H,Inrichtingskosten!$C:$C,Invoer!$B44,Inrichtingskosten!$B:$B,Invoer!AE44)*Invoer!J44","v":0},null,null,null,null,null,"Onderhoud",{"$f":"SUM(D22:D32)","v":0},{"$f":"SUM(F22:F32)","v":0},{"$f":"SUM(H22:H32)","v":0},{"$f":"SUM(J22:J32)","v":0}]
[null,{"$f":"Invoer!B45","v":"Doorlatende verharding"},{"$f":"IF(2*(Y15+Z15)/100=0,\"\",2*(Y15+Z15)/100)","v":""},{"$f":"IF(IF(Invoer!E45<>\"Verwijderen\",(SUMIFS(Onderhoudskosten!$K:$K,Onderhoudskosten!$B:$B,Invoer!$B45)*Invoer!D45),\" \")=0,\" \",IF(Invoer!E45<>\"Verwijderen\",(SUMIFS(Onderhoudskosten!$K:$K,Onderhoudskosten!$B:$B,Invoer!$B45)*Invoer!D45),\" \"))","v":" "},{"$f":"IF(2*(AA15+AB15)/100=0,\"\",2*(AA15+AB15)/100)","v":""},{"$f":"IF(IF(Invoer!G45<>\"Verwijderen\",(SUMIFS(Onderhoudskosten!$K:$K,Onderhoudskosten!$B:$B,Invoer!$B45)*Invoer!F45),\" \")=0,\" \",IF(Invoer!G45<>\"Verwijderen\",(SUMIFS(Onderhoudskosten!$K:$K,Onderhoudskosten!$B:$B,Invoer!$B45)*Invoer!F45),\" \"))","v":" "},{"$f":"IF(2*(AC15+AD15)/100=0,\"\",2*(AC15+AD15)/100)","v":""},{"$f":"IF(IF(Invoer!I45<>\"Verwijderen\",(SUMIFS(Onderhoudskosten!$K:$K,Onderhoudskosten!$B:$B,Invoer!$B45)*Invoer!H45),\" \")=0,\" \",IF(Invoer!I45<>\"Verwijderen\",(SUMIFS(Onderhoudskosten!$K:$K,Onderhoudskosten!$B:$B,Invoer!$B45)*Invoer!H45),\" \"))","v":" "},{"$f":"IF(2*(AE15+AF15)/100=0,\"\",2*(AE15+AF15)/100)","v":""},{"$f":"IF(IF(Invoer!K45<>\"Verwijderen\",(SUMIFS(Onderhoudskosten!$K:$K,Onderhoudskosten!$B:$B,Invoer!$B45)*Invoer!J45),\" \")=0,\" \",IF(Invoer!K45<>\"Verwijderen\",(SUMIFS(Onderhoudskosten!$K:$K,Onderhoudskosten!$B:$B,Invoer!$B45)*Invoer!J45),\" \"))","v":" "},null,null,null,null,null,null,null,null,null,null,null,null,null,{"$f":"B15","v":"Doorlatende verharding"},{"$f":"SUMIFS(Inrichtingskosten!$H:$H,Inrichtingskosten!$C:$C,Invoer!$B45,Inrichtingskosten!$B:$B,Invoer!X45)*Invoer!D45","v":0},{"$f":"SUMIFS(Inrichtingskosten!$H:$H,Inrichtingskosten!$C:$C,Invoer!$B45,Inrichtingskosten!$B:$B,Invoer!Y45)*Invoer!D45","v":0},{"$f":"SUMIFS(Inrichtingskosten!$H:$H,Inrichtingskosten!$C:$C,Invoer!$B45,Inrichtingskosten!$B:$B,Invoer!Z45)*Invoer!F45","v":0},{"$f":"SUMIFS(Inrichtingskosten!$H:$H,Inrichtingskosten!$C:$C,Invoer!$B45,Inrichtingskosten!$B:$B,Invoer!AA45)*Invoer!F45","v":0},{"$f":"SUMIFS(Inrichtingskosten!$H:$H,Inrichtingskosten!$C:$C,Invoer!$B45,Inrichtingskosten!$B:$B,Invoer!AB45)*Invoer!H45","v":0},{"$f":"SUMIFS(Inrichtingskosten!$H:$H,Inrichtingskosten!$C:$C,Invoer!$B45,Inrichtingskosten!$B:$B,Invoer!AC45)*Invoer!H45","v":0},{"$f":"SUMIFS(Inrichtingskosten!$H:$H,Inrichtingskosten!$C:$C,Invoer!$B45,Inrichtingskosten!$B:$B,Invoer!AD45)*Invoer!J45","v":0},{"$f":"SUMIFS(Inrichtingskosten!$H:$H,Inrichtingskosten!$C:$C,Invoer!$B45,Inrichtingskosten!$B:$B,Invoer!AE45)*Invoer!J45","v":0}]
[null,{"$f":"Invoer!B46","v":" "},"",{"$f":"IF(IF(Invoer!E46<>\"Verwijderen\",(SUMIFS(Onderhoudskosten!$K:$K,Onderhoudskosten!$B:$B,Invoer!$B46)*Invoer!D46),\" \")=0,\" \",IF(Invoer!E46<>\"Verwijderen\",(SUMIFS(Onderhoudskosten!$K:$K,Onderhoudskosten!$B:$B,Invoer!$B46)*Invoer!D46),\" \"))","v":" "},"",{"$f":"IF(IF(Invoer!G46<>\"Verwijderen\",(SUMIFS(Onderhoudskosten!$K:$K,Onderhoudskosten!$B:$B,Invoer!$B46)*Invoer!F46),\" \")=0,\" \",IF(Invoer!G46<>\"Verwijderen\",(SUMIFS(Onderhoudskosten!$K:$K,Onderhoudskosten!$B:$B,Invoer!$B46)*Invoer!F46),\" \"))","v":" "},"",{"$f":"IF(IF(Invoer!I46<>\"Verwijderen\",(SUMIFS(Onderhoudskosten!$K:$K,Onderhoudskosten!$B:$B,Invoer!$B46)*Invoer!H46),\" \")=0,\" \",IF(Invoer!I46<>\"Verwijderen\",(SUMIFS(Onderhoudskosten!$K:$K,Onderhoudskosten!$B:$B,Invoer!$B46)*Invoer!H46),\" \"))","v":" "},"",{"$f":"IF(IF(Invoer!K46<>\"Verwijderen\",(SUMIFS(Onderhoudskosten!$K:$K,Onderhoudskosten!$B:$B,Invoer!$B46)*Invoer!J46),\" \")=0,\" \",IF(Invoer!K46<>\"Verwijderen\",(SUMIFS(Onderhoudskosten!$K:$K,Onderhoudskosten!$B:$B,Invoer!$B46)*Invoer!J46),\" \"))","v":" "},null,null,null,null,null,null,null,null,null,null,null,null,null," ",{"$f":"SUMIFS(Inrichtingskosten!$H:$H,Inrichtingskosten!$C:$C,Invoer!$B46,Inrichtingskosten!$B:$B,Invoer!X46)*Invoer!D46","v":0},{"$f":"SUMIFS(Inrichtingskosten!$H:$H,Inrichtingskosten!$C:$C,Invoer!$B46,Inrichtingskosten!$B:$B,Invoer!Y46)*Invoer!D46","v":0},{"$f":"SUMIFS(Inrichtingskosten!$H:$H,Inrichtingskosten!$C:$C,Invoer!$B46,Inrichtingskosten!$B:$B,Invoer!Z46)*Invoer!F46","v":0},{"$f":"SUMIFS(Inrichtingskosten!$H:$H,Inrichtingskosten!$C:$C,Invoer!$B46,Inrichtingskosten!$B:$B,Invoer!AA46)*Invoer!F46","v":0},{"$f":"SUMIFS(Inrichtingskosten!$H:$H,Inrichtingskosten!$C:$C,Invoer!$B46,Inrichtingskosten!$B:$B,Invoer!AB46)*Invoer!H46","v":0},{"$f":"SUMIFS(Inrichtingskosten!$H:$H,Inrichtingskosten!$C:$C,Invoer!$B46,Inrichtingskosten!$B:$B,Invoer!AC46)*Invoer!H46","v":0},{"$f":"SUMIFS(Inrichtingskosten!$H:$H,Inrichtingskosten!$C:$C,Invoer!$B46,Inrichtingskosten!$B:$B,Invoer!AD46)*Invoer!J46","v":0},{"$f":"SUMIFS(Inrichtingskosten!$H:$H,Inrichtingskosten!$C:$C,Invoer!$B46,Inrichtingskosten!$B:$B,Invoer!AE46)*Invoer!J46","v":0}]
[null,{"$f":"Invoer!B47","v":" "},"",{"$f":"IF(IF(Invoer!E47<>\"Verwijderen\",(SUMIFS(Onderhoudskosten!$K:$K,Onderhoudskosten!$B:$B,Invoer!$B47)*Invoer!D47),\" \")=0,\" \",IF(Invoer!E47<>\"Verwijderen\",(SUMIFS(Onderhoudskosten!$K:$K,Onderhoudskosten!$B:$B,Invoer!$B47)*Invoer!D47),\" \"))","v":" "},"",{"$f":"IF(IF(Invoer!G47<>\"Verwijderen\",(SUMIFS(Onderhoudskosten!$K:$K,Onderhoudskosten!$B:$B,Invoer!$B47)*Invoer!F47),\" \")=0,\" \",IF(Invoer!G47<>\"Verwijderen\",(SUMIFS(Onderhoudskosten!$K:$K,Onderhoudskosten!$B:$B,Invoer!$B47)*Invoer!F47),\" \"))","v":" "},"",{"$f":"IF(IF(Invoer!I47<>\"Verwijderen\",(SUMIFS(Onderhoudskosten!$K:$K,Onderhoudskosten!$B:$B,Invoer!$B47)*Invoer!H47),\" \")=0,\" \",IF(Invoer!I47<>\"Verwijderen\",(SUMIFS(Onderhoudskosten!$K:$K,Onderhoudskosten!$B:$B,Invoer!$B47)*Invoer!H47),\" \"))","v":" "},"",{"$f":"IF(IF(Invoer!K47<>\"Verwijderen\",(SUMIFS(Onderhoudskosten!$K:$K,Onderhoudskosten!$B:$B,Invoer!$B47)*Invoer!J47),\" \")=0,\" \",IF(Invoer!K47<>\"Verwijderen\",(SUMIFS(Onderhoudskosten!$K:$K,Onderhoudskosten!$B:$B,Invoer!$B47)*Invoer!J47),\" \"))","v":" "},null,null,null,null,null,null,null,null,null,null,null,null,null," ",{"$f":"SUMIFS(Inrichtingskosten!$H:$H,Inrichtingskosten!$C:$C,Invoer!$B47,Inrichtingskosten!$B:$B,Invoer!X47)*Invoer!D47","v":0},{"$f":"SUMIFS(Inrichtingskosten!$H:$H,Inrichtingskosten!$C:$C,Invoer!$B47,Inrichtingskosten!$B:$B,Invoer!Y47)*Invoer!D47","v":0},{"$f":"SUMIFS(Inrichtingskosten!$H:$H,Inrichtingskosten!$C:$C,Invoer!$B47,Inrichtingskosten!$B:$B,Invoer!Z47)*Invoer!F47","v":0},{"$f":"SUMIFS(Inrichtingskosten!$H:$H,Inrichtingskosten!$C:$C,Invoer!$B47,Inrichtingskosten!$B:$B,Invoer!AA47)*Invoer!F47","v":0},{"$f":"SUMIFS(Inrichtingskosten!$H:$H,Inrichtingskosten!$C:$C,Invoer!$B47,Inrichtingskosten!$B:$B,Invoer!AB47)*Invoer!H47","v":0},{"$f":"SUMIFS(Inrichtingskosten!$H:$H,Inrichtingskosten!$C:$C,Invoer!$B47,Inrichtingskosten!$B:$B,Invoer!AC47)*Invoer!H47","v":0},{"$f":"SUMIFS(Inrichtingskosten!$H:$H,Inrichtingskosten!$C:$C,Invoer!$B47,Inrichtingskosten!$B:$B,Invoer!AD47)*Invoer!J47","v":0},{"$f":"SUMIFS(Inrichtingskosten!$H:$H,Inrichtingskosten!$C:$C,Invoer!$B47,Inrichtingskosten!$B:$B,Invoer!AE47)*Invoer!J47","v":0}]
[null,{"$f":"Invoer!B48","v":" "},"",{"$f":"IF(IF(Invoer!E48<>\"Verwijderen\",(SUMIFS(Onderhoudskosten!$K:$K,Onderhoudskosten!$B:$B,Invoer!$B48)*Invoer!D48),\" \")=0,\" \",IF(Invoer!E48<>\"Verwijderen\",(SUMIFS(Onderhoudskosten!$K:$K,Onderhoudskosten!$B:$B,Invoer!$B48)*Invoer!D48),\" \"))","v":" "},"",{"$f":"IF(IF(Invoer!G48<>\"Verwijderen\",(SUMIFS(Onderhoudskosten!$K:$K,Onderhoudskosten!$B:$B,Invoer!$B48)*Invoer!F48),\" \")=0,\" \",IF(Invoer!G48<>\"Verwijderen\",(SUMIFS(Onderhoudskosten!$K:$K,Onderhoudskosten!$B:$B,Invoer!$B48)*Invoer!F48),\" \"))","v":" "},"",{"$f":"IF(IF(Invoer!I48<>\"Verwijderen\",(SUMIFS(Onderhoudskosten!$K:$K,Onderhoudskosten!$B:$B,Invoer!$B48)*Invoer!H48),\" \")=0,\" \",IF(Invoer!I48<>\"Verwijderen\",(SUMIFS(Onderhoudskosten!$K:$K,Onderhoudskosten!$B:$B,Invoer!$B48)*Invoer!H48),\" \"))","v":" "},"",{"$f":"IF(IF(Invoer!K48<>\"Verwijderen\",(SUMIFS(Onderhoudskosten!$K:$K,Onderhoudskosten!$B:$B,Invoer!$B48)*Invoer!J48),\" \")=0,\" \",IF(Invoer!K48<>\"Verwijderen\",(SUMIFS(Onderhoudskosten!$K:$K,Onderhoudskosten!$B:$B,Invoer!$B48)*Invoer!J48),\" \"))","v":" "},null,null,null,null,null,null,null,null,null,null,null,null,null," ",{"$f":"SUMIFS(Inrichtingskosten!$H:$H,Inrichtingskosten!$C:$C,Invoer!$B48,Inrichtingskosten!$B:$B,Invoer!X48)*Invoer!D48","v":0},{"$f":"SUMIFS(Inrichtingskosten!$H:$H,Inrichtingskosten!$C:$C,Invoer!$B48,Inrichtingskosten!$B:$B,Invoer!Y48)*Invoer!D48","v":0},{"$f":"SUMIFS(Inrichtingskosten!$H:$H,Inrichtingskosten!$C:$C,Invoer!$B48,Inrichtingskosten!$B:$B,Invoer!Z48)*Invoer!F48","v":0},{"$f":"SUMIFS(Inrichtingskosten!$H:$H,Inrichtingskosten!$C:$C,Invoer!$B48,Inrichtingskosten!$B:$B,Invoer!AA48)*Invoer!F48","v":0},{"$f":"SUMIFS(Inrichtingskosten!$H:$H,Inrichtingskosten!$C:$C,Invoer!$B48,Inrichtingskosten!$B:$B,Invoer!AB48)*Invoer!H48","v":0},{"$f":"SUMIFS(Inrichtingskosten!$H:$H,Inrichtingskosten!$C:$C,Invoer!$B48,Inrichtingskosten!$B:$B,Invoer!AC48)*Invoer!H48","v":0},{"$f":"SUMIFS(Inrichtingskosten!$H:$H,Inrichtingskosten!$C:$C,Invoer!$B48,Inrichtingskosten!$B:$B,Invoer!AD48)*Invoer!J48","v":0},{"$f":"SUMIFS(Inrichtingskosten!$H:$H,Inrichtingskosten!$C:$C,Invoer!$B48,Inrichtingskosten!$B:$B,Invoer!AE48)*Invoer!J48","v":0}]
[null,{"$f":"Invoer!B49","v":" "},"",{"$f":"IF(IF(Invoer!E49<>\"Verwijderen\",(SUMIFS(Onderhoudskosten!$K:$K,Onderhoudskosten!$B:$B,Invoer!$B49)*Invoer!D49),\" \")=0,\" \",IF(Invoer!E49<>\"Verwijderen\",(SUMIFS(Onderhoudskosten!$K:$K,Onderhoudskosten!$B:$B,Invoer!$B49)*Invoer!D49),\" \"))","v":" "},"",{"$f":"IF(IF(Invoer!G49<>\"Verwijderen\",(SUMIFS(Onderhoudskosten!$K:$K,Onderhoudskosten!$B:$B,Invoer!$B49)*Invoer!F49),\" \")=0,\" \",IF(Invoer!G49<>\"Verwijderen\",(SUMIFS(Onderhoudskosten!$K:$K,Onderhoudskosten!$B:$B,Invoer!$B49)*Invoer!F49),\" \"))","v":" "},"",{"$f":"IF(IF(Invoer!I49<>\"Verwijderen\",(SUMIFS(Onderhoudskosten!$K:$K,Onderhoudskosten!$B:$B,Invoer!$B49)*Invoer!H49),\" \")=0,\" \",IF(Invoer!I49<>\"Verwijderen\",(SUMIFS(Onderhoudskosten!$K:$K,Onderhoudskosten!$B:$B,Invoer!$B49)*Invoer!H49),\" \"))","v":" "},"",{"$f":"IF(IF(Invoer!K49<>\"Verwijderen\",(SUMIFS(Onderhoudskosten!$K:$K,Onderhoudskosten!$B:$B,Invoer!$B49)*Invoer!J49),\" \")=0,\" \",IF(Invoer!K49<>\"Verwijderen\",(SUMIFS(Onderhoudskosten!$K:$K,Onderhoudskosten!$B:$B,Invoer!$B49)*Invoer!J49),\" \"))","v":" "},null,null,null,null,null,null,null,null,null,null,null,null,null," ",{"$f":"SUMIFS(Inrichtingskosten!$H:$H,Inrichtingskosten!$C:$C,Invoer!$B49,Inrichtingskosten!$B:$B,Invoer!X49)*Invoer!D49","v":0},{"$f":"SUMIFS(Inrichtingskosten!$H:$H,Inrichtingskosten!$C:$C,Invoer!$B49,Inrichtingskosten!$B:$B,Invoer!Y49)*Invoer!D49","v":0},{"$f":"SUMIFS(Inrichtingskosten!$H:$H,Inrichtingskosten!$C:$C,Invoer!$B49,Inrichtingskosten!$B:$B,Invoer!Z49)*Invoer!F49","v":0},{"$f":"SUMIFS(Inrichtingskosten!$H:$H,Inrichtingskosten!$C:$C,Invoer!$B49,Inrichtingskosten!$B:$B,Invoer!AA49)*Invoer!F49","v":0},{"$f":"SUMIFS(Inrichtingskosten!$H:$H,Inrichtingskosten!$C:$C,Invoer!$B49,Inrichtingskosten!$B:$B,Invoer!AB49)*Invoer!H49","v":0},{"$f":"SUMIFS(Inrichtingskosten!$H:$H,Inrichtingskosten!$C:$C,Invoer!$B49,Inrichtingskosten!$B:$B,Invoer!AC49)*Invoer!H49","v":0},{"$f":"SUMIFS(Inrichtingskosten!$H:$H,Inrichtingskosten!$C:$C,Invoer!$B49,Inrichtingskosten!$B:$B,Invoer!AD49)*Invoer!J49","v":0},{"$f":"SUMIFS(Inrichtingskosten!$H:$H,Inrichtingskosten!$C:$C,Invoer!$B49,Inrichtingskosten!$B:$B,Invoer!AE49)*Invoer!J49","v":0},null,null,null,null,"Gescheiden hemelwaterriool",{"$f":"AL13","v":"Realisatie"},{"$f":"SUM(Y34:Y44)+SUM(Z34:Z44)","v":0},{"$f":"SUM(AA34:AA44)+SUM(AB34:AB44)","v":0},{"$f":"SUM(AD34:AD44)+SUM(AC34:AC44)","v":0},{"$f":"SUM(AF34:AF44)+SUM(AE34:AE44)","v":0}]
[null,{"$f":"Invoer!B50","v":" "},"",{"$f":"IF(IF(Invoer!E50<>\"Verwijderen\",(SUMIFS(Onderhoudskosten!$K:$K,Onderhoudskosten!$B:$B,Invoer!$B50)*Invoer!D50),\" \")=0,\" \",IF(Invoer!E50<>\"Verwijderen\",(SUMIFS(Onderhoudskosten!$K:$K,Onderhoudskosten!$B:$B,Invoer!$B50)*Invoer!D50),\" \"))","v":" "},"",{"$f":"IF(IF(Invoer!G50<>\"Verwijderen\",(SUMIFS(Onderhoudskosten!$K:$K,Onderhoudskosten!$B:$B,Invoer!$B50)*Invoer!F50),\" \")=0,\" \",IF(Invoer!G50<>\"Verwijderen\",(SUMIFS(Onderhoudskosten!$K:$K,Onderhoudskosten!$B:$B,Invoer!$B50)*Invoer!F50),\" \"))","v":" "},"",{"$f":"IF(IF(Invoer!I50<>\"Verwijderen\",(SUMIFS(Onderhoudskosten!$K:$K,Onderhoudskosten!$B:$B,Invoer!$B50)*Invoer!H50),\" \")=0,\" \",IF(Invoer!I50<>\"Verwijderen\",(SUMIFS(Onderhoudskosten!$K:$K,Onderhoudskosten!$B:$B,Invoer!$B50)*Invoer!H50),\" \"))","v":" "},"",{"$f":"IF(IF(Invoer!K50<>\"Verwijderen\",(SUMIFS(Onderhoudskosten!$K:$K,Onderhoudskosten!$B:$B,Invoer!$B50)*Invoer!J50),\" \")=0,\" \",IF(Invoer!K50<>\"Verwijderen\",(SUMIFS(Onderhoudskosten!$K:$K,Onderhoudskosten!$B:$B,Invoer!$B50)*Invoer!J50),\" \"))","v":" "},null,null,null,null,null,null,null,null,null,null,null,null,null," ",{"$f":"SUMIFS(Inrichtingskosten!$H:$H,Inrichtingskosten!$C:$C,Invoer!$B50,Inrichtingskosten!$B:$B,Invoer!X50)*Invoer!D50","v":0},{"$f":"SUMIFS(Inrichtingskosten!$H:$H,Inrichtingskosten!$C:$C,Invoer!$B50,Inrichtingskosten!$B:$B,Invoer!Y50)*Invoer!D50","v":0},{"$f":"SUMIFS(Inrichtingskosten!$H:$H,Inrichtingskosten!$C:$C,Invoer!$B50,Inrichtingskosten!$B:$B,Invoer!Z50)*Invoer!F50","v":0},{"$f":"SUMIFS(Inrichtingskosten!$H:$H,Inrichtingskosten!$C:$C,Invoer!$B50,Inrichtingskosten!$B:$B,Invoer!AA50)*Invoer!F50","v":0},{"$f":"SUMIFS(Inrichtingskosten!$H:$H,Inrichtingskosten!$C:$C,Invoer!$B50,Inrichtingskosten!$B:$B,Invoer!AB50)*Invoer!H50","v":0},{"$f":"SUMIFS(Inrichtingskosten!$H:$H,Inrichtingskosten!$C:$C,Invoer!$B50,Inrichtingskosten!$B:$B,Invoer!AC50)*Invoer!H50","v":0},{"$f":"SUMIFS(Inrichtingskosten!$H:$H,Inrichtingskosten!$C:$C,Invoer!$B50,Inrichtingskosten!$B:$B,Invoer!AD50)*Invoer!J50","v":0},{"$f":"SUMIFS(Inrichtingskosten!$H:$H,Inrichtingskosten!$C:$C,Invoer!$B50,Inrichtingskosten!$B:$B,Invoer!AE50)*Invoer!J50","v":0},null,null,null,null,null,{"$f":"AL14","v":"Onderhoud"},{"$f":"SUM(D34:D44)","v":0},{"$f":"SUM(F34:F352)","v":{"$error":"#DIV/0!"}},{"$f":"SUM(H34:H44)","v":0},{"$f":"SUM(J34:J44)","v":0}]
[null,{"$f":"Invoer!B51","v":"Infiltratiesystemen"},null,null,null,null,null,null,null,null,null,null,null,null,null,null,null,null,null,null,null,null,null,{"$f":"Invoer!B51","v":"Infiltratiesystemen"},null,null,null,null,null,null,null,null,null,null,null,null,"Gemengd- of afvalwaterriool","Realisatie",{"$f":"SUM(Y46:Y57)+SUM(Z46:Z57)","v":0},{"$f":"SUM(AA46:AA57)+SUM(AB46:AB57)","v":0},{"$f":"SUM(AD46:AD57)+SUM(AC46:AC57)","v":0},{"$f":"SUM(AF46:AF57)+SUM(AE46:AE57)","v":0}]
[null,{"$f":"Invoer!B52","v":"Centrale wadi"},{"$f":"IF(2*(Y22+Z22)/100=0,\"\",2*(Y22+Z22)/100)","v":""},{"$f":"IF(IF(Invoer!E52<>\"Verwijderen\",(SUMIFS(Onderhoudskosten!$K:$K,Onderhoudskosten!$B:$B,Invoer!$B52)*Invoer!D52),\" \")=0,\" \",IF(Invoer!E52<>\"Verwijderen\",(SUMIFS(Onderhoudskosten!$K:$K,Onderhoudskosten!$B:$B,Invoer!$B52)*Invoer!D52),\" \"))","v":" "},{"$f":"IF(2*(AA22+AB22)/100=0,\"\",2*(AA22+AB22)/100)","v":""},{"$f":"IF(IF(Invoer!G52<>\"Verwijderen\",(SUMIFS(Onderhoudskosten!$K:$K,Onderhoudskosten!$B:$B,Invoer!$B52)*Invoer!F52),\" \")=0,\" \",IF(Invoer!G52<>\"Verwijderen\",(SUMIFS(Onderhoudskosten!$K:$K,Onderhoudskosten!$B:$B,Invoer!$B52)*Invoer!F52),\" \"))","v":" "},{"$f":"IF(2*(AC22+AD22)/100=0,\"\",2*(AC22+AD22)/100)","v":""},{"$f":"IF(IF(Invoer!I52<>\"Verwijderen\",(SUMIFS(Onderhoudskosten!$K:$K,Onderhoudskosten!$B:$B,Invoer!$B52)*Invoer!H52),\" \")=0,\" \",IF(Invoer!I52<>\"Verwijderen\",(SUMIFS(Onderhoudskosten!$K:$K,Onderhoudskosten!$B:$B,Invoer!$B52)*Invoer!H52),\" \"))","v":" "},{"$f":"IF(2*(AE22+AF22)/100=0,\"\",2*(AE22+AF22)/100)","v":""},{"$f":"IF(IF(Invoer!K52<>\"Verwijderen\",(SUMIFS(Onderhoudskosten!$K:$K,Onderhoudskosten!$B:$B,Invoer!$B52)*Invoer!J52),\" \")=0,\" \",IF(Invoer!K52<>\"Verwijderen\",(SUMIFS(Onderhoudskosten!$K:$K,Onderhoudskosten!$B:$B,Invoer!$B52)*Invoer!J52),\" \"))","v":" "},null,null,null,null,null,null,null,null,null,null,null,null,null,{"$f":"B22","v":"Centrale wadi"},{"$f":"SUMIFS(Inrichtingskosten!$H:$H,Inrichtingskosten!$C:$C,Invoer!$B52,Inrichtingskosten!$B:$B,Invoer!X52)*Invoer!D52","v":0},{"$f":"SUMIFS(Inrichtingskosten!$H:$H,Inrichtingskosten!$C:$C,Invoer!$B52,Inrichtingskosten!$B:$B,Invoer!Y52)*Invoer!D52","v":0},{"$f":"SUMIFS(Inrichtingskosten!$H:$H,Inrichtingskosten!$C:$C,Invoer!$B52,Inrichtingskosten!$B:$B,Invoer!Z52)*Invoer!F52","v":0},{"$f":"SUMIFS(Inrichtingskosten!$H:$H,Inrichtingskosten!$C:$C,Invoer!$B52,Inrichtingskosten!$B:$B,Invoer!AA52)*Invoer!F52","v":0},{"$f":"SUMIFS(Inrichtingskosten!$H:$H,Inrichtingskosten!$C:$C,Invoer!$B52,Inrichtingskosten!$B:$B,Invoer!AB52)*Invoer!H52","v":0},{"$f":"SUMIFS(Inrichtingskosten!$H:$H,Inrichtingskosten!$C:$C,Invoer!$B52,Inrichtingskosten!$B:$B,Invoer!AC52)*Invoer!H52","v":0},{"$f":"SUMIFS(Inrichtingskosten!$H:$H,Inrichtingskosten!$C:$C,Invoer!$B52,Inrichtingskosten!$B:$B,Invoer!AD52)*Invoer!J52","v":0},{"$f":"SUMIFS(Inrichtingskosten!$H:$H,Inrichtingskosten!$C:$C,Invoer!$B52,Inrichtingskosten!$B:$B,Invoer!AE52)*Invoer!J52","v":0},null,null,null,null,null,"Onderhoud",{"$f":"SUM(D46:D57)","v":0},{"$f":"SUM(F46:F57)","v":0},{"$f":"SUM(H46:H57)","v":0},{"$f":"SUM(J46:J57)","v":0}]
[null,{"$f":"Invoer!B53","v":"Molgoot"},{"$f":"IF(2*(Y23+Z23)/100=0,\"\",2*(Y23+Z23)/100)","v":""},{"$f":"IF(IF(Invoer!E53<>\"Verwijderen\",(SUMIFS(Onderhoudskosten!$K:$K,Onderhoudskosten!$B:$B,Invoer!$B53)*Invoer!D53),\" \")=0,\" \",IF(Invoer!E53<>\"Verwijderen\",(SUMIFS(Onderhoudskosten!$K:$K,Onderhoudskosten!$B:$B,Invoer!$B53)*Invoer!D53),\" \"))","v":" "},{"$f":"IF(2*(AA23+AB23)/100=0,\"\",2*(AA23+AB23)/100)","v":""},{"$f":"IF(IF(Invoer!G53<>\"Verwijderen\",(SUMIFS(Onderhoudskosten!$K:$K,Onderhoudskosten!$B:$B,Invoer!$B53)*Invoer!F53),\" \")=0,\" \",IF(Invoer!G53<>\"Verwijderen\",(SUMIFS(Onderhoudskosten!$K:$K,Onderhoudskosten!$B:$B,Invoer!$B53)*Invoer!F53),\" \"))","v":" "},{"$f":"IF(2*(AC23+AD23)/100=0,\"\",2*(AC23+AD23)/100)","v":""},{"$f":"IF(IF(Invoer!I53<>\"Verwijderen\",(SUMIFS(Onderhoudskosten!$K:$K,Onderhoudskosten!$B:$B,Invoer!$B53)*Invoer!H53),\" \")=0,\" \",IF(Invoer!I53<>\"Verwijderen\",(SUMIFS(Onderhoudskosten!$K:$K,Onderhoudskosten!$B:$B,Invoer!$B53)*Invoer!H53),\" \"))","v":" "},{"$f":"IF(2*(AE23+AF23)/100=0,\"\",2*(AE23+AF23)/100)","v":""},{"$f":"IF(IF(Invoer!K53<>\"Verwijderen\",(SUMIFS(Onderhoudskosten!$K:$K,Onderhoudskosten!$B:$B,Invoer!$B53)*Invoer!J53),\" \")=0,\" \",IF(Invoer!K53<>\"Verwijderen\",(SUMIFS(Onderhoudskosten!$K:$K,Onderhoudskosten!$B:$B,Invoer!$B53)*Invoer!J53),\" \"))","v":" "},null,null,null,null,null,null,null,null,null,null,null,null,null,{"$f":"B23","v":"Molgoot"},{"$f":"SUMIFS(Inrichtingskosten!$H:$H,Inrichtingskosten!$C:$C,Invoer!$B53,Inrichtingskosten!$B:$B,Invoer!X53)*Invoer!D53","v":0},{"$f":"SUMIFS(Inrichtingskosten!$H:$H,Inrichtingskosten!$C:$C,Invoer!$B53,Inrichtingskosten!$B:$B,Invoer!Y53)*Invoer!D53","v":0},{"$f":"SUMIFS(Inrichtingskosten!$H:$H,Inrichtingskosten!$C:$C,Invoer!$B53,Inrichtingskosten!$B:$B,Invoer!Z53)*Invoer!F53","v":0},{"$f":"SUMIFS(Inrichtingskosten!$H:$H,Inrichtingskosten!$C:$C,Invoer!$B53,Inrichtingskosten!$B:$B,Invoer!AA53)*Invoer!F53","v":0},{"$f":"SUMIFS(Inrichtingskosten!$H:$H,Inrichtingskosten!$C:$C,Invoer!$B53,Inrichtingskosten!$B:$B,Invoer!AB53)*Invoer!H53","v":0},{"$f":"SUMIFS(Inrichtingskosten!$H:$H,Inrichtingskosten!$C:$C,Invoer!$B53,Inrichtingskosten!$B:$B,Invoer!AC53)*Invoer!H53","v":0},{"$f":"SUMIFS(Inrichtingskosten!$H:$H,Inrichtingskosten!$C:$C,Invoer!$B53,Inrichtingskosten!$B:$B,Invoer!AD53)*Invoer!J53","v":0},{"$f":"SUMIFS(Inrichtingskosten!$H:$H,Inrichtingskosten!$C:$C,Invoer!$B53,Inrichtingskosten!$B:$B,Invoer!AE53)*Invoer!J53","v":0},null,null,null,null,"Groenvoorziening","Realisatie",{"$f":"SUM(Y59:Y66)+SUM(Z59:Z66)","v":0},{"$f":"SUM(AA59:AA66)+SUM(AB59:AB66)","v":0},{"$f":"SUM(AD59:AD66)+SUM(AC59:AC66)","v":0},{"$f":"SUM(AF59:AF66)+SUM(AE59:AE66)","v":0}]
[null,{"$f":"Invoer!B54","v":"Verbindingsleiding"},{"$f":"IF(2*(Y24+Z24)/100=0,\"\",2*(Y24+Z24)/100)","v":""},{"$f":"IF(IF(Invoer!E54<>\"Verwijderen\",(SUMIFS(Onderhoudskosten!$K:$K,Onderhoudskosten!$B:$B,Invoer!$B54)*Invoer!D54),\" \")=0,\" \",IF(Invoer!E54<>\"Verwijderen\",(SUMIFS(Onderhoudskosten!$K:$K,Onderhoudskosten!$B:$B,Invoer!$B54)*Invoer!D54),\" \"))","v":" "},{"$f":"IF(2*(AA24+AB24)/100=0,\"\",2*(AA24+AB24)/100)","v":""},{"$f":"IF(IF(Invoer!G54<>\"Verwijderen\",(SUMIFS(Onderhoudskosten!$K:$K,Onderhoudskosten!$B:$B,Invoer!$B54)*Invoer!F54),\" \")=0,\" \",IF(Invoer!G54<>\"Verwijderen\",(SUMIFS(Onderhoudskosten!$K:$K,Onderhoudskosten!$B:$B,Invoer!$B54)*Invoer!F54),\" \"))","v":" "},{"$f":"IF(2*(AC24+AD24)/100=0,\"\",2*(AC24+AD24)/100)","v":""},{"$f":"IF(IF(Invoer!I54<>\"Verwijderen\",(SUMIFS(Onderhoudskosten!$K:$K,Onderhoudskosten!$B:$B,Invoer!$B54)*Invoer!H54),\" \")=0,\" \",IF(Invoer!I54<>\"Verwijderen\",(SUMIFS(Onderhoudskosten!$K:$K,Onderhoudskosten!$B:$B,Invoer!$B54)*Invoer!H54),\" \"))","v":" "},{"$f":"IF(2*(AE24+AF24)/100=0,\"\",2*(AE24+AF24)/100)","v":""},{"$f":"IF(IF(Invoer!K54<>\"Verwijderen\",(SUMIFS(Onderhoudskosten!$K:$K,Onderhoudskosten!$B:$B,Invoer!$B54)*Invoer!J54),\" \")=0,\" \",IF(Invoer!K54<>\"Verwijderen\",(SUMIFS(Onderhoudskosten!$K:$K,Onderhoudskosten!$B:$B,Invoer!$B54)*Invoer!J54),\" \"))","v":" "},null,null,null,null,null,null,null,null,null,null,null,null,null,{"$f":"B24","v":"Verbindingsleiding"},{"$f":"SUMIFS(Inrichtingskosten!$H:$H,Inrichtingskosten!$C:$C,Invoer!$B54,Inrichtingskosten!$B:$B,Invoer!X54)*Invoer!D54","v":0},{"$f":"SUMIFS(Inrichtingskosten!$H:$H,Inrichtingskosten!$C:$C,Invoer!$B54,Inrichtingskosten!$B:$B,Invoer!Y54)*Invoer!D54","v":0},{"$f":"SUMIFS(Inrichtingskosten!$H:$H,Inrichtingskosten!$C:$C,Invoer!$B54,Inrichtingskosten!$B:$B,Invoer!Z54)*Invoer!F54","v":0},{"$f":"SUMIFS(Inrichtingskosten!$H:$H,Inrichtingskosten!$C:$C,Invoer!$B54,Inrichtingskosten!$B:$B,Invoer!AA54)*Invoer!F54","v":0},{"$f":"SUMIFS(Inrichtingskosten!$H:$H,Inrichtingskosten!$C:$C,Invoer!$B54,Inrichtingskosten!$B:$B,Invoer!AB54)*Invoer!H54","v":0},{"$f":"SUMIFS(Inrichtingskosten!$H:$H,Inrichtingskosten!$C:$C,Invoer!$B54,Inrichtingskosten!$B:$B,Invoer!AC54)*Invoer!H54","v":0},{"$f":"SUMIFS(Inrichtingskosten!$H:$H,Inrichtingskosten!$C:$C,Invoer!$B54,Inrichtingskosten!$B:$B,Invoer!AD54)*Invoer!J54","v":0},{"$f":"SUMIFS(Inrichtingskosten!$H:$H,Inrichtingskosten!$C:$C,Invoer!$B54,Inrichtingskosten!$B:$B,Invoer!AE54)*Invoer!J54","v":0}]
[null,{"$f":"Invoer!B55","v":0},"",{"$f":"IF(IF(Invoer!E55<>\"Verwijderen\",(SUMIFS(Onderhoudskosten!$K:$K,Onderhoudskosten!$B:$B,Invoer!$B55)*Invoer!D55),\" \")=0,\" \",IF(Invoer!E55<>\"Verwijderen\",(SUMIFS(Onderhoudskosten!$K:$K,Onderhoudskosten!$B:$B,Invoer!$B55)*Invoer!D55),\" \"))","v":" "},"",{"$f":"IF(IF(Invoer!G55<>\"Verwijderen\",(SUMIFS(Onderhoudskosten!$K:$K,Onderhoudskosten!$B:$B,Invoer!$B55)*Invoer!F55),\" \")=0,\" \",IF(Invoer!G55<>\"Verwijderen\",(SUMIFS(Onderhoudskosten!$K:$K,Onderhoudskosten!$B:$B,Invoer!$B55)*Invoer!F55),\" \"))","v":" "},"",{"$f":"IF(IF(Invoer!I55<>\"Verwijderen\",(SUMIFS(Onderhoudskosten!$K:$K,Onderhoudskosten!$B:$B,Invoer!$B55)*Invoer!H55),\" \")=0,\" \",IF(Invoer!I55<>\"Verwijderen\",(SUMIFS(Onderhoudskosten!$K:$K,Onderhoudskosten!$B:$B,Invoer!$B55)*Invoer!H55),\" \"))","v":" "},"",{"$f":"IF(IF(Invoer!K55<>\"Verwijderen\",(SUMIFS(Onderhoudskosten!$K:$K,Onderhoudskosten!$B:$B,Invoer!$B55)*Invoer!J55),\" \")=0,\" \",IF(Invoer!K55<>\"Verwijderen\",(SUMIFS(Onderhoudskosten!$K:$K,Onderhoudskosten!$B:$B,Invoer!$B55)*Invoer!J55),\" \"))","v":" "},null,null,null,null,null,null,null,null,null,null,null,null,null,0,{"$f":"SUMIFS(Inrichtingskosten!$H:$H,Inrichtingskosten!$C:$C,Invoer!$B55,Inrichtingskosten!$B:$B,Invoer!X55)*Invoer!D55","v":0},{"$f":"SUMIFS(Inrichtingskosten!$H:$H,Inrichtingskosten!$C:$C,Invoer!$B55,Inrichtingskosten!$B:$B,Invoer!Y55)*Invoer!D55","v":0},{"$f":"SUMIFS(Inrichtingskosten!$H:$H,Inrichtingskosten!$C:$C,Invoer!$B55,Inrichtingskosten!$B:$B,Invoer!Z55)*Invoer!F55","v":0},{"$f":"SUMIFS(Inrichtingskosten!$H:$H,Inrichtingskosten!$C:$C,Invoer!$B55,Inrichtingskosten!$B:$B,Invoer!AA55)*Invoer!F55","v":0},{"$f":"SUMIFS(Inrichtingskosten!$H:$H,Inrichtingskosten!$C:$C,Invoer!$B55,Inrichtingskosten!$B:$B,Invoer!AB55)*Invoer!H55","v":0},{"$f":"SUMIFS(Inrichtingskosten!$H:$H,Inrichtingskosten!$C:$C,Invoer!$B55,Inrichtingskosten!$B:$B,Invoer!AC55)*Invoer!H55","v":0},{"$f":"SUMIFS(Inrichtingskosten!$H:$H,Inrichtingskosten!$C:$C,Invoer!$B55,Inrichtingskosten!$B:$B,Invoer!AD55)*Invoer!J55","v":0},{"$f":"SUMIFS(Inrichtingskosten!$H:$H,Inrichtingskosten!$C:$C,Invoer!$B55,Inrichtingskosten!$B:$B,Invoer!AE55)*Invoer!J55","v":0}]
[null,{"$f":"Invoer!B56","v":0},"",{"$f":"IF(IF(Invoer!E56<>\"Verwijderen\",(SUMIFS(Onderhoudskosten!$K:$K,Onderhoudskosten!$B:$B,Invoer!$B56)*Invoer!D56),\" \")=0,\" \",IF(Invoer!E56<>\"Verwijderen\",(SUMIFS(Onderhoudskosten!$K:$K,Onderhoudskosten!$B:$B,Invoer!$B56)*Invoer!D56),\" \"))","v":" "},"",{"$f":"IF(IF(Invoer!G56<>\"Verwijderen\",(SUMIFS(Onderhoudskosten!$K:$K,Onderhoudskosten!$B:$B,Invoer!$B56)*Invoer!F56),\" \")=0,\" \",IF(Invoer!G56<>\"Verwijderen\",(SUMIFS(Onderhoudskosten!$K:$K,Onderhoudskosten!$B:$B,Invoer!$B56)*Invoer!F56),\" \"))","v":" "},"",{"$f":"IF(IF(Invoer!I56<>\"Verwijderen\",(SUMIFS(Onderhoudskosten!$K:$K,Onderhoudskosten!$B:$B,Invoer!$B56)*Invoer!H56),\" \")=0,\" \",IF(Invoer!I56<>\"Verwijderen\",(SUMIFS(Onderhoudskosten!$K:$K,Onderhoudskosten!$B:$B,Invoer!$B56)*Invoer!H56),\" \"))","v":" "},"",{"$f":"IF(IF(Invoer!K56<>\"Verwijderen\",(SUMIFS(Onderhoudskosten!$K:$K,Onderhoudskosten!$B:$B,Invoer!$B56)*Invoer!J56),\" \")=0,\" \",IF(Invoer!K56<>\"Verwijderen\",(SUMIFS(Onderhoudskosten!$K:$K,Onderhoudskosten!$B:$B,Invoer!$B56)*Invoer!J56),\" \"))","v":" "},null,null,null,null,null,null,null,null,null,null,null,null,null,0,{"$f":"SUMIFS(Inrichtingskosten!$H:$H,Inrichtingskosten!$C:$C,Invoer!$B56,Inrichtingskosten!$B:$B,Invoer!X56)*Invoer!D56","v":0},{"$f":"SUMIFS(Inrichtingskosten!$H:$H,Inrichtingskosten!$C:$C,Invoer!$B56,Inrichtingskosten!$B:$B,Invoer!Y56)*Invoer!D56","v":0},{"$f":"SUMIFS(Inrichtingskosten!$H:$H,Inrichtingskosten!$C:$C,Invoer!$B56,Inrichtingskosten!$B:$B,Invoer!Z56)*Invoer!F56","v":0},{"$f":"SUMIFS(Inrichtingskosten!$H:$H,Inrichtingskosten!$C:$C,Invoer!$B56,Inrichtingskosten!$B:$B,Invoer!AA56)*Invoer!F56","v":0},{"$f":"SUMIFS(Inrichtingskosten!$H:$H,Inrichtingskosten!$C:$C,Invoer!$B56,Inrichtingskosten!$B:$B,Invoer!AB56)*Invoer!H56","v":0},{"$f":"SUMIFS(Inrichtingskosten!$H:$H,Inrichtingskosten!$C:$C,Invoer!$B56,Inrichtingskosten!$B:$B,Invoer!AC56)*Invoer!H56","v":0},{"$f":"SUMIFS(Inrichtingskosten!$H:$H,Inrichtingskosten!$C:$C,Invoer!$B56,Inrichtingskosten!$B:$B,Invoer!AD56)*Invoer!J56","v":0},{"$f":"SUMIFS(Inrichtingskosten!$H:$H,Inrichtingskosten!$C:$C,Invoer!$B56,Inrichtingskosten!$B:$B,Invoer!AE56)*Invoer!J56","v":0}]
[null,{"$f":"Invoer!B57","v":0},"",{"$f":"IF(IF(Invoer!E57<>\"Verwijderen\",(SUMIFS(Onderhoudskosten!$K:$K,Onderhoudskosten!$B:$B,Invoer!$B57)*Invoer!D57),\" \")=0,\" \",IF(Invoer!E57<>\"Verwijderen\",(SUMIFS(Onderhoudskosten!$K:$K,Onderhoudskosten!$B:$B,Invoer!$B57)*Invoer!D57),\" \"))","v":" "},"",{"$f":"IF(IF(Invoer!G57<>\"Verwijderen\",(SUMIFS(Onderhoudskosten!$K:$K,Onderhoudskosten!$B:$B,Invoer!$B57)*Invoer!F57),\" \")=0,\" \",IF(Invoer!G57<>\"Verwijderen\",(SUMIFS(Onderhoudskosten!$K:$K,Onderhoudskosten!$B:$B,Invoer!$B57)*Invoer!F57),\" \"))","v":" "},"",{"$f":"IF(IF(Invoer!I57<>\"Verwijderen\",(SUMIFS(Onderhoudskosten!$K:$K,Onderhoudskosten!$B:$B,Invoer!$B57)*Invoer!H57),\" \")=0,\" \",IF(Invoer!I57<>\"Verwijderen\",(SUMIFS(Onderhoudskosten!$K:$K,Onderhoudskosten!$B:$B,Invoer!$B57)*Invoer!H57),\" \"))","v":" "},"",{"$f":"IF(IF(Invoer!K57<>\"Verwijderen\",(SUMIFS(Onderhoudskosten!$K:$K,Onderhoudskosten!$B:$B,Invoer!$B57)*Invoer!J57),\" \")=0,\" \",IF(Invoer!K57<>\"Verwijderen\",(SUMIFS(Onderhoudskosten!$K:$K,Onderhoudskosten!$B:$B,Invoer!$B57)*Invoer!J57),\" \"))","v":" "},null,null,null,null,null,null,null,null,null,null,null,null,null,0,{"$f":"SUMIFS(Inrichtingskosten!$H:$H,Inrichtingskosten!$C:$C,Invoer!$B57,Inrichtingskosten!$B:$B,Invoer!X57)*Invoer!D57","v":0},{"$f":"SUMIFS(Inrichtingskosten!$H:$H,Inrichtingskosten!$C:$C,Invoer!$B57,Inrichtingskosten!$B:$B,Invoer!Y57)*Invoer!D57","v":0},{"$f":"SUMIFS(Inrichtingskosten!$H:$H,Inrichtingskosten!$C:$C,Invoer!$B57,Inrichtingskosten!$B:$B,Invoer!Z57)*Invoer!F57","v":0},{"$f":"SUMIFS(Inrichtingskosten!$H:$H,Inrichtingskosten!$C:$C,Invoer!$B57,Inrichtingskosten!$B:$B,Invoer!AA57)*Invoer!F57","v":0},{"$f":"SUMIFS(Inrichtingskosten!$H:$H,Inrichtingskosten!$C:$C,Invoer!$B57,Inrichtingskosten!$B:$B,Invoer!AB57)*Invoer!H57","v":0},{"$f":"SUMIFS(Inrichtingskosten!$H:$H,Inrichtingskosten!$C:$C,Invoer!$B57,Inrichtingskosten!$B:$B,Invoer!AC57)*Invoer!H57","v":0},{"$f":"SUMIFS(Inrichtingskosten!$H:$H,Inrichtingskosten!$C:$C,Invoer!$B57,Inrichtingskosten!$B:$B,Invoer!AD57)*Invoer!J57","v":0},{"$f":"SUMIFS(Inrichtingskosten!$H:$H,Inrichtingskosten!$C:$C,Invoer!$B57,Inrichtingskosten!$B:$B,Invoer!AE57)*Invoer!J57","v":0}]
[null,{"$f":"Invoer!B58","v":0},"",{"$f":"IF(IF(Invoer!E58<>\"Verwijderen\",(SUMIFS(Onderhoudskosten!$K:$K,Onderhoudskosten!$B:$B,Invoer!$B58)*Invoer!D58),\" \")=0,\" \",IF(Invoer!E58<>\"Verwijderen\",(SUMIFS(Onderhoudskosten!$K:$K,Onderhoudskosten!$B:$B,Invoer!$B58)*Invoer!D58),\" \"))","v":" "},"",{"$f":"IF(IF(Invoer!G58<>\"Verwijderen\",(SUMIFS(Onderhoudskosten!$K:$K,Onderhoudskosten!$B:$B,Invoer!$B58)*Invoer!F58),\" \")=0,\" \",IF(Invoer!G58<>\"Verwijderen\",(SUMIFS(Onderhoudskosten!$K:$K,Onderhoudskosten!$B:$B,Invoer!$B58)*Invoer!F58),\" \"))","v":" "},"",{"$f":"IF(IF(Invoer!I58<>\"Verwijderen\",(SUMIFS(Onderhoudskosten!$K:$K,Onderhoudskosten!$B:$B,Invoer!$B58)*Invoer!H58),\" \")=0,\" \",IF(Invoer!I58<>\"Verwijderen\",(SUMIFS(Onderhoudskosten!$K:$K,Onderhoudskosten!$B:$B,Invoer!$B58)*Invoer!H58),\" \"))","v":" "},"",{"$f":"IF(IF(Invoer!K58<>\"Verwijderen\",(SUMIFS(Onderhoudskosten!$K:$K,Onderhoudskosten!$B:$B,Invoer!$B58)*Invoer!J58),\" \")=0,\" \",IF(Invoer!K58<>\"Verwijderen\",(SUMIFS(Onderhoudskosten!$K:$K,Onderhoudskosten!$B:$B,Invoer!$B58)*Invoer!J58),\" \"))","v":" "},null,null,null,null,null,null,null,null,null,null,null,null,null,0,{"$f":"SUMIFS(Inrichtingskosten!$H:$H,Inrichtingskosten!$C:$C,Invoer!$B58,Inrichtingskosten!$B:$B,Invoer!X58)*Invoer!D58","v":0},{"$f":"SUMIFS(Inrichtingskosten!$H:$H,Inrichtingskosten!$C:$C,Invoer!$B58,Inrichtingskosten!$B:$B,Invoer!Y58)*Invoer!D58","v":0},{"$f":"SUMIFS(Inrichtingskosten!$H:$H,Inrichtingskosten!$C:$C,Invoer!$B58,Inrichtingskosten!$B:$B,Invoer!Z58)*Invoer!F58","v":0},{"$f":"SUMIFS(Inrichtingskosten!$H:$H,Inrichtingskosten!$C:$C,Invoer!$B58,Inrichtingskosten!$B:$B,Invoer!AA58)*Invoer!F58","v":0},{"$f":"SUMIFS(Inrichtingskosten!$H:$H,Inrichtingskosten!$C:$C,Invoer!$B58,Inrichtingskosten!$B:$B,Invoer!AB58)*Invoer!H58","v":0},{"$f":"SUMIFS(Inrichtingskosten!$H:$H,Inrichtingskosten!$C:$C,Invoer!$B58,Inrichtingskosten!$B:$B,Invoer!AC58)*Invoer!H58","v":0},{"$f":"SUMIFS(Inrichtingskosten!$H:$H,Inrichtingskosten!$C:$C,Invoer!$B58,Inrichtingskosten!$B:$B,Invoer!AD58)*Invoer!J58","v":0},{"$f":"SUMIFS(Inrichtingskosten!$H:$H,Inrichtingskosten!$C:$C,Invoer!$B58,Inrichtingskosten!$B:$B,Invoer!AE58)*Invoer!J58","v":0},null,null,null,null,null,{"$f":"AL22","v":"Onderhoud"},{"$f":"SUM(D59:D66)","v":0},{"$f":"SUM(F59:F66)","v":0},{"$f":"SUM(H59:H66)","v":0},{"$f":"SUM(J59:J66)","v":0}]
[null,{"$f":"Invoer!B59","v":0},"",{"$f":"IF(IF(Invoer!E59<>\"Verwijderen\",(SUMIFS(Onderhoudskosten!$K:$K,Onderhoudskosten!$B:$B,Invoer!$B59)*Invoer!D59),\" \")=0,\" \",IF(Invoer!E59<>\"Verwijderen\",(SUMIFS(Onderhoudskosten!$K:$K,Onderhoudskosten!$B:$B,Invoer!$B59)*Invoer!D59),\" \"))","v":" "},"",{"$f":"IF(IF(Invoer!G59<>\"Verwijderen\",(SUMIFS(Onderhoudskosten!$K:$K,Onderhoudskosten!$B:$B,Invoer!$B59)*Invoer!F59),\" \")=0,\" \",IF(Invoer!G59<>\"Verwijderen\",(SUMIFS(Onderhoudskosten!$K:$K,Onderhoudskosten!$B:$B,Invoer!$B59)*Invoer!F59),\" \"))","v":" "},"",{"$f":"IF(IF(Invoer!I59<>\"Verwijderen\",(SUMIFS(Onderhoudskosten!$K:$K,Onderhoudskosten!$B:$B,Invoer!$B59)*Invoer!H59),\" \")=0,\" \",IF(Invoer!I59<>\"Verwijderen\",(SUMIFS(Onderhoudskosten!$K:$K,Onderhoudskosten!$B:$B,Invoer!$B59)*Invoer!H59),\" \"))","v":" "},"",{"$f":"IF(IF(Invoer!K59<>\"Verwijderen\",(SUMIFS(Onderhoudskosten!$K:$K,Onderhoudskosten!$B:$B,Invoer!$B59)*Invoer!J59),\" \")=0,\" \",IF(Invoer!K59<>\"Verwijderen\",(SUMIFS(Onderhoudskosten!$K:$K,Onderhoudskosten!$B:$B,Invoer!$B59)*Invoer!J59),\" \"))","v":" "},null,null,null,null,null,null,null,null,null,null,null,null,null,0,{"$f":"SUMIFS(Inrichtingskosten!$H:$H,Inrichtingskosten!$C:$C,Invoer!$B59,Inrichtingskosten!$B:$B,Invoer!X59)*Invoer!D59","v":0},{"$f":"SUMIFS(Inrichtingskosten!$H:$H,Inrichtingskosten!$C:$C,Invoer!$B59,Inrichtingskosten!$B:$B,Invoer!Y59)*Invoer!D59","v":0},{"$f":"SUMIFS(Inrichtingskosten!$H:$H,Inrichtingskosten!$C:$C,Invoer!$B59,Inrichtingskosten!$B:$B,Invoer!Z59)*Invoer!F59","v":0},{"$f":"SUMIFS(Inrichtingskosten!$H:$H,Inrichtingskosten!$C:$C,Invoer!$B59,Inrichtingskosten!$B:$B,Invoer!AA59)*Invoer!F59","v":0},{"$f":"SUMIFS(Inrichtingskosten!$H:$H,Inrichtingskosten!$C:$C,Invoer!$B59,Inrichtingskosten!$B:$B,Invoer!AB59)*Invoer!H59","v":0},{"$f":"SUMIFS(Inrichtingskosten!$H:$H,Inrichtingskosten!$C:$C,Invoer!$B59,Inrichtingskosten!$B:$B,Invoer!AC59)*Invoer!H59","v":0},{"$f":"SUMIFS(Inrichtingskosten!$H:$H,Inrichtingskosten!$C:$C,Invoer!$B59,Inrichtingskosten!$B:$B,Invoer!AD59)*Invoer!J59","v":0},{"$f":"SUMIFS(Inrichtingskosten!$H:$H,Inrichtingskosten!$C:$C,Invoer!$B59,Inrichtingskosten!$B:$B,Invoer!AE59)*Invoer!J59","v":0},null,null,null,null,"Overig",{"$f":"AL23","v":"Realisatie"},{"$f":"SUM(Y68:Y72)+SUM(Z68:Z72)","v":0},{"$f":"SUM(AA68:AA72)+SUM(AB68:AB72)","v":0},{"$f":"SUM(AC68:AC72)+SUM(AD68:AD72)","v":0},{"$f":"SUM(AE68:AE72)+SUM(AF68:AF72)","v":0}]
[null,{"$f":"Invoer!B60","v":0},"",{"$f":"IF(IF(Invoer!E60<>\"Verwijderen\",(SUMIFS(Onderhoudskosten!$K:$K,Onderhoudskosten!$B:$B,Invoer!$B60)*Invoer!D60),\" \")=0,\" \",IF(Invoer!E60<>\"Verwijderen\",(SUMIFS(Onderhoudskosten!$K:$K,Onderhoudskosten!$B:$B,Invoer!$B60)*Invoer!D60),\" \"))","v":" "},"",{"$f":"IF(IF(Invoer!G60<>\"Verwijderen\",(SUMIFS(Onderhoudskosten!$K:$K,Onderhoudskosten!$B:$B,Invoer!$B60)*Invoer!F60),\" \")=0,\" \",IF(Invoer!G60<>\"Verwijderen\",(SUMIFS(Onderhoudskosten!$K:$K,Onderhoudskosten!$B:$B,Invoer!$B60)*Invoer!F60),\" \"))","v":" "},"",{"$f":"IF(IF(Invoer!I60<>\"Verwijderen\",(SUMIFS(Onderhoudskosten!$K:$K,Onderhoudskosten!$B:$B,Invoer!$B60)*Invoer!H60),\" \")=0,\" \",IF(Invoer!I60<>\"Verwijderen\",(SUMIFS(Onderhoudskosten!$K:$K,Onderhoudskosten!$B:$B,Invoer!$B60)*Invoer!H60),\" \"))","v":" "},"",{"$f":"IF(IF(Invoer!K60<>\"Verwijderen\",(SUMIFS(Onderhoudskosten!$K:$K,Onderhoudskosten!$B:$B,Invoer!$B60)*Invoer!J60),\" \")=0,\" \",IF(Invoer!K60<>\"Verwijderen\",(SUMIFS(Onderhoudskosten!$K:$K,Onderhoudskosten!$B:$B,Invoer!$B60)*Invoer!J60),\" \"))","v":" "},null,null,null,null,null,null,null,null,null,null,null,null,null,0,{"$f":"SUMIFS(Inrichtingskosten!$H:$H,Inrichtingskosten!$C:$C,Invoer!$B60,Inrichtingskosten!$B:$B,Invoer!X60)*Invoer!D60","v":0},{"$f":"SUMIFS(Inrichtingskosten!$H:$H,Inrichtingskosten!$C:$C,Invoer!$B60,Inrichtingskosten!$B:$B,Invoer!Y60)*Invoer!D60","v":0},{"$f":"SUMIFS(Inrichtingskosten!$H:$H,Inrichtingskosten!$C:$C,Invoer!$B60,Inrichtingskosten!$B:$B,Invoer!Z60)*Invoer!F60","v":0},{"$f":"SUMIFS(Inrichtingskosten!$H:$H,Inrichtingskosten!$C:$C,Invoer!$B60,Inrichtingskosten!$B:$B,Invoer!AA60)*Invoer!F60","v":0},{"$f":"SUMIFS(Inrichtingskosten!$H:$H,Inrichtingskosten!$C:$C,Invoer!$B60,Inrichtingskosten!$B:$B,Invoer!AB60)*Invoer!H60","v":0},{"$f":"SUMIFS(Inrichtingskosten!$H:$H,Inrichtingskosten!$C:$C,Invoer!$B60,Inrichtingskosten!$B:$B,Invoer!AC60)*Invoer!H60","v":0},{"$f":"SUMIFS(Inrichtingskosten!$H:$H,Inrichtingskosten!$C:$C,Invoer!$B60,Inrichtingskosten!$B:$B,Invoer!AD60)*Invoer!J60","v":0},{"$f":"SUMIFS(Inrichtingskosten!$H:$H,Inrichtingskosten!$C:$C,Invoer!$B60,Inrichtingskosten!$B:$B,Invoer!AE60)*Invoer!J60","v":0},null,null,null,null,null,"Onderhoud",{"$f":"SUM(D68:D72)","v":0},{"$f":"SUM(F68:F72)","v":0},{"$f":"SUM(H68:H72)","v":0},{"$f":"SUM(J68:J72)","v":0}]
[null,{"$f":"Invoer!B61","v":0},"",{"$f":"IF(IF(Invoer!E61<>\"Verwijderen\",(SUMIFS(Onderhoudskosten!$K:$K,Onderhoudskosten!$B:$B,Invoer!$B61)*Invoer!D61),\" \")=0,\" \",IF(Invoer!E61<>\"Verwijderen\",(SUMIFS(Onderhoudskosten!$K:$K,Onderhoudskosten!$B:$B,Invoer!$B61)*Invoer!D61),\" \"))","v":" "},"",{"$f":"IF(IF(Invoer!G61<>\"Verwijderen\",(SUMIFS(Onderhoudskosten!$K:$K,Onderhoudskosten!$B:$B,Invoer!$B61)*Invoer!F61),\" \")=0,\" \",IF(Invoer!G61<>\"Verwijderen\",(SUMIFS(Onderhoudskosten!$K:$K,Onderhoudskosten!$B:$B,Invoer!$B61)*Invoer!F61),\" \"))","v":" "},"",{"$f":"IF(IF(Invoer!I61<>\"Verwijderen\",(SUMIFS(Onderhoudskosten!$K:$K,Onderhoudskosten!$B:$B,Invoer!$B61)*Invoer!H61),\" \")=0,\" \",IF(Invoer!I61<>\"Verwijderen\",(SUMIFS(Onderhoudskosten!$K:$K,Onderhoudskosten!$B:$B,Invoer!$B61)*Invoer!H61),\" \"))","v":" "},"",{"$f":"IF(IF(Invoer!K61<>\"Verwijderen\",(SUMIFS(Onderhoudskosten!$K:$K,Onderhoudskosten!$B:$B,Invoer!$B61)*Invoer!J61),\" \")=0,\" \",IF(Invoer!K61<>\"Verwijderen\",(SUMIFS(Onderhoudskosten!$K:$K,Onderhoudskosten!$B:$B,Invoer!$B61)*Invoer!J61),\" \"))","v":" "},null,null,null,null,null,null,null,null,null,null,null,null,null,0,{"$f":"SUMIFS(Inrichtingskosten!$H:$H,Inrichtingskosten!$C:$C,Invoer!$B61,Inrichtingskosten!$B:$B,Invoer!X61)*Invoer!D61","v":0},{"$f":"SUMIFS(Inrichtingskosten!$H:$H,Inrichtingskosten!$C:$C,Invoer!$B61,Inrichtingskosten!$B:$B,Invoer!Y61)*Invoer!D61","v":0},{"$f":"SUMIFS(Inrichtingskosten!$H:$H,Inrichtingskosten!$C:$C,Invoer!$B61,Inrichtingskosten!$B:$B,Invoer!Z61)*Invoer!F61","v":0},{"$f":"SUMIFS(Inrichtingskosten!$H:$H,Inrichtingskosten!$C:$C,Invoer!$B61,Inrichtingskosten!$B:$B,Invoer!AA61)*Invoer!F61","v":0},{"$f":"SUMIFS(Inrichtingskosten!$H:$H,Inrichtingskosten!$C:$C,Invoer!$B61,Inrichtingskosten!$B:$B,Invoer!AB61)*Invoer!H61","v":0},{"$f":"SUMIFS(Inrichtingskosten!$H:$H,Inrichtingskosten!$C:$C,Invoer!$B61,Inrichtingskosten!$B:$B,Invoer!AC61)*Invoer!H61","v":0},{"$f":"SUMIFS(Inrichtingskosten!$H:$H,Inrichtingskosten!$C:$C,Invoer!$B61,Inrichtingskosten!$B:$B,Invoer!AD61)*Invoer!J61","v":0},{"$f":"SUMIFS(Inrichtingskosten!$H:$H,Inrichtingskosten!$C:$C,Invoer!$B61,Inrichtingskosten!$B:$B,Invoer!AE61)*Invoer!J61","v":0},null,null,null,null,"Totaal","Realisatie",{"$f":"SUM(AM11,AM13,AM19,AM21,AM23,AM29,AM8:AM10)","v":0},{"$f":"SUM(AN11,AN13,AN19,AN21,AN23,AN29,AN8:AN10)","v":0},0,0]
[null,{"$f":"Invoer!B62","v":0},"",{"$f":"IF(IF(Invoer!E62<>\"Verwijderen\",(SUMIFS(Onderhoudskosten!$K:$K,Onderhoudskosten!$B:$B,Invoer!$B62)*Invoer!D62),\" \")=0,\" \",IF(Invoer!E62<>\"Verwijderen\",(SUMIFS(Onderhoudskosten!$K:$K,Onderhoudskosten!$B:$B,Invoer!$B62)*Invoer!D62),\" \"))","v":" "},"",{"$f":"IF(IF(Invoer!G62<>\"Verwijderen\",(SUMIFS(Onderhoudskosten!$K:$K,Onderhoudskosten!$B:$B,Invoer!$B62)*Invoer!F62),\" \")=0,\" \",IF(Invoer!G62<>\"Verwijderen\",(SUMIFS(Onderhoudskosten!$K:$K,Onderhoudskosten!$B:$B,Invoer!$B62)*Invoer!F62),\" \"))","v":" "},"",{"$f":"IF(IF(Invoer!I62<>\"Verwijderen\",(SUMIFS(Onderhoudskosten!$K:$K,Onderhoudskosten!$B:$B,Invoer!$B62)*Invoer!H62),\" \")=0,\" \",IF(Invoer!I62<>\"Verwijderen\",(SUMIFS(Onderhoudskosten!$K:$K,Onderhoudskosten!$B:$B,Invoer!$B62)*Invoer!H62),\" \"))","v":" "},"",{"$f":"IF(IF(Invoer!K62<>\"Verwijderen\",(SUMIFS(Onderhoudskosten!$K:$K,Onderhoudskosten!$B:$B,Invoer!$B62)*Invoer!J62),\" \")=0,\" \",IF(Invoer!K62<>\"Verwijderen\",(SUMIFS(Onderhoudskosten!$K:$K,Onderhoudskosten!$B:$B,Invoer!$B62)*Invoer!J62),\" \"))","v":" "},null,null,null,null,null,null,null,null,null,null,null,null,null,{"$f":"B32","v":0},{"$f":"SUMIFS(Inrichtingskosten!$H:$H,Inrichtingskosten!$C:$C,Invoer!$B62,Inrichtingskosten!$B:$B,Invoer!X62)*Invoer!D62","v":0},{"$f":"SUMIFS(Inrichtingskosten!$H:$H,Inrichtingskosten!$C:$C,Invoer!$B62,Inrichtingskosten!$B:$B,Invoer!Y62)*Invoer!D62","v":0},{"$f":"SUMIFS(Inrichtingskosten!$H:$H,Inrichtingskosten!$C:$C,Invoer!$B62,Inrichtingskosten!$B:$B,Invoer!Z62)*Invoer!F62","v":0},{"$f":"SUMIFS(Inrichtingskosten!$H:$H,Inrichtingskosten!$C:$C,Invoer!$B62,Inrichtingskosten!$B:$B,Invoer!AA62)*Invoer!F62","v":0},{"$f":"SUMIFS(Inrichtingskosten!$H:$H,Inrichtingskosten!$C:$C,Invoer!$B62,Inrichtingskosten!$B:$B,Invoer!AB62)*Invoer!H62","v":0},{"$f":"SUMIFS(Inrichtingskosten!$H:$H,Inrichtingskosten!$C:$C,Invoer!$B62,Inrichtingskosten!$B:$B,Invoer!AC62)*Invoer!H62","v":0},{"$f":"SUMIFS(Inrichtingskosten!$H:$H,Inrichtingskosten!$C:$C,Invoer!$B62,Inrichtingskosten!$B:$B,Invoer!AD62)*Invoer!J62","v":0},{"$f":"SUMIFS(Inrichtingskosten!$H:$H,Inrichtingskosten!$C:$C,Invoer!$B62,Inrichtingskosten!$B:$B,Invoer!AE62)*Invoer!J62","v":0},null,null,null,null,null,"Onderhoud",{"$f":"SUM(AM12,AM14,AM20,AM22,AM28,AM30)","v":0},{"$f":"SUM(AN12,AN14,AN20,AN22,AN28,AN30)","v":{"$error":"#DIV/0!"}},0,0]
[null,{"$f":"Invoer!B63","v":"Gescheiden hemelwaterriool"},null,null,null,null,null,null,null,null,null,null,null,null,null,null,null,null,null,null,null,null,null,{"$f":"Invoer!B63","v":"Gescheiden hemelwaterriool"}]
[null,{"$f":"Invoer!B64","v":"Buis beton 400"},{"$f":"IF(2*(Y34+Z34)/100=0,\"\",2*(Y34+Z34)/100)","v":""},{"$f":"IF(IF(Invoer!E64<>\"Verwijderen\",(SUMIFS(Onderhoudskosten!$K:$K,Onderhoudskosten!$B:$B,Invoer!$B64)*Invoer!D64),\" \")=0,\" \",IF(Invoer!E64<>\"Verwijderen\",(SUMIFS(Onderhoudskosten!$K:$K,Onderhoudskosten!$B:$B,Invoer!$B64)*Invoer!D64),\" \"))","v":" "},{"$f":"IF(2*(AA34+AB34)/100=0,\"\",2*(AA34+AB34)/100)","v":""},{"$f":"IF(IF(Invoer!G64<>\"Verwijderen\",(SUMIFS(Onderhoudskosten!$K:$K,Onderhoudskosten!$B:$B,Invoer!$B64)*Invoer!F64),\" \")=0,\" \",IF(Invoer!G64<>\"Verwijderen\",(SUMIFS(Onderhoudskosten!$K:$K,Onderhoudskosten!$B:$B,Invoer!$B64)*Invoer!F64),\" \"))","v":" "},{"$f":"IF(2*(AC34+AD34)/100=0,\"\",2*(AC34+AD34)/100)","v":""},{"$f":"IF(IF(Invoer!I64<>\"Verwijderen\",(SUMIFS(Onderhoudskosten!$K:$K,Onderhoudskosten!$B:$B,Invoer!$B64)*Invoer!H64),\" \")=0,\" \",IF(Invoer!I64<>\"Verwijderen\",(SUMIFS(Onderhoudskosten!$K:$K,Onderhoudskosten!$B:$B,Invoer!$B64)*Invoer!H64),\" \"))","v":" "},{"$f":"IF(2*(AE34+AF34)/100=0,\"\",2*(AE34+AF34)/100)","v":""},{"$f":"IF(IF(Invoer!K64<>\"Verwijderen\",(SUMIFS(Onderhoudskosten!$K:$K,Onderhoudskosten!$B:$B,Invoer!$B64)*Invoer!J64),\" \")=0,\" \",IF(Invoer!K64<>\"Verwijderen\",(SUMIFS(Onderhoudskosten!$K:$K,Onderhoudskosten!$B:$B,Invoer!$B64)*Invoer!J64),\" \"))","v":" "},null,null,null,null,null,null,null,null,null,null,null,null,null,{"$f":"B34","v":"Buis beton 400"},{"$f":"SUMIFS(Inrichtingskosten!$H:$H,Inrichtingskosten!$C:$C,Invoer!$B64,Inrichtingskosten!$B:$B,Invoer!X64)*Invoer!D64","v":0},{"$f":"SUMIFS(Inrichtingskosten!$H:$H,Inrichtingskosten!$C:$C,Invoer!$B64,Inrichtingskosten!$B:$B,Invoer!Y64)*Invoer!D64","v":0},{"$f":"SUMIFS(Inrichtingskosten!$H:$H,Inrichtingskosten!$C:$C,Invoer!$B64,Inrichtingskosten!$B:$B,Invoer!Z64)*Invoer!F64","v":0},{"$f":"SUMIFS(Inrichtingskosten!$H:$H,Inrichtingskosten!$C:$C,Invoer!$B64,Inrichtingskosten!$B:$B,Invoer!AA64)*Invoer!F64","v":0},{"$f":"SUMIFS(Inrichtingskosten!$H:$H,Inrichtingskosten!$C:$C,Invoer!$B64,Inrichtingskosten!$B:$B,Invoer!AB64)*Invoer!H64","v":0},{"$f":"SUMIFS(Inrichtingskosten!$H:$H,Inrichtingskosten!$C:$C,Invoer!$B64,Inrichtingskosten!$B:$B,Invoer!AC64)*Invoer!H64","v":0},{"$f":"SUMIFS(Inrichtingskosten!$H:$H,Inrichtingskosten!$C:$C,Invoer!$B64,Inrichtingskosten!$B:$B,Invoer!AD64)*Invoer!J64","v":0},{"$f":"SUMIFS(Inrichtingskosten!$H:$H,Inrichtingskosten!$C:$C,Invoer!$B64,Inrichtingskosten!$B:$B,Invoer!AE64)*Invoer!J64","v":0},null,null,null,"Variant 0",null,null,"Variant 1","Variant 2","Variant 3"]
[null,{"$f":"Invoer!B65","v":"Rioolput beton 400"},{"$f":"IF(2*(Y35+Z35)/100=0,\"\",2*(Y35+Z35)/100)","v":""},{"$f":"IF(IF(Invoer!E65<>\"Verwijderen\",(SUMIFS(Onderhoudskosten!$K:$K,Onderhoudskosten!$B:$B,Invoer!$B65)*Invoer!D65),\" \")=0,\" \",IF(Invoer!E65<>\"Verwijderen\",(SUMIFS(Onderhoudskosten!$K:$K,Onderhoudskosten!$B:$B,Invoer!$B65)*Invoer!D65),\" \"))","v":" "},{"$f":"IF(2*(AA35+AB35)/100=0,\"\",2*(AA35+AB35)/100)","v":""},{"$f":"IF(IF(Invoer!G65<>\"Verwijderen\",(SUMIFS(Onderhoudskosten!$K:$K,Onderhoudskosten!$B:$B,Invoer!$B65)*Invoer!F65),\" \")=0,\" \",IF(Invoer!G65<>\"Verwijderen\",(SUMIFS(Onderhoudskosten!$K:$K,Onderhoudskosten!$B:$B,Invoer!$B65)*Invoer!F65),\" \"))","v":" "},{"$f":"IF(2*(AC35+AD35)/100=0,\"\",2*(AC35+AD35)/100)","v":""},{"$f":"IF(IF(Invoer!I65<>\"Verwijderen\",(SUMIFS(Onderhoudskosten!$K:$K,Onderhoudskosten!$B:$B,Invoer!$B65)*Invoer!H65),\" \")=0,\" \",IF(Invoer!I65<>\"Verwijderen\",(SUMIFS(Onderhoudskosten!$K:$K,Onderhoudskosten!$B:$B,Invoer!$B65)*Invoer!H65),\" \"))","v":" "},{"$f":"IF(2*(AE35+AF35)/100=0,\"\",2*(AE35+AF35)/100)","v":""},{"$f":"IF(IF(Invoer!K65<>\"Verwijderen\",(SUMIFS(Onderhoudskosten!$K:$K,Onderhoudskosten!$B:$B,Invoer!$B65)*Invoer!J65),\" \")=0,\" \",IF(Invoer!K65<>\"Verwijderen\",(SUMIFS(Onderhoudskosten!$K:$K,Onderhoudskosten!$B:$B,Invoer!$B65)*Invoer!J65),\" \"))","v":" "},null,null,null,null,null,null,null,null,null,null,null,null,null,"Rioolput beton 400",{"$f":"SUMIFS(Inrichtingskosten!$H:$H,Inrichtingskosten!$C:$C,Invoer!$B65,Inrichtingskosten!$B:$B,Invoer!X65)*Invoer!D65","v":0},{"$f":"SUMIFS(Inrichtingskosten!$H:$H,Inrichtingskosten!$C:$C,Invoer!$B65,Inrichtingskosten!$B:$B,Invoer!Y65)*Invoer!D65","v":0},{"$f":"SUMIFS(Inrichtingskosten!$H:$H,Inrichtingskosten!$C:$C,Invoer!$B65,Inrichtingskosten!$B:$B,Invoer!Z65)*Invoer!F65","v":0},{"$f":"SUMIFS(Inrichtingskosten!$H:$H,Inrichtingskosten!$C:$C,Invoer!$B65,Inrichtingskosten!$B:$B,Invoer!AA65)*Invoer!F65","v":0},{"$f":"SUMIFS(Inrichtingskosten!$H:$H,Inrichtingskosten!$C:$C,Invoer!$B65,Inrichtingskosten!$B:$B,Invoer!AB65)*Invoer!H65","v":0},{"$f":"SUMIFS(Inrichtingskosten!$H:$H,Inrichtingskosten!$C:$C,Invoer!$B65,Inrichtingskosten!$B:$B,Invoer!AC65)*Invoer!H65","v":0},{"$f":"SUMIFS(Inrichtingskosten!$H:$H,Inrichtingskosten!$C:$C,Invoer!$B65,Inrichtingskosten!$B:$B,Invoer!AD65)*Invoer!J65","v":0},{"$f":"SUMIFS(Inrichtingskosten!$H:$H,Inrichtingskosten!$C:$C,Invoer!$B65,Inrichtingskosten!$B:$B,Invoer!AE65)*Invoer!J65","v":0},null,null,null,"Inrichting",null,"Onderhoud"]
[null,{"$f":"Invoer!B66","v":"Perceelaansluiting"},{"$f":"IF(2*(Y36+Z36)/100=0,\"\",2*(Y36+Z36)/100)","v":""},{"$f":"IF(IF(Invoer!E66<>\"Verwijderen\",(SUMIFS(Onderhoudskosten!$K:$K,Onderhoudskosten!$B:$B,Invoer!$B66)*Invoer!D66),\" \")=0,\" \",IF(Invoer!E66<>\"Verwijderen\",(SUMIFS(Onderhoudskosten!$K:$K,Onderhoudskosten!$B:$B,Invoer!$B66)*Invoer!D66),\" \"))","v":" "},{"$f":"IF(2*(AA36+AB36)/100=0,\"\",2*(AA36+AB36)/100)","v":""},{"$f":"IF(IF(Invoer!G66<>\"Verwijderen\",(SUMIFS(Onderhoudskosten!$K:$K,Onderhoudskosten!$B:$B,Invoer!$B66)*Invoer!F66),\" \")=0,\" \",IF(Invoer!G66<>\"Verwijderen\",(SUMIFS(Onderhoudskosten!$K:$K,Onderhoudskosten!$B:$B,Invoer!$B66)*Invoer!F66),\" \"))","v":" "},{"$f":"IF(2*(AC36+AD36)/100=0,\"\",2*(AC36+AD36)/100)","v":""},{"$f":"IF(IF(Invoer!I66<>\"Verwijderen\",(SUMIFS(Onderhoudskosten!$K:$K,Onderhoudskosten!$B:$B,Invoer!$B66)*Invoer!H66),\" \")=0,\" \",IF(Invoer!I66<>\"Verwijderen\",(SUMIFS(Onderhoudskosten!$K:$K,Onderhoudskosten!$B:$B,Invoer!$B66)*Invoer!H66),\" \"))","v":" "},{"$f":"IF(2*(AE36+AF36)/100=0,\"\",2*(AE36+AF36)/100)","v":""},{"$f":"IF(IF(Invoer!K66<>\"Verwijderen\",(SUMIFS(Onderhoudskosten!$K:$K,Onderhoudskosten!$B:$B,Invoer!$B66)*Invoer!J66),\" \")=0,\" \",IF(Invoer!K66<>\"Verwijderen\",(SUMIFS(Onderhoudskosten!$K:$K,Onderhoudskosten!$B:$B,Invoer!$B66)*Invoer!J66),\" \"))","v":" "},null,null,null,null,null,null,null,null,null,null,null,null,null,{"$f":"B36","v":"Perceelaansluiting"},{"$f":"SUMIFS(Inrichtingskosten!$H:$H,Inrichtingskosten!$C:$C,Invoer!$B66,Inrichtingskosten!$B:$B,Invoer!X66)*Invoer!D66","v":0},{"$f":"SUMIFS(Inrichtingskosten!$H:$H,Inrichtingskosten!$C:$C,Invoer!$B66,Inrichtingskosten!$B:$B,Invoer!Y66)*Invoer!D66","v":0},{"$f":"SUMIFS(Inrichtingskosten!$H:$H,Inrichtingskosten!$C:$C,Invoer!$B66,Inrichtingskosten!$B:$B,Invoer!Z66)*Invoer!F66","v":0},{"$f":"SUMIFS(Inrichtingskosten!$H:$H,Inrichtingskosten!$C:$C,Invoer!$B66,Inrichtingskosten!$B:$B,Invoer!AA66)*Invoer!F66","v":0},{"$f":"SUMIFS(Inrichtingskosten!$H:$H,Inrichtingskosten!$C:$C,Invoer!$B66,Inrichtingskosten!$B:$B,Invoer!AB66)*Invoer!H66","v":0},{"$f":"SUMIFS(Inrichtingskosten!$H:$H,Inrichtingskosten!$C:$C,Invoer!$B66,Inrichtingskosten!$B:$B,Invoer!AC66)*Invoer!H66","v":0},{"$f":"SUMIFS(Inrichtingskosten!$H:$H,Inrichtingskosten!$C:$C,Invoer!$B66,Inrichtingskosten!$B:$B,Invoer!AD66)*Invoer!J66","v":0},{"$f":"SUMIFS(Inrichtingskosten!$H:$H,Inrichtingskosten!$C:$C,Invoer!$B66,Inrichtingskosten!$B:$B,Invoer!AE66)*Invoer!J66","v":0}]
[null,{"$f":"Invoer!B67","v":"Kolk"},"",{"$f":"IF(IF(Invoer!E67<>\"Verwijderen\",(SUMIFS(Onderhoudskosten!$K:$K,Onderhoudskosten!$B:$B,Invoer!$B67)*Invoer!D67),\" \")=0,\" \",IF(Invoer!E67<>\"Verwijderen\",(SUMIFS(Onderhoudskosten!$K:$K,Onderhoudskosten!$B:$B,Invoer!$B67)*Invoer!D67),\" \"))","v":" "},"",{"$f":"IF(IF(Invoer!G67<>\"Verwijderen\",(SUMIFS(Onderhoudskosten!$K:$K,Onderhoudskosten!$B:$B,Invoer!$B67)*Invoer!F67),\" \")=0,\" \",IF(Invoer!G67<>\"Verwijderen\",(SUMIFS(Onderhoudskosten!$K:$K,Onderhoudskosten!$B:$B,Invoer!$B67)*Invoer!F67),\" \"))","v":" "},"",{"$f":"IF(IF(Invoer!I67<>\"Verwijderen\",(SUMIFS(Onderhoudskosten!$K:$K,Onderhoudskosten!$B:$B,Invoer!$B67)*Invoer!H67),\" \")=0,\" \",IF(Invoer!I67<>\"Verwijderen\",(SUMIFS(Onderhoudskosten!$K:$K,Onderhoudskosten!$B:$B,Invoer!$B67)*Invoer!H67),\" \"))","v":" "},"",{"$f":"IF(IF(Invoer!K67<>\"Verwijderen\",(SUMIFS(Onderhoudskosten!$K:$K,Onderhoudskosten!$B:$B,Invoer!$B67)*Invoer!J67),\" \")=0,\" \",IF(Invoer!K67<>\"Verwijderen\",(SUMIFS(Onderhoudskosten!$K:$K,Onderhoudskosten!$B:$B,Invoer!$B67)*Invoer!J67),\" \"))","v":" "},null,null,null,null,null,null,null,null,null,null,null,null,null,"Kolk",{"$f":"SUMIFS(Inrichtingskosten!$H:$H,Inrichtingskosten!$C:$C,Invoer!$B67,Inrichtingskosten!$B:$B,Invoer!X67)*Invoer!D67","v":0},{"$f":"SUMIFS(Inrichtingskosten!$H:$H,Inrichtingskosten!$C:$C,Invoer!$B67,Inrichtingskosten!$B:$B,Invoer!Y67)*Invoer!D67","v":0},{"$f":"SUMIFS(Inrichtingskosten!$H:$H,Inrichtingskosten!$C:$C,Invoer!$B67,Inrichtingskosten!$B:$B,Invoer!Z67)*Invoer!F67","v":0},{"$f":"SUMIFS(Inrichtingskosten!$H:$H,Inrichtingskosten!$C:$C,Invoer!$B67,Inrichtingskosten!$B:$B,Invoer!AA67)*Invoer!F67","v":0},{"$f":"SUMIFS(Inrichtingskosten!$H:$H,Inrichtingskosten!$C:$C,Invoer!$B67,Inrichtingskosten!$B:$B,Invoer!AB67)*Invoer!H67","v":0},{"$f":"SUMIFS(Inrichtingskosten!$H:$H,Inrichtingskosten!$C:$C,Invoer!$B67,Inrichtingskosten!$B:$B,Invoer!AC67)*Invoer!H67","v":0},{"$f":"SUMIFS(Inrichtingskosten!$H:$H,Inrichtingskosten!$C:$C,Invoer!$B67,Inrichtingskosten!$B:$B,Invoer!AD67)*Invoer!J67","v":0},{"$f":"SUMIFS(Inrichtingskosten!$H:$H,Inrichtingskosten!$C:$C,Invoer!$B67,Inrichtingskosten!$B:$B,Invoer!AE67)*Invoer!J67","v":0}]
[null,{"$f":"Invoer!B68","v":"Drainage"},"",{"$f":"IF(IF(Invoer!E68<>\"Verwijderen\",(SUMIFS(Onderhoudskosten!$K:$K,Onderhoudskosten!$B:$B,Invoer!$B68)*Invoer!D68),\" \")=0,\" \",IF(Invoer!E68<>\"Verwijderen\",(SUMIFS(Onderhoudskosten!$K:$K,Onderhoudskosten!$B:$B,Invoer!$B68)*Invoer!D68),\" \"))","v":" "},"",{"$f":"IF(IF(Invoer!G68<>\"Verwijderen\",(SUMIFS(Onderhoudskosten!$K:$K,Onderhoudskosten!$B:$B,Invoer!$B68)*Invoer!F68),\" \")=0,\" \",IF(Invoer!G68<>\"Verwijderen\",(SUMIFS(Onderhoudskosten!$K:$K,Onderhoudskosten!$B:$B,Invoer!$B68)*Invoer!F68),\" \"))","v":" "},"",{"$f":"IF(IF(Invoer!I68<>\"Verwijderen\",(SUMIFS(Onderhoudskosten!$K:$K,Onderhoudskosten!$B:$B,Invoer!$B68)*Invoer!H68),\" \")=0,\" \",IF(Invoer!I68<>\"Verwijderen\",(SUMIFS(Onderhoudskosten!$K:$K,Onderhoudskosten!$B:$B,Invoer!$B68)*Invoer!H68),\" \"))","v":" "},"",{"$f":"IF(IF(Invoer!K68<>\"Verwijderen\",(SUMIFS(Onderhoudskosten!$K:$K,Onderhoudskosten!$B:$B,Invoer!$B68)*Invoer!J68),\" \")=0,\" \",IF(Invoer!K68<>\"Verwijderen\",(SUMIFS(Onderhoudskosten!$K:$K,Onderhoudskosten!$B:$B,Invoer!$B68)*Invoer!J68),\" \"))","v":" "},null,null,null,null,null,null,null,null,null,null,null,null,null,"Drainage",{"$f":"SUMIFS(Inrichtingskosten!$H:$H,Inrichtingskosten!$C:$C,Invoer!$B68,Inrichtingskosten!$B:$B,Invoer!X68)*Invoer!D68","v":0},{"$f":"SUMIFS(Inrichtingskosten!$H:$H,Inrichtingskosten!$C:$C,Invoer!$B68,Inrichtingskosten!$B:$B,Invoer!Y68)*Invoer!D68","v":0},{"$f":"SUMIFS(Inrichtingskosten!$H:$H,Inrichtingskosten!$C:$C,Invoer!$B68,Inrichtingskosten!$B:$B,Invoer!Z68)*Invoer!F68","v":0},{"$f":"SUMIFS(Inrichtingskosten!$H:$H,Inrichtingskosten!$C:$C,Invoer!$B68,Inrichtingskosten!$B:$B,Invoer!AA68)*Invoer!F68","v":0},{"$f":"SUMIFS(Inrichtingskosten!$H:$H,Inrichtingskosten!$C:$C,Invoer!$B68,Inrichtingskosten!$B:$B,Invoer!AB68)*Invoer!H68","v":0},{"$f":"SUMIFS(Inrichtingskosten!$H:$H,Inrichtingskosten!$C:$C,Invoer!$B68,Inrichtingskosten!$B:$B,Invoer!AC68)*Invoer!H68","v":0},{"$f":"SUMIFS(Inrichtingskosten!$H:$H,Inrichtingskosten!$C:$C,Invoer!$B68,Inrichtingskosten!$B:$B,Invoer!AD68)*Invoer!J68","v":0},{"$f":"SUMIFS(Inrichtingskosten!$H:$H,Inrichtingskosten!$C:$C,Invoer!$B68,Inrichtingskosten!$B:$B,Invoer!AE68)*Invoer!J68","v":0}]
[null,{"$f":"Invoer!B69","v":0},"",{"$f":"IF(IF(Invoer!E69<>\"Verwijderen\",(SUMIFS(Onderhoudskosten!$K:$K,Onderhoudskosten!$B:$B,Invoer!$B69)*Invoer!D69),\" \")=0,\" \",IF(Invoer!E69<>\"Verwijderen\",(SUMIFS(Onderhoudskosten!$K:$K,Onderhoudskosten!$B:$B,Invoer!$B69)*Invoer!D69),\" \"))","v":" "},"",{"$f":"IF(IF(Invoer!G69<>\"Verwijderen\",(SUMIFS(Onderhoudskosten!$K:$K,Onderhoudskosten!$B:$B,Invoer!$B69)*Invoer!F69),\" \")=0,\" \",IF(Invoer!G69<>\"Verwijderen\",(SUMIFS(Onderhoudskosten!$K:$K,Onderhoudskosten!$B:$B,Invoer!$B69)*Invoer!F69),\" \"))","v":" "},"",{"$f":"IF(IF(Invoer!I69<>\"Verwijderen\",(SUMIFS(Onderhoudskosten!$K:$K,Onderhoudskosten!$B:$B,Invoer!$B69)*Invoer!H69),\" \")=0,\" \",IF(Invoer!I69<>\"Verwijderen\",(SUMIFS(Onderhoudskosten!$K:$K,Onderhoudskosten!$B:$B,Invoer!$B69)*Invoer!H69),\" \"))","v":" "},"",{"$f":"IF(IF(Invoer!K69<>\"Verwijderen\",(SUMIFS(Onderhoudskosten!$K:$K,Onderhoudskosten!$B:$B,Invoer!$B69)*Invoer!J69),\" \")=0,\" \",IF(Invoer!K69<>\"Verwijderen\",(SUMIFS(Onderhoudskosten!$K:$K,Onderhoudskosten!$B:$B,Invoer!$B69)*Invoer!J69),\" \"))","v":" "},null,null,null,null,null,null,null,null,null,null,null,null,null,0,{"$f":"SUMIFS(Inrichtingskosten!$H:$H,Inrichtingskosten!$C:$C,Invoer!$B69,Inrichtingskosten!$B:$B,Invoer!X69)*Invoer!D69","v":0},{"$f":"SUMIFS(Inrichtingskosten!$H:$H,Inrichtingskosten!$C:$C,Invoer!$B69,Inrichtingskosten!$B:$B,Invoer!Y69)*Invoer!D69","v":0},{"$f":"SUMIFS(Inrichtingskosten!$H:$H,Inrichtingskosten!$C:$C,Invoer!$B69,Inrichtingskosten!$B:$B,Invoer!Z69)*Invoer!F69","v":0},{"$f":"SUMIFS(Inrichtingskosten!$H:$H,Inrichtingskosten!$C:$C,Invoer!$B69,Inrichtingskosten!$B:$B,Invoer!AA69)*Invoer!F69","v":0},{"$f":"SUMIFS(Inrichtingskosten!$H:$H,Inrichtingskosten!$C:$C,Invoer!$B69,Inrichtingskosten!$B:$B,Invoer!AB69)*Invoer!H69","v":0},{"$f":"SUMIFS(Inrichtingskosten!$H:$H,Inrichtingskosten!$C:$C,Invoer!$B69,Inrichtingskosten!$B:$B,Invoer!AC69)*Invoer!H69","v":0},{"$f":"SUMIFS(Inrichtingskosten!$H:$H,Inrichtingskosten!$C:$C,Invoer!$B69,Inrichtingskosten!$B:$B,Invoer!AD69)*Invoer!J69","v":0},{"$f":"SUMIFS(Inrichtingskosten!$H:$H,Inrichtingskosten!$C:$C,Invoer!$B69,Inrichtingskosten!$B:$B,Invoer!AE69)*Invoer!J69","v":0}]
[null,{"$f":"Invoer!B70","v":0},"",{"$f":"IF(IF(Invoer!E70<>\"Verwijderen\",(SUMIFS(Onderhoudskosten!$K:$K,Onderhoudskosten!$B:$B,Invoer!$B70)*Invoer!D70),\" \")=0,\" \",IF(Invoer!E70<>\"Verwijderen\",(SUMIFS(Onderhoudskosten!$K:$K,Onderhoudskosten!$B:$B,Invoer!$B70)*Invoer!D70),\" \"))","v":" "},"",{"$f":"IF(IF(Invoer!G70<>\"Verwijderen\",(SUMIFS(Onderhoudskosten!$K:$K,Onderhoudskosten!$B:$B,Invoer!$B70)*Invoer!F70),\" \")=0,\" \",IF(Invoer!G70<>\"Verwijderen\",(SUMIFS(Onderhoudskosten!$K:$K,Onderhoudskosten!$B:$B,Invoer!$B70)*Invoer!F70),\" \"))","v":" "},"",{"$f":"IF(IF(Invoer!I70<>\"Verwijderen\",(SUMIFS(Onderhoudskosten!$K:$K,Onderhoudskosten!$B:$B,Invoer!$B70)*Invoer!H70),\" \")=0,\" \",IF(Invoer!I70<>\"Verwijderen\",(SUMIFS(Onderhoudskosten!$K:$K,Onderhoudskosten!$B:$B,Invoer!$B70)*Invoer!H70),\" \"))","v":" "},"",{"$f":"IF(IF(Invoer!K70<>\"Verwijderen\",(SUMIFS(Onderhoudskosten!$K:$K,Onderhoudskosten!$B:$B,Invoer!$B70)*Invoer!J70),\" \")=0,\" \",IF(Invoer!K70<>\"Verwijderen\",(SUMIFS(Onderhoudskosten!$K:$K,Onderhoudskosten!$B:$B,Invoer!$B70)*Invoer!J70),\" \"))","v":" "},null,null,null,null,null,null,null,null,null,null,null,null,null,0,{"$f":"SUMIFS(Inrichtingskosten!$H:$H,Inrichtingskosten!$C:$C,Invoer!$B70,Inrichtingskosten!$B:$B,Invoer!X70)*Invoer!D70","v":0},{"$f":"SUMIFS(Inrichtingskosten!$H:$H,Inrichtingskosten!$C:$C,Invoer!$B70,Inrichtingskosten!$B:$B,Invoer!Y70)*Invoer!D70","v":0},{"$f":"SUMIFS(Inrichtingskosten!$H:$H,Inrichtingskosten!$C:$C,Invoer!$B70,Inrichtingskosten!$B:$B,Invoer!Z70)*Invoer!F70","v":0},{"$f":"SUMIFS(Inrichtingskosten!$H:$H,Inrichtingskosten!$C:$C,Invoer!$B70,Inrichtingskosten!$B:$B,Invoer!AA70)*Invoer!F70","v":0},{"$f":"SUMIFS(Inrichtingskosten!$H:$H,Inrichtingskosten!$C:$C,Invoer!$B70,Inrichtingskosten!$B:$B,Invoer!AB70)*Invoer!H70","v":0},{"$f":"SUMIFS(Inrichtingskosten!$H:$H,Inrichtingskosten!$C:$C,Invoer!$B70,Inrichtingskosten!$B:$B,Invoer!AC70)*Invoer!H70","v":0},{"$f":"SUMIFS(Inrichtingskosten!$H:$H,Inrichtingskosten!$C:$C,Invoer!$B70,Inrichtingskosten!$B:$B,Invoer!AD70)*Invoer!J70","v":0},{"$f":"SUMIFS(Inrichtingskosten!$H:$H,Inrichtingskosten!$C:$C,Invoer!$B70,Inrichtingskosten!$B:$B,Invoer!AE70)*Invoer!J70","v":0},null,null,{"$f":"B7","v":"Grondwerk"},{"$f":"SUM(Y8)","v":0},{"$f":"AI40","v":"Grondwerk"},{"$f":"SUM(D8)","v":0},{"$f":"SUM(AA8)","v":0},{"$f":"SUM(D8)","v":0},{"$f":"SUM(AA8)","v":0}]
[null,{"$f":"Invoer!B71","v":0},"",{"$f":"IF(IF(Invoer!E71<>\"Verwijderen\",(SUMIFS(Onderhoudskosten!$K:$K,Onderhoudskosten!$B:$B,Invoer!$B71)*Invoer!D71),\" \")=0,\" \",IF(Invoer!E71<>\"Verwijderen\",(SUMIFS(Onderhoudskosten!$K:$K,Onderhoudskosten!$B:$B,Invoer!$B71)*Invoer!D71),\" \"))","v":" "},"",{"$f":"IF(IF(Invoer!G71<>\"Verwijderen\",(SUMIFS(Onderhoudskosten!$K:$K,Onderhoudskosten!$B:$B,Invoer!$B71)*Invoer!F71),\" \")=0,\" \",IF(Invoer!G71<>\"Verwijderen\",(SUMIFS(Onderhoudskosten!$K:$K,Onderhoudskosten!$B:$B,Invoer!$B71)*Invoer!F71),\" \"))","v":" "},"",{"$f":"IF(IF(Invoer!I71<>\"Verwijderen\",(SUMIFS(Onderhoudskosten!$K:$K,Onderhoudskosten!$B:$B,Invoer!$B71)*Invoer!H71),\" \")=0,\" \",IF(Invoer!I71<>\"Verwijderen\",(SUMIFS(Onderhoudskosten!$K:$K,Onderhoudskosten!$B:$B,Invoer!$B71)*Invoer!H71),\" \"))","v":" "},"",{"$f":"IF(IF(Invoer!K71<>\"Verwijderen\",(SUMIFS(Onderhoudskosten!$K:$K,Onderhoudskosten!$B:$B,Invoer!$B71)*Invoer!J71),\" \")=0,\" \",IF(Invoer!K71<>\"Verwijderen\",(SUMIFS(Onderhoudskosten!$K:$K,Onderhoudskosten!$B:$B,Invoer!$B71)*Invoer!J71),\" \"))","v":" "},null,null,null,null,null,null,null,null,null,null,null,null,null,0,{"$f":"SUMIFS(Inrichtingskosten!$H:$H,Inrichtingskosten!$C:$C,Invoer!$B71,Inrichtingskosten!$B:$B,Invoer!X71)*Invoer!D71","v":0},{"$f":"SUMIFS(Inrichtingskosten!$H:$H,Inrichtingskosten!$C:$C,Invoer!$B71,Inrichtingskosten!$B:$B,Invoer!Y71)*Invoer!D71","v":0},{"$f":"SUMIFS(Inrichtingskosten!$H:$H,Inrichtingskosten!$C:$C,Invoer!$B71,Inrichtingskosten!$B:$B,Invoer!Z71)*Invoer!F71","v":0},{"$f":"SUMIFS(Inrichtingskosten!$H:$H,Inrichtingskosten!$C:$C,Invoer!$B71,Inrichtingskosten!$B:$B,Invoer!AA71)*Invoer!F71","v":0},{"$f":"SUMIFS(Inrichtingskosten!$H:$H,Inrichtingskosten!$C:$C,Invoer!$B71,Inrichtingskosten!$B:$B,Invoer!AB71)*Invoer!H71","v":0},{"$f":"SUMIFS(Inrichtingskosten!$H:$H,Inrichtingskosten!$C:$C,Invoer!$B71,Inrichtingskosten!$B:$B,Invoer!AC71)*Invoer!H71","v":0},{"$f":"SUMIFS(Inrichtingskosten!$H:$H,Inrichtingskosten!$C:$C,Invoer!$B71,Inrichtingskosten!$B:$B,Invoer!AD71)*Invoer!J71","v":0},{"$f":"SUMIFS(Inrichtingskosten!$H:$H,Inrichtingskosten!$C:$C,Invoer!$B71,Inrichtingskosten!$B:$B,Invoer!AE71)*Invoer!J71","v":0},null,null,{"$f":"B11","v":"Elementen verharding"},{"$f":"SUM(Y12:Y19)","v":0},"Elementen verharding",{"$f":"SUM(D12:D19)","v":0},{"$f":"SUM(AA12:AA19)","v":0},{"$f":"SUM(D12:D19)","v":0},{"$f":"SUM(AA12:AA19)","v":0}]
[null,{"$f":"Invoer!B72","v":0},"",{"$f":"IF(IF(Invoer!E72<>\"Verwijderen\",(SUMIFS(Onderhoudskosten!$K:$K,Onderhoudskosten!$B:$B,Invoer!$B72)*Invoer!D72),\" \")=0,\" \",IF(Invoer!E72<>\"Verwijderen\",(SUMIFS(Onderhoudskosten!$K:$K,Onderhoudskosten!$B:$B,Invoer!$B72)*Invoer!D72),\" \"))","v":" "},"",{"$f":"IF(IF(Invoer!G72<>\"Verwijderen\",(SUMIFS(Onderhoudskosten!$K:$K,Onderhoudskosten!$B:$B,Invoer!$B72)*Invoer!F72),\" \")=0,\" \",IF(Invoer!G72<>\"Verwijderen\",(SUMIFS(Onderhoudskosten!$K:$K,Onderhoudskosten!$B:$B,Invoer!$B72)*Invoer!F72),\" \"))","v":" "},"",{"$f":"IF(IF(Invoer!I72<>\"Verwijderen\",(SUMIFS(Onderhoudskosten!$K:$K,Onderhoudskosten!$B:$B,Invoer!$B72)*Invoer!H72),\" \")=0,\" \",IF(Invoer!I72<>\"Verwijderen\",(SUMIFS(Onderhoudskosten!$K:$K,Onderhoudskosten!$B:$B,Invoer!$B72)*Invoer!H72),\" \"))","v":" "},"",{"$f":"IF(IF(Invoer!K72<>\"Verwijderen\",(SUMIFS(Onderhoudskosten!$K:$K,Onderhoudskosten!$B:$B,Invoer!$B72)*Invoer!J72),\" \")=0,\" \",IF(Invoer!K72<>\"Verwijderen\",(SUMIFS(Onderhoudskosten!$K:$K,Onderhoudskosten!$B:$B,Invoer!$B72)*Invoer!J72),\" \"))","v":" "},null,null,null,null,null,null,null,null,null,null,null,null,null,0,{"$f":"SUMIFS(Inrichtingskosten!$H:$H,Inrichtingskosten!$C:$C,Invoer!$B72,Inrichtingskosten!$B:$B,Invoer!X72)*Invoer!D72","v":0},{"$f":"SUMIFS(Inrichtingskosten!$H:$H,Inrichtingskosten!$C:$C,Invoer!$B72,Inrichtingskosten!$B:$B,Invoer!Y72)*Invoer!D72","v":0},{"$f":"SUMIFS(Inrichtingskosten!$H:$H,Inrichtingskosten!$C:$C,Invoer!$B72,Inrichtingskosten!$B:$B,Invoer!Z72)*Invoer!F72","v":0},{"$f":"SUMIFS(Inrichtingskosten!$H:$H,Inrichtingskosten!$C:$C,Invoer!$B72,Inrichtingskosten!$B:$B,Invoer!AA72)*Invoer!F72","v":0},{"$f":"SUMIFS(Inrichtingskosten!$H:$H,Inrichtingskosten!$C:$C,Invoer!$B72,Inrichtingskosten!$B:$B,Invoer!AB72)*Invoer!H72","v":0},{"$f":"SUMIFS(Inrichtingskosten!$H:$H,Inrichtingskosten!$C:$C,Invoer!$B72,Inrichtingskosten!$B:$B,Invoer!AC72)*Invoer!H72","v":0},{"$f":"SUMIFS(Inrichtingskosten!$H:$H,Inrichtingskosten!$C:$C,Invoer!$B72,Inrichtingskosten!$B:$B,Invoer!AD72)*Invoer!J72","v":0},{"$f":"SUMIFS(Inrichtingskosten!$H:$H,Inrichtingskosten!$C:$C,Invoer!$B72,Inrichtingskosten!$B:$B,Invoer!AE72)*Invoer!J72","v":0},null,null,{"$f":"B12","v":"Woonstraat en parkeerterrein van betonstraatstenen"},{"$f":"SUM(Y13:Y20)","v":0},"Woonstraat en parkeerterrein van betonstraatstenen",{"$f":"SUM(D13:D20)","v":0},{"$f":"SUM(AA13:AA20)","v":0},{"$f":"SUM(D13:D20)","v":0},{"$f":"SUM(AA13:AA20)","v":0}]
[null,{"$f":"Invoer!B73","v":0},"",{"$f":"IF(IF(Invoer!E73<>\"Verwijderen\",(SUMIFS(Onderhoudskosten!$K:$K,Onderhoudskosten!$B:$B,Invoer!$B73)*Invoer!D73),\" \")=0,\" \",IF(Invoer!E73<>\"Verwijderen\",(SUMIFS(Onderhoudskosten!$K:$K,Onderhoudskosten!$B:$B,Invoer!$B73)*Invoer!D73),\" \"))","v":" "},"",{"$f":"IF(IF(Invoer!G73<>\"Verwijderen\",(SUMIFS(Onderhoudskosten!$K:$K,Onderhoudskosten!$B:$B,Invoer!$B73)*Invoer!F73),\" \")=0,\" \",IF(Invoer!G73<>\"Verwijderen\",(SUMIFS(Onderhoudskosten!$K:$K,Onderhoudskosten!$B:$B,Invoer!$B73)*Invoer!F73),\" \"))","v":" "},"",{"$f":"IF(IF(Invoer!I73<>\"Verwijderen\",(SUMIFS(Onderhoudskosten!$K:$K,Onderhoudskosten!$B:$B,Invoer!$B73)*Invoer!H73),\" \")=0,\" \",IF(Invoer!I73<>\"Verwijderen\",(SUMIFS(Onderhoudskosten!$K:$K,Onderhoudskosten!$B:$B,Invoer!$B73)*Invoer!H73),\" \"))","v":" "},"",{"$f":"IF(IF(Invoer!K73<>\"Verwijderen\",(SUMIFS(Onderhoudskosten!$K:$K,Onderhoudskosten!$B:$B,Invoer!$B73)*Invoer!J73),\" \")=0,\" \",IF(Invoer!K73<>\"Verwijderen\",(SUMIFS(Onderhoudskosten!$K:$K,Onderhoudskosten!$B:$B,Invoer!$B73)*Invoer!J73),\" \"))","v":" "},null,null,null,null,null,null,null,null,null,null,null,null,null,0,{"$f":"SUMIFS(Inrichtingskosten!$H:$H,Inrichtingskosten!$C:$C,Invoer!$B73,Inrichtingskosten!$B:$B,Invoer!X73)*Invoer!D73","v":0},{"$f":"SUMIFS(Inrichtingskosten!$H:$H,Inrichtingskosten!$C:$C,Invoer!$B73,Inrichtingskosten!$B:$B,Invoer!Y73)*Invoer!D73","v":0},{"$f":"SUMIFS(Inrichtingskosten!$H:$H,Inrichtingskosten!$C:$C,Invoer!$B73,Inrichtingskosten!$B:$B,Invoer!Z73)*Invoer!F73","v":0},{"$f":"SUMIFS(Inrichtingskosten!$H:$H,Inrichtingskosten!$C:$C,Invoer!$B73,Inrichtingskosten!$B:$B,Invoer!AA73)*Invoer!F73","v":0},{"$f":"SUMIFS(Inrichtingskosten!$H:$H,Inrichtingskosten!$C:$C,Invoer!$B73,Inrichtingskosten!$B:$B,Invoer!AB73)*Invoer!H73","v":0},{"$f":"SUMIFS(Inrichtingskosten!$H:$H,Inrichtingskosten!$C:$C,Invoer!$B73,Inrichtingskosten!$B:$B,Invoer!AC73)*Invoer!H73","v":0},{"$f":"SUMIFS(Inrichtingskosten!$H:$H,Inrichtingskosten!$C:$C,Invoer!$B73,Inrichtingskosten!$B:$B,Invoer!AD73)*Invoer!J73","v":0},{"$f":"SUMIFS(Inrichtingskosten!$H:$H,Inrichtingskosten!$C:$C,Invoer!$B73,Inrichtingskosten!$B:$B,Invoer!AE73)*Invoer!J73","v":0},null,null,{"$f":"B13","v":"Voetpad/plein van betonstraatstenen"},{"$f":"SUM(Y14:Y20)","v":0},"Voetpad/plein van betonstraatstenen",{"$f":"SUM(D14:D20)","v":0},{"$f":"SUM(AA14:AA20)","v":0},{"$f":"SUM(D14:D20)","v":0},{"$f":"SUM(AA14:AA20)","v":0}]
[null,{"$f":"Invoer!B74","v":0},{"$f":"IF(2*(Y44+Z44)/100=0,\"\",2*(Y44+Z44)/100)","v":""},{"$f":"IF(IF(Invoer!E74<>\"Verwijderen\",(SUMIFS(Onderhoudskosten!$K:$K,Onderhoudskosten!$B:$B,Invoer!$B74)*Invoer!D74),\" \")=0,\" \",IF(Invoer!E74<>\"Verwijderen\",(SUMIFS(Onderhoudskosten!$K:$K,Onderhoudskosten!$B:$B,Invoer!$B74)*Invoer!D74),\" \"))","v":" "},{"$f":"IF(2*(AA44+AB44)/100=0,\"\",2*(AA44+AB44)/100)","v":""},{"$f":"IF(IF(Invoer!G74<>\"Verwijderen\",(SUMIFS(Onderhoudskosten!$K:$K,Onderhoudskosten!$B:$B,Invoer!$B74)*Invoer!F74),\" \")=0,\" \",IF(Invoer!G74<>\"Verwijderen\",(SUMIFS(Onderhoudskosten!$K:$K,Onderhoudskosten!$B:$B,Invoer!$B74)*Invoer!F74),\" \"))","v":" "},{"$f":"IF(2*(AC44+AD44)/100=0,\"\",2*(AC44+AD44)/100)","v":""},{"$f":"IF(IF(Invoer!I74<>\"Verwijderen\",(SUMIFS(Onderhoudskosten!$K:$K,Onderhoudskosten!$B:$B,Invoer!$B74)*Invoer!H74),\" \")=0,\" \",IF(Invoer!I74<>\"Verwijderen\",(SUMIFS(Onderhoudskosten!$K:$K,Onderhoudskosten!$B:$B,Invoer!$B74)*Invoer!H74),\" \"))","v":" "},{"$f":"IF(2*(AE44+AF44)/100=0,\"\",2*(AE44+AF44)/100)","v":""},{"$f":"IF(IF(Invoer!K74<>\"Verwijderen\",(SUMIFS(Onderhoudskosten!$K:$K,Onderhoudskosten!$B:$B,Invoer!$B74)*Invoer!J74),\" \")=0,\" \",IF(Invoer!K74<>\"Verwijderen\",(SUMIFS(Onderhoudskosten!$K:$K,Onderhoudskosten!$B:$B,Invoer!$B74)*Invoer!J74),\" \"))","v":" "},null,null,null,null,null,null,null,null,null,null,null,null,null,0,{"$f":"SUMIFS(Inrichtingskosten!$H:$H,Inrichtingskosten!$C:$C,Invoer!$B74,Inrichtingskosten!$B:$B,Invoer!X74)*Invoer!D74","v":0},{"$f":"SUMIFS(Inrichtingskosten!$H:$H,Inrichtingskosten!$C:$C,Invoer!$B74,Inrichtingskosten!$B:$B,Invoer!Y74)*Invoer!D74","v":0},{"$f":"SUMIFS(Inrichtingskosten!$H:$H,Inrichtingskosten!$C:$C,Invoer!$B74,Inrichtingskosten!$B:$B,Invoer!Z74)*Invoer!F74","v":0},{"$f":"SUMIFS(Inrichtingskosten!$H:$H,Inrichtingskosten!$C:$C,Invoer!$B74,Inrichtingskosten!$B:$B,Invoer!AA74)*Invoer!F74","v":0},{"$f":"SUMIFS(Inrichtingskosten!$H:$H,Inrichtingskosten!$C:$C,Invoer!$B74,Inrichtingskosten!$B:$B,Invoer!AB74)*Invoer!H74","v":0},{"$f":"SUMIFS(Inrichtingskosten!$H:$H,Inrichtingskosten!$C:$C,Invoer!$B74,Inrichtingskosten!$B:$B,Invoer!AC74)*Invoer!H74","v":0},{"$f":"SUMIFS(Inrichtingskosten!$H:$H,Inrichtingskosten!$C:$C,Invoer!$B74,Inrichtingskosten!$B:$B,Invoer!AD74)*Invoer!J74","v":0},{"$f":"SUMIFS(Inrichtingskosten!$H:$H,Inrichtingskosten!$C:$C,Invoer!$B74,Inrichtingskosten!$B:$B,Invoer!AE74)*Invoer!J74","v":0},null,null,{"$f":"B14","v":"Woonstraat en parkeerterrein van betonstraatstenen"},{"$f":"SUM(Y19:Y22)","v":0},"Woonstraat en parkeerterrein van betonstraatstenen",{"$f":"SUM(D19:D22)","v":0},{"$f":"SUM(AA19:AA22)","v":0},{"$f":"SUM(D19:D22)","v":0},{"$f":"SUM(AA19:AA22)","v":0}]
[null,{"$f":"Invoer!B75","v":"Gemengd of afvalwaterriool"},null,null,null,null,null,null,null,null,null,null,null,null,null,null,null,null,null,null,null,null,null,{"$f":"Invoer!B75","v":"Gemengd of afvalwaterriool"},null,null,null,null,null,null,null,null,null,null,{"$f":"B33","v":"Gescheiden hemelwaterriool"},{"$f":"SUM(Y34:Y40)","v":0},"Gescheiden hemelwaterriool",{"$f":"SUM(D34:D41)","v":0},{"$f":"SUM(AA34:AA40)","v":0},{"$f":"SUM(D34:D41)","v":0},{"$f":"SUM(AA34:AA40)","v":0}]
[null,{"$f":"Invoer!B76","v":"Buis beton 400"},{"$f":"IF(2*(Y46+Z46)/100=0,\"\",2*(Y46+Z46)/100)","v":""},{"$f":"IF(IF(Invoer!E76<>\"Verwijderen\",(SUMIFS(Onderhoudskosten!$K:$K,Onderhoudskosten!$B:$B,Invoer!$B76)*Invoer!D76),\" \")=0,\" \",IF(Invoer!E76<>\"Verwijderen\",(SUMIFS(Onderhoudskosten!$K:$K,Onderhoudskosten!$B:$B,Invoer!$B76)*Invoer!D76),\" \"))","v":" "},{"$f":"IF(2*(AA46+AB46)/100=0,\"\",2*(AA46+AB46)/100)","v":""},{"$f":"IF(IF(Invoer!G76<>\"Verwijderen\",(SUMIFS(Onderhoudskosten!$K:$K,Onderhoudskosten!$B:$B,Invoer!$B76)*Invoer!F76),\" \")=0,\" \",IF(Invoer!G76<>\"Verwijderen\",(SUMIFS(Onderhoudskosten!$K:$K,Onderhoudskosten!$B:$B,Invoer!$B76)*Invoer!F76),\" \"))","v":" "},{"$f":"IF(2*(AC46+AD46)/100=0,\"\",2*(AC46+AD46)/100)","v":""},{"$f":"IF(IF(Invoer!I76<>\"Verwijderen\",(SUMIFS(Onderhoudskosten!$K:$K,Onderhoudskosten!$B:$B,Invoer!$B76)*Invoer!H76),\" \")=0,\" \",IF(Invoer!I76<>\"Verwijderen\",(SUMIFS(Onderhoudskosten!$K:$K,Onderhoudskosten!$B:$B,Invoer!$B76)*Invoer!H76),\" \"))","v":" "},{"$f":"IF(2*(AE46+AF46)/100=0,\"\",2*(AE46+AF46)/100)","v":""},{"$f":"IF(IF(Invoer!K76<>\"Verwijderen\",(SUMIFS(Onderhoudskosten!$K:$K,Onderhoudskosten!$B:$B,Invoer!$B76)*Invoer!J76),\" \")=0,\" \",IF(Invoer!K76<>\"Verwijderen\",(SUMIFS(Onderhoudskosten!$K:$K,Onderhoudskosten!$B:$B,Invoer!$B76)*Invoer!J76),\" \"))","v":" "},null,null,null,null,null,null,null,null,null,null,null,null,null,{"$f":"B46","v":"Buis beton 400"},{"$f":"SUMIFS(Inrichtingskosten!$H:$H,Inrichtingskosten!$C:$C,Invoer!$B76,Inrichtingskosten!$B:$B,Invoer!X76)*Invoer!D76","v":0},{"$f":"SUMIFS(Inrichtingskosten!$H:$H,Inrichtingskosten!$C:$C,Invoer!$B76,Inrichtingskosten!$B:$B,Invoer!Y76)*Invoer!D76","v":0},{"$f":"SUMIFS(Inrichtingskosten!$H:$H,Inrichtingskosten!$C:$C,Invoer!$B76,Inrichtingskosten!$B:$B,Invoer!Z76)*Invoer!F76","v":0},{"$f":"SUMIFS(Inrichtingskosten!$H:$H,Inrichtingskosten!$C:$C,Invoer!$B76,Inrichtingskosten!$B:$B,Invoer!AA76)*Invoer!F76","v":0},{"$f":"SUMIFS(Inrichtingskosten!$H:$H,Inrichtingskosten!$C:$C,Invoer!$B76,Inrichtingskosten!$B:$B,Invoer!AB76)*Invoer!H76","v":0},{"$f":"SUMIFS(Inrichtingskosten!$H:$H,Inrichtingskosten!$C:$C,Invoer!$B76,Inrichtingskosten!$B:$B,Invoer!AC76)*Invoer!H76","v":0},{"$f":"SUMIFS(Inrichtingskosten!$H:$H,Inrichtingskosten!$C:$C,Invoer!$B76,Inrichtingskosten!$B:$B,Invoer!AD76)*Invoer!J76","v":0},{"$f":"SUMIFS(Inrichtingskosten!$H:$H,Inrichtingskosten!$C:$C,Invoer!$B76,Inrichtingskosten!$B:$B,Invoer!AE76)*Invoer!J76","v":0},null,null,{"$f":"B45","v":"Gemengd of afvalwaterriool"},{"$f":"SUM(Y46:Y47)","v":0},"Gemengd of afvalwaterriool",{"$f":"SUM(D46:D48)","v":0},{"$f":"SUM(AA46:AA47)","v":0},{"$f":"SUM(D46:D48)","v":0},{"$f":"SUM(AA46:AA47)","v":0}]
[null,{"$f":"Invoer!B77","v":"Rioolput beton 400"},{"$f":"IF(2*(Y47+Z47)/100=0,\"\",2*(Y47+Z47)/100)","v":""},{"$f":"IF(IF(Invoer!E77<>\"Verwijderen\",(SUMIFS(Onderhoudskosten!$K:$K,Onderhoudskosten!$B:$B,Invoer!$B77)*Invoer!D77),\" \")=0,\" \",IF(Invoer!E77<>\"Verwijderen\",(SUMIFS(Onderhoudskosten!$K:$K,Onderhoudskosten!$B:$B,Invoer!$B77)*Invoer!D77),\" \"))","v":" "},{"$f":"IF(2*(AA47+AB47)/100=0,\"\",2*(AA47+AB47)/100)","v":""},{"$f":"IF(IF(Invoer!G77<>\"Verwijderen\",(SUMIFS(Onderhoudskosten!$K:$K,Onderhoudskosten!$B:$B,Invoer!$B77)*Invoer!F77),\" \")=0,\" \",IF(Invoer!G77<>\"Verwijderen\",(SUMIFS(Onderhoudskosten!$K:$K,Onderhoudskosten!$B:$B,Invoer!$B77)*Invoer!F77),\" \"))","v":" "},{"$f":"IF(2*(AC47+AD47)/100=0,\"\",2*(AC47+AD47)/100)","v":""},{"$f":"IF(IF(Invoer!I77<>\"Verwijderen\",(SUMIFS(Onderhoudskosten!$K:$K,Onderhoudskosten!$B:$B,Invoer!$B77)*Invoer!H77),\" \")=0,\" \",IF(Invoer!I77<>\"Verwijderen\",(SUMIFS(Onderhoudskosten!$K:$K,Onderhoudskosten!$B:$B,Invoer!$B77)*Invoer!H77),\" \"))","v":" "},{"$f":"IF(2*(AE47+AF47)/100=0,\"\",2*(AE47+AF47)/100)","v":""},{"$f":"IF(IF(Invoer!K77<>\"Verwijderen\",(SUMIFS(Onderhoudskosten!$K:$K,Onderhoudskosten!$B:$B,Invoer!$B77)*Invoer!J77),\" \")=0,\" \",IF(Invoer!K77<>\"Verwijderen\",(SUMIFS(Onderhoudskosten!$K:$K,Onderhoudskosten!$B:$B,Invoer!$B77)*Invoer!J77),\" \"))","v":" "},null,null,null,null,null,null,null,null,null,null,null,null,null,"Rioolput beton 400",{"$f":"SUMIFS(Inrichtingskosten!$H:$H,Inrichtingskosten!$C:$C,Invoer!$B77,Inrichtingskosten!$B:$B,Invoer!X77)*Invoer!D77","v":0},{"$f":"SUMIFS(Inrichtingskosten!$H:$H,Inrichtingskosten!$C:$C,Invoer!$B77,Inrichtingskosten!$B:$B,Invoer!Y77)*Invoer!D77","v":0},{"$f":"SUMIFS(Inrichtingskosten!$H:$H,Inrichtingskosten!$C:$C,Invoer!$B77,Inrichtingskosten!$B:$B,Invoer!Z77)*Invoer!F77","v":0},{"$f":"SUMIFS(Inrichtingskosten!$H:$H,Inrichtingskosten!$C:$C,Invoer!$B77,Inrichtingskosten!$B:$B,Invoer!AA77)*Invoer!F77","v":0},{"$f":"SUMIFS(Inrichtingskosten!$H:$H,Inrichtingskosten!$C:$C,Invoer!$B77,Inrichtingskosten!$B:$B,Invoer!AB77)*Invoer!H77","v":0},{"$f":"SUMIFS(Inrichtingskosten!$H:$H,Inrichtingskosten!$C:$C,Invoer!$B77,Inrichtingskosten!$B:$B,Invoer!AC77)*Invoer!H77","v":0},{"$f":"SUMIFS(Inrichtingskosten!$H:$H,Inrichtingskosten!$C:$C,Invoer!$B77,Inrichtingskosten!$B:$B,Invoer!AD77)*Invoer!J77","v":0},{"$f":"SUMIFS(Inrichtingskosten!$H:$H,Inrichtingskosten!$C:$C,Invoer!$B77,Inrichtingskosten!$B:$B,Invoer!AE77)*Invoer!J77","v":0},null,null,{"$f":"B58","v":"Groenvoorziening"},{"$f":"SUM(Y58:Y60)","v":0},"Groenvoorziening",{"$f":"SUM(D59:D64)","v":0},{"$f":"SUM(AA58:AA60)","v":0},{"$f":"SUM(D59:D64)","v":0},{"$f":"SUM(AA58:AA60)","v":0}]
[null,{"$f":"Invoer!B78","v":"Perceelaansluiting"},{"$f":"IF(2*(Y48+Z48)/100=0,\"\",2*(Y48+Z48)/100)","v":""},{"$f":"IF(IF(Invoer!E78<>\"Verwijderen\",(SUMIFS(Onderhoudskosten!$K:$K,Onderhoudskosten!$B:$B,Invoer!$B78)*Invoer!D78),\" \")=0,\" \",IF(Invoer!E78<>\"Verwijderen\",(SUMIFS(Onderhoudskosten!$K:$K,Onderhoudskosten!$B:$B,Invoer!$B78)*Invoer!D78),\" \"))","v":" "},"",{"$f":"IF(IF(Invoer!G78<>\"Verwijderen\",(SUMIFS(Onderhoudskosten!$K:$K,Onderhoudskosten!$B:$B,Invoer!$B78)*Invoer!F78),\" \")=0,\" \",IF(Invoer!G78<>\"Verwijderen\",(SUMIFS(Onderhoudskosten!$K:$K,Onderhoudskosten!$B:$B,Invoer!$B78)*Invoer!F78),\" \"))","v":" "},"",{"$f":"IF(IF(Invoer!I78<>\"Verwijderen\",(SUMIFS(Onderhoudskosten!$K:$K,Onderhoudskosten!$B:$B,Invoer!$B78)*Invoer!H78),\" \")=0,\" \",IF(Invoer!I78<>\"Verwijderen\",(SUMIFS(Onderhoudskosten!$K:$K,Onderhoudskosten!$B:$B,Invoer!$B78)*Invoer!H78),\" \"))","v":" "},"",{"$f":"IF(IF(Invoer!K78<>\"Verwijderen\",(SUMIFS(Onderhoudskosten!$K:$K,Onderhoudskosten!$B:$B,Invoer!$B78)*Invoer!J78),\" \")=0,\" \",IF(Invoer!K78<>\"Verwijderen\",(SUMIFS(Onderhoudskosten!$K:$K,Onderhoudskosten!$B:$B,Invoer!$B78)*Invoer!J78),\" \"))","v":" "},null,null,null,null,null,null,null,null,null,null,null,null,null,"Perceelaansluiting",{"$f":"SUMIFS(Inrichtingskosten!$H:$H,Inrichtingskosten!$C:$C,Invoer!$B78,Inrichtingskosten!$B:$B,Invoer!X78)*Invoer!D78","v":0},{"$f":"SUMIFS(Inrichtingskosten!$H:$H,Inrichtingskosten!$C:$C,Invoer!$B78,Inrichtingskosten!$B:$B,Invoer!Y78)*Invoer!D78","v":0},{"$f":"SUMIFS(Inrichtingskosten!$H:$H,Inrichtingskosten!$C:$C,Invoer!$B78,Inrichtingskosten!$B:$B,Invoer!Z78)*Invoer!F78","v":0},{"$f":"SUMIFS(Inrichtingskosten!$H:$H,Inrichtingskosten!$C:$C,Invoer!$B78,Inrichtingskosten!$B:$B,Invoer!AA78)*Invoer!F78","v":0},{"$f":"SUMIFS(Inrichtingskosten!$H:$H,Inrichtingskosten!$C:$C,Invoer!$B78,Inrichtingskosten!$B:$B,Invoer!AB78)*Invoer!H78","v":0},{"$f":"SUMIFS(Inrichtingskosten!$H:$H,Inrichtingskosten!$C:$C,Invoer!$B78,Inrichtingskosten!$B:$B,Invoer!AC78)*Invoer!H78","v":0},{"$f":"SUMIFS(Inrichtingskosten!$H:$H,Inrichtingskosten!$C:$C,Invoer!$B78,Inrichtingskosten!$B:$B,Invoer!AD78)*Invoer!J78","v":0},{"$f":"SUMIFS(Inrichtingskosten!$H:$H,Inrichtingskosten!$C:$C,Invoer!$B78,Inrichtingskosten!$B:$B,Invoer!AE78)*Invoer!J78","v":0},null,null,{"$f":"B67","v":"Overig"},{"$f":"SUM(#REF!)","v":{"$error":"#REF!"}},"Overig",{"$f":"SUM(#REF!)","v":{"$error":"#REF!"}},{"$f":"SUM(#REF!)","v":{"$error":"#REF!"}},{"$f":"SUM(D68)","v":0},{"$f":"SUM(#REF!)","v":{"$error":"#REF!"}}]
[null,{"$f":"Invoer!B79","v":0},"",{"$f":"IF(IF(Invoer!E79<>\"Verwijderen\",(SUMIFS(Onderhoudskosten!$K:$K,Onderhoudskosten!$B:$B,Invoer!$B79)*Invoer!D79),\" \")=0,\" \",IF(Invoer!E79<>\"Verwijderen\",(SUMIFS(Onderhoudskosten!$K:$K,Onderhoudskosten!$B:$B,Invoer!$B79)*Invoer!D79),\" \"))","v":" "},"",{"$f":"IF(IF(Invoer!G79<>\"Verwijderen\",(SUMIFS(Onderhoudskosten!$K:$K,Onderhoudskosten!$B:$B,Invoer!$B79)*Invoer!F79),\" \")=0,\" \",IF(Invoer!G79<>\"Verwijderen\",(SUMIFS(Onderhoudskosten!$K:$K,Onderhoudskosten!$B:$B,Invoer!$B79)*Invoer!F79),\" \"))","v":" "},"",{"$f":"IF(IF(Invoer!I79<>\"Verwijderen\",(SUMIFS(Onderhoudskosten!$K:$K,Onderhoudskosten!$B:$B,Invoer!$B79)*Invoer!H79),\" \")=0,\" \",IF(Invoer!I79<>\"Verwijderen\",(SUMIFS(Onderhoudskosten!$K:$K,Onderhoudskosten!$B:$B,Invoer!$B79)*Invoer!H79),\" \"))","v":" "},"",{"$f":"IF(IF(Invoer!K79<>\"Verwijderen\",(SUMIFS(Onderhoudskosten!$K:$K,Onderhoudskosten!$B:$B,Invoer!$B79)*Invoer!J79),\" \")=0,\" \",IF(Invoer!K79<>\"Verwijderen\",(SUMIFS(Onderhoudskosten!$K:$K,Onderhoudskosten!$B:$B,Invoer!$B79)*Invoer!J79),\" \"))","v":" "},null,null,null,null,null,null,null,null,null,null,null,null,null,0,{"$f":"SUMIFS(Inrichtingskosten!$H:$H,Inrichtingskosten!$C:$C,Invoer!$B79,Inrichtingskosten!$B:$B,Invoer!X79)*Invoer!D79","v":0},{"$f":"SUMIFS(Inrichtingskosten!$H:$H,Inrichtingskosten!$C:$C,Invoer!$B79,Inrichtingskosten!$B:$B,Invoer!Y79)*Invoer!D79","v":0},{"$f":"SUMIFS(Inrichtingskosten!$H:$H,Inrichtingskosten!$C:$C,Invoer!$B79,Inrichtingskosten!$B:$B,Invoer!Z79)*Invoer!F79","v":0},{"$f":"SUMIFS(Inrichtingskosten!$H:$H,Inrichtingskosten!$C:$C,Invoer!$B79,Inrichtingskosten!$B:$B,Invoer!AA79)*Invoer!F79","v":0},{"$f":"SUMIFS(Inrichtingskosten!$H:$H,Inrichtingskosten!$C:$C,Invoer!$B79,Inrichtingskosten!$B:$B,Invoer!AB79)*Invoer!H79","v":0},{"$f":"SUMIFS(Inrichtingskosten!$H:$H,Inrichtingskosten!$C:$C,Invoer!$B79,Inrichtingskosten!$B:$B,Invoer!AC79)*Invoer!H79","v":0},{"$f":"SUMIFS(Inrichtingskosten!$H:$H,Inrichtingskosten!$C:$C,Invoer!$B79,Inrichtingskosten!$B:$B,Invoer!AD79)*Invoer!J79","v":0},{"$f":"SUMIFS(Inrichtingskosten!$H:$H,Inrichtingskosten!$C:$C,Invoer!$B79,Inrichtingskosten!$B:$B,Invoer!AE79)*Invoer!J79","v":0}]
[null,{"$f":"Invoer!B80","v":0},{"$f":"IF(2*(Y50+Z50)/100=0,\"\",2*(Y50+Z50)/100)","v":""},{"$f":"IF(IF(Invoer!E80<>\"Verwijderen\",(SUMIFS(Onderhoudskosten!$K:$K,Onderhoudskosten!$B:$B,Invoer!$B80)*Invoer!D80),\" \")=0,\" \",IF(Invoer!E80<>\"Verwijderen\",(SUMIFS(Onderhoudskosten!$K:$K,Onderhoudskosten!$B:$B,Invoer!$B80)*Invoer!D80),\" \"))","v":" "},{"$f":"IF(2*(AA50+AB50)/100=0,\"\",2*(AA50+AB50)/100)","v":""},{"$f":"IF(IF(Invoer!G80<>\"Verwijderen\",(SUMIFS(Onderhoudskosten!$K:$K,Onderhoudskosten!$B:$B,Invoer!$B80)*Invoer!F80),\" \")=0,\" \",IF(Invoer!G80<>\"Verwijderen\",(SUMIFS(Onderhoudskosten!$K:$K,Onderhoudskosten!$B:$B,Invoer!$B80)*Invoer!F80),\" \"))","v":" "},{"$f":"IF(2*(AC50+AD50)/100=0,\"\",2*(AC50+AD50)/100)","v":""},{"$f":"IF(IF(Invoer!I80<>\"Verwijderen\",(SUMIFS(Onderhoudskosten!$K:$K,Onderhoudskosten!$B:$B,Invoer!$B80)*Invoer!H80),\" \")=0,\" \",IF(Invoer!I80<>\"Verwijderen\",(SUMIFS(Onderhoudskosten!$K:$K,Onderhoudskosten!$B:$B,Invoer!$B80)*Invoer!H80),\" \"))","v":" "},{"$f":"IF(2*(AE50+AF50)/100=0,\"\",2*(AE50+AF50)/100)","v":""},{"$f":"IF(IF(Invoer!K80<>\"Verwijderen\",(SUMIFS(Onderhoudskosten!$K:$K,Onderhoudskosten!$B:$B,Invoer!$B80)*Invoer!J80),\" \")=0,\" \",IF(Invoer!K80<>\"Verwijderen\",(SUMIFS(Onderhoudskosten!$K:$K,Onderhoudskosten!$B:$B,Invoer!$B80)*Invoer!J80),\" \"))","v":" "},null,null,null,null,null,null,null,null,null,null,null,null,null,{"$f":"B50","v":0},{"$f":"SUMIFS(Inrichtingskosten!$H:$H,Inrichtingskosten!$C:$C,Invoer!$B80,Inrichtingskosten!$B:$B,Invoer!X80)*Invoer!D80","v":0},{"$f":"SUMIFS(Inrichtingskosten!$H:$H,Inrichtingskosten!$C:$C,Invoer!$B80,Inrichtingskosten!$B:$B,Invoer!Y80)*Invoer!D80","v":0},{"$f":"SUMIFS(Inrichtingskosten!$H:$H,Inrichtingskosten!$C:$C,Invoer!$B80,Inrichtingskosten!$B:$B,Invoer!Z80)*Invoer!F80","v":0},{"$f":"SUMIFS(Inrichtingskosten!$H:$H,Inrichtingskosten!$C:$C,Invoer!$B80,Inrichtingskosten!$B:$B,Invoer!AA80)*Invoer!F80","v":0},{"$f":"SUMIFS(Inrichtingskosten!$H:$H,Inrichtingskosten!$C:$C,Invoer!$B80,Inrichtingskosten!$B:$B,Invoer!AB80)*Invoer!H80","v":0},{"$f":"SUMIFS(Inrichtingskosten!$H:$H,Inrichtingskosten!$C:$C,Invoer!$B80,Inrichtingskosten!$B:$B,Invoer!AC80)*Invoer!H80","v":0},{"$f":"SUMIFS(Inrichtingskosten!$H:$H,Inrichtingskosten!$C:$C,Invoer!$B80,Inrichtingskosten!$B:$B,Invoer!AD80)*Invoer!J80","v":0},{"$f":"SUMIFS(Inrichtingskosten!$H:$H,Inrichtingskosten!$C:$C,Invoer!$B80,Inrichtingskosten!$B:$B,Invoer!AE80)*Invoer!J80","v":0}]
[null,{"$f":"Invoer!B81","v":0},"",{"$f":"IF(IF(Invoer!E81<>\"Verwijderen\",(SUMIFS(Onderhoudskosten!$K:$K,Onderhoudskosten!$B:$B,Invoer!$B81)*Invoer!D81),\" \")=0,\" \",IF(Invoer!E81<>\"Verwijderen\",(SUMIFS(Onderhoudskosten!$K:$K,Onderhoudskosten!$B:$B,Invoer!$B81)*Invoer!D81),\" \"))","v":" "},"",{"$f":"IF(IF(Invoer!G81<>\"Verwijderen\",(SUMIFS(Onderhoudskosten!$K:$K,Onderhoudskosten!$B:$B,Invoer!$B81)*Invoer!F81),\" \")=0,\" \",IF(Invoer!G81<>\"Verwijderen\",(SUMIFS(Onderhoudskosten!$K:$K,Onderhoudskosten!$B:$B,Invoer!$B81)*Invoer!F81),\" \"))","v":" "},"",{"$f":"IF(IF(Invoer!I81<>\"Verwijderen\",(SUMIFS(Onderhoudskosten!$K:$K,Onderhoudskosten!$B:$B,Invoer!$B81)*Invoer!H81),\" \")=0,\" \",IF(Invoer!I81<>\"Verwijderen\",(SUMIFS(Onderhoudskosten!$K:$K,Onderhoudskosten!$B:$B,Invoer!$B81)*Invoer!H81),\" \"))","v":" "},"",{"$f":"IF(IF(Invoer!K81<>\"Verwijderen\",(SUMIFS(Onderhoudskosten!$K:$K,Onderhoudskosten!$B:$B,Invoer!$B81)*Invoer!J81),\" \")=0,\" \",IF(Invoer!K81<>\"Verwijderen\",(SUMIFS(Onderhoudskosten!$K:$K,Onderhoudskosten!$B:$B,Invoer!$B81)*Invoer!J81),\" \"))","v":" "},null,null,null,null,null,null,null,null,null,null,null,null,null,0,{"$f":"SUMIFS(Inrichtingskosten!$H:$H,Inrichtingskosten!$C:$C,Invoer!$B81,Inrichtingskosten!$B:$B,Invoer!X81)*Invoer!D81","v":0},{"$f":"SUMIFS(Inrichtingskosten!$H:$H,Inrichtingskosten!$C:$C,Invoer!$B81,Inrichtingskosten!$B:$B,Invoer!Y81)*Invoer!D81","v":0},{"$f":"SUMIFS(Inrichtingskosten!$H:$H,Inrichtingskosten!$C:$C,Invoer!$B81,Inrichtingskosten!$B:$B,Invoer!Z81)*Invoer!F81","v":0},{"$f":"SUMIFS(Inrichtingskosten!$H:$H,Inrichtingskosten!$C:$C,Invoer!$B81,Inrichtingskosten!$B:$B,Invoer!AA81)*Invoer!F81","v":0},{"$f":"SUMIFS(Inrichtingskosten!$H:$H,Inrichtingskosten!$C:$C,Invoer!$B81,Inrichtingskosten!$B:$B,Invoer!AB81)*Invoer!H81","v":0},{"$f":"SUMIFS(Inrichtingskosten!$H:$H,Inrichtingskosten!$C:$C,Invoer!$B81,Inrichtingskosten!$B:$B,Invoer!AC81)*Invoer!H81","v":0},{"$f":"SUMIFS(Inrichtingskosten!$H:$H,Inrichtingskosten!$C:$C,Invoer!$B81,Inrichtingskosten!$B:$B,Invoer!AD81)*Invoer!J81","v":0},{"$f":"SUMIFS(Inrichtingskosten!$H:$H,Inrichtingskosten!$C:$C,Invoer!$B81,Inrichtingskosten!$B:$B,Invoer!AE81)*Invoer!J81","v":0}]
[null,{"$f":"Invoer!B82","v":0},"",{"$f":"IF(IF(Invoer!E82<>\"Verwijderen\",(SUMIFS(Onderhoudskosten!$K:$K,Onderhoudskosten!$B:$B,Invoer!$B82)*Invoer!D82),\" \")=0,\" \",IF(Invoer!E82<>\"Verwijderen\",(SUMIFS(Onderhoudskosten!$K:$K,Onderhoudskosten!$B:$B,Invoer!$B82)*Invoer!D82),\" \"))","v":" "},"",{"$f":"IF(IF(Invoer!G82<>\"Verwijderen\",(SUMIFS(Onderhoudskosten!$K:$K,Onderhoudskosten!$B:$B,Invoer!$B82)*Invoer!F82),\" \")=0,\" \",IF(Invoer!G82<>\"Verwijderen\",(SUMIFS(Onderhoudskosten!$K:$K,Onderhoudskosten!$B:$B,Invoer!$B82)*Invoer!F82),\" \"))","v":" "},"",{"$f":"IF(IF(Invoer!I82<>\"Verwijderen\",(SUMIFS(Onderhoudskosten!$K:$K,Onderhoudskosten!$B:$B,Invoer!$B82)*Invoer!H82),\" \")=0,\" \",IF(Invoer!I82<>\"Verwijderen\",(SUMIFS(Onderhoudskosten!$K:$K,Onderhoudskosten!$B:$B,Invoer!$B82)*Invoer!H82),\" \"))","v":" "},"",{"$f":"IF(IF(Invoer!K82<>\"Verwijderen\",(SUMIFS(Onderhoudskosten!$K:$K,Onderhoudskosten!$B:$B,Invoer!$B82)*Invoer!J82),\" \")=0,\" \",IF(Invoer!K82<>\"Verwijderen\",(SUMIFS(Onderhoudskosten!$K:$K,Onderhoudskosten!$B:$B,Invoer!$B82)*Invoer!J82),\" \"))","v":" "},null,null,null,null,null,null,null,null,null,null,null,null,null,0,{"$f":"SUMIFS(Inrichtingskosten!$H:$H,Inrichtingskosten!$C:$C,Invoer!$B82,Inrichtingskosten!$B:$B,Invoer!X82)*Invoer!D82","v":0},{"$f":"SUMIFS(Inrichtingskosten!$H:$H,Inrichtingskosten!$C:$C,Invoer!$B82,Inrichtingskosten!$B:$B,Invoer!Y82)*Invoer!D82","v":0},{"$f":"SUMIFS(Inrichtingskosten!$H:$H,Inrichtingskosten!$C:$C,Invoer!$B82,Inrichtingskosten!$B:$B,Invoer!Z82)*Invoer!F82","v":0},{"$f":"SUMIFS(Inrichtingskosten!$H:$H,Inrichtingskosten!$C:$C,Invoer!$B82,Inrichtingskosten!$B:$B,Invoer!AA82)*Invoer!F82","v":0},{"$f":"SUMIFS(Inrichtingskosten!$H:$H,Inrichtingskosten!$C:$C,Invoer!$B82,Inrichtingskosten!$B:$B,Invoer!AB82)*Invoer!H82","v":0},{"$f":"SUMIFS(Inrichtingskosten!$H:$H,Inrichtingskosten!$C:$C,Invoer!$B82,Inrichtingskosten!$B:$B,Invoer!AC82)*Invoer!H82","v":0},{"$f":"SUMIFS(Inrichtingskosten!$H:$H,Inrichtingskosten!$C:$C,Invoer!$B82,Inrichtingskosten!$B:$B,Invoer!AD82)*Invoer!J82","v":0},{"$f":"SUMIFS(Inrichtingskosten!$H:$H,Inrichtingskosten!$C:$C,Invoer!$B82,Inrichtingskosten!$B:$B,Invoer!AE82)*Invoer!J82","v":0}]
[null,{"$f":"Invoer!B83","v":0},"",{"$f":"IF(IF(Invoer!E83<>\"Verwijderen\",(SUMIFS(Onderhoudskosten!$K:$K,Onderhoudskosten!$B:$B,Invoer!$B83)*Invoer!D83),\" \")=0,\" \",IF(Invoer!E83<>\"Verwijderen\",(SUMIFS(Onderhoudskosten!$K:$K,Onderhoudskosten!$B:$B,Invoer!$B83)*Invoer!D83),\" \"))","v":" "},"",{"$f":"IF(IF(Invoer!G83<>\"Verwijderen\",(SUMIFS(Onderhoudskosten!$K:$K,Onderhoudskosten!$B:$B,Invoer!$B83)*Invoer!F83),\" \")=0,\" \",IF(Invoer!G83<>\"Verwijderen\",(SUMIFS(Onderhoudskosten!$K:$K,Onderhoudskosten!$B:$B,Invoer!$B83)*Invoer!F83),\" \"))","v":" "},"",{"$f":"IF(IF(Invoer!I83<>\"Verwijderen\",(SUMIFS(Onderhoudskosten!$K:$K,Onderhoudskosten!$B:$B,Invoer!$B83)*Invoer!H83),\" \")=0,\" \",IF(Invoer!I83<>\"Verwijderen\",(SUMIFS(Onderhoudskosten!$K:$K,Onderhoudskosten!$B:$B,Invoer!$B83)*Invoer!H83),\" \"))","v":" "},"",{"$f":"IF(IF(Invoer!K83<>\"Verwijderen\",(SUMIFS(Onderhoudskosten!$K:$K,Onderhoudskosten!$B:$B,Invoer!$B83)*Invoer!J83),\" \")=0,\" \",IF(Invoer!K83<>\"Verwijderen\",(SUMIFS(Onderhoudskosten!$K:$K,Onderhoudskosten!$B:$B,Invoer!$B83)*Invoer!J83),\" \"))","v":" "},null,null,null,null,null,null,null,null,null,null,null,null,null,0,{"$f":"SUMIFS(Inrichtingskosten!$H:$H,Inrichtingskosten!$C:$C,Invoer!$B83,Inrichtingskosten!$B:$B,Invoer!X83)*Invoer!D83","v":0},{"$f":"SUMIFS(Inrichtingskosten!$H:$H,Inrichtingskosten!$C:$C,Invoer!$B83,Inrichtingskosten!$B:$B,Invoer!Y83)*Invoer!D83","v":0},{"$f":"SUMIFS(Inrichtingskosten!$H:$H,Inrichtingskosten!$C:$C,Invoer!$B83,Inrichtingskosten!$B:$B,Invoer!Z83)*Invoer!F83","v":0},{"$f":"SUMIFS(Inrichtingskosten!$H:$H,Inrichtingskosten!$C:$C,Invoer!$B83,Inrichtingskosten!$B:$B,Invoer!AA83)*Invoer!F83","v":0},{"$f":"SUMIFS(Inrichtingskosten!$H:$H,Inrichtingskosten!$C:$C,Invoer!$B83,Inrichtingskosten!$B:$B,Invoer!AB83)*Invoer!H83","v":0},{"$f":"SUMIFS(Inrichtingskosten!$H:$H,Inrichtingskosten!$C:$C,Invoer!$B83,Inrichtingskosten!$B:$B,Invoer!AC83)*Invoer!H83","v":0},{"$f":"SUMIFS(Inrichtingskosten!$H:$H,Inrichtingskosten!$C:$C,Invoer!$B83,Inrichtingskosten!$B:$B,Invoer!AD83)*Invoer!J83","v":0},{"$f":"SUMIFS(Inrichtingskosten!$H:$H,Inrichtingskosten!$C:$C,Invoer!$B83,Inrichtingskosten!$B:$B,Invoer!AE83)*Invoer!J83","v":0}]
[null,{"$f":"Invoer!B84","v":0},"",{"$f":"IF(IF(Invoer!E84<>\"Verwijderen\",(SUMIFS(Onderhoudskosten!$K:$K,Onderhoudskosten!$B:$B,Invoer!$B84)*Invoer!D84),\" \")=0,\" \",IF(Invoer!E84<>\"Verwijderen\",(SUMIFS(Onderhoudskosten!$K:$K,Onderhoudskosten!$B:$B,Invoer!$B84)*Invoer!D84),\" \"))","v":" "},"",{"$f":"IF(IF(Invoer!G84<>\"Verwijderen\",(SUMIFS(Onderhoudskosten!$K:$K,Onderhoudskosten!$B:$B,Invoer!$B84)*Invoer!F84),\" \")=0,\" \",IF(Invoer!G84<>\"Verwijderen\",(SUMIFS(Onderhoudskosten!$K:$K,Onderhoudskosten!$B:$B,Invoer!$B84)*Invoer!F84),\" \"))","v":" "},"",{"$f":"IF(IF(Invoer!I84<>\"Verwijderen\",(SUMIFS(Onderhoudskosten!$K:$K,Onderhoudskosten!$B:$B,Invoer!$B84)*Invoer!H84),\" \")=0,\" \",IF(Invoer!I84<>\"Verwijderen\",(SUMIFS(Onderhoudskosten!$K:$K,Onderhoudskosten!$B:$B,Invoer!$B84)*Invoer!H84),\" \"))","v":" "},"",{"$f":"IF(IF(Invoer!K84<>\"Verwijderen\",(SUMIFS(Onderhoudskosten!$K:$K,Onderhoudskosten!$B:$B,Invoer!$B84)*Invoer!J84),\" \")=0,\" \",IF(Invoer!K84<>\"Verwijderen\",(SUMIFS(Onderhoudskosten!$K:$K,Onderhoudskosten!$B:$B,Invoer!$B84)*Invoer!J84),\" \"))","v":" "},null,null,null,null,null,null,null,null,null,null,null,null,null,0,{"$f":"SUMIFS(Inrichtingskosten!$H:$H,Inrichtingskosten!$C:$C,Invoer!$B84,Inrichtingskosten!$B:$B,Invoer!X84)*Invoer!D84","v":0},{"$f":"SUMIFS(Inrichtingskosten!$H:$H,Inrichtingskosten!$C:$C,Invoer!$B84,Inrichtingskosten!$B:$B,Invoer!Y84)*Invoer!D84","v":0},{"$f":"SUMIFS(Inrichtingskosten!$H:$H,Inrichtingskosten!$C:$C,Invoer!$B84,Inrichtingskosten!$B:$B,Invoer!Z84)*Invoer!F84","v":0},{"$f":"SUMIFS(Inrichtingskosten!$H:$H,Inrichtingskosten!$C:$C,Invoer!$B84,Inrichtingskosten!$B:$B,Invoer!AA84)*Invoer!F84","v":0},{"$f":"SUMIFS(Inrichtingskosten!$H:$H,Inrichtingskosten!$C:$C,Invoer!$B84,Inrichtingskosten!$B:$B,Invoer!AB84)*Invoer!H84","v":0},{"$f":"SUMIFS(Inrichtingskosten!$H:$H,Inrichtingskosten!$C:$C,Invoer!$B84,Inrichtingskosten!$B:$B,Invoer!AC84)*Invoer!H84","v":0},{"$f":"SUMIFS(Inrichtingskosten!$H:$H,Inrichtingskosten!$C:$C,Invoer!$B84,Inrichtingskosten!$B:$B,Invoer!AD84)*Invoer!J84","v":0},{"$f":"SUMIFS(Inrichtingskosten!$H:$H,Inrichtingskosten!$C:$C,Invoer!$B84,Inrichtingskosten!$B:$B,Invoer!AE84)*Invoer!J84","v":0}]
[null,{"$f":"Invoer!B85","v":0},"",{"$f":"IF(IF(Invoer!E85<>\"Verwijderen\",(SUMIFS(Onderhoudskosten!$K:$K,Onderhoudskosten!$B:$B,Invoer!$B85)*Invoer!D85),\" \")=0,\" \",IF(Invoer!E85<>\"Verwijderen\",(SUMIFS(Onderhoudskosten!$K:$K,Onderhoudskosten!$B:$B,Invoer!$B85)*Invoer!D85),\" \"))","v":" "},"",{"$f":"IF(IF(Invoer!G85<>\"Verwijderen\",(SUMIFS(Onderhoudskosten!$K:$K,Onderhoudskosten!$B:$B,Invoer!$B85)*Invoer!F85),\" \")=0,\" \",IF(Invoer!G85<>\"Verwijderen\",(SUMIFS(Onderhoudskosten!$K:$K,Onderhoudskosten!$B:$B,Invoer!$B85)*Invoer!F85),\" \"))","v":" "},"",{"$f":"IF(IF(Invoer!I85<>\"Verwijderen\",(SUMIFS(Onderhoudskosten!$K:$K,Onderhoudskosten!$B:$B,Invoer!$B85)*Invoer!H85),\" \")=0,\" \",IF(Invoer!I85<>\"Verwijderen\",(SUMIFS(Onderhoudskosten!$K:$K,Onderhoudskosten!$B:$B,Invoer!$B85)*Invoer!H85),\" \"))","v":" "},"",{"$f":"IF(IF(Invoer!K85<>\"Verwijderen\",(SUMIFS(Onderhoudskosten!$K:$K,Onderhoudskosten!$B:$B,Invoer!$B85)*Invoer!J85),\" \")=0,\" \",IF(Invoer!K85<>\"Verwijderen\",(SUMIFS(Onderhoudskosten!$K:$K,Onderhoudskosten!$B:$B,Invoer!$B85)*Invoer!J85),\" \"))","v":" "},null,null,null,null,null,null,null,null,null,null,null,null,null,0,{"$f":"SUMIFS(Inrichtingskosten!$H:$H,Inrichtingskosten!$C:$C,Invoer!$B85,Inrichtingskosten!$B:$B,Invoer!X85)*Invoer!D85","v":0},{"$f":"SUMIFS(Inrichtingskosten!$H:$H,Inrichtingskosten!$C:$C,Invoer!$B85,Inrichtingskosten!$B:$B,Invoer!Y85)*Invoer!D85","v":0},{"$f":"SUMIFS(Inrichtingskosten!$H:$H,Inrichtingskosten!$C:$C,Invoer!$B85,Inrichtingskosten!$B:$B,Invoer!Z85)*Invoer!F85","v":0},{"$f":"SUMIFS(Inrichtingskosten!$H:$H,Inrichtingskosten!$C:$C,Invoer!$B85,Inrichtingskosten!$B:$B,Invoer!AA85)*Invoer!F85","v":0},{"$f":"SUMIFS(Inrichtingskosten!$H:$H,Inrichtingskosten!$C:$C,Invoer!$B85,Inrichtingskosten!$B:$B,Invoer!AB85)*Invoer!H85","v":0},{"$f":"SUMIFS(Inrichtingskosten!$H:$H,Inrichtingskosten!$C:$C,Invoer!$B85,Inrichtingskosten!$B:$B,Invoer!AC85)*Invoer!H85","v":0},{"$f":"SUMIFS(Inrichtingskosten!$H:$H,Inrichtingskosten!$C:$C,Invoer!$B85,Inrichtingskosten!$B:$B,Invoer!AD85)*Invoer!J85","v":0},{"$f":"SUMIFS(Inrichtingskosten!$H:$H,Inrichtingskosten!$C:$C,Invoer!$B85,Inrichtingskosten!$B:$B,Invoer!AE85)*Invoer!J85","v":0}]
[null,{"$f":"Invoer!B86","v":0},"",{"$f":"IF(IF(Invoer!E86<>\"Verwijderen\",(SUMIFS(Onderhoudskosten!$K:$K,Onderhoudskosten!$B:$B,Invoer!$B86)*Invoer!D86),\" \")=0,\" \",IF(Invoer!E86<>\"Verwijderen\",(SUMIFS(Onderhoudskosten!$K:$K,Onderhoudskosten!$B:$B,Invoer!$B86)*Invoer!D86),\" \"))","v":" "},"",{"$f":"IF(IF(Invoer!G86<>\"Verwijderen\",(SUMIFS(Onderhoudskosten!$K:$K,Onderhoudskosten!$B:$B,Invoer!$B86)*Invoer!F86),\" \")=0,\" \",IF(Invoer!G86<>\"Verwijderen\",(SUMIFS(Onderhoudskosten!$K:$K,Onderhoudskosten!$B:$B,Invoer!$B86)*Invoer!F86),\" \"))","v":" "},"",{"$f":"IF(IF(Invoer!I86<>\"Verwijderen\",(SUMIFS(Onderhoudskosten!$K:$K,Onderhoudskosten!$B:$B,Invoer!$B86)*Invoer!H86),\" \")=0,\" \",IF(Invoer!I86<>\"Verwijderen\",(SUMIFS(Onderhoudskosten!$K:$K,Onderhoudskosten!$B:$B,Invoer!$B86)*Invoer!H86),\" \"))","v":" "},"",{"$f":"IF(IF(Invoer!K86<>\"Verwijderen\",(SUMIFS(Onderhoudskosten!$K:$K,Onderhoudskosten!$B:$B,Invoer!$B86)*Invoer!J86),\" \")=0,\" \",IF(Invoer!K86<>\"Verwijderen\",(SUMIFS(Onderhoudskosten!$K:$K,Onderhoudskosten!$B:$B,Invoer!$B86)*Invoer!J86),\" \"))","v":" "},null,null,null,null,null,null,null,null,null,null,null,null,null,0,{"$f":"SUMIFS(Inrichtingskosten!$H:$H,Inrichtingskosten!$C:$C,Invoer!$B86,Inrichtingskosten!$B:$B,Invoer!X86)*Invoer!D86","v":0},{"$f":"SUMIFS(Inrichtingskosten!$H:$H,Inrichtingskosten!$C:$C,Invoer!$B86,Inrichtingskosten!$B:$B,Invoer!Y86)*Invoer!D86","v":0},{"$f":"SUMIFS(Inrichtingskosten!$H:$H,Inrichtingskosten!$C:$C,Invoer!$B86,Inrichtingskosten!$B:$B,Invoer!Z86)*Invoer!F86","v":0},{"$f":"SUMIFS(Inrichtingskosten!$H:$H,Inrichtingskosten!$C:$C,Invoer!$B86,Inrichtingskosten!$B:$B,Invoer!AA86)*Invoer!F86","v":0},{"$f":"SUMIFS(Inrichtingskosten!$H:$H,Inrichtingskosten!$C:$C,Invoer!$B86,Inrichtingskosten!$B:$B,Invoer!AB86)*Invoer!H86","v":0},{"$f":"SUMIFS(Inrichtingskosten!$H:$H,Inrichtingskosten!$C:$C,Invoer!$B86,Inrichtingskosten!$B:$B,Invoer!AC86)*Invoer!H86","v":0},{"$f":"SUMIFS(Inrichtingskosten!$H:$H,Inrichtingskosten!$C:$C,Invoer!$B86,Inrichtingskosten!$B:$B,Invoer!AD86)*Invoer!J86","v":0},{"$f":"SUMIFS(Inrichtingskosten!$H:$H,Inrichtingskosten!$C:$C,Invoer!$B86,Inrichtingskosten!$B:$B,Invoer!AE86)*Invoer!J86","v":0},null,null,{"$f":"B69","v":0},{"$f":"SUM(#REF!)","v":{"$error":"#REF!"}},{"$f":"AI56","v":0},{"$f":"SUM(#REF!)","v":{"$error":"#REF!"}},{"$f":"SUM(#REF!)","v":{"$error":"#REF!"}},{"$f":"SUM(D70)","v":0},{"$f":"SUM(#REF!)","v":{"$error":"#REF!"}}]
[null,{"$f":"Invoer!B87","v":0},"",{"$f":"IF(IF(Invoer!E87<>\"Verwijderen\",(SUMIFS(Onderhoudskosten!$K:$K,Onderhoudskosten!$B:$B,Invoer!$B87)*Invoer!D87),\" \")=0,\" \",IF(Invoer!E87<>\"Verwijderen\",(SUMIFS(Onderhoudskosten!$K:$K,Onderhoudskosten!$B:$B,Invoer!$B87)*Invoer!D87),\" \"))","v":" "},"",{"$f":"IF(IF(Invoer!G87<>\"Verwijderen\",(SUMIFS(Onderhoudskosten!$K:$K,Onderhoudskosten!$B:$B,Invoer!$B87)*Invoer!F87),\" \")=0,\" \",IF(Invoer!G87<>\"Verwijderen\",(SUMIFS(Onderhoudskosten!$K:$K,Onderhoudskosten!$B:$B,Invoer!$B87)*Invoer!F87),\" \"))","v":" "},"",{"$f":"IF(IF(Invoer!I87<>\"Verwijderen\",(SUMIFS(Onderhoudskosten!$K:$K,Onderhoudskosten!$B:$B,Invoer!$B87)*Invoer!H87),\" \")=0,\" \",IF(Invoer!I87<>\"Verwijderen\",(SUMIFS(Onderhoudskosten!$K:$K,Onderhoudskosten!$B:$B,Invoer!$B87)*Invoer!H87),\" \"))","v":" "},"",{"$f":"IF(IF(Invoer!K87<>\"Verwijderen\",(SUMIFS(Onderhoudskosten!$K:$K,Onderhoudskosten!$B:$B,Invoer!$B87)*Invoer!J87),\" \")=0,\" \",IF(Invoer!K87<>\"Verwijderen\",(SUMIFS(Onderhoudskosten!$K:$K,Onderhoudskosten!$B:$B,Invoer!$B87)*Invoer!J87),\" \"))","v":" "},null,null,null,null,null,null,null,null,null,null,null,null,null,0,{"$f":"SUMIFS(Inrichtingskosten!$H:$H,Inrichtingskosten!$C:$C,Invoer!$B87,Inrichtingskosten!$B:$B,Invoer!X87)*Invoer!D87","v":0},{"$f":"SUMIFS(Inrichtingskosten!$H:$H,Inrichtingskosten!$C:$C,Invoer!$B87,Inrichtingskosten!$B:$B,Invoer!Y87)*Invoer!D87","v":0},{"$f":"SUMIFS(Inrichtingskosten!$H:$H,Inrichtingskosten!$C:$C,Invoer!$B87,Inrichtingskosten!$B:$B,Invoer!Z87)*Invoer!F87","v":0},{"$f":"SUMIFS(Inrichtingskosten!$H:$H,Inrichtingskosten!$C:$C,Invoer!$B87,Inrichtingskosten!$B:$B,Invoer!AA87)*Invoer!F87","v":0},{"$f":"SUMIFS(Inrichtingskosten!$H:$H,Inrichtingskosten!$C:$C,Invoer!$B87,Inrichtingskosten!$B:$B,Invoer!AB87)*Invoer!H87","v":0},{"$f":"SUMIFS(Inrichtingskosten!$H:$H,Inrichtingskosten!$C:$C,Invoer!$B87,Inrichtingskosten!$B:$B,Invoer!AC87)*Invoer!H87","v":0},{"$f":"SUMIFS(Inrichtingskosten!$H:$H,Inrichtingskosten!$C:$C,Invoer!$B87,Inrichtingskosten!$B:$B,Invoer!AD87)*Invoer!J87","v":0},{"$f":"SUMIFS(Inrichtingskosten!$H:$H,Inrichtingskosten!$C:$C,Invoer!$B87,Inrichtingskosten!$B:$B,Invoer!AE87)*Invoer!J87","v":0}]
[null,{"$f":"Invoer!B88","v":"Groenvoorziening"},null,null,null,null,null,null,null,null,null,null,null,null,null,null,null,null,null,null,null,null,null,{"$f":"Invoer!B88","v":"Groenvoorziening"}]
[null,{"$f":"Invoer!B89","v":"Gazon"},{"$f":"IF(2*(Y59+Z59)/100=0,\"\",2*(Y59+Z59)/100)","v":""},{"$f":"IF(IF(Invoer!E89<>\"Verwijderen\",(SUMIFS(Onderhoudskosten!$K:$K,Onderhoudskosten!$B:$B,Invoer!$B89)*Invoer!D89),\" \")=0,\" \",IF(Invoer!E89<>\"Verwijderen\",(SUMIFS(Onderhoudskosten!$K:$K,Onderhoudskosten!$B:$B,Invoer!$B89)*Invoer!D89),\" \"))","v":" "},{"$f":"IF(2*(AA59+AB59)/100=0,\"\",2*(AA59+AB59)/100)","v":""},{"$f":"IF(IF(Invoer!G89<>\"Verwijderen\",(SUMIFS(Onderhoudskosten!$K:$K,Onderhoudskosten!$B:$B,Invoer!$B89)*Invoer!F89),\" \")=0,\" \",IF(Invoer!G89<>\"Verwijderen\",(SUMIFS(Onderhoudskosten!$K:$K,Onderhoudskosten!$B:$B,Invoer!$B89)*Invoer!F89),\" \"))","v":" "},{"$f":"IF(2*(AC59+AD59)/100=0,\"\",2*(AC59+AD59)/100)","v":""},{"$f":"IF(IF(Invoer!I89<>\"Verwijderen\",(SUMIFS(Onderhoudskosten!$K:$K,Onderhoudskosten!$B:$B,Invoer!$B89)*Invoer!H89),\" \")=0,\" \",IF(Invoer!I89<>\"Verwijderen\",(SUMIFS(Onderhoudskosten!$K:$K,Onderhoudskosten!$B:$B,Invoer!$B89)*Invoer!H89),\" \"))","v":" "},{"$f":"IF(2*(AE59+AF59)/100=0,\"\",2*(AE59+AF59)/100)","v":""},{"$f":"IF(IF(Invoer!K89<>\"Verwijderen\",(SUMIFS(Onderhoudskosten!$K:$K,Onderhoudskosten!$B:$B,Invoer!$B89)*Invoer!J89),\" \")=0,\" \",IF(Invoer!K89<>\"Verwijderen\",(SUMIFS(Onderhoudskosten!$K:$K,Onderhoudskosten!$B:$B,Invoer!$B89)*Invoer!J89),\" \"))","v":" "},null,null,null,null,null,null,null,null,null,null,null,null,null,{"$f":"B59","v":"Gazon"},{"$f":"SUMIFS(Inrichtingskosten!$H:$H,Inrichtingskosten!$C:$C,Invoer!$B89,Inrichtingskosten!$B:$B,Invoer!X89)*Invoer!D89","v":0},{"$f":"SUMIFS(Inrichtingskosten!$H:$H,Inrichtingskosten!$C:$C,Invoer!$B89,Inrichtingskosten!$B:$B,Invoer!Y89)*Invoer!D89","v":0},{"$f":"SUMIFS(Inrichtingskosten!$H:$H,Inrichtingskosten!$C:$C,Invoer!$B89,Inrichtingskosten!$B:$B,Invoer!Z89)*Invoer!F89","v":0},{"$f":"SUMIFS(Inrichtingskosten!$H:$H,Inrichtingskosten!$C:$C,Invoer!$B89,Inrichtingskosten!$B:$B,Invoer!AA89)*Invoer!F89","v":0},{"$f":"SUMIFS(Inrichtingskosten!$H:$H,Inrichtingskosten!$C:$C,Invoer!$B89,Inrichtingskosten!$B:$B,Invoer!AB89)*Invoer!H89","v":0},{"$f":"SUMIFS(Inrichtingskosten!$H:$H,Inrichtingskosten!$C:$C,Invoer!$B89,Inrichtingskosten!$B:$B,Invoer!AC89)*Invoer!H89","v":0},{"$f":"SUMIFS(Inrichtingskosten!$H:$H,Inrichtingskosten!$C:$C,Invoer!$B89,Inrichtingskosten!$B:$B,Invoer!AD89)*Invoer!J89","v":0},{"$f":"SUMIFS(Inrichtingskosten!$H:$H,Inrichtingskosten!$C:$C,Invoer!$B89,Inrichtingskosten!$B:$B,Invoer!AE89)*Invoer!J89","v":0}]
[null,{"$f":"Invoer!B90","v":"Haag"},"",{"$f":"IF(IF(Invoer!E90<>\"Verwijderen\",(SUMIFS(Onderhoudskosten!$K:$K,Onderhoudskosten!$B:$B,Invoer!$B90)*Invoer!D90),\" \")=0,\" \",IF(Invoer!E90<>\"Verwijderen\",(SUMIFS(Onderhoudskosten!$K:$K,Onderhoudskosten!$B:$B,Invoer!$B90)*Invoer!D90),\" \"))","v":" "},"",{"$f":"IF(IF(Invoer!G90<>\"Verwijderen\",(SUMIFS(Onderhoudskosten!$K:$K,Onderhoudskosten!$B:$B,Invoer!$B90)*Invoer!F90),\" \")=0,\" \",IF(Invoer!G90<>\"Verwijderen\",(SUMIFS(Onderhoudskosten!$K:$K,Onderhoudskosten!$B:$B,Invoer!$B90)*Invoer!F90),\" \"))","v":" "},"",{"$f":"IF(IF(Invoer!I90<>\"Verwijderen\",(SUMIFS(Onderhoudskosten!$K:$K,Onderhoudskosten!$B:$B,Invoer!$B90)*Invoer!H90),\" \")=0,\" \",IF(Invoer!I90<>\"Verwijderen\",(SUMIFS(Onderhoudskosten!$K:$K,Onderhoudskosten!$B:$B,Invoer!$B90)*Invoer!H90),\" \"))","v":" "},"",{"$f":"IF(IF(Invoer!K90<>\"Verwijderen\",(SUMIFS(Onderhoudskosten!$K:$K,Onderhoudskosten!$B:$B,Invoer!$B90)*Invoer!J90),\" \")=0,\" \",IF(Invoer!K90<>\"Verwijderen\",(SUMIFS(Onderhoudskosten!$K:$K,Onderhoudskosten!$B:$B,Invoer!$B90)*Invoer!J90),\" \"))","v":" "},null,null,null,null,null,null,null,null,null,null,null,null,null,"Haag",{"$f":"SUMIFS(Inrichtingskosten!$H:$H,Inrichtingskosten!$C:$C,Invoer!$B90,Inrichtingskosten!$B:$B,Invoer!X90)*Invoer!D90","v":0},{"$f":"SUMIFS(Inrichtingskosten!$H:$H,Inrichtingskosten!$C:$C,Invoer!$B90,Inrichtingskosten!$B:$B,Invoer!Y90)*Invoer!D90","v":0},{"$f":"SUMIFS(Inrichtingskosten!$H:$H,Inrichtingskosten!$C:$C,Invoer!$B90,Inrichtingskosten!$B:$B,Invoer!Z90)*Invoer!F90","v":0},{"$f":"SUMIFS(Inrichtingskosten!$H:$H,Inrichtingskosten!$C:$C,Invoer!$B90,Inrichtingskosten!$B:$B,Invoer!AA90)*Invoer!F90","v":0},{"$f":"SUMIFS(Inrichtingskosten!$H:$H,Inrichtingskosten!$C:$C,Invoer!$B90,Inrichtingskosten!$B:$B,Invoer!AB90)*Invoer!H90","v":0},{"$f":"SUMIFS(Inrichtingskosten!$H:$H,Inrichtingskosten!$C:$C,Invoer!$B90,Inrichtingskosten!$B:$B,Invoer!AC90)*Invoer!H90","v":0},{"$f":"SUMIFS(Inrichtingskosten!$H:$H,Inrichtingskosten!$C:$C,Invoer!$B90,Inrichtingskosten!$B:$B,Invoer!AD90)*Invoer!J90","v":0},{"$f":"SUMIFS(Inrichtingskosten!$H:$H,Inrichtingskosten!$C:$C,Invoer!$B90,Inrichtingskosten!$B:$B,Invoer!AE90)*Invoer!J90","v":0}]
[null,{"$f":"Invoer!B91","v":"Boom in verharding"},"",{"$f":"IF(IF(Invoer!E91<>\"Verwijderen\",(SUMIFS(Onderhoudskosten!$K:$K,Onderhoudskosten!$B:$B,Invoer!$B91)*Invoer!D91),\" \")=0,\" \",IF(Invoer!E91<>\"Verwijderen\",(SUMIFS(Onderhoudskosten!$K:$K,Onderhoudskosten!$B:$B,Invoer!$B91)*Invoer!D91),\" \"))","v":" "},"",{"$f":"IF(IF(Invoer!G91<>\"Verwijderen\",(SUMIFS(Onderhoudskosten!$K:$K,Onderhoudskosten!$B:$B,Invoer!$B91)*Invoer!F91),\" \")=0,\" \",IF(Invoer!G91<>\"Verwijderen\",(SUMIFS(Onderhoudskosten!$K:$K,Onderhoudskosten!$B:$B,Invoer!$B91)*Invoer!F91),\" \"))","v":" "},"",{"$f":"IF(IF(Invoer!I91<>\"Verwijderen\",(SUMIFS(Onderhoudskosten!$K:$K,Onderhoudskosten!$B:$B,Invoer!$B91)*Invoer!H91),\" \")=0,\" \",IF(Invoer!I91<>\"Verwijderen\",(SUMIFS(Onderhoudskosten!$K:$K,Onderhoudskosten!$B:$B,Invoer!$B91)*Invoer!H91),\" \"))","v":" "},"",{"$f":"IF(IF(Invoer!K91<>\"Verwijderen\",(SUMIFS(Onderhoudskosten!$K:$K,Onderhoudskosten!$B:$B,Invoer!$B91)*Invoer!J91),\" \")=0,\" \",IF(Invoer!K91<>\"Verwijderen\",(SUMIFS(Onderhoudskosten!$K:$K,Onderhoudskosten!$B:$B,Invoer!$B91)*Invoer!J91),\" \"))","v":" "},null,null,null,null,null,null,null,null,null,null,null,null,null,"Boom in verharding",{"$f":"SUMIFS(Inrichtingskosten!$H:$H,Inrichtingskosten!$C:$C,Invoer!$B91,Inrichtingskosten!$B:$B,Invoer!X91)*Invoer!D91","v":0},{"$f":"SUMIFS(Inrichtingskosten!$H:$H,Inrichtingskosten!$C:$C,Invoer!$B91,Inrichtingskosten!$B:$B,Invoer!Y91)*Invoer!D91","v":0},{"$f":"SUMIFS(Inrichtingskosten!$H:$H,Inrichtingskosten!$C:$C,Invoer!$B91,Inrichtingskosten!$B:$B,Invoer!Z91)*Invoer!F91","v":0},{"$f":"SUMIFS(Inrichtingskosten!$H:$H,Inrichtingskosten!$C:$C,Invoer!$B91,Inrichtingskosten!$B:$B,Invoer!AA91)*Invoer!F91","v":0},{"$f":"SUMIFS(Inrichtingskosten!$H:$H,Inrichtingskosten!$C:$C,Invoer!$B91,Inrichtingskosten!$B:$B,Invoer!AB91)*Invoer!H91","v":0},{"$f":"SUMIFS(Inrichtingskosten!$H:$H,Inrichtingskosten!$C:$C,Invoer!$B91,Inrichtingskosten!$B:$B,Invoer!AC91)*Invoer!H91","v":0},{"$f":"SUMIFS(Inrichtingskosten!$H:$H,Inrichtingskosten!$C:$C,Invoer!$B91,Inrichtingskosten!$B:$B,Invoer!AD91)*Invoer!J91","v":0},{"$f":"SUMIFS(Inrichtingskosten!$H:$H,Inrichtingskosten!$C:$C,Invoer!$B91,Inrichtingskosten!$B:$B,Invoer!AE91)*Invoer!J91","v":0}]
[null,{"$f":"Invoer!B92","v":0},{"$f":"IF(2*(Y62+Z62)/100=0,\"\",2*(Y62+Z62)/100)","v":""},{"$f":"IF(IF(Invoer!E92<>\"Verwijderen\",(SUMIFS(Onderhoudskosten!$K:$K,Onderhoudskosten!$B:$B,Invoer!$B92)*Invoer!D92),\" \")=0,\" \",IF(Invoer!E92<>\"Verwijderen\",(SUMIFS(Onderhoudskosten!$K:$K,Onderhoudskosten!$B:$B,Invoer!$B92)*Invoer!D92),\" \"))","v":" "},{"$f":"IF(2*(AA62+AB62)/100=0,\"\",2*(AA62+AB62)/100)","v":""},{"$f":"IF(IF(Invoer!G92<>\"Verwijderen\",(SUMIFS(Onderhoudskosten!$K:$K,Onderhoudskosten!$B:$B,Invoer!$B92)*Invoer!F92),\" \")=0,\" \",IF(Invoer!G92<>\"Verwijderen\",(SUMIFS(Onderhoudskosten!$K:$K,Onderhoudskosten!$B:$B,Invoer!$B92)*Invoer!F92),\" \"))","v":" "},{"$f":"IF(2*(AC62+AD62)/100=0,\"\",2*(AC62+AD62)/100)","v":""},{"$f":"IF(IF(Invoer!I92<>\"Verwijderen\",(SUMIFS(Onderhoudskosten!$K:$K,Onderhoudskosten!$B:$B,Invoer!$B92)*Invoer!H92),\" \")=0,\" \",IF(Invoer!I92<>\"Verwijderen\",(SUMIFS(Onderhoudskosten!$K:$K,Onderhoudskosten!$B:$B,Invoer!$B92)*Invoer!H92),\" \"))","v":" "},{"$f":"IF(2*(AE62+AF62)/100=0,\"\",2*(AE62+AF62)/100)","v":""},{"$f":"IF(IF(Invoer!K92<>\"Verwijderen\",(SUMIFS(Onderhoudskosten!$K:$K,Onderhoudskosten!$B:$B,Invoer!$B92)*Invoer!J92),\" \")=0,\" \",IF(Invoer!K92<>\"Verwijderen\",(SUMIFS(Onderhoudskosten!$K:$K,Onderhoudskosten!$B:$B,Invoer!$B92)*Invoer!J92),\" \"))","v":" "},null,null,null,null,null,null,null,null,null,null,null,null,null,{"$f":"B62","v":0},{"$f":"SUMIFS(Inrichtingskosten!$H:$H,Inrichtingskosten!$C:$C,Invoer!$B92,Inrichtingskosten!$B:$B,Invoer!X92)*Invoer!D92","v":0},{"$f":"SUMIFS(Inrichtingskosten!$H:$H,Inrichtingskosten!$C:$C,Invoer!$B92,Inrichtingskosten!$B:$B,Invoer!Y92)*Invoer!D92","v":0},{"$f":"SUMIFS(Inrichtingskosten!$H:$H,Inrichtingskosten!$C:$C,Invoer!$B92,Inrichtingskosten!$B:$B,Invoer!Z92)*Invoer!F92","v":0},{"$f":"SUMIFS(Inrichtingskosten!$H:$H,Inrichtingskosten!$C:$C,Invoer!$B92,Inrichtingskosten!$B:$B,Invoer!AA92)*Invoer!F92","v":0},{"$f":"SUMIFS(Inrichtingskosten!$H:$H,Inrichtingskosten!$C:$C,Invoer!$B92,Inrichtingskosten!$B:$B,Invoer!AB92)*Invoer!H92","v":0},{"$f":"SUMIFS(Inrichtingskosten!$H:$H,Inrichtingskosten!$C:$C,Invoer!$B92,Inrichtingskosten!$B:$B,Invoer!AC92)*Invoer!H92","v":0},{"$f":"SUMIFS(Inrichtingskosten!$H:$H,Inrichtingskosten!$C:$C,Invoer!$B92,Inrichtingskosten!$B:$B,Invoer!AD92)*Invoer!J92","v":0},{"$f":"SUMIFS(Inrichtingskosten!$H:$H,Inrichtingskosten!$C:$C,Invoer!$B92,Inrichtingskosten!$B:$B,Invoer!AE92)*Invoer!J92","v":0}]
[null,{"$f":"Invoer!B93","v":0},"",{"$f":"IF(IF(Invoer!E93<>\"Verwijderen\",(SUMIFS(Onderhoudskosten!$K:$K,Onderhoudskosten!$B:$B,Invoer!$B93)*Invoer!D93),\" \")=0,\" \",IF(Invoer!E93<>\"Verwijderen\",(SUMIFS(Onderhoudskosten!$K:$K,Onderhoudskosten!$B:$B,Invoer!$B93)*Invoer!D93),\" \"))","v":" "},"",{"$f":"IF(IF(Invoer!G93<>\"Verwijderen\",(SUMIFS(Onderhoudskosten!$K:$K,Onderhoudskosten!$B:$B,Invoer!$B93)*Invoer!F93),\" \")=0,\" \",IF(Invoer!G93<>\"Verwijderen\",(SUMIFS(Onderhoudskosten!$K:$K,Onderhoudskosten!$B:$B,Invoer!$B93)*Invoer!F93),\" \"))","v":" "},"",{"$f":"IF(IF(Invoer!I93<>\"Verwijderen\",(SUMIFS(Onderhoudskosten!$K:$K,Onderhoudskosten!$B:$B,Invoer!$B93)*Invoer!H93),\" \")=0,\" \",IF(Invoer!I93<>\"Verwijderen\",(SUMIFS(Onderhoudskosten!$K:$K,Onderhoudskosten!$B:$B,Invoer!$B93)*Invoer!H93),\" \"))","v":" "},"",{"$f":"IF(IF(Invoer!K93<>\"Verwijderen\",(SUMIFS(Onderhoudskosten!$K:$K,Onderhoudskosten!$B:$B,Invoer!$B93)*Invoer!J93),\" \")=0,\" \",IF(Invoer!K93<>\"Verwijderen\",(SUMIFS(Onderhoudskosten!$K:$K,Onderhoudskosten!$B:$B,Invoer!$B93)*Invoer!J93),\" \"))","v":" "},null,null,null,null,null,null,null,null,null,null,null,null,null,0,{"$f":"SUMIFS(Inrichtingskosten!$H:$H,Inrichtingskosten!$C:$C,Invoer!$B93,Inrichtingskosten!$B:$B,Invoer!X93)*Invoer!D93","v":0},{"$f":"SUMIFS(Inrichtingskosten!$H:$H,Inrichtingskosten!$C:$C,Invoer!$B93,Inrichtingskosten!$B:$B,Invoer!Y93)*Invoer!D93","v":0},{"$f":"SUMIFS(Inrichtingskosten!$H:$H,Inrichtingskosten!$C:$C,Invoer!$B93,Inrichtingskosten!$B:$B,Invoer!Z93)*Invoer!F93","v":0},{"$f":"SUMIFS(Inrichtingskosten!$H:$H,Inrichtingskosten!$C:$C,Invoer!$B93,Inrichtingskosten!$B:$B,Invoer!AA93)*Invoer!F93","v":0},{"$f":"SUMIFS(Inrichtingskosten!$H:$H,Inrichtingskosten!$C:$C,Invoer!$B93,Inrichtingskosten!$B:$B,Invoer!AB93)*Invoer!H93","v":0},{"$f":"SUMIFS(Inrichtingskosten!$H:$H,Inrichtingskosten!$C:$C,Invoer!$B93,Inrichtingskosten!$B:$B,Invoer!AC93)*Invoer!H93","v":0},{"$f":"SUMIFS(Inrichtingskosten!$H:$H,Inrichtingskosten!$C:$C,Invoer!$B93,Inrichtingskosten!$B:$B,Invoer!AD93)*Invoer!J93","v":0},{"$f":"SUMIFS(Inrichtingskosten!$H:$H,Inrichtingskosten!$C:$C,Invoer!$B93,Inrichtingskosten!$B:$B,Invoer!AE93)*Invoer!J93","v":0}]
[null,{"$f":"Invoer!B94","v":0},"",{"$f":"IF(IF(Invoer!E94<>\"Verwijderen\",(SUMIFS(Onderhoudskosten!$K:$K,Onderhoudskosten!$B:$B,Invoer!$B94)*Invoer!D94),\" \")=0,\" \",IF(Invoer!E94<>\"Verwijderen\",(SUMIFS(Onderhoudskosten!$K:$K,Onderhoudskosten!$B:$B,Invoer!$B94)*Invoer!D94),\" \"))","v":" "},"",{"$f":"IF(IF(Invoer!G94<>\"Verwijderen\",(SUMIFS(Onderhoudskosten!$K:$K,Onderhoudskosten!$B:$B,Invoer!$B94)*Invoer!F94),\" \")=0,\" \",IF(Invoer!G94<>\"Verwijderen\",(SUMIFS(Onderhoudskosten!$K:$K,Onderhoudskosten!$B:$B,Invoer!$B94)*Invoer!F94),\" \"))","v":" "},"",{"$f":"IF(IF(Invoer!I94<>\"Verwijderen\",(SUMIFS(Onderhoudskosten!$K:$K,Onderhoudskosten!$B:$B,Invoer!$B94)*Invoer!H94),\" \")=0,\" \",IF(Invoer!I94<>\"Verwijderen\",(SUMIFS(Onderhoudskosten!$K:$K,Onderhoudskosten!$B:$B,Invoer!$B94)*Invoer!H94),\" \"))","v":" "},"",{"$f":"IF(IF(Invoer!K94<>\"Verwijderen\",(SUMIFS(Onderhoudskosten!$K:$K,Onderhoudskosten!$B:$B,Invoer!$B94)*Invoer!J94),\" \")=0,\" \",IF(Invoer!K94<>\"Verwijderen\",(SUMIFS(Onderhoudskosten!$K:$K,Onderhoudskosten!$B:$B,Invoer!$B94)*Invoer!J94),\" \"))","v":" "},null,null,null,null,null,null,null,null,null,null,null,null,null,0,{"$f":"SUMIFS(Inrichtingskosten!$H:$H,Inrichtingskosten!$C:$C,Invoer!$B94,Inrichtingskosten!$B:$B,Invoer!X94)*Invoer!D94","v":0},{"$f":"SUMIFS(Inrichtingskosten!$H:$H,Inrichtingskosten!$C:$C,Invoer!$B94,Inrichtingskosten!$B:$B,Invoer!Y94)*Invoer!D94","v":0},{"$f":"SUMIFS(Inrichtingskosten!$H:$H,Inrichtingskosten!$C:$C,Invoer!$B94,Inrichtingskosten!$B:$B,Invoer!Z94)*Invoer!F94","v":0},{"$f":"SUMIFS(Inrichtingskosten!$H:$H,Inrichtingskosten!$C:$C,Invoer!$B94,Inrichtingskosten!$B:$B,Invoer!AA94)*Invoer!F94","v":0},{"$f":"SUMIFS(Inrichtingskosten!$H:$H,Inrichtingskosten!$C:$C,Invoer!$B94,Inrichtingskosten!$B:$B,Invoer!AB94)*Invoer!H94","v":0},{"$f":"SUMIFS(Inrichtingskosten!$H:$H,Inrichtingskosten!$C:$C,Invoer!$B94,Inrichtingskosten!$B:$B,Invoer!AC94)*Invoer!H94","v":0},{"$f":"SUMIFS(Inrichtingskosten!$H:$H,Inrichtingskosten!$C:$C,Invoer!$B94,Inrichtingskosten!$B:$B,Invoer!AD94)*Invoer!J94","v":0},{"$f":"SUMIFS(Inrichtingskosten!$H:$H,Inrichtingskosten!$C:$C,Invoer!$B94,Inrichtingskosten!$B:$B,Invoer!AE94)*Invoer!J94","v":0}]
[null,{"$f":"Invoer!B95","v":0},"",{"$f":"IF(IF(Invoer!E95<>\"Verwijderen\",(SUMIFS(Onderhoudskosten!$K:$K,Onderhoudskosten!$B:$B,Invoer!$B95)*Invoer!D95),\" \")=0,\" \",IF(Invoer!E95<>\"Verwijderen\",(SUMIFS(Onderhoudskosten!$K:$K,Onderhoudskosten!$B:$B,Invoer!$B95)*Invoer!D95),\" \"))","v":" "},"",{"$f":"IF(IF(Invoer!G95<>\"Verwijderen\",(SUMIFS(Onderhoudskosten!$K:$K,Onderhoudskosten!$B:$B,Invoer!$B95)*Invoer!F95),\" \")=0,\" \",IF(Invoer!G95<>\"Verwijderen\",(SUMIFS(Onderhoudskosten!$K:$K,Onderhoudskosten!$B:$B,Invoer!$B95)*Invoer!F95),\" \"))","v":" "},"",{"$f":"IF(IF(Invoer!I95<>\"Verwijderen\",(SUMIFS(Onderhoudskosten!$K:$K,Onderhoudskosten!$B:$B,Invoer!$B95)*Invoer!H95),\" \")=0,\" \",IF(Invoer!I95<>\"Verwijderen\",(SUMIFS(Onderhoudskosten!$K:$K,Onderhoudskosten!$B:$B,Invoer!$B95)*Invoer!H95),\" \"))","v":" "},"",{"$f":"IF(IF(Invoer!K95<>\"Verwijderen\",(SUMIFS(Onderhoudskosten!$K:$K,Onderhoudskosten!$B:$B,Invoer!$B95)*Invoer!J95),\" \")=0,\" \",IF(Invoer!K95<>\"Verwijderen\",(SUMIFS(Onderhoudskosten!$K:$K,Onderhoudskosten!$B:$B,Invoer!$B95)*Invoer!J95),\" \"))","v":" "},null,null,null,null,null,null,null,null,null,null,null,null,null,0,{"$f":"SUMIFS(Inrichtingskosten!$H:$H,Inrichtingskosten!$C:$C,Invoer!$B95,Inrichtingskosten!$B:$B,Invoer!X95)*Invoer!D95","v":0},{"$f":"SUMIFS(Inrichtingskosten!$H:$H,Inrichtingskosten!$C:$C,Invoer!$B95,Inrichtingskosten!$B:$B,Invoer!Y95)*Invoer!D95","v":0},{"$f":"SUMIFS(Inrichtingskosten!$H:$H,Inrichtingskosten!$C:$C,Invoer!$B95,Inrichtingskosten!$B:$B,Invoer!Z95)*Invoer!F95","v":0},{"$f":"SUMIFS(Inrichtingskosten!$H:$H,Inrichtingskosten!$C:$C,Invoer!$B95,Inrichtingskosten!$B:$B,Invoer!AA95)*Invoer!F95","v":0},{"$f":"SUMIFS(Inrichtingskosten!$H:$H,Inrichtingskosten!$C:$C,Invoer!$B95,Inrichtingskosten!$B:$B,Invoer!AB95)*Invoer!H95","v":0},{"$f":"SUMIFS(Inrichtingskosten!$H:$H,Inrichtingskosten!$C:$C,Invoer!$B95,Inrichtingskosten!$B:$B,Invoer!AC95)*Invoer!H95","v":0},{"$f":"SUMIFS(Inrichtingskosten!$H:$H,Inrichtingskosten!$C:$C,Invoer!$B95,Inrichtingskosten!$B:$B,Invoer!AD95)*Invoer!J95","v":0},{"$f":"SUMIFS(Inrichtingskosten!$H:$H,Inrichtingskosten!$C:$C,Invoer!$B95,Inrichtingskosten!$B:$B,Invoer!AE95)*Invoer!J95","v":0}]
[null,{"$f":"Invoer!B96","v":0},"",{"$f":"IF(IF(Invoer!E96<>\"Verwijderen\",(SUMIFS(Onderhoudskosten!$K:$K,Onderhoudskosten!$B:$B,Invoer!$B96)*Invoer!D96),\" \")=0,\" \",IF(Invoer!E96<>\"Verwijderen\",(SUMIFS(Onderhoudskosten!$K:$K,Onderhoudskosten!$B:$B,Invoer!$B96)*Invoer!D96),\" \"))","v":" "},"",{"$f":"IF(IF(Invoer!G96<>\"Verwijderen\",(SUMIFS(Onderhoudskosten!$K:$K,Onderhoudskosten!$B:$B,Invoer!$B96)*Invoer!F96),\" \")=0,\" \",IF(Invoer!G96<>\"Verwijderen\",(SUMIFS(Onderhoudskosten!$K:$K,Onderhoudskosten!$B:$B,Invoer!$B96)*Invoer!F96),\" \"))","v":" "},"",{"$f":"IF(IF(Invoer!I96<>\"Verwijderen\",(SUMIFS(Onderhoudskosten!$K:$K,Onderhoudskosten!$B:$B,Invoer!$B96)*Invoer!H96),\" \")=0,\" \",IF(Invoer!I96<>\"Verwijderen\",(SUMIFS(Onderhoudskosten!$K:$K,Onderhoudskosten!$B:$B,Invoer!$B96)*Invoer!H96),\" \"))","v":" "},"",{"$f":"IF(IF(Invoer!K96<>\"Verwijderen\",(SUMIFS(Onderhoudskosten!$K:$K,Onderhoudskosten!$B:$B,Invoer!$B96)*Invoer!J96),\" \")=0,\" \",IF(Invoer!K96<>\"Verwijderen\",(SUMIFS(Onderhoudskosten!$K:$K,Onderhoudskosten!$B:$B,Invoer!$B96)*Invoer!J96),\" \"))","v":" "},null,null,null,null,null,null,null,null,null,null,null,null,null,0,{"$f":"SUMIFS(Inrichtingskosten!$H:$H,Inrichtingskosten!$C:$C,Invoer!$B96,Inrichtingskosten!$B:$B,Invoer!X96)*Invoer!D96","v":0},{"$f":"SUMIFS(Inrichtingskosten!$H:$H,Inrichtingskosten!$C:$C,Invoer!$B96,Inrichtingskosten!$B:$B,Invoer!Y96)*Invoer!D96","v":0},{"$f":"SUMIFS(Inrichtingskosten!$H:$H,Inrichtingskosten!$C:$C,Invoer!$B96,Inrichtingskosten!$B:$B,Invoer!Z96)*Invoer!F96","v":0},{"$f":"SUMIFS(Inrichtingskosten!$H:$H,Inrichtingskosten!$C:$C,Invoer!$B96,Inrichtingskosten!$B:$B,Invoer!AA96)*Invoer!F96","v":0},{"$f":"SUMIFS(Inrichtingskosten!$H:$H,Inrichtingskosten!$C:$C,Invoer!$B96,Inrichtingskosten!$B:$B,Invoer!AB96)*Invoer!H96","v":0},{"$f":"SUMIFS(Inrichtingskosten!$H:$H,Inrichtingskosten!$C:$C,Invoer!$B96,Inrichtingskosten!$B:$B,Invoer!AC96)*Invoer!H96","v":0},{"$f":"SUMIFS(Inrichtingskosten!$H:$H,Inrichtingskosten!$C:$C,Invoer!$B96,Inrichtingskosten!$B:$B,Invoer!AD96)*Invoer!J96","v":0},{"$f":"SUMIFS(Inrichtingskosten!$H:$H,Inrichtingskosten!$C:$C,Invoer!$B96,Inrichtingskosten!$B:$B,Invoer!AE96)*Invoer!J96","v":0}]
[null,{"$f":"Invoer!B97","v":"Overig"},null,null,null,null,null,null,null,null,null,null,null,null,null,null,null,null,null,null,null,null,null,{"$f":"Invoer!B97","v":"Overig"}]
[null,{"$f":"Invoer!B98","v":"Straatverlichting"},{"$f":"IF(2*(Y68+Z68)/100=0,\"\",2*(Y68+Z68)/100)","v":""},{"$f":"IF(IF(Invoer!E98<>\"Verwijderen\",(SUMIFS(Onderhoudskosten!$K:$K,Onderhoudskosten!$B:$B,Invoer!$B98)*Invoer!D98),\" \")=0,\" \",IF(Invoer!E98<>\"Verwijderen\",(SUMIFS(Onderhoudskosten!$K:$K,Onderhoudskosten!$B:$B,Invoer!$B98)*Invoer!D98),\" \"))","v":" "},{"$f":"IF(2*(AA68+AB68)/100=0,\"\",2*(AA68+AB68)/100)","v":""},{"$f":"IF(IF(Invoer!G98<>\"Verwijderen\",(SUMIFS(Onderhoudskosten!$K:$K,Onderhoudskosten!$B:$B,Invoer!$B98)*Invoer!F98),\" \")=0,\" \",IF(Invoer!G98<>\"Verwijderen\",(SUMIFS(Onderhoudskosten!$K:$K,Onderhoudskosten!$B:$B,Invoer!$B98)*Invoer!F98),\" \"))","v":" "},{"$f":"IF(2*(AC68+AD68)/100=0,\"\",2*(AC68+AD68)/100)","v":""},{"$f":"IF(IF(Invoer!I98<>\"Verwijderen\",(SUMIFS(Onderhoudskosten!$K:$K,Onderhoudskosten!$B:$B,Invoer!$B98)*Invoer!H98),\" \")=0,\" \",IF(Invoer!I98<>\"Verwijderen\",(SUMIFS(Onderhoudskosten!$K:$K,Onderhoudskosten!$B:$B,Invoer!$B98)*Invoer!H98),\" \"))","v":" "},{"$f":"IF(2*(AE68+AF68)/100=0,\"\",2*(AE68+AF68)/100)","v":""},{"$f":"IF(IF(Invoer!K98<>\"Verwijderen\",(SUMIFS(Onderhoudskosten!$K:$K,Onderhoudskosten!$B:$B,Invoer!$B98)*Invoer!J98),\" \")=0,\" \",IF(Invoer!K98<>\"Verwijderen\",(SUMIFS(Onderhoudskosten!$K:$K,Onderhoudskosten!$B:$B,Invoer!$B98)*Invoer!J98),\" \"))","v":" "},null,null,null,null,null,null,null,null,null,null,null,null,null,{"$f":"B68","v":"Straatverlichting"},{"$f":"SUMIFS(Inrichtingskosten!$H:$H,Inrichtingskosten!$C:$C,Invoer!$B98,Inrichtingskosten!$B:$B,Invoer!X98)*Invoer!D98","v":0},{"$f":"SUMIFS(Inrichtingskosten!$H:$H,Inrichtingskosten!$C:$C,Invoer!$B98,Inrichtingskosten!$B:$B,Invoer!Y98)*Invoer!D98","v":0},{"$f":"SUMIFS(Inrichtingskosten!$H:$H,Inrichtingskosten!$C:$C,Invoer!$B98,Inrichtingskosten!$B:$B,Invoer!Z98)*Invoer!F98","v":0},{"$f":"SUMIFS(Inrichtingskosten!$H:$H,Inrichtingskosten!$C:$C,Invoer!$B98,Inrichtingskosten!$B:$B,Invoer!AA98)*Invoer!F98","v":0},{"$f":"SUMIFS(Inrichtingskosten!$H:$H,Inrichtingskosten!$C:$C,Invoer!$B98,Inrichtingskosten!$B:$B,Invoer!AB98)*Invoer!H98","v":0},{"$f":"SUMIFS(Inrichtingskosten!$H:$H,Inrichtingskosten!$C:$C,Invoer!$B98,Inrichtingskosten!$B:$B,Invoer!AC98)*Invoer!H98","v":0},{"$f":"SUMIFS(Inrichtingskosten!$H:$H,Inrichtingskosten!$C:$C,Invoer!$B98,Inrichtingskosten!$B:$B,Invoer!AD98)*Invoer!J98","v":0},{"$f":"SUMIFS(Inrichtingskosten!$H:$H,Inrichtingskosten!$C:$C,Invoer!$B98,Inrichtingskosten!$B:$B,Invoer!AE98)*Invoer!J98","v":0}]
[null,{"$f":"Invoer!B99","v":0},{"$f":"IF(2*(Y69+Z69)/100=0,\"\",2*(Y69+Z69)/100)","v":""},{"$f":"IF(IF(Invoer!E99<>\"Verwijderen\",(SUMIFS(Onderhoudskosten!$K:$K,Onderhoudskosten!$B:$B,Invoer!$B99)*Invoer!D99),\" \")=0,\" \",IF(Invoer!E99<>\"Verwijderen\",(SUMIFS(Onderhoudskosten!$K:$K,Onderhoudskosten!$B:$B,Invoer!$B99)*Invoer!D99),\" \"))","v":" "},{"$f":"IF(2*(AA69+AB69)/100=0,\"\",2*(AA69+AB69)/100)","v":""},{"$f":"IF(IF(Invoer!G99<>\"Verwijderen\",(SUMIFS(Onderhoudskosten!$K:$K,Onderhoudskosten!$B:$B,Invoer!$B99)*Invoer!F99),\" \")=0,\" \",IF(Invoer!G99<>\"Verwijderen\",(SUMIFS(Onderhoudskosten!$K:$K,Onderhoudskosten!$B:$B,Invoer!$B99)*Invoer!F99),\" \"))","v":" "},{"$f":"IF(2*(AC69+AD69)/100=0,\"\",2*(AC69+AD69)/100)","v":""},{"$f":"IF(IF(Invoer!I99<>\"Verwijderen\",(SUMIFS(Onderhoudskosten!$K:$K,Onderhoudskosten!$B:$B,Invoer!$B99)*Invoer!H99),\" \")=0,\" \",IF(Invoer!I99<>\"Verwijderen\",(SUMIFS(Onderhoudskosten!$K:$K,Onderhoudskosten!$B:$B,Invoer!$B99)*Invoer!H99),\" \"))","v":" "},{"$f":"IF(2*(AE69+AF69)/100=0,\"\",2*(AE69+AF69)/100)","v":""},{"$f":"IF(IF(Invoer!K99<>\"Verwijderen\",(SUMIFS(Onderhoudskosten!$K:$K,Onderhoudskosten!$B:$B,Invoer!$B99)*Invoer!J99),\" \")=0,\" \",IF(Invoer!K99<>\"Verwijderen\",(SUMIFS(Onderhoudskosten!$K:$K,Onderhoudskosten!$B:$B,Invoer!$B99)*Invoer!J99),\" \"))","v":" "},null,null,null,null,null,null,null,null,null,null,null,null,null,{"$f":"B69","v":0},{"$f":"SUMIFS(Inrichtingskosten!$H:$H,Inrichtingskosten!$C:$C,Invoer!$B99,Inrichtingskosten!$B:$B,Invoer!X99)*Invoer!D99","v":0},{"$f":"SUMIFS(Inrichtingskosten!$H:$H,Inrichtingskosten!$C:$C,Invoer!$B99,Inrichtingskosten!$B:$B,Invoer!Y99)*Invoer!D99","v":0},{"$f":"SUMIFS(Inrichtingskosten!$H:$H,Inrichtingskosten!$C:$C,Invoer!$B99,Inrichtingskosten!$B:$B,Invoer!Z99)*Invoer!F99","v":0},{"$f":"SUMIFS(Inrichtingskosten!$H:$H,Inrichtingskosten!$C:$C,Invoer!$B99,Inrichtingskosten!$B:$B,Invoer!AA99)*Invoer!F99","v":0},{"$f":"SUMIFS(Inrichtingskosten!$H:$H,Inrichtingskosten!$C:$C,Invoer!$B99,Inrichtingskosten!$B:$B,Invoer!AB99)*Invoer!H99","v":0},{"$f":"SUMIFS(Inrichtingskosten!$H:$H,Inrichtingskosten!$C:$C,Invoer!$B99,Inrichtingskosten!$B:$B,Invoer!AC99)*Invoer!H99","v":0},{"$f":"SUMIFS(Inrichtingskosten!$H:$H,Inrichtingskosten!$C:$C,Invoer!$B99,Inrichtingskosten!$B:$B,Invoer!AD99)*Invoer!J99","v":0},{"$f":"SUMIFS(Inrichtingskosten!$H:$H,Inrichtingskosten!$C:$C,Invoer!$B99,Inrichtingskosten!$B:$B,Invoer!AE99)*Invoer!J99","v":0}]
[null,{"$f":"Invoer!B100","v":0},{"$f":"IF(2*(Y70+Z70)/100=0,\"\",2*(Y70+Z70)/100)","v":""},{"$f":"IF(IF(Invoer!E100<>\"Verwijderen\",(SUMIFS(Onderhoudskosten!$K:$K,Onderhoudskosten!$B:$B,Invoer!$B100)*Invoer!D100),\" \")=0,\" \",IF(Invoer!E100<>\"Verwijderen\",(SUMIFS(Onderhoudskosten!$K:$K,Onderhoudskosten!$B:$B,Invoer!$B100)*Invoer!D100),\" \"))","v":" "},{"$f":"IF(2*(AA70+AB70)/100=0,\"\",2*(AA70+AB70)/100)","v":""},{"$f":"IF(IF(Invoer!G100<>\"Verwijderen\",(SUMIFS(Onderhoudskosten!$K:$K,Onderhoudskosten!$B:$B,Invoer!$B100)*Invoer!F100),\" \")=0,\" \",IF(Invoer!G100<>\"Verwijderen\",(SUMIFS(Onderhoudskosten!$K:$K,Onderhoudskosten!$B:$B,Invoer!$B100)*Invoer!F100),\" \"))","v":" "},{"$f":"IF(2*(AC70+AD70)/100=0,\"\",2*(AC70+AD70)/100)","v":""},{"$f":"IF(IF(Invoer!I100<>\"Verwijderen\",(SUMIFS(Onderhoudskosten!$K:$K,Onderhoudskosten!$B:$B,Invoer!$B100)*Invoer!H100),\" \")=0,\" \",IF(Invoer!I100<>\"Verwijderen\",(SUMIFS(Onderhoudskosten!$K:$K,Onderhoudskosten!$B:$B,Invoer!$B100)*Invoer!H100),\" \"))","v":" "},{"$f":"IF(2*(AE70+AF70)/100=0,\"\",2*(AE70+AF70)/100)","v":""},{"$f":"IF(IF(Invoer!K100<>\"Verwijderen\",(SUMIFS(Onderhoudskosten!$K:$K,Onderhoudskosten!$B:$B,Invoer!$B100)*Invoer!J100),\" \")=0,\" \",IF(Invoer!K100<>\"Verwijderen\",(SUMIFS(Onderhoudskosten!$K:$K,Onderhoudskosten!$B:$B,Invoer!$B100)*Invoer!J100),\" \"))","v":" "},null,null,null,null,null,null,null,null,null,null,null,null,null,{"$f":"B70","v":0},{"$f":"SUMIFS(Inrichtingskosten!$H:$H,Inrichtingskosten!$C:$C,Invoer!$B100,Inrichtingskosten!$B:$B,Invoer!X100)*Invoer!D100","v":0},{"$f":"SUMIFS(Inrichtingskosten!$H:$H,Inrichtingskosten!$C:$C,Invoer!$B100,Inrichtingskosten!$B:$B,Invoer!Y100)*Invoer!D100","v":0},{"$f":"SUMIFS(Inrichtingskosten!$H:$H,Inrichtingskosten!$C:$C,Invoer!$B100,Inrichtingskosten!$B:$B,Invoer!Z100)*Invoer!F100","v":0},{"$f":"SUMIFS(Inrichtingskosten!$H:$H,Inrichtingskosten!$C:$C,Invoer!$B100,Inrichtingskosten!$B:$B,Invoer!AA100)*Invoer!F100","v":0},{"$f":"SUMIFS(Inrichtingskosten!$H:$H,Inrichtingskosten!$C:$C,Invoer!$B100,Inrichtingskosten!$B:$B,Invoer!AB100)*Invoer!H100","v":0},{"$f":"SUMIFS(Inrichtingskosten!$H:$H,Inrichtingskosten!$C:$C,Invoer!$B100,Inrichtingskosten!$B:$B,Invoer!AC100)*Invoer!H100","v":0},{"$f":"SUMIFS(Inrichtingskosten!$H:$H,Inrichtingskosten!$C:$C,Invoer!$B100,Inrichtingskosten!$B:$B,Invoer!AD100)*Invoer!J100","v":0},{"$f":"SUMIFS(Inrichtingskosten!$H:$H,Inrichtingskosten!$C:$C,Invoer!$B100,Inrichtingskosten!$B:$B,Invoer!AE100)*Invoer!J100","v":0}]
[null,{"$f":"Invoer!B101","v":0},{"$f":"IF(2*(Y71+Z71)/100=0,\"\",2*(Y71+Z71)/100)","v":""},{"$f":"IF(IF(Invoer!E101<>\"Verwijderen\",(SUMIFS(Onderhoudskosten!$K:$K,Onderhoudskosten!$B:$B,Invoer!$B101)*Invoer!D101),\" \")=0,\" \",IF(Invoer!E101<>\"Verwijderen\",(SUMIFS(Onderhoudskosten!$K:$K,Onderhoudskosten!$B:$B,Invoer!$B101)*Invoer!D101),\" \"))","v":" "},{"$f":"IF(2*(AA71+AB71)/100=0,\"\",2*(AA71+AB71)/100)","v":""},{"$f":"IF(IF(Invoer!G101<>\"Verwijderen\",(SUMIFS(Onderhoudskosten!$K:$K,Onderhoudskosten!$B:$B,Invoer!$B101)*Invoer!F101),\" \")=0,\" \",IF(Invoer!G101<>\"Verwijderen\",(SUMIFS(Onderhoudskosten!$K:$K,Onderhoudskosten!$B:$B,Invoer!$B101)*Invoer!F101),\" \"))","v":" "},{"$f":"IF(2*(AC71+AD71)/100=0,\"\",2*(AC71+AD71)/100)","v":""},{"$f":"IF(IF(Invoer!I101<>\"Verwijderen\",(SUMIFS(Onderhoudskosten!$K:$K,Onderhoudskosten!$B:$B,Invoer!$B101)*Invoer!H101),\" \")=0,\" \",IF(Invoer!I101<>\"Verwijderen\",(SUMIFS(Onderhoudskosten!$K:$K,Onderhoudskosten!$B:$B,Invoer!$B101)*Invoer!H101),\" \"))","v":" "},{"$f":"IF(2*(AE71+AF71)/100=0,\"\",2*(AE71+AF71)/100)","v":""},{"$f":"IF(IF(Invoer!K101<>\"Verwijderen\",(SUMIFS(Onderhoudskosten!$K:$K,Onderhoudskosten!$B:$B,Invoer!$B101)*Invoer!J101),\" \")=0,\" \",IF(Invoer!K101<>\"Verwijderen\",(SUMIFS(Onderhoudskosten!$K:$K,Onderhoudskosten!$B:$B,Invoer!$B101)*Invoer!J101),\" \"))","v":" "},null,null,null,null,null,null,null,null,null,null,null,null,null,{"$f":"B71","v":0},{"$f":"SUMIFS(Inrichtingskosten!$H:$H,Inrichtingskosten!$C:$C,Invoer!$B101,Inrichtingskosten!$B:$B,Invoer!X101)*Invoer!D101","v":0},{"$f":"SUMIFS(Inrichtingskosten!$H:$H,Inrichtingskosten!$C:$C,Invoer!$B101,Inrichtingskosten!$B:$B,Invoer!Y101)*Invoer!D101","v":0},{"$f":"SUMIFS(Inrichtingskosten!$H:$H,Inrichtingskosten!$C:$C,Invoer!$B101,Inrichtingskosten!$B:$B,Invoer!Z101)*Invoer!F101","v":0},{"$f":"SUMIFS(Inrichtingskosten!$H:$H,Inrichtingskosten!$C:$C,Invoer!$B101,Inrichtingskosten!$B:$B,Invoer!AA101)*Invoer!F101","v":0},{"$f":"SUMIFS(Inrichtingskosten!$H:$H,Inrichtingskosten!$C:$C,Invoer!$B101,Inrichtingskosten!$B:$B,Invoer!AB101)*Invoer!H101","v":0},{"$f":"SUMIFS(Inrichtingskosten!$H:$H,Inrichtingskosten!$C:$C,Invoer!$B101,Inrichtingskosten!$B:$B,Invoer!AC101)*Invoer!H101","v":0},{"$f":"SUMIFS(Inrichtingskosten!$H:$H,Inrichtingskosten!$C:$C,Invoer!$B101,Inrichtingskosten!$B:$B,Invoer!AD101)*Invoer!J101","v":0},{"$f":"SUMIFS(Inrichtingskosten!$H:$H,Inrichtingskosten!$C:$C,Invoer!$B101,Inrichtingskosten!$B:$B,Invoer!AE101)*Invoer!J101","v":0}]
[null,{"$f":"Invoer!B102","v":0},{"$f":"IF(2*(Y72+Z72)/100=0,\"\",2*(Y72+Z72)/100)","v":""},{"$f":"IF(IF(Invoer!E102<>\"Verwijderen\",(SUMIFS(Onderhoudskosten!$K:$K,Onderhoudskosten!$B:$B,Invoer!$B102)*Invoer!D102),\" \")=0,\" \",IF(Invoer!E102<>\"Verwijderen\",(SUMIFS(Onderhoudskosten!$K:$K,Onderhoudskosten!$B:$B,Invoer!$B102)*Invoer!D102),\" \"))","v":" "},{"$f":"IF(2*(AA72+AB72)/100=0,\"\",2*(AA72+AB72)/100)","v":""},{"$f":"IF(IF(Invoer!G102<>\"Verwijderen\",(SUMIFS(Onderhoudskosten!$K:$K,Onderhoudskosten!$B:$B,Invoer!$B102)*Invoer!F102),\" \")=0,\" \",IF(Invoer!G102<>\"Verwijderen\",(SUMIFS(Onderhoudskosten!$K:$K,Onderhoudskosten!$B:$B,Invoer!$B102)*Invoer!F102),\" \"))","v":" "},{"$f":"IF(2*(AC72+AD72)/100=0,\"\",2*(AC72+AD72)/100)","v":""},{"$f":"IF(IF(Invoer!I102<>\"Verwijderen\",(SUMIFS(Onderhoudskosten!$K:$K,Onderhoudskosten!$B:$B,Invoer!$B102)*Invoer!H102),\" \")=0,\" \",IF(Invoer!I102<>\"Verwijderen\",(SUMIFS(Onderhoudskosten!$K:$K,Onderhoudskosten!$B:$B,Invoer!$B102)*Invoer!H102),\" \"))","v":" "},{"$f":"IF(2*(AE72+AF72)/100=0,\"\",2*(AE72+AF72)/100)","v":""},{"$f":"IF(IF(Invoer!K102<>\"Verwijderen\",(SUMIFS(Onderhoudskosten!$K:$K,Onderhoudskosten!$B:$B,Invoer!$B102)*Invoer!J102),\" \")=0,\" \",IF(Invoer!K102<>\"Verwijderen\",(SUMIFS(Onderhoudskosten!$K:$K,Onderhoudskosten!$B:$B,Invoer!$B102)*Invoer!J102),\" \"))","v":" "},null,null,null,null,null,null,null,null,null,null,null,null,null,{"$f":"B72","v":0},{"$f":"SUMIFS(Inrichtingskosten!$H:$H,Inrichtingskosten!$C:$C,Invoer!$B102,Inrichtingskosten!$B:$B,Invoer!X102)*Invoer!D102","v":0},{"$f":"SUMIFS(Inrichtingskosten!$H:$H,Inrichtingskosten!$C:$C,Invoer!$B102,Inrichtingskosten!$B:$B,Invoer!Y102)*Invoer!D102","v":0},{"$f":"SUMIFS(Inrichtingskosten!$H:$H,Inrichtingskosten!$C:$C,Invoer!$B102,Inrichtingskosten!$B:$B,Invoer!Z102)*Invoer!F102","v":0},{"$f":"SUMIFS(Inrichtingskosten!$H:$H,Inrichtingskosten!$C:$C,Invoer!$B102,Inrichtingskosten!$B:$B,Invoer!AA102)*Invoer!F102","v":0},{"$f":"SUMIFS(Inrichtingskosten!$H:$H,Inrichtingskosten!$C:$C,Invoer!$B102,Inrichtingskosten!$B:$B,Invoer!AB102)*Invoer!H102","v":0},{"$f":"SUMIFS(Inrichtingskosten!$H:$H,Inrichtingskosten!$C:$C,Invoer!$B102,Inrichtingskosten!$B:$B,Invoer!AC102)*Invoer!H102","v":0},{"$f":"SUMIFS(Inrichtingskosten!$H:$H,Inrichtingskosten!$C:$C,Invoer!$B102,Inrichtingskosten!$B:$B,Invoer!AD102)*Invoer!J102","v":0},{"$f":"SUMIFS(Inrichtingskosten!$H:$H,Inrichtingskosten!$C:$C,Invoer!$B102,Inrichtingskosten!$B:$B,Invoer!AE102)*Invoer!J102","v":0}]
[null,"Totale kosten per kolom:",{"$f":"SUM(C7:C70)","v":0},{"$f":"SUM(D7:D70)","v":0},{"$f":"SUM(E7:E70)","v":0},{"$f":"SUM(F7:F70)","v":0},0,{"$f":"SUM(H7:H70)","v":0},0,0,null,null,null,null,null,null,null,null,null,null,null,null,null,null,{"$f":"SUM(Y7:Y70)","v":0},0,0,0,0,0,0,0]
[null,"Totale kosten (per jaar)",{"$f":"C73+D73","v":0},null,{"$f":"E73+F73","v":0},null,{"$f":"G73+H73","v":0},null,{"$f":"I73+J73","v":0}]
[null,"Opsplitsing DWA- en HWA-kosten (Totaal over 100 jaar)","Jaar 0","2de herinrichting","Jaar 0","2de herinrichting","Jaar 0","2de herinrichting","Jaar 0","2de herinrichting"]
[null,"Kosten incl. DWA en (verwijderen) HWA",{"$f":"Y73","v":0},0,0,0,0,0,0,0]
[null,"Kosten excl. DWA en HWA",null,{"$f":"D76-(SUM(Y34:Y49))","v":0},null,{"$f":"F76-(SUM(AA34:AA49))","v":0},null,{"$f":"H76-(SUM(AC34:AC49))","v":0},null,{"$f":"J76-(SUM(AE34:AE49))","v":0}]
[null,"Opslagperc.",0.41699999999999998]
[null,null,{"$f":"C75","v":"Jaar 0"},{"$f":"D75","v":"2de herinrichting"},"Jaar 0","2de herinrichting","Jaar 0","2de herinrichting","Jaar 0","2de herinrichting"]
[null,"Kosten incl. DWA en (verwijderen) HWA",{"$f":"ROUND(((C76*$C78)+C76),-3)","v":0},{"$f":"ROUND(((D76*$C78)+D76),-3)","v":0},{"$f":"ROUND(((E76*$C78)+E76),-3)","v":0},{"$f":"ROUND(((F76*$C78)+F76),-3)","v":0},{"$f":"ROUND(((G76*$C78))+G76,-3)","v":0},{"$f":"ROUND(((H76*$C78)+H76),-3)","v":0},{"$f":"ROUND(((I76*$C78)+I76),-3)","v":0},{"$f":"ROUND(((J76*$C78)+J76),-3)","v":0}]
[null,"Kosten excl. DWA en HWA",null,{"$f":"ROUND(((D77*$C78)+D77),-3)","v":0},null,{"$f":"ROUND(((F77*$C78)+F77),-3)","v":0},null,{"$f":"ROUND(((H77*$C78)+H77),-3)","v":0},null,{"$f":"ROUND(((J77*$C78)+J77),-3)","v":0}]
[]
[null,"Waterschadekosten"]
[null,null,"Definitie schadegrens"]
[null,null,"Grens 1","Grens 2","Grens 3",null,null,null,"Variant 0","Variant 1","Variant 2","Variant 3"]
[null,"Waterstand","VP + 0 cm","VP + 4 cm","VP + 8 cm",null,null,"Herhalingskans schadegrens 1 (T)",{"$f":"Neerslagberekeningen!M7","v":0.1},{"$f":"Neerslagberekeningen!M54","v":0.1},{"$f":"Neerslagberekeningen!M101","v":0.1},{"$f":"Neerslagberekeningen!M148","v":0.1}]
[null,"Woningschade",0.1,0.3,1,null,null,"Herhalingskans schadegrens 2(T)",{"$f":"Neerslagberekeningen!M23","v":10000},{"$f":"Neerslagberekeningen!M70","v":10000},{"$f":"Neerslagberekeningen!M117","v":10000},{"$f":"Neerslagberekeningen!M164","v":10000}]
[null,"Persoonschade",0,0.2,0.3,null,null,"Herhalingskans schadegrens 3 (T)",{"$f":"Neerslagberekeningen!M39","v":10000},{"$f":"Neerslagberekeningen!M86","v":10000},{"$f":"Neerslagberekeningen!M133","v":10000},{"$f":"Neerslagberekeningen!M180","v":10000}]
[null,"Afzetting weg",1,1,1]
[null,"Schadekosten per woning",3500,3500,3500,null,null,"Schadekosten grens 1",{"$f":"((1/I86)-(1/I87))*$C$96","v":0},{"$f":"((1/J86)-(1/J87))*$C$96","v":0},{"$f":"((1/K86)-(1/K87))*$C$96","v":0},{"$f":"((1/L86)-(1/L87))*$C$96","v":0}]
[null,"Schadekosten per persoon",193,193,193,null,null,"Schadekosten grens 2",{"$f":"((1/I87)-(1/I88))*$D$96","v":0},{"$f":"((1/J87)-(1/J88))*$D$96","v":0},{"$f":"((1/K87)-(1/K88))*$D$96","v":0},{"$f":"((1/L87)-(1/L88))*$D$96","v":0}]
[null,"Schadekosten per strekkende meter weg",0.73,0.73,0.73,null,null,"Schadekostengrens 3",{"$f":"(1/I88)*$E$96","v":0},{"$f":"(1/J88)*$E$96","v":0},{"$f":"(1/K88)*$E$96","v":0},{"$f":"(1/L88)*$E$96","v":0}]
[null,"Aantal beschadigde woningen [st]",{"$f":"Invoer!D26*C87","v":0},{"$f":"Invoer!D26*D87","v":0},{"$f":"Invoer!D26*E87","v":0},null,null,"Totale schadekosten",{"$f":"IF(C73=0,\"n.v.t.\",IF(Invoer!$D$6=\"Hellend\",0,ROUND(SUM(I90:I92),-1)))","v":"n.v.t."},{"$f":"IF(E73=0,\"n.v.t.\",IF(Invoer!$D$6=\"Hellend\",0,ROUND(SUM(J90:J92),-1)))","v":"n.v.t."},{"$f":"IF(G73=0,\"n.v.t.\",IF(Invoer!$D$6=\"Hellend\",0,ROUND(SUM(K90:K92),-1)))","v":"n.v.t."},{"$f":"IF(I73=0,\"n.v.t.\",IF(Invoer!$D$6=\"Hellend\",0,ROUND(SUM(L90:L92),-1)))","v":"n.v.t."}]
[null,"Aantal personen [st]",{"$f":"Invoer!D27*C88","v":0},{"$f":"Invoer!D27*D88","v":0},{"$f":"Invoer!D27*E88","v":0}]
[null,"Lengte (afgezette) weg [m1]",{"$f":"Invoer!D30*C89","v":0},{"$f":"Invoer!D30*D89","v":0},{"$f":"Invoer!D30*E89","v":0}]
[null,"Totale schadekosten per schadegrens",{"$f":"C93*C90+C94*C91+C95*C92","v":0},{"$f":"D93*D90+D94*D91+D95*D92","v":0},{"$f":"E93*E90+E94*E91+E95*E92","v":0}]
[]
[null,"Groenbaten"]
[null,null,"Variant 0","Variant 1","Variant 2","Variant 3"]
[null,"Groenopp. (m2)",{"$f":"Invoer!D23+C101","v":0},{"$f":"Invoer!E23+D101","v":0},{"$f":"Invoer!F23+E101","v":0},{"$f":"Invoer!G23+F101","v":0},null,null,null,null,null,null,null,null,null,null,null,null,null,null,"Centrale wadi","Boom in gazon","Stijging Woningwaarde (€/j)"]
[null,"Waarvan Bomen (m2)",{"$f":"_xlfn.XLOOKUP($V$100,$U$106:$U$112,$W$106:$W$112,0,2)*34+_xlfn.XLOOKUP($V$101,$U$106:$U$112,$W$106:$W$112,0,2)*34+_xlfn.XLOOKUP($V$102,$U$106:$U$112,$W$106:$W$112,0,2)*34+_xlfn.XLOOKUP($V$103,$U$106:$U$112,$W$106:$W$112,0,2)*34","v":0},{"$f":"_xlfn.XLOOKUP($V$100,$U$106:$U$112,$X$106:$X$112,0,2)*34+_xlfn.XLOOKUP($V$101,$U$106:$U$112,$X$106:$X$112,0,2)*34+_xlfn.XLOOKUP($V$102,$U$106:$U$112,$X$106:$X$112,0,2)*34+_xlfn.XLOOKUP($V$103,$U$106:$U$112,$X$106:$X$112,0,2)*34","v":0},{"$f":"_xlfn.XLOOKUP($V$100,$U$106:$U$112,$Y$106:$Y$112,0,2)*34+_xlfn.XLOOKUP($V$101,$U$106:$U$112,$Y$106:$Y$112,0,2)*34+_xlfn.XLOOKUP($V$102,$U$106:$U$112,$Y$106:$Y$112,0,2)*34+_xlfn.XLOOKUP($V$103,$U$106:$U$112,$Y$106:$Y$112,0,2)*34","v":0},{"$f":"_xlfn.XLOOKUP($V$100,$U$106:$U$112,$Z$106:$Z$112,0,2)*34+_xlfn.XLOOKUP($V$101,$U$106:$U$112,$Z$106:$Z$112,0,2)*34+_xlfn.XLOOKUP($V$102,$U$106:$U$112,$Z$106:$Z$112,0,2)*34+_xlfn.XLOOKUP($V$103,$U$106:$U$112,$Z$106:$Z$112,0,2)*34","v":0},null,null,null,null,null,null,null,null,null,null,null,null,null,null,"Onderhoudsarme wadi (inc. beplanting)","Boom in verharding",{"$f":"C113/100","v":0},{"$f":"D113/100","v":0},{"$f":"E113/100","v":0},{"$f":"F113/100","v":0}]
[null,"(staat uit) Waarvan Wadi (m2)",0,0,0,0,null,null,null,null,null,null,null,null,null,null,null,null,null,null,"Wadi (meerdere kleine)","Boom in beplanting"]
[null,"Percentage groen inc. bomen",{"$f":"IFERROR((C100)/Invoer!D19,0)","v":0},{"$f":"IFERROR((D100)/Invoer!E19,0)","v":0},{"$f":"IFERROR((E100)/Invoer!F19,0)","v":0},{"$f":"IFERROR((F100)/Invoer!G19,0)","v":0},null,null,null,null,null,null,null,null,null,null,null,null,null,null,null,"Bosplantsoen"]
[null,"Percentage Groenopp. openbaar Ex. bomen",{"$f":"IFERROR((C100-C101)/Invoer!D22,0)","v":0},{"$f":"IFERROR((D100-D101)/Invoer!E22,0)","v":0},{"$f":"IFERROR((E100-E101)/Invoer!F22,0)","v":0},{"$f":"IFERROR((F100-F101)/Invoer!G22,0)","v":0},null,null,null,null,null,null,null,null,null,null,null,null,null,null,"kopie van invoer groen voor groenbaten"]
[null,"Vermeden Gezondheidzorgkosten",null,null,null,null,null,null,null,null,null,null,null,null,null,null,null,null,null,null,"Bomen en wadis werken zonder dit niet!","eenheid","hoeveelheid var0","hoeveelheid var1","hoeveelheid var2","hoeveelheid var3"]
[null,"Minder patienten bij de huisarts  (€/j)",{"$f":"IF(C100=0,0,C108*C107/30)","v":0},{"$f":"IF(D100=0,0,D108*D107/30)","v":0},{"$f":"IF(E100=0,0,E108*E107/30)","v":0},{"$f":"IF(F100=0,0,F108*F107/30)","v":0},null,null,null,null,null,null,null,null,null,null,null,null,null,null,{"$f":"Invoer!B88","v":"Groenvoorziening"},{"$f":"Invoer!C88","v":0},{"$f":"Invoer!D88","v":0},{"$f":"Invoer!F88","v":0},{"$f":"Invoer!H88","v":0},{"$f":"Invoer!J88","v":0}]
[null,"kengetal (€/patient)",868,868,868,868,null,null,null,null,null,null,null,null,null,null,null,null,null,null,{"$f":"Invoer!B89","v":"Gazon"},{"$f":"Invoer!C89","v":"m²"},{"$f":"Invoer!D89","v":0},{"$f":"Invoer!F89","v":0},{"$f":"Invoer!H89","v":0},{"$f":"Invoer!J89","v":0}]
[null,"aantal patienten",{"$f":"Invoer!$E$28*C103*0.835/1000","v":{"$error":"#DIV/0!"}},{"$f":"Invoer!$E$28*D103*0.835/1000","v":{"$error":"#DIV/0!"}},{"$f":"Invoer!$E$28*E103*0.835/1000","v":{"$error":"#DIV/0!"}},{"$f":"Invoer!$E$28*F103*0.835/1000","v":{"$error":"#DIV/0!"}},null,null,null,null,null,null,null,null,null,null,"VLOOKUP test",{"$f":"VLOOKUP(V101,U105:Z112,3,TRUE)","v":"hoeveelheid var0"},null,null,{"$f":"Invoer!B90","v":"Haag"},{"$f":"Invoer!C90","v":"m²"},{"$f":"Invoer!D90","v":0},{"$f":"Invoer!F90","v":0},{"$f":"Invoer!H90","v":0},{"$f":"Invoer!J90","v":0}]
[null,"Minder arbeidsverlies  (€/j)",{"$f":"IF(C100=0,0,C111*C110/30)","v":0},{"$f":"IF(D100=0,0,D111*D110/30)","v":0},{"$f":"IF(E100=0,0,E111*E110/30)","v":0},{"$f":"IF(F100=0,0,F111*F110/30)","v":0},null,null,null,null,null,null,null,null,null,null,"XLOOKUP test",{"$f":"_xlfn.XLOOKUP(V101,U106:U112,W106:W112,\"jammer joh\",2)","v":0},null,null,{"$f":"Invoer!B91","v":"Boom in verharding"},{"$f":"Invoer!C91","v":"st"},{"$f":"Invoer!D91","v":0},{"$f":"Invoer!F91","v":0},{"$f":"Invoer!H91","v":0},{"$f":"Invoer!J91","v":0}]
[null,"kengetal (€/patient)",6341,{"$f":"C110","v":6341},{"$f":"D110","v":6341},{"$f":"E110","v":6341},null,null,null,null,null,null,null,null,null,null,null,null,null,null,{"$f":"Invoer!B94","v":0},{"$f":"Invoer!C94","v":""},{"$f":"Invoer!D94","v":0},{"$f":"Invoer!F94","v":0},{"$f":"Invoer!H94","v":0},{"$f":"Invoer!J94","v":0}]
[null," Aantal minder patiënten",{"$f":"Invoer!$D$28*C103*0.835*0.67/1000","v":{"$error":"#DIV/0!"}},{"$f":"Invoer!$D$28*D103*0.835*0.67/1000","v":{"$error":"#DIV/0!"}},{"$f":"Invoer!$D$28*E103*0.835*0.67/1000","v":{"$error":"#DIV/0!"}},{"$f":"Invoer!$D$28*F103*0.835*0.67/1000","v":{"$error":"#DIV/0!"}},null,null,null,null,null,null,null,null,null,null,null,null,null,null,{"$f":"Invoer!B95","v":0},{"$f":"Invoer!C95","v":""},{"$f":"Invoer!D95","v":0},{"$f":"Invoer!F95","v":0},{"$f":"Invoer!H95","v":0},{"$f":"Invoer!J95","v":0}]
[null,"Woningwaarde",null,null,null,null,null,null,null,null,null,null,null,null,null,null,null,null,null,null,{"$f":"Invoer!B96","v":0},{"$f":"Invoer!C96","v":""},{"$f":"Invoer!D96","v":0},{"$f":"Invoer!F96","v":0},{"$f":"Invoer!H96","v":0},{"$f":"Invoer!J96","v":0}]
[null,"Stijging Woningwaarde (eenmalig)",{"$f":"IF(C100=0,0,IF(Invoer!D24>0,IF(C104>50%,0.05*C114,0.05*C114*C104*2),IF(C104>30%,0.05*C114,0.05*C114*C104*(100/30))))","v":0},{"$f":"IF(D100=0,0,IF(Invoer!E24>0,IF(D104>50%,0.05*D114,0.05*D114*D104*2),IF(D104>30%,0.05*D114,0.05*D114*D104*(100/30))))","v":0},{"$f":"IF(E100=0,0,IF(Invoer!F24>0,IF(E104>50%,0.05*E114,0.05*E114*E104*2),IF(E104>30%,0.05*E114,0.05*E114*E104*(100/30))))","v":0},{"$f":"IF(F100=0,0,IF(Invoer!G24>0,IF(F104>50%,0.05*F114,0.05*F114*F104*2),IF(F104>30%,0.05*F114,0.05*F114*F104*(100/30))))","v":0}]
[null,"Totale woningwaarde (WOZ)",{"$f":"Invoer!D26*Invoer!D29","v":0},{"$f":"Invoer!E26*Invoer!E29","v":0},{"$f":"Invoer!F26*Invoer!F29","v":0},{"$f":"Invoer!G26*Invoer!G29","v":0}]
[null,"OZB (€/j)",{"$f":"IF(C100=0,0,C113*$C$116)","v":0},{"$f":"IF(D100=0,0,D113*$C$116)","v":0},{"$f":"IF(E100=0,0,E113*$C$116)","v":0},{"$f":"IF(F100=0,0,F113*$C$116)","v":0}]
[null,"OZB Kengetal",1.5E-3]
[null,"Eigenwoningforfait (€/j)",{"$f":"IF(C100=0,0,C113*$C$118)","v":0},{"$f":"IF(D100=0,0,D113*$C$118)","v":0},0,0]
[null,"EWF Kengetal",7.4999999999999997E-3]
[null,"Watersysteembelasting (€/j)",{"$f":"IF(C100=0,0,C113*$C$120)","v":0},{"$f":"IF(D100=0,0,D113*$C$120)","v":0},0,0]
[null,"Watersysteemheffing Kengetal",3.6484923076923081E-4]
[null,"Waterhuishouding"]
[null,"Vermindering afvoerkosten (€/j)",{"$f":"IF(C100=0,0,C123*$C$124)","v":0},{"$f":"IF(D100=0,0,D123*$C$124)","v":0},{"$f":"IF(E100=0,0,E123*$C$124)","v":0},0]
[null,"volledig infiltrerend oppervlak (m²)",{"$f":"Invoer!Neerslag_oppervlak*Berekeningen!C139","v":{"$error":"#DIV/0!"}},{"$f":"Invoer!Neerslag_oppervlak*Berekeningen!D139","v":{"$error":"#DIV/0!"}},{"$f":"Invoer!Neerslag_oppervlak*Berekeningen!E139","v":{"$error":"#DIV/0!"}},{"$f":"Invoer!Neerslag_oppervlak*Berekeningen!F139","v":{"$error":"#DIV/0!"}}]
[null,"Afvoerverm. Groen Kengetal",0.25]
[null,"(hier stond ooit het aantal m2 waarmee verhard afnam)"]
[]
[null,"Afkoppelen (woning)percelen (€/j) UIT",{"$f":"0*IF(Invoer!D17=\"Ja\",$C$128*Invoer!D20,0)","v":0},{"$f":"0*IF(Invoer!E17=\"Ja\",$C$128*Invoer!E20,0)","v":0},{"$f":"0*IF(Invoer!F17=\"Ja\",$C$128*Invoer!F20,0)","v":0},{"$f":"0*IF(Invoer!G17=\"Ja\",$C$128*Invoer!G20,0)","v":0}]
[null,"Kengetal afk. OR ",0.25]
[null,"Totale Groenbaten 1e jaar",{"$f":"IF(C100=0,0,C122+C117+C115+C109+C106+C113+C125+C127+C119)","v":0},{"$f":"IF(D100=0,0,D122+D117+D115+D109+D106+D113+D125+D127+D119)","v":0},{"$f":"IF(E100=0,0,E122+E117+E115+E109+E106+E113+E125+E127+E119)","v":0},{"$f":"IF(F100=0,0,F122+F117+F115+F109+F106+F113+F125+F127+F119)","v":0}]
[]
[null,"Infiltratie naar grondwater"]
[null,null,"Variant 0","Variant 1","Variant 2","Variant 3"]
[null,"Percentage neerslag T=1 infiltreerd vanaf verhard opp.",{"$f":"IF(Neerslagberekeningen!L863<=Invoer!D15,IF(Neerslagberekeningen!L865=0,(1-0.01),0),0)","v":{"$error":"#DIV/0!"}},{"$f":"IF(Neerslagberekeningen!S863<=Invoer!E15,IF(Neerslagberekeningen!S865=0,(1-0.01),0),0)","v":{"$error":"#DIV/0!"}},{"$f":"IF(Neerslagberekeningen!Z863<=Invoer!F15,IF(Neerslagberekeningen!Z865=0,(1-0.01),0),0)","v":{"$error":"#DIV/0!"}},{"$f":"IF(Neerslagberekeningen!AG863<=Invoer!G15,IF(Neerslagberekeningen!AG865=0,(1-0.01),0),0)","v":{"$error":"#DIV/0!"}}]
[null,"Percentage neerslag T=1 infiltreerd vanaf groen opp.",{"$f":"IF(Invoer!D16>=Klimaatscenario!$B$67,(1-0.01),0)","v":0},{"$f":"IF(Invoer!E16>=Klimaatscenario!$B$67,(1-0.01),0)","v":0},{"$f":"IF(Invoer!F16>=Klimaatscenario!$B$67,(1-0.01),0)","v":0},{"$f":"IF(Invoer!G16>=Klimaatscenario!$B$67,(1-0.01),0)","v":0}]
[null,"Percentage van netto jaarneerslag infiltreerbaar voor grondwater aanvulling",{"$f":"(C133*(Invoer!D21+IF(Invoer!D17=\"Ja\",Invoer!Dakoppervlak,0))+C134*Invoer!D23)/Invoer!Neerslag_oppervlak","v":{"$error":"#DIV/0!"}},{"$f":"(D133*(Invoer!E21+IF(Invoer!E17=\"Ja\",Invoer!Dakoppervlak,0))+D134*Invoer!E23)/Invoer!Neerslag_oppervlak","v":{"$error":"#DIV/0!"}},{"$f":"(E133*(Invoer!F21+IF(Invoer!F17=\"Ja\",Invoer!Dakoppervlak,0))+E134*Invoer!F23)/Invoer!Neerslag_oppervlak","v":{"$error":"#DIV/0!"}},{"$f":"(F133*(Invoer!G21+IF(Invoer!G17=\"Ja\",Invoer!Dakoppervlak,0))+F134*Invoer!G23)/Invoer!Neerslag_oppervlak","v":{"$error":"#DIV/0!"}}]
[null,"Percentage jaarneerslag ruwe schatting vanaf verhard",{"$f":"IF(C133=0,IF(Invoer!D13>=5,1-0.5,0),0)","v":{"$error":"#DIV/0!"}},{"$f":"IF(D133=0,IF(Invoer!E13>=5,1-0.5,0),0)","v":{"$error":"#DIV/0!"}},{"$f":"IF(E133=0,IF(Invoer!F13>=5,1-0.5,0),0)","v":{"$error":"#DIV/0!"}},{"$f":"IF(F133=0,IF(Invoer!G13>=5,1-0.5,0),0)","v":{"$error":"#DIV/0!"}}]
[null,"Perventage jaarneerslag ruwe schatting vanaf groen",{"$f":"IF(C134=0,IF(Invoer!D16>=5,1-0.5,0),0)","v":0},{"$f":"IF(D134=0,IF(Invoer!E16>=5,1-0.5,0),0)","v":0},{"$f":"IF(E134=0,IF(Invoer!F16>=5,1-0.5,0),0)","v":0},{"$f":"IF(F134=0,IF(Invoer!G16>=5,1-0.5,0),0)","v":0}]
[null,"Percentage van netto jaarneerslag infiltreerbaar voor grondwater aanvulling via ruwe schatting",{"$f":"(C136*(Invoer!D21+IF(Invoer!D17=\"Ja\",Invoer!Dakoppervlak,0))+C137*Invoer!D23)/Invoer!Neerslag_oppervlak","v":{"$error":"#DIV/0!"}},{"$f":"(D136*(Invoer!E21+IF(Invoer!E17=\"Ja\",Invoer!Dakoppervlak,0))+D137*Invoer!E23)/Invoer!Neerslag_oppervlak","v":{"$error":"#DIV/0!"}},{"$f":"(E136*(Invoer!F21+IF(Invoer!F17=\"Ja\",Invoer!Dakoppervlak,0))+E137*Invoer!F23)/Invoer!Neerslag_oppervlak","v":{"$error":"#DIV/0!"}},{"$f":"(F136*(Invoer!G21+IF(Invoer!G17=\"Ja\",Invoer!Dakoppervlak,0))+F137*Invoer!G23)/Invoer!Neerslag_oppervlak","v":{"$error":"#DIV/0!"}}]
[null,"Percentage van netto jaarneerslag infiltreerbaar voor grondwater aanvulling - totaal genomen",{"$f":"C135+C138","v":{"$error":"#DIV/0!"}},{"$f":"D135+D138","v":{"$error":"#DIV/0!"}},{"$error":"#DIV/0!"},{"$error":"#DIV/0!"}]
[]
[]
[]
[]
[]
[null,"Contante waarde",null,"Variant 0",null,null,null,"Variant 1",null,null,null,"Variant 2",null,null,null,"Variant 3"]
[null,"(Her)Inrichtingsjaar",null,"Moment 1","Moment 2",null,null,"Moment 1","Moment 2",null,null,"Moment 1","Moment 2",null,null,"Moment 1","Moment 2"]
[null,"Openbare ruimte incl. DWA en HWA",null,{"$f":"Invoer!D7","v":0},{"$f":"IF(D147=0,60,IF(D147=30,90,\"FOUT\"))","v":60},null,null,{"$f":"D147","v":0},{"$f":"IF(H147=0,60,IF(H147=30,90,\"FOUT\"))","v":60},null,null,{"$f":"D147","v":0},{"$f":"IF(L147=0,60,IF(L147=30,90,\"FOUT\"))","v":60},null,null,{"$f":"D147","v":0},{"$f":"IF(P147=0,60,IF(P147=30,90,\"FOUT\"))","v":60}]
[null,"Openbare ruimte excl. DWA en HWA",null,{"$f":"IF(D147=0,30,IF(D147=30,0))","v":30},{"$f":"IF(D148=0,60,IF(D148=30,90,\"FOUT\"))","v":90},null,null,{"$f":"IF(H147=0,30,IF(H147=30,0))","v":30},{"$f":"IF(H148=0,60,IF(H148=30,90,\"FOUT\"))","v":90},null,null,{"$f":"IF(L147=0,30,IF(L147=30,0))","v":30},{"$f":"IF(L148=0,60,IF(L148=30,90,\"FOUT\"))","v":90},null,null,{"$f":"IF(P147=0,30,IF(P147=30,0))","v":30},{"$f":"IF(P148=0,60,IF(P148=30,90,\"FOUT\"))","v":90}]
[null,null,"Discontofactor","Aanlegkosten","Onderhoudskosten","Schadekosten","Groenbaten",{"$f":"D149","v":"Aanlegkosten"},"Onderhoudskosten","Schadekosten","Groenbaten","Aanlegkosten","Onderhoudskosten","Schadekosten","Groenbaten","Aanlegkosten","Onderhoudskosten","Schadekosten","Groenbaten"]
[null,"Investering in jaar 0",1,{"$f":"C80","v":0},{"$f":"D73","v":0},{"$f":"$C150*I$93","v":{"$error":"#VALUE!"}},{"$f":"C129","v":0},{"$f":"E80","v":0},{"$f":"F73","v":0},{"$f":"$C150*J$93","v":{"$error":"#VALUE!"}},{"$f":"D129","v":0},{"$f":"G80","v":0},{"$f":"H73","v":0},{"$f":"$C150*K$93","v":{"$error":"#VALUE!"}},{"$f":"E129","v":0},{"$f":"I80","v":0},{"$f":"J73","v":0},{"$f":"$C150*L$93","v":{"$error":"#VALUE!"}},{"$f":"F129","v":0}]
[null,1,{"$f":"1/(1+$C$254)^B151","v":0.97799511002444994},{"$f":"IF($B151=D$147,D$80*$C151,IF($B151=E$147,D$80*$C151,IF($B151=F$147,D$80*$C151,IF($B151=D$148,D$81*$C151,IF($B151=E$148,D$81*$C151,IF($B151=F$148,D$81*$C151,0))))))","v":0},{"$f":"$E$150*C151","v":0},{"$f":"$C151*I$93","v":{"$error":"#VALUE!"}},{"$f":"$C151*($G$150-$C$113)","v":0},{"$f":"IF($B151=H$147,F$80*$C151,IF($B151=I$147,F$80*$C151,IF($B151=J$147,F$80*$C151,IF($B151=H$148,F$81*$C151,IF($B151=I$148,F$81*$C151,IF($B151=J$148,F$81*$C151,0))))))","v":0},{"$f":"$I$150*C151","v":0},{"$f":"$C151*J$93","v":{"$error":"#VALUE!"}},{"$f":"$C151*($K$150-$D$113)","v":0},{"$f":"IF($B151=L$147,H$80*$C151,IF($B151=M$147,H$80*$C151,IF($B151=N$147,H$80*$C151,IF($B151=L$148,H$81*$C151,IF($B151=M$148,H$81*$C151,IF($B151=N$148,H$81*$C151,0))))))","v":0},{"$f":"$M$150*C151","v":0},{"$error":"#VALUE!"},{"$f":"$C151*($O$150-$E$113)","v":0},{"$f":"IF($B151=P$147,J$80*$C151,IF($B151=Q$147,J$80*$C151,IF($B151=Q$147,J$80*$C151,IF($B151=P$148,J$81*$C151,IF($B151=Q$148,J$81*$C151,IF($B151=Q$148,J$81*$C151,0))))))","v":0},{"$f":"$Q$150*C151","v":0},{"$error":"#VALUE!"},{"$f":"$C151*($S$150-$F$113)","v":0}]
[null,2,0.95647443523173592,0,{"$f":"$E$150*C152","v":0},{"$error":"#VALUE!"},0,0,0,{"$error":"#VALUE!"},0,0,0,{"$error":"#VALUE!"},0,0,0,{"$error":"#VALUE!"},0]
[null,3,0.93542732052003519,0,0,{"$error":"#VALUE!"},0,0,0,{"$error":"#VALUE!"},0,0,0,{"$error":"#VALUE!"},0,0,0,{"$error":"#VALUE!"},0]
[null,4,{"$f":"1/(1+$C$254)^B154","v":0.91484334525186817},0,{"$f":"$E$150*C154","v":0},{"$error":"#VALUE!"},0,0,0,{"$error":"#VALUE!"},0,0,0,{"$error":"#VALUE!"},0,0,0,{"$error":"#VALUE!"},0]
[null,5,0.89471231809473661,0,{"$f":"$E$150*C155","v":0},{"$f":"$C155*I$93","v":{"$error":"#VALUE!"}},0,0,0,{"$error":"#VALUE!"},0,0,0,{"$error":"#VALUE!"},0,0,0,{"$error":"#VALUE!"},0]
[null,6,0.87502427197529253,0,0,{"$error":"#VALUE!"},0,0,0,{"$error":"#VALUE!"},0,0,0,{"$error":"#VALUE!"},0,0,0,{"$error":"#VALUE!"},0]
[null,7,0.8557694591445405,0,{"$f":"$E$150*C157","v":0},{"$error":"#VALUE!"},0,0,0,{"$error":"#VALUE!"},0,0,0,{"$error":"#VALUE!"},0,0,0,{"$error":"#VALUE!"},0]
[null,8,0.836938346351629,0,0,{"$error":"#VALUE!"},0,0,0,{"$error":"#VALUE!"},0,0,0,{"$error":"#VALUE!"},0,0,0,{"$error":"#VALUE!"},0]
[null,9,0.81852161012384261,0,0,{"$error":"#VALUE!"},0,0,0,{"$error":"#VALUE!"},0,0,0,{"$error":"#VALUE!"},0,0,0,{"$error":"#VALUE!"},0]
[null,10,0.8005101321504573,0,0,{"$error":"#VALUE!"},0,0,0,{"$error":"#VALUE!"},0,0,0,{"$error":"#VALUE!"},0,0,0,{"$error":"#VALUE!"},0]
[null,11,0.78289499476817348,0,0,{"$error":"#VALUE!"},0,0,0,{"$error":"#VALUE!"},0,0,0,{"$error":"#VALUE!"},0,0,0,{"$error":"#VALUE!"},0]
[null,12,0.76566747654589096,0,0,{"$f":"$C162*I$93","v":{"$error":"#VALUE!"}},0,0,0,{"$error":"#VALUE!"},0,0,0,{"$error":"#VALUE!"},0,0,0,{"$error":"#VALUE!"},0]
[null,13,0.74881904796664145,0,0,{"$error":"#VALUE!"},0,0,0,{"$error":"#VALUE!"},0,0,0,{"$error":"#VALUE!"},0,0,0,{"$error":"#VALUE!"},0]
[null,14,0.73234136720453935,0,0,{"$error":"#VALUE!"},0,0,0,{"$error":"#VALUE!"},0,0,0,{"$error":"#VALUE!"},0,0,0,{"$error":"#VALUE!"},0]
[null,15,0.7162262759946596,0,0,{"$error":"#VALUE!"},0,0,0,{"$error":"#VALUE!"},0,0,0,{"$error":"#VALUE!"},0,0,0,{"$error":"#VALUE!"},0]
[null,16,0.70046579559379929,0,0,{"$error":"#VALUE!"},0,0,0,{"$error":"#VALUE!"},0,0,0,{"$error":"#VALUE!"},0,0,0,{"$error":"#VALUE!"},0]
[null,17,0.68505212283012151,0,0,{"$error":"#VALUE!"},0,0,0,{"$error":"#VALUE!"},0,0,0,{"$error":"#VALUE!"},0,0,0,{"$error":"#VALUE!"},0]
[null,18,0.66997762623972779,0,0,{"$error":"#VALUE!"},0,0,0,{"$error":"#VALUE!"},0,0,0,{"$error":"#VALUE!"},0,0,0,{"$error":"#VALUE!"},0]
[null,19,0.65523484228824225,0,0,{"$error":"#VALUE!"},0,0,0,{"$error":"#VALUE!"},0,0,0,{"$error":"#VALUE!"},0,0,0,{"$error":"#VALUE!"},0]
[null,20,0.64081647167554256,0,0,{"$error":"#VALUE!"},0,0,0,{"$error":"#VALUE!"},0,0,0,{"$error":"#VALUE!"},0,0,0,{"$error":"#VALUE!"},0]
[null,21,0.62671537572180203,0,0,{"$error":"#VALUE!"},0,0,0,{"$error":"#VALUE!"},0,0,0,{"$error":"#VALUE!"},0,0,0,{"$error":"#VALUE!"},0]
[null,22,0.61292457283305835,0,0,{"$error":"#VALUE!"},0,0,0,{"$error":"#VALUE!"},0,0,0,{"$error":"#VALUE!"},0,0,0,{"$error":"#VALUE!"},0]
[null,23,0.59943723504455593,0,0,{"$error":"#VALUE!"},0,0,0,{"$error":"#VALUE!"},0,0,0,{"$error":"#VALUE!"},0,0,0,{"$error":"#VALUE!"},0]
[null,24,0.5862466846401525,0,0,{"$error":"#VALUE!"},0,0,0,{"$error":"#VALUE!"},0,0,0,{"$error":"#VALUE!"},0,0,0,{"$error":"#VALUE!"},0]
[null,25,0.57334639084611505,0,0,{"$error":"#VALUE!"},0,0,0,{"$error":"#VALUE!"},0,0,0,{"$error":"#VALUE!"},0,0,0,{"$error":"#VALUE!"},0]
[null,26,0.5607299665976675,0,0,{"$error":"#VALUE!"},0,0,0,{"$error":"#VALUE!"},0,0,0,{"$error":"#VALUE!"},0,0,0,{"$error":"#VALUE!"},0]
[null,27,0.54839116537669197,0,0,{"$error":"#VALUE!"},0,0,0,{"$error":"#VALUE!"},0,0,0,{"$error":"#VALUE!"},0,0,0,{"$error":"#VALUE!"},0]
[null,28,0.53632387811901416,0,0,{"$error":"#VALUE!"},0,0,0,{"$error":"#VALUE!"},0,0,0,{"$error":"#VALUE!"},0,0,0,{"$error":"#VALUE!"},0]
[null,29,0.52452213018974492,0,0,{"$error":"#VALUE!"},0,0,0,{"$error":"#VALUE!"},0,0,0,{"$error":"#VALUE!"},0,0,0,{"$error":"#VALUE!"},0]
[null,30,0.51298007842517834,0,0,{"$error":"#VALUE!"},0,0,0,{"$error":"#VALUE!"},0,0,0,{"$error":"#VALUE!"},0,0,0,{"$error":"#VALUE!"},0]
[null,31,0.50169200823978322,0,0,{"$error":"#VALUE!"},0,0,0,{"$error":"#VALUE!"},0,0,0,{"$error":"#VALUE!"},0,0,0,{"$error":"#VALUE!"},0]
[null,32,0.49065233079685422,0,0,{"$f":"$C182*I$93","v":{"$error":"#VALUE!"}},0,0,0,{"$f":"$C182*J$93","v":{"$error":"#VALUE!"}},0,0,0,{"$f":"$C182*K$93","v":{"$error":"#VALUE!"}},0,0,0,{"$f":"$C182*L$93","v":{"$error":"#VALUE!"}},0]
[null,33,{"$f":"1/(1+$C$254)^B183","v":0.47985558024142216},{"$f":"IF($B183=D$147,D$80*$C183,IF($B183=E$147,D$80*$C183,IF($B183=F$147,D$80*$C183,IF($B183=D$148,D$81*$C183,IF($B183=E$148,D$81*$C183,IF($B183=F$148,D$81*$C183,0))))))","v":0},{"$f":"$E$150*C183","v":0},{"$error":"#VALUE!"},{"$f":"$C183*($G$150-$C$113)","v":0},{"$f":"IF($B183=H$147,F$80*$C183,IF($B183=I$147,F$80*$C183,IF($B183=J$147,F$80*$C183,IF($B183=H$148,F$81*$C183,IF($B183=I$148,F$81*$C183,IF($B183=J$148,F$81*$C183,0))))))","v":0},{"$f":"$I$150*C183","v":0},{"$error":"#VALUE!"},{"$f":"$C183*($K$150-$D$113)","v":0},{"$f":"IF($B183=L$147,H$80*$C183,IF($B183=M$147,H$80*$C183,IF($B183=N$147,H$80*$C183,IF($B183=L$148,H$81*$C183,IF($B183=M$148,H$81*$C183,IF($B183=N$148,H$81*$C183,0))))))","v":0},{"$f":"$M$150*C183","v":0},{"$error":"#VALUE!"},{"$f":"$C183*($O$150-$E$113)","v":0},{"$f":"IF($B183=P$147,J$80*$C183,IF($B183=Q$147,J$80*$C183,IF($B183=Q$147,J$80*$C183,IF($B183=P$148,J$81*$C183,IF($B183=Q$148,J$81*$C183,IF($B183=Q$148,J$81*$C183,0))))))","v":0},{"$f":"$Q$150*C183","v":0},{"$error":"#VALUE!"},{"$f":"$C183*($S$150-$F$113)","v":0}]
[null,34,0.469296410994056,0,0,{"$error":"#VALUE!"},0,0,0,{"$error":"#VALUE!"},0,0,0,{"$error":"#VALUE!"},0,0,0,{"$error":"#VALUE!"},0]
[null,35,0.45896959510421126,0,0,{"$error":"#VALUE!"},0,0,0,{"$error":"#VALUE!"},0,0,0,{"$error":"#VALUE!"},0,0,0,{"$error":"#VALUE!"},0]
[null,36,0.44887001966182033,0,0,{"$error":"#VALUE!"},0,0,0,{"$error":"#VALUE!"},0,0,0,{"$error":"#VALUE!"},0,0,0,{"$error":"#VALUE!"},0]
[null,37,0.43899268426583893,0,0,{"$error":"#VALUE!"},0,0,0,{"$error":"#VALUE!"},0,0,0,{"$error":"#VALUE!"},0,0,0,{"$error":"#VALUE!"},0]
[null,38,0.42933269854849776,0,0,{"$error":"#VALUE!"},0,0,0,{"$error":"#VALUE!"},0,0,0,{"$error":"#VALUE!"},0,0,0,{"$error":"#VALUE!"},0]
[null,39,0.41988527975403206,0,0,{"$error":"#VALUE!"},0,0,0,{"$error":"#VALUE!"},0,0,0,{"$error":"#VALUE!"},0,0,0,{"$error":"#VALUE!"},0]
[null,40,0.41064575037069156,0,0,{"$error":"#VALUE!"},0,0,0,{"$error":"#VALUE!"},0,0,0,{"$error":"#VALUE!"},0,0,0,{"$error":"#VALUE!"},0]
[null,41,0.40160953581485731,0,0,{"$error":"#VALUE!"},0,0,0,{"$error":"#VALUE!"},0,0,0,{"$error":"#VALUE!"},0,0,0,{"$error":"#VALUE!"},0]
[null,42,0.39277216216611965,0,0,{"$error":"#VALUE!"},0,0,0,{"$error":"#VALUE!"},0,0,0,{"$error":"#VALUE!"},0,0,0,{"$error":"#VALUE!"},0]
[null,43,0.38412925395219527,0,0,{"$error":"#VALUE!"},0,0,0,{"$error":"#VALUE!"},0,0,0,{"$error":"#VALUE!"},0,0,0,{"$error":"#VALUE!"},0]
[null,44,0.37567653198258705,0,0,{"$error":"#VALUE!"},0,0,0,{"$error":"#VALUE!"},0,0,0,{"$error":"#VALUE!"},0,0,0,{"$error":"#VALUE!"},0]
[null,45,0.36740981122991401,0,0,{"$error":"#VALUE!"},0,0,0,{"$error":"#VALUE!"},0,0,0,{"$error":"#VALUE!"},0,0,0,{"$error":"#VALUE!"},0]
[null,46,0.35932499875786211,0,0,{"$error":"#VALUE!"},0,0,0,{"$error":"#VALUE!"},0,0,0,{"$error":"#VALUE!"},0,0,0,{"$error":"#VALUE!"},0]
[null,47,0.35141809169473071,0,0,{"$error":"#VALUE!"},0,0,0,{"$error":"#VALUE!"},0,0,0,{"$error":"#VALUE!"},0,0,0,{"$error":"#VALUE!"},0]
[null,48,0.34368517525157044,0,0,{"$error":"#VALUE!"},0,0,0,{"$error":"#VALUE!"},0,0,0,{"$error":"#VALUE!"},0,0,0,{"$error":"#VALUE!"},0]
[null,49,0.33612242078393195,0,0,{"$error":"#VALUE!"},0,0,0,{"$error":"#VALUE!"},0,0,0,{"$error":"#VALUE!"},0,0,0,{"$error":"#VALUE!"},0]
[null,50,0.32872608389626606,0,0,{"$error":"#VALUE!"},0,0,0,{"$error":"#VALUE!"},0,0,0,{"$error":"#VALUE!"},0,0,0,{"$error":"#VALUE!"},0]
[null,51,0.32149250258803524,0,0,{"$error":"#VALUE!"},0,0,0,{"$error":"#VALUE!"},0,0,0,{"$error":"#VALUE!"},0,0,0,{"$error":"#VALUE!"},0]
[null,52,0.31441809544062127,0,0,{"$error":"#VALUE!"},0,0,0,{"$error":"#VALUE!"},0,0,0,{"$error":"#VALUE!"},0,0,0,{"$error":"#VALUE!"},0]
[null,53,0.30749935984412835,0,0,{"$error":"#VALUE!"},0,0,0,{"$error":"#VALUE!"},0,0,0,{"$error":"#VALUE!"},0,0,0,{"$error":"#VALUE!"},0]
[null,54,0.30073287026320628,0,0,{"$error":"#VALUE!"},0,0,0,{"$error":"#VALUE!"},0,0,0,{"$error":"#VALUE!"},0,0,0,{"$error":"#VALUE!"},0]
[null,55,0.29411527654103309,0,0,{"$error":"#VALUE!"},0,0,0,{"$error":"#VALUE!"},0,0,0,{"$error":"#VALUE!"},0,0,0,{"$error":"#VALUE!"},0]
[null,56,0.28764330224061913,0,0,{"$error":"#VALUE!"},0,0,0,{"$error":"#VALUE!"},0,0,0,{"$error":"#VALUE!"},0,0,0,{"$error":"#VALUE!"},0]
[null,57,0.28131374302261047,0,0,{"$error":"#VALUE!"},0,0,0,{"$error":"#VALUE!"},0,0,0,{"$error":"#VALUE!"},0,0,0,{"$error":"#VALUE!"},0]
[null,58,0.27512346505878776,0,0,{"$error":"#VALUE!"},0,0,0,{"$error":"#VALUE!"},0,0,0,{"$error":"#VALUE!"},0,0,0,{"$error":"#VALUE!"},0]
[null,59,0.26906940348047709,0,0,{"$error":"#VALUE!"},0,0,0,{"$error":"#VALUE!"},0,0,0,{"$error":"#VALUE!"},0,0,0,{"$error":"#VALUE!"},0]
[null,60,0.26314856086110222,{"$f":"IF($B210=D$147,D$80*$C210,IF($B210=E$147,D$80*$C210,IF($B210=E$147,D$80*$C210,IF($B210=D$148,D$81*$C210,IF($B210=E$148,D$81*$C210,IF($B210=E$148,D$81*$C210,0))))))","v":0},0,{"$error":"#VALUE!"},0,0,0,{"$error":"#VALUE!"},0,0,0,{"$error":"#VALUE!"},0,0,0,{"$error":"#VALUE!"},0]
[null,61,0.2573580057321293,{"$f":"IF($B211=D$147,D$80*$C211,IF($B211=E$147,D$80*$C211,IF($B211=F$147,D$80*$C211,IF($B211=D$148,D$81*$C211,IF($B211=E$148,D$81*$C211,IF($B211=F$148,D$81*$C211,0))))))","v":0},0,{"$error":"#VALUE!"},0,0,0,{"$error":"#VALUE!"},0,0,0,{"$error":"#VALUE!"},0,0,0,{"$error":"#VALUE!"},0]
[null,62,0.25169487113166683,0,0,{"$error":"#VALUE!"},0,0,0,{"$error":"#VALUE!"},0,0,0,{"$error":"#VALUE!"},0,0,0,{"$error":"#VALUE!"},0]
[null,63,0.24615635318500426,0,0,{"$error":"#VALUE!"},0,0,0,{"$error":"#VALUE!"},0,0,0,{"$error":"#VALUE!"},0,0,0,{"$error":"#VALUE!"},0]
[null,64,0.24073970971638561,0,0,{"$f":"$C214*I$93","v":{"$error":"#VALUE!"}},0,0,0,{"$f":"$C214*J$93","v":{"$error":"#VALUE!"}},0,0,0,{"$f":"$C214*K$93","v":{"$error":"#VALUE!"}},0,0,0,{"$f":"$C214*L$93","v":{"$error":"#VALUE!"}},0]
[null,65,{"$f":"1/(1+$C$254)^B215","v":0.23544225889133066},0,{"$f":"$E$150*C215","v":0},{"$error":"#VALUE!"},{"$f":"$C215*($G$150-$C$113)","v":0},{"$f":"IF($B215=H$147,F$80*$C215,IF($B215=I$147,F$80*$C215,IF($B215=J$147,F$80*$C215,IF($B215=H$148,F$81*$C215,IF($B215=I$148,F$81*$C215,IF($B215=J$148,F$81*$C215,0))))))","v":0},{"$f":"$I$150*C215","v":0},{"$error":"#VALUE!"},{"$f":"$C215*($K$150-$D$113)","v":0},{"$f":"IF($B215=L$147,H$80*$C215,IF($B215=M$147,H$80*$C215,IF($B215=N$147,H$80*$C215,IF($B215=L$148,H$81*$C215,IF($B215=M$148,H$81*$C215,IF($B215=N$148,H$81*$C215,0))))))","v":0},{"$f":"$M$150*C215","v":0},{"$error":"#VALUE!"},{"$f":"$C215*($O$150-$E$113)","v":0},{"$f":"IF($B215=P$147,J$80*$C215,IF($B215=Q$147,J$80*$C215,IF($B215=Q$147,J$80*$C215,IF($B215=P$148,J$81*$C215,IF($B215=Q$148,J$81*$C215,IF($B215=Q$148,J$81*$C215,0))))))","v":0},{"$f":"$Q$150*C215","v":0},{"$error":"#VALUE!"},{"$f":"$C215*($S$150-$F$113)","v":0}]
[null,66,0.23026137788883197,0,0,{"$error":"#VALUE!"},0,0,0,{"$error":"#VALUE!"},0,0,0,{"$error":"#VALUE!"},0,0,0,{"$error":"#VALUE!"},0]
[null,67,0.22519450160276969,0,0,{"$error":"#VALUE!"},0,0,0,{"$error":"#VALUE!"},0,0,0,{"$error":"#VALUE!"},0,0,0,{"$error":"#VALUE!"},0]
[null,68,0.22023912137190188,0,0,{"$error":"#VALUE!"},0,0,0,{"$error":"#VALUE!"},0,0,0,{"$error":"#VALUE!"},0,0,0,{"$error":"#VALUE!"},0]
[null,69,0.21539278373780135,0,0,{"$error":"#VALUE!"},0,0,0,{"$error":"#VALUE!"},0,0,0,{"$error":"#VALUE!"},0,0,0,{"$error":"#VALUE!"},0]
[null,70,0.21065308923012357,0,0,{"$error":"#VALUE!"},0,0,0,{"$error":"#VALUE!"},0,0,0,{"$error":"#VALUE!"},0,0,0,{"$error":"#VALUE!"},0]
[null,71,0.20601769117860499,0,0,{"$error":"#VALUE!"},0,0,0,{"$error":"#VALUE!"},0,0,0,{"$error":"#VALUE!"},0,0,0,{"$error":"#VALUE!"},0]
[null,72,0.20148429455120295,0,0,{"$error":"#VALUE!"},0,0,0,{"$error":"#VALUE!"},0,0,0,{"$error":"#VALUE!"},0,0,0,{"$error":"#VALUE!"},0]
[null,73,0.19705065481780243,0,0,{"$error":"#VALUE!"},0,0,0,{"$error":"#VALUE!"},0,0,0,{"$error":"#VALUE!"},0,0,0,{"$error":"#VALUE!"},0]
[null,74,0.19271457683892659,0,0,{"$error":"#VALUE!"},0,0,0,{"$error":"#VALUE!"},0,0,0,{"$error":"#VALUE!"},0,0,0,{"$error":"#VALUE!"},0]
[null,75,0.18847391377890133,0,0,{"$error":"#VALUE!"},0,0,0,{"$error":"#VALUE!"},0,0,0,{"$error":"#VALUE!"},0,0,0,{"$error":"#VALUE!"},0]
[null,76,0.18432656604293529,0,0,{"$error":"#VALUE!"},0,0,0,{"$error":"#VALUE!"},0,0,0,{"$error":"#VALUE!"},0,0,0,{"$error":"#VALUE!"},0]
[null,77,0.18027048023758951,0,0,{"$error":"#VALUE!"},0,0,0,{"$error":"#VALUE!"},0,0,0,{"$error":"#VALUE!"},0,0,0,{"$error":"#VALUE!"},0]
[null,78,0.17630364815412175,0,0,{"$error":"#VALUE!"},0,0,0,{"$error":"#VALUE!"},0,0,0,{"$error":"#VALUE!"},0,0,0,{"$error":"#VALUE!"},0]
[null,79,0.17242410577420222,0,0,{"$error":"#VALUE!"},0,0,0,{"$error":"#VALUE!"},0,0,0,{"$error":"#VALUE!"},0,0,0,{"$error":"#VALUE!"},0]
[null,80,0.16862993229750833,0,0,{"$error":"#VALUE!"},0,0,0,{"$error":"#VALUE!"},0,0,0,{"$error":"#VALUE!"},0,0,0,{"$error":"#VALUE!"},0]
[null,81,0.16491924919071718,0,0,{"$error":"#VALUE!"},0,0,0,{"$error":"#VALUE!"},0,0,0,{"$error":"#VALUE!"},0,0,0,{"$error":"#VALUE!"},0]
[null,82,0.16129021925742518,0,0,{"$error":"#VALUE!"},0,0,0,{"$error":"#VALUE!"},0,0,0,{"$error":"#VALUE!"},0,0,0,{"$error":"#VALUE!"},0]
[null,83,0.15774104572853317,0,0,{"$error":"#VALUE!"},0,0,0,{"$error":"#VALUE!"},0,0,0,{"$error":"#VALUE!"},0,0,0,{"$error":"#VALUE!"},0]
[null,84,0.15426997137264856,0,0,{"$error":"#VALUE!"},0,0,0,{"$error":"#VALUE!"},0,0,0,{"$error":"#VALUE!"},0,0,0,{"$error":"#VALUE!"},0]
[null,85,0.15087527762606218,0,0,{"$error":"#VALUE!"},0,0,0,{"$error":"#VALUE!"},0,0,0,{"$error":"#VALUE!"},0,0,0,{"$error":"#VALUE!"},0]
[null,86,0.1475552837418701,0,0,{"$error":"#VALUE!"},0,0,0,{"$error":"#VALUE!"},0,0,0,{"$error":"#VALUE!"},0,0,0,{"$error":"#VALUE!"},0]
[null,87,0.14430834595781919,0,0,{"$error":"#VALUE!"},0,0,0,{"$error":"#VALUE!"},0,0,0,{"$error":"#VALUE!"},0,0,0,{"$error":"#VALUE!"},0]
[null,88,0.14113285668246378,0,0,{"$error":"#VALUE!"},0,0,0,{"$error":"#VALUE!"},0,0,0,{"$error":"#VALUE!"},0,0,0,{"$error":"#VALUE!"},0]
[null,89,0.13802724369923108,0,0,{"$error":"#VALUE!"},0,0,0,{"$error":"#VALUE!"},0,0,0,{"$error":"#VALUE!"},0,0,0,{"$error":"#VALUE!"},0]
[null,90,0.13498996938800106,0,0,{"$f":"$C240*I$93","v":{"$error":"#VALUE!"}},0,0,0,{"$error":"#VALUE!"},0,0,0,{"$error":"#VALUE!"},0,0,0,{"$error":"#VALUE!"},0]
[null,91,0.13201952996381525,0,0,{"$error":"#VALUE!"},0,0,0,{"$error":"#VALUE!"},0,0,0,{"$error":"#VALUE!"},0,0,0,{"$error":"#VALUE!"},0]
[null,92,0.12911445473233762,0,0,{"$error":"#VALUE!"},0,0,0,{"$error":"#VALUE!"},0,0,0,{"$error":"#VALUE!"},0,0,0,{"$error":"#VALUE!"},0]
[null,93,0.1262733053616994,0,{"$f":"$E$150*C243","v":0},{"$error":"#VALUE!"},0,0,0,{"$error":"#VALUE!"},0,0,0,{"$error":"#VALUE!"},0,0,0,{"$error":"#VALUE!"},0]
[null,94,0.12349467517036616,0,{"$f":"$E$150*C244","v":0},{"$error":"#VALUE!"},0,0,0,{"$error":"#VALUE!"},0,0,0,{"$error":"#VALUE!"},0,0,0,{"$error":"#VALUE!"},0]
[null,95,0.12077718843067596,0,0,{"$error":"#VALUE!"},0,0,0,{"$error":"#VALUE!"},0,0,0,{"$error":"#VALUE!"},0,0,0,{"$error":"#VALUE!"},0]
[null,96,{"$f":"1/(1+$C$254)^B246","v":0.11811949968770268},0,0,{"$error":"#VALUE!"},0,0,0,{"$error":"#VALUE!"},0,0,0,{"$error":"#VALUE!"},0,0,0,{"$error":"#VALUE!"},0]
[null,97,{"$f":"1/(1+$C$254)^B247","v":0.11552029309310777},0,0,{"$error":"#VALUE!"},0,{"$f":"IF($B247=H$147,F$80*$C247,IF($B247=I$147,F$80*$C247,IF($B247=J$147,F$80*$C247,IF($B247=H$148,F$81*$C247,IF($B247=I$148,F$81*$C247,IF($B247=J$148,F$81*$C247,0))))))","v":0},0,{"$error":"#VALUE!"},0,{"$f":"IF($B247=L$147,H$80*$C247,IF($B247=M$147,H$80*$C247,IF($B247=N$147,H$80*$C247,IF($B247=L$148,H$81*$C247,IF($B247=M$148,H$81*$C247,IF($B247=N$148,H$81*$C247,0))))))","v":0},0,{"$error":"#VALUE!"},0,{"$f":"IF($B247=P$147,J$80*$C247,IF($B247=Q$147,J$80*$C247,IF($B247=Q$147,J$80*$C247,IF($B247=P$148,J$81*$C247,IF($B247=Q$148,J$81*$C247,IF($B247=Q$148,J$81*$C247,0))))))","v":0},0,{"$error":"#VALUE!"},0]
[null,98,0.11297828175365064,0,0,{"$error":"#VALUE!"},0,0,0,{"$error":"#VALUE!"},0,0,0,{"$error":"#VALUE!"},0,0,0,{"$error":"#VALUE!"},0]
[null,99,0.11049220709403487,0,0,{"$error":"#VALUE!"},0,0,0,{"$error":"#VALUE!"},0,0,0,{"$error":"#VALUE!"},0,0,0,{"$error":"#VALUE!"},0]
[null,100,0.10806083823377494,0,0,{"$error":"#VALUE!"},0,0,0,{"$error":"#VALUE!"},0,0,0,{"$error":"#VALUE!"},0,0,0,{"$error":"#VALUE!"},0]
[null,"Totalen",{"$f":"SUM(C150:C250)","v":40.641740522943458},{"$f":"SUM(D150:D250)","v":0},{"$f":"SUM(E150:E250)","v":0},{"$f":"SUM(F150:F250)","v":{"$error":"#VALUE!"}},{"$f":"SUM(G150:G250)","v":0},0,0,{"$error":"#VALUE!"},{"$f":"SUM(K150:K250)","v":0},{"$f":"SUM(L150:L250)","v":0},{"$f":"SUM(M150:M250)","v":0},{"$f":"IFERROR(SUM(N150:N250),0)","v":0},{"$f":"IFERROR(SUM(O150:O250),0)","v":0},0,0,{"$f":"IFERROR(SUM(R150:R250),0)","v":0},{"$f":"IFERROR(SUM(S150:S250),0)","v":0}]
[null,null,null,"Totale kosten",{"$f":"D251+E251+F251","v":{"$error":"#VALUE!"}},null,null,"Totale kosten",{"$f":"ROUND(SUM(H150:J250),-3)","v":{"$error":"#VALUE!"}},null,null,"Totale kosten",{"$f":"IFERROR(ROUND(SUM(L150:N250),-3),0)","v":0},null,null,"Totale kosten",{"$f":"IFERROR(ROUND(SUM(P150:R250),-3),0)","v":0}]
[null,"Restwaarde",null,{"$f":"B253","v":"Restwaarde"},{"$f":"ROUND(((((D80-D81)*$C$250)/60)*20)+(((D81*$C$250)/30)*20),-2)","v":0},null,null,{"$f":"D253","v":"Restwaarde"},{"$f":"ROUND(((((F80-F81)*$C$250)/60)*20)+(((F81*$C$250)/30)*20),-2)","v":0},null,null,{"$f":"H253","v":"Restwaarde"},{"$f":"ROUND(((((H80-H81)*$C$250)/60)*20)+(((H81*$C$250)/30)*20),-2)","v":0},null,null,{"$f":"L253","v":"Restwaarde"},{"$f":"ROUND(((((J80-J81)*$C$250)/60)*20)+(((J81*$C$250)/30)*20),-2)","v":0}]
[null,"Discontovoet",2.2499999999999999E-2]
[null,"Discontofactor","1/(1-r)^t"]

{"sheet":"Neerslagberekeningen","index":5,"n_rows":869,"n_cols":49,"rows_kept":869,"cut":false,"hidden":false,"merged":[[0,2,0,6]]}
[null,null,"Auteurs: M.M. Rouvoet BBE (Versie 1) & ing. A.J. Bruijns (Versie 2) & Msc. N. van der Lee (versie 3)"]
[null,"Achtergrondberekeningen","Productiedatum:  versie 1, december 2016; Versie 2.9, november 2020, Versie 3.1, januari 2023",null,null,null,null,null,null,null,{"$f":"_4cm_stijging_waterstand","v":0.04}]
[]
[null,"Bepaling Schademoment"]
[null,"Variant 0","Variant 0","Herhalingstijd T= (jaar)","Water op straat [mm]","Herhalingstijd T= (jaar)","Berging op straat [mm]","Intersectie","X-waarde","Y-waarde","X-waarde","Variant 0"]
[null,null,"Schade grens 1",0,0,0,{"$f":"$M$6","v":0},null,{"$f":"Intersectcomplex(D6,E6,D7,E7,LINEA,TRUE)","v":{"$error":"#NAME?"}},{"$f":"Intersectcomplex(D6,E6,D7,E7,LINEA,FALSE)","v":{"$error":"#NAME?"}},{"$f":"IFERROR(I6,0)","v":0},"Berging op straat",{"$f":"Invoer!D10","v":0},"mm"]
[null,null,null,5,{"$f":"$J$335","v":{"$error":"#DIV/0!"}},5,0,null,{"$error":"#NAME?"},{"$error":"#NAME?"},0,"Overschreidingskans T=",{"$f":"IF(M6=0,0.1,IF(MAX(K6:K17)=0,10000,MAX(K6:K17)))","v":0.1},"jaar"]
[null,null,null,10,{"$f":"$AH$335","v":{"$error":"#DIV/0!"}},10,0,null,{"$f":"Intersectcomplex(D8,E8,D9,E9,LINEA,TRUE)","v":{"$error":"#NAME?"}},{"$error":"#NAME?"},0]
[null,null,null,20,{"$f":"$J$421","v":{"$error":"#DIV/0!"}},20,0,null,{"$error":"#NAME?"},{"$error":"#NAME?"},0]
[null,null,null,50,{"$f":"$AH$421","v":{"$error":"#DIV/0!"}},50,0,null,{"$error":"#NAME?"},{"$error":"#NAME?"},0]
[null,null,null,100,{"$f":"$J$507","v":{"$error":"#DIV/0!"}},100,0,null,{"$error":"#NAME?"},{"$error":"#NAME?"},0]
[null,null,null,200,{"$f":"$AH$507","v":{"$error":"#DIV/0!"}},200,0,null,{"$error":"#NAME?"},{"$error":"#NAME?"},0]
[null,null,null,250,{"$f":"$J$593","v":{"$error":"#DIV/0!"}},250,0,null,{"$error":"#NAME?"},{"$error":"#NAME?"},0]
[null,null,null,500,{"$f":"$AH$593","v":{"$error":"#DIV/0!"}},500,0,null,{"$error":"#NAME?"},{"$error":"#NAME?"},0]
[null,null,null,1000,{"$f":"$J$679","v":{"$error":"#DIV/0!"}},1000,0,null,{"$error":"#NAME?"},{"$error":"#NAME?"},0]
[null,null,null,2000,{"$f":"$AH$679","v":{"$error":"#DIV/0!"}},2000,0,null,{"$error":"#NAME?"},{"$error":"#NAME?"},0]
[null,null,null,4000,{"$f":"$J$765","v":{"$error":"#DIV/0!"}},4000,0,null,{"$error":"#NAME?"},{"$error":"#NAME?"},0]
[null,null,null,10000,{"$f":"$AH$765","v":{"$error":"#DIV/0!"}},10000,0]
[]
[]
[null,null,"Schadegrens 2","Herhalingstijd T= (jaar)","Water op straat [mm]","Herhalingstijd T= (jaar)","Berging op straat [mm]","Intersectie","X-waarde","Y-waarde","X-waarde"]
[null,null,null,0,0,0,{"$f":"$M$22","v":{"$error":"#DIV/0!"}},null,{"$f":"Intersectcomplex(D22,E22,D23,E23,LINEB,TRUE)","v":{"$error":"#NAME?"}},{"$f":"Intersectcomplex(D22,E22,D23,E23,LINEB,FALSE)","v":{"$error":"#NAME?"}},{"$f":"IFERROR(I22,0)","v":0},"Berging op straat",{"$f":"M6+((((Invoer!D19-Dakoppervlak)*_4cm_stijging_waterstand)/Invoer!D19)*1000)","v":{"$error":"#DIV/0!"}},"mm"]
[null,null,null,5,{"$f":"$J$335","v":{"$error":"#DIV/0!"}},5,{"$error":"#DIV/0!"},null,{"$error":"#NAME?"},{"$error":"#NAME?"},0,"Overschreidingskans T=",{"$f":"IF(MAX(K22:K33)=0,10000,MAX(K22:K33))","v":10000},"jaar"]
[null,null,null,10,{"$f":"$AH$335","v":{"$error":"#DIV/0!"}},10,{"$error":"#DIV/0!"},null,{"$error":"#NAME?"},{"$error":"#NAME?"},0]
[null,null,null,20,{"$f":"$J$421","v":{"$error":"#DIV/0!"}},20,{"$error":"#DIV/0!"},null,{"$error":"#NAME?"},{"$error":"#NAME?"},0]
[null,null,null,50,{"$f":"$AH$421","v":{"$error":"#DIV/0!"}},50,{"$error":"#DIV/0!"},null,{"$f":"Intersectcomplex(D26,E26,D27,E27,LINEB,TRUE)","v":{"$error":"#NAME?"}},{"$error":"#NAME?"},0]
[null,null,null,100,{"$f":"$J$507","v":{"$error":"#DIV/0!"}},100,{"$error":"#DIV/0!"},null,{"$error":"#NAME?"},{"$error":"#NAME?"},0]
[null,null,null,200,{"$f":"$AH$507","v":{"$error":"#DIV/0!"}},200,{"$error":"#DIV/0!"},null,{"$error":"#NAME?"},{"$error":"#NAME?"},0]
[null,null,null,250,{"$f":"$J$593","v":{"$error":"#DIV/0!"}},250,{"$error":"#DIV/0!"},null,{"$error":"#NAME?"},{"$error":"#NAME?"},0]
[null,null,null,500,{"$f":"$AH$593","v":{"$error":"#DIV/0!"}},500,{"$error":"#DIV/0!"},null,{"$error":"#NAME?"},{"$error":"#NAME?"},0]
[null,null,null,1000,{"$f":"$J$679","v":{"$error":"#DIV/0!"}},1000,{"$error":"#DIV/0!"},null,{"$error":"#NAME?"},{"$error":"#NAME?"},0]
[null,null,null,2000,{"$f":"$AH$679","v":{"$error":"#DIV/0!"}},2000,{"$error":"#DIV/0!"},null,{"$error":"#NAME?"},{"$error":"#NAME?"},0]
[null,null,null,4000,{"$f":"$J$765","v":{"$error":"#DIV/0!"}},4000,{"$error":"#DIV/0!"},null,{"$error":"#NAME?"},{"$error":"#NAME?"},0]
[null,null,null,10000,{"$f":"$AH$765","v":{"$error":"#DIV/0!"}},10000,{"$error":"#DIV/0!"}]
[]
[]
[null,null,"Schadegrens 3","Herhalingstijd T= (jaar)","Water op straat [mm]","Herhalingstijd T= (jaar)","Berging op straat [mm]","Intersectie","X-waarde","Y-waarde","X-waarde"]
[null,null,null,0,0,0,{"$f":"$M$38","v":{"$error":"#DIV/0!"}},null,{"$f":"Intersectcomplex(D38,E38,D39,E39,LINEC,TRUE)","v":{"$error":"#NAME?"}},{"$f":"Intersectcomplex(D38,E38,D39,E39,LINEC,FALSE)","v":{"$error":"#NAME?"}},{"$f":"IFERROR(I38,0)","v":0},"Berging op straat",{"$f":"M22+((((Invoer!D19-Dakoppervlak)*_4cm_stijging_waterstand)/Invoer!D19)*1000)","v":{"$error":"#DIV/0!"}},"mm"]
[null,null,null,5,{"$f":"$J$335","v":{"$error":"#DIV/0!"}},5,{"$f":"$M$38","v":{"$error":"#DIV/0!"}},null,{"$error":"#NAME?"},{"$error":"#NAME?"},0,"Overschreidingskans T=",{"$f":"IF(MAX(K38:K49)=0,10000,MAX(K38:K49))","v":10000},"jaar"]
[null,null,null,10,{"$f":"$AH$335","v":{"$error":"#DIV/0!"}},10,{"$error":"#DIV/0!"},null,{"$error":"#NAME?"},{"$error":"#NAME?"},0]
[null,null,null,20,{"$f":"$J$421","v":{"$error":"#DIV/0!"}},20,{"$error":"#DIV/0!"},null,{"$error":"#NAME?"},{"$error":"#NAME?"},0]
[null,null,null,50,{"$f":"$AH$421","v":{"$error":"#DIV/0!"}},50,{"$error":"#DIV/0!"},null,{"$error":"#NAME?"},{"$error":"#NAME?"},0]
[null,null,null,100,{"$f":"$J$507","v":{"$error":"#DIV/0!"}},100,{"$error":"#DIV/0!"},null,{"$error":"#NAME?"},{"$error":"#NAME?"},0]
[null,null,null,200,{"$f":"$AH$507","v":{"$error":"#DIV/0!"}},200,{"$error":"#DIV/0!"},null,{"$error":"#NAME?"},{"$error":"#NAME?"},0]
[null,null,null,250,{"$f":"$J$593","v":{"$error":"#DIV/0!"}},250,{"$error":"#DIV/0!"},null,{"$error":"#NAME?"},{"$error":"#NAME?"},0]
[null,null,null,500,{"$f":"$AH$593","v":{"$error":"#DIV/0!"}},500,{"$error":"#DIV/0!"},null,{"$error":"#NAME?"},{"$error":"#NAME?"},0]
[null,null,null,1000,{"$f":"$J$679","v":{"$error":"#DIV/0!"}},1000,{"$error":"#DIV/0!"},null,{"$error":"#NAME?"},{"$error":"#NAME?"},0]
[null,null,null,2000,{"$f":"$AH$679","v":{"$error":"#DIV/0!"}},2000,{"$error":"#DIV/0!"},null,{"$error":"#NAME?"},{"$error":"#NAME?"},0]
[null,null,null,4000,{"$f":"$J$765","v":{"$error":"#DIV/0!"}},4000,{"$error":"#DIV/0!"},null,{"$error":"#NAME?"},{"$error":"#NAME?"},0]
[null,null,null,10000,{"$f":"$AH$765","v":{"$error":"#DIV/0!"}},10000,{"$error":"#DIV/0!"}]
[]
[null,"Variant 1","Variant 1","Herhalingstijd T= (jaar)","Water op straat [mm]","Herhalingstijd T= (jaar)","Berging op straat [mm]","Intersectie","X-waarde","Y-waarde","X-waarde","Variant 1"]
[null,null,"Schadegrens 1",0,0,0,{"$f":"$M$53","v":0},null,{"$f":"Intersectcomplex(D53,E53,D54,E54,LINED,TRUE)","v":{"$error":"#NAME?"}},{"$f":"Intersectcomplex(D53,E53,D54,E54,LINED,FALSE)","v":{"$error":"#NAME?"}},{"$f":"IFERROR(I53,0)","v":0},"Berging op straat",{"$f":"Invoer!E10","v":0},"mm"]
[null,null,null,5,{"$f":"$O$335","v":{"$error":"#DIV/0!"}},5,0,null,{"$error":"#NAME?"},{"$error":"#NAME?"},0,"Overschreidingskans T=",{"$f":"IF(M53=0,0.1,IF(MAX(K53:K64)=0,10000,MAX(K53:K64)))","v":0.1},"jaar"]
[null,null,null,10,{"$f":"$AM$335","v":{"$error":"#DIV/0!"}},10,0,null,{"$error":"#NAME?"},{"$error":"#NAME?"},0]
[null,null,null,20,{"$f":"$O$421","v":{"$error":"#DIV/0!"}},20,0,null,{"$error":"#NAME?"},{"$error":"#NAME?"},0]
[null,null,null,50,{"$f":"$AM$421","v":{"$error":"#DIV/0!"}},50,0,null,{"$error":"#NAME?"},{"$error":"#NAME?"},0]
[null,null,null,100,{"$f":"$O$507","v":{"$error":"#DIV/0!"}},100,0,null,{"$error":"#NAME?"},{"$error":"#NAME?"},0]
[null,null,null,200,{"$f":"$AM$507","v":{"$error":"#DIV/0!"}},200,0,null,{"$error":"#NAME?"},{"$error":"#NAME?"},0]
[null,null,null,250,{"$f":"$O$593","v":{"$error":"#DIV/0!"}},250,0,null,{"$error":"#NAME?"},{"$error":"#NAME?"},0]
[null,null,null,500,{"$f":"$AM$593","v":{"$error":"#DIV/0!"}},500,0,null,{"$error":"#NAME?"},{"$error":"#NAME?"},0]
[null,null,null,1000,{"$f":"$O$679","v":{"$error":"#DIV/0!"}},1000,0,null,{"$error":"#NAME?"},{"$error":"#NAME?"},0]
[null,null,null,2000,{"$f":"$AM$679","v":{"$error":"#DIV/0!"}},2000,0,null,{"$error":"#NAME?"},{"$error":"#NAME?"},0]
[null,null,null,4000,{"$f":"$O$765","v":{"$error":"#DIV/0!"}},4000,0,null,{"$error":"#NAME?"},{"$error":"#NAME?"},0]
[null,null,null,10000,{"$f":"$AM$765","v":{"$error":"#DIV/0!"}},10000,0]
[]
[]
[null,null,"Schadegrens 2","Herhalingstijd T= (jaar)","Water op straat [mm]","Herhalingstijd T= (jaar)","Berging op straat [mm]","Intersectie","X-waarde","Y-waarde","X-waarde"]
[null,null,null,0,0,0,{"$f":"$M$69","v":{"$error":"#DIV/0!"}},null,{"$f":"Intersectcomplex(D69,E69,D70,E70,LINEE,TRUE)","v":{"$error":"#NAME?"}},{"$f":"Intersectcomplex(D69,E69,D70,E70,LINEE,FALSE)","v":{"$error":"#NAME?"}},{"$f":"IFERROR(I69,0)","v":0},"Berging op straat",{"$f":"M53+((((Invoer!E19-Dakoppervlak)*_4cm_stijging_waterstand)/Invoer!E19)*1000)","v":{"$error":"#DIV/0!"}},"mm"]
[null,null,null,5,{"$f":"$O$335","v":{"$error":"#DIV/0!"}},5,{"$error":"#DIV/0!"},null,{"$error":"#NAME?"},{"$error":"#NAME?"},0,"Overschreidingskans T=",{"$f":"IF(MAX(K69:K80)=0,10000,MAX(K69:K80))","v":10000},"jaar"]
[null,null,null,10,{"$f":"$AM$335","v":{"$error":"#DIV/0!"}},10,{"$error":"#DIV/0!"},null,{"$error":"#NAME?"},{"$error":"#NAME?"},0]
[null,null,null,20,{"$f":"$O$421","v":{"$error":"#DIV/0!"}},20,{"$error":"#DIV/0!"},null,{"$error":"#NAME?"},{"$error":"#NAME?"},0]
[null,null,null,50,{"$f":"$AM$421","v":{"$error":"#DIV/0!"}},50,{"$error":"#DIV/0!"},null,{"$error":"#NAME?"},{"$error":"#NAME?"},0]
[null,null,null,100,{"$f":"$O$507","v":{"$error":"#DIV/0!"}},100,{"$error":"#DIV/0!"},null,{"$error":"#NAME?"},{"$error":"#NAME?"},0]
[null,null,null,200,{"$f":"$AM$507","v":{"$error":"#DIV/0!"}},200,{"$error":"#DIV/0!"},null,{"$error":"#NAME?"},{"$error":"#NAME?"},0]
[null,null,null,250,{"$f":"$O$593","v":{"$error":"#DIV/0!"}},250,{"$error":"#DIV/0!"},null,{"$error":"#NAME?"},{"$error":"#NAME?"},0]
[null,null,null,500,{"$f":"$AM$593","v":{"$error":"#DIV/0!"}},500,{"$error":"#DIV/0!"},null,{"$error":"#NAME?"},{"$error":"#NAME?"},0]
[null,null,null,1000,{"$f":"$O$679","v":{"$error":"#DIV/0!"}},1000,{"$error":"#DIV/0!"},null,{"$error":"#NAME?"},{"$error":"#NAME?"},0]
[null,null,null,2000,{"$f":"$AM$679","v":{"$error":"#DIV/0!"}},2000,{"$error":"#DIV/0!"},null,{"$error":"#NAME?"},{"$error":"#NAME?"},0]
[null,null,null,4000,{"$f":"$O$765","v":{"$error":"#DIV/0!"}},4000,{"$error":"#DIV/0!"},null,{"$error":"#NAME?"},{"$error":"#NAME?"},0]
[null,null,null,10000,{"$f":"$AM$765","v":{"$error":"#DIV/0!"}},10000,{"$error":"#DIV/0!"}]
[]
[]
[null,null,"Schadegrens 3","Herhalingstijd T= (jaar)","Water op straat [mm]","Herhalingstijd T= (jaar)","Berging op straat [mm]","Intersectie","X-waarde","Y-waarde","X-waarde"]
[null,null,null,0,0,0,{"$f":"$M$85","v":{"$error":"#DIV/0!"}},null,{"$f":"Intersectcomplex(D85,E85,D86,E86,LINEF,TRUE)","v":{"$error":"#NAME?"}},{"$f":"Intersectcomplex(D85,E85,D86,E86,LINEF,FALSE)","v":{"$error":"#NAME?"}},{"$f":"IFERROR(I85,0)","v":0},"Berging op straat",{"$f":"M69+((((Invoer!E19-Dakoppervlak)*_4cm_stijging_waterstand)/Invoer!E19)*1000)","v":{"$error":"#DIV/0!"}},"mm"]
[null,null,null,5,{"$f":"$O$335","v":{"$error":"#DIV/0!"}},5,{"$error":"#DIV/0!"},null,{"$error":"#NAME?"},{"$error":"#NAME?"},0,"Overschreidingskans T=",{"$f":"IF(MAX(K85:K96)=0,10000,MAX(K85:K96))","v":10000},"jaar"]
[null,null,null,10,{"$f":"$AM$335","v":{"$error":"#DIV/0!"}},10,{"$error":"#DIV/0!"},null,{"$error":"#NAME?"},{"$error":"#NAME?"},0]
[null,null,null,20,{"$f":"$O$421","v":{"$error":"#DIV/0!"}},20,{"$error":"#DIV/0!"},null,{"$error":"#NAME?"},{"$error":"#NAME?"},0]
[null,null,null,50,{"$f":"$AM$421","v":{"$error":"#DIV/0!"}},50,{"$error":"#DIV/0!"},null,{"$error":"#NAME?"},{"$error":"#NAME?"},0]
[null,null,null,100,{"$f":"$O$507","v":{"$error":"#DIV/0!"}},100,{"$error":"#DIV/0!"},null,{"$error":"#NAME?"},{"$error":"#NAME?"},0]
[null,null,null,200,{"$f":"$AM$507","v":{"$error":"#DIV/0!"}},200,{"$error":"#DIV/0!"},null,{"$error":"#NAME?"},{"$error":"#NAME?"},0]
[null,null,null,250,{"$f":"$O$593","v":{"$error":"#DIV/0!"}},250,{"$error":"#DIV/0!"},null,{"$error":"#NAME?"},{"$error":"#NAME?"},0]
[null,null,null,500,{"$f":"$AM$593","v":{"$error":"#DIV/0!"}},500,{"$error":"#DIV/0!"},null,{"$error":"#NAME?"},{"$error":"#NAME?"},0]
[null,null,null,1000,{"$f":"$O$679","v":{"$error":"#DIV/0!"}},1000,{"$error":"#DIV/0!"},null,{"$error":"#NAME?"},{"$error":"#NAME?"},0]
[null,null,null,2000,{"$f":"$AM$679","v":{"$error":"#DIV/0!"}},2000,{"$error":"#DIV/0!"},null,{"$error":"#NAME?"},{"$error":"#NAME?"},0]
[null,null,null,4000,{"$f":"$O$765","v":{"$error":"#DIV/0!"}},4000,{"$error":"#DIV/0!"},null,{"$error":"#NAME?"},{"$error":"#NAME?"},0]
[null,null,null,10000,{"$f":"$AM$765","v":{"$error":"#DIV/0!"}},10000,{"$error":"#DIV/0!"}]
[]
[null,"Variant 2","Variant 2","Herhalingstijd T= (jaar)","Water op straat [mm]","Herhalingstijd T= (jaar)","Berging op straat [mm]","Intersectie","X-waarde","Y-waarde","X-waarde","Variant 2"]
[null,null,"Schadegrens 1",0,0,0,{"$f":"$M$100","v":0},null,{"$f":"Intersectcomplex(D100,E100,D101,E101,LINEG,TRUE)","v":{"$error":"#NAME?"}},{"$f":"Intersectcomplex(D100,E100,D101,E101,LINEG,FALSE)","v":{"$error":"#NAME?"}},{"$f":"IFERROR(I100,0)","v":0},"Berging op straat",{"$f":"Invoer!F10","v":0},"mm"]
[null,null,null,5,{"$f":"$T$335","v":{"$error":"#DIV/0!"}},5,0,null,{"$error":"#NAME?"},{"$error":"#NAME?"},0,"Overschreidingskans T=",{"$f":"IF(M100=0,0.1,IF(MAX(K100:K111)=0,10000,MAX(K100:K111)))","v":0.1},"jaar"]
[null,null,null,10,{"$f":"$AR$335","v":{"$error":"#DIV/0!"}},10,0,null,{"$error":"#NAME?"},{"$error":"#NAME?"},0]
[null,null,null,20,{"$f":"$T$421","v":{"$error":"#DIV/0!"}},20,0,null,{"$error":"#NAME?"},{"$error":"#NAME?"},0]
[null,null,null,50,{"$f":"$AR$421","v":{"$error":"#DIV/0!"}},50,0,null,{"$f":"Intersectcomplex(D104,E104,D105,E105,LINEG,TRUE)","v":{"$error":"#NAME?"}},{"$error":"#NAME?"},0]
[null,null,null,100,{"$f":"$T$507","v":{"$error":"#DIV/0!"}},100,0,null,{"$f":"Intersectcomplex(D105,E105,D106,E106,LINEG,TRUE)","v":{"$error":"#NAME?"}},{"$error":"#NAME?"},0]
[null,null,null,200,{"$f":"$AR$507","v":{"$error":"#DIV/0!"}},200,0,null,{"$error":"#NAME?"},{"$error":"#NAME?"},0]
[null,null,null,250,{"$f":"$T$593","v":{"$error":"#DIV/0!"}},250,0,null,{"$error":"#NAME?"},{"$error":"#NAME?"},0]
[null,null,null,500,{"$f":"$AR$593","v":{"$error":"#DIV/0!"}},500,0,null,{"$error":"#NAME?"},{"$error":"#NAME?"},0]
[null,null,null,1000,{"$f":"$T$679","v":{"$error":"#DIV/0!"}},1000,0,null,{"$error":"#NAME?"},{"$error":"#NAME?"},0]
[null,null,null,2000,{"$f":"$AR$679","v":{"$error":"#DIV/0!"}},2000,0,null,{"$error":"#NAME?"},{"$error":"#NAME?"},0]
[null,null,null,4000,{"$f":"$T$765","v":{"$error":"#DIV/0!"}},4000,0,null,{"$error":"#NAME?"},{"$error":"#NAME?"},0]
[null,null,null,10000,{"$f":"$AR$765","v":{"$error":"#DIV/0!"}},10000,0]
[]
[]
[null,null,"Schadegrens 2","Herhalingstijd T= (jaar)","Water op straat [mm]","Herhalingstijd T= (jaar)","Berging op straat [mm]","Intersectie","X-waarde","Y-waarde","X-waarde"]
[null,null,null,0,0,0,{"$f":"$M$116","v":{"$error":"#DIV/0!"}},null,{"$f":"Intersectcomplex(D116,E116,D117,E117,LINEH,TRUE)","v":{"$error":"#NAME?"}},{"$f":"Intersectcomplex(D116,E116,D117,E117,LINEH,FALSE)","v":{"$error":"#NAME?"}},{"$f":"IFERROR(I116,0)","v":0},"Berging op straat",{"$f":"M100+((((Invoer!F19-Dakoppervlak)*_4cm_stijging_waterstand)/Invoer!F19)*1000)","v":{"$error":"#DIV/0!"}},"mm"]
[null,null,null,5,{"$f":"$T$335","v":{"$error":"#DIV/0!"}},5,{"$error":"#DIV/0!"},null,{"$error":"#NAME?"},{"$error":"#NAME?"},0,"Overschreidingskans T=",{"$f":"IF(MAX(K116:K127)=0,10000,MAX(K116:K127))","v":10000},"jaar"]
[null,null,null,10,{"$f":"$AR$335","v":{"$error":"#DIV/0!"}},10,{"$error":"#DIV/0!"},null,{"$error":"#NAME?"},{"$error":"#NAME?"},0]
[null,null,null,20,{"$f":"$T$421","v":{"$error":"#DIV/0!"}},20,{"$error":"#DIV/0!"},null,{"$error":"#NAME?"},{"$error":"#NAME?"},0]
[null,null,null,50,{"$f":"$AR$421","v":{"$error":"#DIV/0!"}},50,{"$error":"#DIV/0!"},null,{"$error":"#NAME?"},{"$error":"#NAME?"},0]
[null,null,null,100,{"$f":"$T$507","v":{"$error":"#DIV/0!"}},100,{"$error":"#DIV/0!"},null,{"$error":"#NAME?"},{"$error":"#NAME?"},0]
[null,null,null,200,{"$f":"$AR$507","v":{"$error":"#DIV/0!"}},200,{"$error":"#DIV/0!"},null,{"$error":"#NAME?"},{"$error":"#NAME?"},0]
[null,null,null,250,{"$f":"$T$593","v":{"$error":"#DIV/0!"}},250,{"$error":"#DIV/0!"},null,{"$error":"#NAME?"},{"$error":"#NAME?"},0]
[null,null,null,500,{"$f":"$AR$593","v":{"$error":"#DIV/0!"}},500,{"$error":"#DIV/0!"},null,{"$error":"#NAME?"},{"$error":"#NAME?"},0]
[null,null,null,1000,{"$f":"$T$679","v":{"$error":"#DIV/0!"}},1000,{"$error":"#DIV/0!"},null,{"$error":"#NAME?"},{"$error":"#NAME?"},0]
[null,null,null,2000,{"$f":"$AR$679","v":{"$error":"#DIV/0!"}},2000,{"$error":"#DIV/0!"},null,{"$error":"#NAME?"},{"$error":"#NAME?"},0]
[null,null,null,4000,{"$f":"$T$765","v":{"$error":"#DIV/0!"}},4000,{"$error":"#DIV/0!"},null,{"$error":"#NAME?"},{"$error":"#NAME?"},0]
[null,null,null,10000,{"$f":"$AR$765","v":{"$error":"#DIV/0!"}},10000,{"$error":"#DIV/0!"}]
[]
[]
[null,null,"Schadegrens 3","Herhalingstijd T= (jaar)","Water op straat [mm]","Herhalingstijd T= (jaar)","Berging op straat [mm]","Intersectie","X-waarde","Y-waarde","X-waarde"]
[null,null,null,0,0,0,{"$f":"$M$132","v":{"$error":"#DIV/0!"}},null,{"$f":"Intersectcomplex(D132,E132,D133,E133,LINEI,TRUE)","v":{"$error":"#NAME?"}},{"$f":"Intersectcomplex(D132,E132,D133,E133,LINEI,FALSE)","v":{"$error":"#NAME?"}},{"$f":"IFERROR(I132,0)","v":0},"Berging op straat",{"$f":"M116+((((Invoer!F19-Dakoppervlak)*_4cm_stijging_waterstand)/Invoer!F19)*1000)","v":{"$error":"#DIV/0!"}},"mm"]
[null,null,null,5,{"$f":"$T$335","v":{"$error":"#DIV/0!"}},5,{"$error":"#DIV/0!"},null,{"$error":"#NAME?"},{"$error":"#NAME?"},0,"Overschreidingskans T=",{"$f":"IF(MAX(K132:K143)=0,10000,MAX(K132:K143))","v":10000},"jaar"]
[null,null,null,10,{"$f":"$AR$335","v":{"$error":"#DIV/0!"}},10,{"$error":"#DIV/0!"},null,{"$error":"#NAME?"},{"$error":"#NAME?"},0]
[null,null,null,20,{"$f":"$T$421","v":{"$error":"#DIV/0!"}},20,{"$error":"#DIV/0!"},null,{"$error":"#NAME?"},{"$error":"#NAME?"},0]
[null,null,null,50,{"$f":"$AR$421","v":{"$error":"#DIV/0!"}},50,{"$error":"#DIV/0!"},null,{"$error":"#NAME?"},{"$error":"#NAME?"},0]
[null,null,null,100,{"$f":"$T$507","v":{"$error":"#DIV/0!"}},100,{"$error":"#DIV/0!"},null,{"$error":"#NAME?"},{"$error":"#NAME?"},0]
[null,null,null,200,{"$f":"$AR$507","v":{"$error":"#DIV/0!"}},200,{"$error":"#DIV/0!"},null,{"$error":"#NAME?"},{"$error":"#NAME?"},0]
[null,null,null,250,{"$f":"$T$593","v":{"$error":"#DIV/0!"}},250,{"$error":"#DIV/0!"},null,{"$error":"#NAME?"},{"$error":"#NAME?"},0]
[null,null,null,500,{"$f":"$AR$593","v":{"$error":"#DIV/0!"}},500,{"$error":"#DIV/0!"},null,{"$error":"#NAME?"},{"$error":"#NAME?"},0]
[null,null,null,1000,{"$f":"$T$679","v":{"$error":"#DIV/0!"}},1000,{"$error":"#DIV/0!"},null,{"$error":"#NAME?"},{"$error":"#NAME?"},0]
[null,null,null,2000,{"$f":"$AR$679","v":{"$error":"#DIV/0!"}},2000,{"$error":"#DIV/0!"},null,{"$error":"#NAME?"},{"$error":"#NAME?"},0]
[null,null,null,4000,{"$f":"$T$765","v":{"$error":"#DIV/0!"}},4000,{"$error":"#DIV/0!"},null,{"$error":"#NAME?"},{"$error":"#NAME?"},0]
[null,null,null,10000,{"$f":"$AR$765","v":{"$error":"#DIV/0!"}},10000,{"$error":"#DIV/0!"}]
[]
[null,"Variant 3","Variant 3","Herhalingstijd T= (jaar)","Water op straat [mm]","Herhalingstijd T= (jaar)","Berging op straat [mm]","Intersectie","X-waarde","Y-waarde","X-waarde","Variant 3"]
[null,null,"Schadegrens 1",0,0,0,{"$f":"$M$147","v":0},null,{"$f":"Intersectcomplex(D147,E147,D148,E148,LINEJ,TRUE)","v":{"$error":"#NAME?"}},{"$f":"Intersectcomplex(D147,E147,D148,E148,LINEJ,FALSE)","v":{"$error":"#NAME?"}},{"$f":"IFERROR(I147,0)","v":0},"Berging op straat",{"$f":"Invoer!G10","v":0},"mm"]
[null,null,null,5,{"$f":"$Y$335","v":{"$error":"#DIV/0!"}},5,0,null,{"$f":"Intersectcomplex(D148,E148,D149,E149,LINEJ,TRUE)","v":{"$error":"#NAME?"}},{"$error":"#NAME?"},0,"Overschreidingskans T=",{"$f":"IF(M147=0,0.1,IF(MAX(K147:K158)=0,10000,MAX(K147:K158)))","v":0.1},"jaar"]
[null,null,null,10,{"$f":"$AW$335","v":{"$error":"#DIV/0!"}},10,0,null,{"$error":"#NAME?"},{"$error":"#NAME?"},0]
[null,null,null,20,{"$f":"$Y$421","v":{"$error":"#DIV/0!"}},20,0,null,{"$error":"#NAME?"},{"$error":"#NAME?"},0]
[null,null,null,50,{"$f":"$AW$421","v":{"$error":"#DIV/0!"}},50,0,null,{"$error":"#NAME?"},{"$error":"#NAME?"},0]
[null,null,null,100,{"$f":"$Y$507","v":{"$error":"#DIV/0!"}},100,0,null,{"$error":"#NAME?"},{"$error":"#NAME?"},0]
[null,null,null,200,{"$f":"$AW$507","v":{"$error":"#DIV/0!"}},200,0,null,{"$error":"#NAME?"},{"$error":"#NAME?"},0]
[null,null,null,250,{"$f":"$Y$593","v":{"$error":"#DIV/0!"}},250,0,null,{"$error":"#NAME?"},{"$error":"#NAME?"},0]
[null,null,null,500,{"$f":"$AW$593","v":{"$error":"#DIV/0!"}},500,0,null,{"$error":"#NAME?"},{"$error":"#NAME?"},0]
[null,null,null,1000,{"$f":"$Y$679","v":{"$error":"#DIV/0!"}},1000,0,null,{"$error":"#NAME?"},{"$error":"#NAME?"},0]
[null,null,null,2000,{"$f":"$AW$679","v":{"$error":"#DIV/0!"}},2000,0,null,{"$error":"#NAME?"},{"$error":"#NAME?"},0]
[null,null,null,4000,{"$f":"$Y$765","v":{"$error":"#DIV/0!"}},4000,0,null,{"$error":"#NAME?"},{"$error":"#NAME?"},0]
[null,null,null,10000,{"$f":"$AW$765","v":{"$error":"#DIV/0!"}},10000,0]
[]
[]
[null,null,"Schadegrens 2","Herhalingstijd T= (jaar)","Water op straat [mm]","Herhalingstijd T= (jaar)","Berging op straat [mm]","Intersectie","X-waarde","Y-waarde","X-waarde"]
[null,null,null,0,0,0,{"$f":"$M$163","v":{"$error":"#DIV/0!"}},null,{"$f":"Intersectcomplex(D163,E163,D164,E164,LINEK,TRUE)","v":{"$error":"#NAME?"}},{"$f":"Intersectcomplex(D163,E163,D164,E164,LINEK,FALSE)","v":{"$error":"#NAME?"}},{"$f":"IFERROR(I163,0)","v":0},"Berging op straat",{"$f":"M147+((((Invoer!G19-Dakoppervlak)*_4cm_stijging_waterstand)/Invoer!G19)*1000)","v":{"$error":"#DIV/0!"}},"mm"]
[null,null,null,5,{"$f":"$Y$335","v":{"$error":"#DIV/0!"}},5,{"$error":"#DIV/0!"},null,{"$error":"#NAME?"},{"$error":"#NAME?"},0,"Overschreidingskans T=",{"$f":"IF(MAX(K163:K174)=0,10000,MAX(K163:K174))","v":10000},"jaar"]
[null,null,null,10,{"$f":"$AW$335","v":{"$error":"#DIV/0!"}},10,{"$error":"#DIV/0!"},null,{"$error":"#NAME?"},{"$error":"#NAME?"},0]
[null,null,null,20,{"$f":"$Y$421","v":{"$error":"#DIV/0!"}},20,{"$error":"#DIV/0!"},null,{"$error":"#NAME?"},{"$error":"#NAME?"},0]
[null,null,null,50,{"$f":"$AW$421","v":{"$error":"#DIV/0!"}},50,{"$error":"#DIV/0!"},null,{"$error":"#NAME?"},{"$error":"#NAME?"},0]
[null,null,null,100,{"$f":"$Y$507","v":{"$error":"#DIV/0!"}},100,{"$error":"#DIV/0!"},null,{"$error":"#NAME?"},{"$error":"#NAME?"},0]
[null,null,null,200,{"$f":"$AW$507","v":{"$error":"#DIV/0!"}},200,{"$error":"#DIV/0!"},null,{"$error":"#NAME?"},{"$error":"#NAME?"},0]
[null,null,null,250,{"$f":"$Y$593","v":{"$error":"#DIV/0!"}},250,{"$error":"#DIV/0!"},null,{"$error":"#NAME?"},{"$error":"#NAME?"},0]
[null,null,null,500,{"$f":"$AW$593","v":{"$error":"#DIV/0!"}},500,{"$error":"#DIV/0!"},null,{"$error":"#NAME?"},{"$error":"#NAME?"},0]
[null,null,null,1000,{"$f":"$Y$679","v":{"$error":"#DIV/0!"}},1000,{"$error":"#DIV/0!"},null,{"$error":"#NAME?"},{"$error":"#NAME?"},0]
[null,null,null,2000,{"$f":"$AW$679","v":{"$error":"#DIV/0!"}},2000,{"$error":"#DIV/0!"},null,{"$error":"#NAME?"},{"$error":"#NAME?"},0]
[null,null,null,4000,{"$f":"$Y$765","v":{"$error":"#DIV/0!"}},4000,{"$error":"#DIV/0!"},null,{"$error":"#NAME?"},{"$error":"#NAME?"},0]
[null,null,null,10000,{"$f":"$AW$765","v":{"$error":"#DIV/0!"}},10000,{"$error":"#DIV/0!"}]
[]
[]
[null,null,"Schadegrens 3","Herhalingstijd T= (jaar)","Water op straat [mm]","Herhalingstijd T= (jaar)","Berging op straat [mm]","Intersectie","X-waarde","Y-waarde","X-waarde"]
[null,null,null,0,0,0,{"$f":"$M$179","v":{"$error":"#DIV/0!"}},null,{"$f":"Intersectcomplex(D179,E179,D180,E180,LINEL,TRUE)","v":{"$error":"#NAME?"}},{"$f":"Intersectcomplex(D179,E179,D180,E180,LINEL,FALSE)","v":{"$error":"#NAME?"}},{"$f":"IFERROR(I179,0)","v":0},"Berging op straat",{"$f":"M163+((((Invoer!G19-Dakoppervlak)*_4cm_stijging_waterstand)/Invoer!G19)*1000)","v":{"$error":"#DIV/0!"}},"mm"]
[null,null,null,5,{"$f":"$Y$335","v":{"$error":"#DIV/0!"}},5,{"$error":"#DIV/0!"},null,{"$error":"#NAME?"},{"$error":"#NAME?"},0,"Overschreidingskans T=",{"$f":"IF(MAX(K179:K190)=0,10000,MAX(K179:K190))","v":10000},"jaar"]
[null,null,null,10,{"$f":"$AW$335","v":{"$error":"#DIV/0!"}},10,{"$error":"#DIV/0!"},null,{"$error":"#NAME?"},{"$error":"#NAME?"},0]
[null,null,null,20,{"$f":"$Y$421","v":{"$error":"#DIV/0!"}},20,{"$error":"#DIV/0!"},null,{"$error":"#NAME?"},{"$error":"#NAME?"},0]
[null,null,null,50,{"$f":"$AW$421","v":{"$error":"#DIV/0!"}},50,{"$error":"#DIV/0!"},null,{"$error":"#NAME?"},{"$error":"#NAME?"},0]
[null,null,null,100,{"$f":"$Y$507","v":{"$error":"#DIV/0!"}},100,{"$error":"#DIV/0!"},null,{"$error":"#NAME?"},{"$error":"#NAME?"},0]
[null,null,null,200,{"$f":"$AW$507","v":{"$error":"#DIV/0!"}},200,{"$error":"#DIV/0!"},null,{"$error":"#NAME?"},{"$error":"#NAME?"},0]
[null,null,null,250,{"$f":"$Y$593","v":{"$error":"#DIV/0!"}},250,{"$error":"#DIV/0!"},null,{"$error":"#NAME?"},{"$error":"#NAME?"},0]
[null,null,null,500,{"$f":"$AW$593","v":{"$error":"#DIV/0!"}},500,{"$error":"#DIV/0!"},null,{"$error":"#NAME?"},{"$error":"#NAME?"},0]
[null,null,null,1000,{"$f":"$Y$679","v":{"$error":"#DIV/0!"}},1000,{"$error":"#DIV/0!"},null,{"$error":"#NAME?"},{"$error":"#NAME?"},0]
[null,null,null,2000,{"$f":"$AW$679","v":{"$error":"#DIV/0!"}},2000,{"$error":"#DIV/0!"},null,{"$error":"#NAME?"},{"$error":"#NAME?"},0]
[null,null,null,4000,{"$f":"$Y$765","v":{"$error":"#DIV/0!"}},4000,{"$error":"#DIV/0!"},null,{"$error":"#NAME?"},{"$error":"#NAME?"},0]
[null,null,null,10000,{"$f":"$AW$765","v":{"$error":"#DIV/0!"}},10000,{"$error":"#DIV/0!"}]
[]
[]
[null,"Toename eerst volgende kwartier na uursom",null,null,null,null,"Intersectie"]
[null,"Variant 0","Af / toename (mm)","Herhalingstijd T= (jaar)","Af / toename (mm)","Herhalingstijd T= (jaar)","X-waarde","Y-waarde","X-waarde"]
[null,null,0,0,{"$f":"C196","v":0},{"$f":"$M$7","v":0.1},{"$f":"Intersectcomplex(C196,D196,C197,D197,LINEP,TRUE)","v":{"$error":"#NAME?"}},{"$f":"Intersectcomplex(C196,D196,C197,D197,LINEP,FALSE)","v":{"$error":"#NAME?"}},{"$f":"IFERROR(G196,0)","v":0}]
[null,null,{"$f":"$J$339","v":{"$error":"#DIV/0!"}},5,{"$error":"#DIV/0!"},0.1,{"$error":"#NAME?"},{"$error":"#NAME?"},{"$f":"IFERROR(G197,0)","v":0}]
[null,null,{"$f":"$AH$339","v":{"$error":"#DIV/0!"}},10,{"$error":"#DIV/0!"},0.1,{"$error":"#NAME?"},{"$error":"#NAME?"},0]
[null,null,{"$f":"$J$425","v":{"$error":"#DIV/0!"}},20,{"$error":"#DIV/0!"},0.1,{"$error":"#NAME?"},{"$error":"#NAME?"},0]
[null,null,{"$f":"$AH$425","v":{"$error":"#DIV/0!"}},50,{"$error":"#DIV/0!"},0.1,{"$error":"#NAME?"},{"$error":"#NAME?"},0]
[null,null,{"$f":"$J$511","v":{"$error":"#DIV/0!"}},100,{"$error":"#DIV/0!"},0.1,{"$error":"#NAME?"},{"$error":"#NAME?"},0]
[null,null,{"$f":"$AH$511","v":{"$error":"#DIV/0!"}},200,{"$error":"#DIV/0!"},0.1,{"$error":"#NAME?"},{"$error":"#NAME?"},0]
[null,null,{"$f":"$J$597","v":{"$error":"#DIV/0!"}},250,{"$error":"#DIV/0!"},0.1,{"$error":"#NAME?"},{"$error":"#NAME?"},0]
[null,null,{"$f":"$AH$597","v":{"$error":"#DIV/0!"}},500,{"$error":"#DIV/0!"},0.1,{"$error":"#NAME?"},{"$error":"#NAME?"},0]
[null,null,{"$f":"$J$683","v":{"$error":"#DIV/0!"}},1000,{"$error":"#DIV/0!"},0.1,{"$error":"#NAME?"},{"$error":"#NAME?"},0]
[null,null,{"$f":"$AH$683","v":{"$error":"#DIV/0!"}},2000,{"$error":"#DIV/0!"},0.1,{"$error":"#NAME?"},{"$error":"#NAME?"},0]
[null,null,{"$f":"$J$769","v":{"$error":"#DIV/0!"}},4000,{"$error":"#DIV/0!"},0.1,{"$error":"#NAME?"},{"$error":"#NAME?"},0]
[null,null,{"$f":"$AH$769","v":{"$error":"#DIV/0!"}},10000,{"$error":"#DIV/0!"},0.1]
[null,null,null,null,null,null,"Intersectie"]
[null,"Variant 1","Af / toename (mm)","Herhalingstijd T= (jaar)","Af / toename (mm)","Herhalingstijd T= (jaar)","X-waarde","Y-waarde","X-waarde"]
[null,null,0,0,{"$f":"C211","v":0},{"$f":"$M$54","v":0.1},{"$f":"Intersectcomplex(C211,D211,C212,D212,LINEQ,TRUE)","v":{"$error":"#NAME?"}},{"$f":"Intersectcomplex(C211,D211,C212,D212,LINEQ,FALSE)","v":{"$error":"#NAME?"}},{"$f":"IFERROR(G211,0)","v":0}]
[null,null,{"$f":"$O$339","v":{"$error":"#DIV/0!"}},5,{"$error":"#DIV/0!"},0.1,{"$error":"#NAME?"},{"$error":"#NAME?"},0]
[null,null,{"$f":"$AM$339","v":{"$error":"#DIV/0!"}},10,{"$error":"#DIV/0!"},0.1,{"$error":"#NAME?"},{"$error":"#NAME?"},0]
[null,null,{"$f":"$O$425","v":{"$error":"#DIV/0!"}},20,{"$error":"#DIV/0!"},0.1,{"$error":"#NAME?"},{"$error":"#NAME?"},0]
[null,null,{"$f":"$AM$425","v":{"$error":"#DIV/0!"}},50,{"$error":"#DIV/0!"},0.1,{"$error":"#NAME?"},{"$error":"#NAME?"},0]
[null,null,{"$f":"$O$511","v":{"$error":"#DIV/0!"}},100,{"$error":"#DIV/0!"},0.1,{"$error":"#NAME?"},{"$error":"#NAME?"},0]
[null,null,{"$f":"$AM$511","v":{"$error":"#DIV/0!"}},200,{"$error":"#DIV/0!"},0.1,{"$error":"#NAME?"},{"$error":"#NAME?"},0]
[null,null,{"$f":"$O$597","v":{"$error":"#DIV/0!"}},250,{"$error":"#DIV/0!"},0.1,{"$error":"#NAME?"},{"$error":"#NAME?"},0]
[null,null,{"$f":"$AM$597","v":{"$error":"#DIV/0!"}},500,{"$error":"#DIV/0!"},0.1,{"$error":"#NAME?"},{"$error":"#NAME?"},0]
[null,null,{"$f":"$O$683","v":{"$error":"#DIV/0!"}},1000,{"$error":"#DIV/0!"},0.1,{"$error":"#NAME?"},{"$error":"#NAME?"},0]
[null,null,{"$f":"$AM$683","v":{"$error":"#DIV/0!"}},2000,{"$error":"#DIV/0!"},0.1,{"$error":"#NAME?"},{"$error":"#NAME?"},0]
[null,null,{"$f":"$O$769","v":{"$error":"#DIV/0!"}},4000,{"$error":"#DIV/0!"},0.1,{"$error":"#NAME?"},{"$error":"#NAME?"},0]
[null,null,{"$f":"$AM$769","v":{"$error":"#DIV/0!"}},10000,{"$error":"#DIV/0!"},0.1]
[null,null,null,null,null,null,"Intersectie"]
[null,"Variant 2","Af / toename (mm)","Herhalingstijd T= (jaar)","Af / toename (mm)","Herhalingstijd T= (jaar)","X-waarde","Y-waarde","X-waarde"]
[null,null,0,0,{"$f":"C226","v":0},{"$f":"$M$101","v":0.1},{"$f":"Intersectcomplex(C226,D226,C227,D227,LINER,TRUE)","v":{"$error":"#NAME?"}},{"$f":"Intersectcomplex(C226,D226,C227,D227,LINER,FALSE)","v":{"$error":"#NAME?"}},{"$f":"IFERROR(G226,0)","v":0}]
[null,null,{"$f":"$T$339","v":{"$error":"#DIV/0!"}},5,{"$error":"#DIV/0!"},0.1,{"$error":"#NAME?"},{"$error":"#NAME?"},0]
[null,null,{"$f":"$AR$339","v":{"$error":"#DIV/0!"}},10,{"$error":"#DIV/0!"},0.1,{"$error":"#NAME?"},{"$error":"#NAME?"},0]
[null,null,{"$f":"$T$425","v":{"$error":"#DIV/0!"}},20,{"$error":"#DIV/0!"},0.1,{"$error":"#NAME?"},{"$error":"#NAME?"},0]
[null,null,{"$f":"$AR$425","v":{"$error":"#DIV/0!"}},50,{"$error":"#DIV/0!"},0.1,{"$error":"#NAME?"},{"$error":"#NAME?"},0]
[null,null,{"$f":"$T$511","v":{"$error":"#DIV/0!"}},100,{"$error":"#DIV/0!"},0.1,{"$error":"#NAME?"},{"$error":"#NAME?"},0]
[null,null,{"$f":"$AR$511","v":{"$error":"#DIV/0!"}},200,{"$error":"#DIV/0!"},0.1,{"$error":"#NAME?"},{"$error":"#NAME?"},0]
[null,null,{"$f":"$T$597","v":{"$error":"#DIV/0!"}},250,{"$error":"#DIV/0!"},0.1,{"$error":"#NAME?"},{"$error":"#NAME?"},0]
[null,null,{"$f":"$AR$597","v":{"$error":"#DIV/0!"}},500,{"$error":"#DIV/0!"},0.1,{"$error":"#NAME?"},{"$error":"#NAME?"},0]
[null,null,{"$f":"$T$683","v":{"$error":"#DIV/0!"}},1000,{"$error":"#DIV/0!"},0.1,{"$error":"#NAME?"},{"$error":"#NAME?"},0]
[null,null,{"$f":"$AR$683","v":{"$error":"#DIV/0!"}},2000,{"$error":"#DIV/0!"},0.1,{"$error":"#NAME?"},{"$error":"#NAME?"},0]
[null,null,{"$f":"$T$769","v":{"$error":"#DIV/0!"}},4000,{"$error":"#DIV/0!"},0.1,{"$error":"#NAME?"},{"$error":"#NAME?"},0]
[null,null,{"$f":"$AR$769","v":{"$error":"#DIV/0!"}},10000,{"$error":"#DIV/0!"},0.1]
[null,null,null,null,null,null,"Intersectie"]
[null,"Variant 3","Af / toename (mm)","Herhalingstijd T= (jaar)","Af / toename (mm)","Herhalingstijd T= (jaar)","X-waarde","Y-waarde","X-waarde"]
[null,null,0,0,{"$f":"C241","v":0},{"$f":"$M$148","v":0.1},{"$f":"Intersectcomplex(C241,D241,C242,D242,LINES,TRUE)","v":{"$error":"#NAME?"}},{"$f":"Intersectcomplex(C241,D241,C242,D242,LINES,FALSE)","v":{"$error":"#NAME?"}},{"$f":"IFERROR(G241,0)","v":0}]
[null,null,{"$f":"$Y$339","v":{"$error":"#DIV/0!"}},5,{"$error":"#DIV/0!"},0.1,{"$error":"#NAME?"},{"$error":"#NAME?"},0]
[null,null,{"$f":"$AW$339","v":{"$error":"#DIV/0!"}},10,{"$error":"#DIV/0!"},0.1,{"$error":"#NAME?"},{"$error":"#NAME?"},0]
[null,null,{"$f":"$Y$425","v":{"$error":"#DIV/0!"}},20,{"$error":"#DIV/0!"},0.1,{"$error":"#NAME?"},{"$error":"#NAME?"},0]
[null,null,{"$f":"$AW$425","v":{"$error":"#DIV/0!"}},50,{"$error":"#DIV/0!"},0.1,{"$error":"#NAME?"},{"$error":"#NAME?"},0]
[null,null,{"$f":"$Y$511","v":{"$error":"#DIV/0!"}},100,{"$error":"#DIV/0!"},0.1,{"$error":"#NAME?"},{"$error":"#NAME?"},0]
[null,null,{"$f":"$AW$511","v":{"$error":"#DIV/0!"}},200,{"$error":"#DIV/0!"},0.1,{"$error":"#NAME?"},{"$error":"#NAME?"},0]
[null,null,{"$f":"$Y$597","v":{"$error":"#DIV/0!"}},250,{"$error":"#DIV/0!"},0.1,{"$error":"#NAME?"},{"$error":"#NAME?"},0]
[null,null,{"$f":"$AW$597","v":{"$error":"#DIV/0!"}},500,{"$error":"#DIV/0!"},0.1,{"$error":"#NAME?"},{"$error":"#NAME?"},0]
[null,null,{"$f":"$Y$683","v":{"$error":"#DIV/0!"}},1000,{"$error":"#DIV/0!"},0.1,{"$error":"#NAME?"},{"$error":"#NAME?"},0]
[null,null,{"$f":"$AW$683","v":{"$error":"#DIV/0!"}},2000,{"$error":"#DIV/0!"},0.1,{"$error":"#NAME?"},{"$error":"#NAME?"},0]
[null,null,{"$f":"$Y$769","v":{"$error":"#DIV/0!"}},4000,{"$error":"#DIV/0!"},0.1,{"$error":"#NAME?"},{"$error":"#NAME?"},0]
[null,null,{"$f":"$AW$769","v":{"$error":"#DIV/0!"}},10000,{"$error":"#DIV/0!"},0.1]
[]
[]
[null,"Berekeningen Riolering","Herhalingkans T=5",null,null,null,null,null,null,null,null,null,null,null,null,null,null,null,null,null,null,null,null,null,null,null,"Herhalingkans T=10"]
[null,null,"Duur [min]","Aanvoer bui  T=5 [l/s/ha]","Neerslag bui T=5 [mm]","Afvoercapaciteit riolering V0 [mm]","Afvoercapaciteit V0 voorzieningen [mm]","Bergings-capaciteit V0 voorzieningen [mm]","Infiltratiecapaciteit onverhard [mm]","Aanvoer-Afvoer","Afvoercapaciteit riolering V1 [mm]","Afvoercapaciteit V1 voorzieningen [mm]","Bergingscapaciteit V1 voorzieningen [mm]","Infiltratiecapaciteit onverhard [mm]","Aanvoer-Afvoer","Afvoercapaciteit riolering V2 [mm]","Afvoercapaciteit V2 voorzieningen [mm]","Bergings-capaciteit V2 voorzieningen [mm]","Infiltratiecapaciteit onverhard [mm]","Aanvoer-Afvoer","Afvoercapaciteit riolering V3 [mm]","Afvoercapaciteit V3 voorzieningen [mm]","Bergings-capaciteit V3 voorzieningen [mm]","Infiltratiecapaciteit onverhard [mm]","Aanvoer-Afvoer",null,"Duur [min]","Aanvoer bui  T=10 [l/s/ha]","Neerslag bui T=10 [mm]","Afvoercapaciteit riolering V0 [mm]","Afvoercapaciteit V0 voorzieningen [mm]","Bergingscapaciteit V0 voorzieningen [mm]","Infiltratiecapaciteit onverhard [mm]","Aanvoer-Afvoer","Afvoercapaciteit riolering V1 [mm]","Afvoercapaciteit V1 voorzieningen [mm]","Bergingscapaciteit V1 voorzieningen [mm]","Infiltratiecapaciteit onverhard [mm]","Aanvoer-Afvoer","Afvoercapaciteit riolering V2 [mm]","Afvoercapaciteit V2 voorzieningen [mm]","Bergingscapaciteit V2 voorzieningen [mm]","Infiltratiecapaciteit onverhard [mm]","Aanvoer-Afvoer","Afvoercapaciteit riolering V3 [mm]","Afvoercapaciteit V3 voorzieningen [mm]","Bergingscapaciteit V3 voorzieningen [mm]","Infiltratiecapaciteit onverhard [mm]","Aanvoer-Afvoer"]
[null,null,0,0,0,0,{"$f":"($J$340/60)*$C258","v":{"$error":"#DIV/0!"}},{"$f":"J$336","v":{"$error":"#DIV/0!"}},{"$f":"($J$338/60)*$C258","v":{"$error":"#DIV/0!"}},null,0,{"$f":"$O$340/60*$C258","v":{"$error":"#DIV/0!"}},{"$f":"O$336","v":{"$error":"#DIV/0!"}},{"$f":"($O$338/60)*$C258","v":{"$error":"#DIV/0!"}},null,0,{"$f":"$T$340/60*$C258","v":{"$error":"#DIV/0!"}},{"$f":"T$336","v":{"$error":"#DIV/0!"}},{"$f":"($T$338/60)*$C258","v":{"$error":"#DIV/0!"}},null,0,{"$f":"$Y$340/60*$C258","v":{"$error":"#DIV/0!"}},{"$f":"Y$336","v":{"$error":"#DIV/0!"}},{"$f":"($Y$338/60)*$C258","v":{"$error":"#DIV/0!"}},null,null,0,0,0,0,{"$f":"($AH$340/60)*($AA258)","v":{"$error":"#DIV/0!"}},{"$f":"AH$336","v":{"$error":"#DIV/0!"}},{"$f":"($AH$338/60)*$AA258","v":{"$error":"#DIV/0!"}},null,0,{"$f":"($AM$340/60)*($AA258)","v":{"$error":"#DIV/0!"}},{"$f":"AM$336","v":{"$error":"#DIV/0!"}},{"$f":"($AM$338/60)*$AA258","v":{"$error":"#DIV/0!"}},null,0,{"$f":"($AR$340/60)*($AA258)","v":{"$error":"#DIV/0!"}},{"$f":"AR$336","v":{"$error":"#DIV/0!"}},{"$f":"($AR$338/60)*$AA258","v":{"$error":"#DIV/0!"}},null,0,{"$f":"($AW$340/60)*($AA258)","v":{"$error":"#DIV/0!"}},{"$f":"AW$336","v":{"$error":"#DIV/0!"}},{"$f":"($AW$338/60)*$AA258","v":{"$error":"#DIV/0!"}}]
[null,null,1,{"$f":"((((((E259-E258)/(C259-C258)/60)/1000)*10000)*1000))","v":304.47784957593478},{"$f":"Klimaatscenario!C8","v":1.8268670974556087},{"$f":"((J$337*60)/10000)+F258","v":{"$error":"#DIV/0!"}},{"$error":"#DIV/0!"},{"$f":"J$336","v":{"$error":"#DIV/0!"}},{"$error":"#DIV/0!"},{"$f":"$E259-F259-G259-H259-I259","v":{"$error":"#DIV/0!"}},{"$f":"((O$337*60)/10000)+K258","v":{"$error":"#DIV/0!"}},{"$error":"#DIV/0!"},{"$f":"O$336","v":{"$error":"#DIV/0!"}},{"$error":"#DIV/0!"},{"$f":"$E259-K259-L259-M259-N259","v":{"$error":"#DIV/0!"}},{"$f":"((T$337*60)/10000)+P258","v":{"$error":"#DIV/0!"}},{"$error":"#DIV/0!"},{"$f":"T$336","v":{"$error":"#DIV/0!"}},{"$error":"#DIV/0!"},{"$f":"$E259-P259-Q259-R259-S259","v":{"$error":"#DIV/0!"}},{"$f":"((Y$337*60)/10000)+U258","v":{"$error":"#DIV/0!"}},{"$error":"#DIV/0!"},{"$error":"#DIV/0!"},{"$error":"#DIV/0!"},{"$f":"$E259-U259-V259-W259-X259","v":{"$error":"#DIV/0!"}},null,1,{"$f":"((((((AC259-AC258)/(AA259-AA258)/60)/1000)*10000)*1000))","v":353.82564368425454},{"$f":"Klimaatscenario!D8","v":2.1229538621055273},{"$f":"((AH$337*60)/10000)+AD258","v":{"$error":"#DIV/0!"}},{"$error":"#DIV/0!"},{"$f":"AH$336","v":{"$error":"#DIV/0!"}},{"$error":"#DIV/0!"},{"$f":"$AC259-AD259-AE259-AF259-AG259","v":{"$error":"#DIV/0!"}},{"$f":"((AM$337*60)/10000)+AI258","v":{"$error":"#DIV/0!"}},{"$error":"#DIV/0!"},{"$f":"AM$336","v":{"$error":"#DIV/0!"}},{"$error":"#DIV/0!"},{"$f":"$AC259-AI259-AJ259-AK259-AL259","v":{"$error":"#DIV/0!"}},{"$f":"((AR$337*60)/10000)+AN258","v":{"$error":"#DIV/0!"}},{"$error":"#DIV/0!"},{"$f":"AR$336","v":{"$error":"#DIV/0!"}},{"$error":"#DIV/0!"},{"$f":"$AC259-AN259-AO259-AP259-AQ259","v":{"$error":"#DIV/0!"}},{"$f":"((AW$337*60)/10000)+AS258","v":{"$error":"#DIV/0!"}},{"$error":"#DIV/0!"},{"$f":"AW$336","v":{"$error":"#DIV/0!"}},{"$error":"#DIV/0!"},{"$f":"$AC259-AS259-AT259-AU259-AV259","v":{"$error":"#DIV/0!"}}]
[null,null,2,{"$f":"((((((E260-E259)/(C260-C259)/60)/1000)*10000)*1000))","v":304.47784957593478},{"$f":"Klimaatscenario!C9","v":3.6537341949112174},{"$f":"((J$337*60)/10000)+F259","v":{"$error":"#DIV/0!"}},{"$error":"#DIV/0!"},{"$error":"#DIV/0!"},{"$error":"#DIV/0!"},{"$f":"$E260-F260-G260-H260-I260","v":{"$error":"#DIV/0!"}},{"$error":"#DIV/0!"},{"$error":"#DIV/0!"},{"$error":"#DIV/0!"},{"$error":"#DIV/0!"},{"$error":"#DIV/0!"},{"$error":"#DIV/0!"},{"$error":"#DIV/0!"},{"$error":"#DIV/0!"},{"$error":"#DIV/0!"},{"$f":"$E260-P260-Q260-R260-S260","v":{"$error":"#DIV/0!"}},{"$error":"#DIV/0!"},{"$error":"#DIV/0!"},{"$error":"#DIV/0!"},{"$error":"#DIV/0!"},{"$error":"#DIV/0!"},null,2,{"$f":"((((((AC260-AC259)/(AA260-AA259)/60)/1000)*10000)*1000))","v":353.82564368425454},{"$f":"Klimaatscenario!D9","v":4.2459077242110546},{"$error":"#DIV/0!"},{"$error":"#DIV/0!"},{"$error":"#DIV/0!"},{"$error":"#DIV/0!"},{"$error":"#DIV/0!"},{"$error":"#DIV/0!"},{"$error":"#DIV/0!"},{"$error":"#DIV/0!"},{"$error":"#DIV/0!"},{"$error":"#DIV/0!"},{"$error":"#DIV/0!"},{"$error":"#DIV/0!"},{"$error":"#DIV/0!"},{"$error":"#DIV/0!"},{"$error":"#DIV/0!"},{"$error":"#DIV/0!"},{"$error":"#DIV/0!"},{"$error":"#DIV/0!"},{"$error":"#DIV/0!"},{"$error":"#DIV/0!"}]
[null,null,3,{"$f":"((((((E261-E260)/(C261-C260)/60)/1000)*10000)*1000))","v":304.47784957593478},{"$f":"Klimaatscenario!C10","v":5.4806012923668259},{"$f":"((J$337*60)/10000)+F260","v":{"$error":"#DIV/0!"}},{"$error":"#DIV/0!"},{"$error":"#DIV/0!"},{"$error":"#DIV/0!"},{"$f":"$E261-F261-G261-H261-I261","v":{"$error":"#DIV/0!"}},{"$error":"#DIV/0!"},{"$error":"#DIV/0!"},{"$error":"#DIV/0!"},{"$error":"#DIV/0!"},{"$error":"#DIV/0!"},{"$error":"#DIV/0!"},{"$error":"#DIV/0!"},{"$error":"#DIV/0!"},{"$error":"#DIV/0!"},{"$error":"#DIV/0!"},{"$error":"#DIV/0!"},{"$error":"#DIV/0!"},{"$error":"#DIV/0!"},{"$error":"#DIV/0!"},{"$error":"#DIV/0!"},null,3,{"$f":"((((((AC261-AC260)/(AA261-AA260)/60)/1000)*10000)*1000))","v":353.82564368425454},{"$f":"Klimaatscenario!D10","v":6.3688615863165818},{"$error":"#DIV/0!"},{"$error":"#DIV/0!"},{"$error":"#DIV/0!"},{"$error":"#DIV/0!"},{"$error":"#DIV/0!"},{"$error":"#DIV/0!"},{"$error":"#DIV/0!"},{"$error":"#DIV/0!"},{"$error":"#DIV/0!"},{"$error":"#DIV/0!"},{"$error":"#DIV/0!"},{"$error":"#DIV/0!"},{"$error":"#DIV/0!"},{"$error":"#DIV/0!"},{"$error":"#DIV/0!"},{"$error":"#DIV/0!"},{"$error":"#DIV/0!"},{"$error":"#DIV/0!"},{"$error":"#DIV/0!"},{"$error":"#DIV/0!"}]
[null,null,4,{"$f":"((((((E262-E261)/(C262-C261)/60)/1000)*10000)*1000))","v":304.47784957593484},{"$f":"Klimaatscenario!C11","v":7.3074683898224349},{"$error":"#DIV/0!"},{"$error":"#DIV/0!"},{"$error":"#DIV/0!"},{"$error":"#DIV/0!"},{"$error":"#DIV/0!"},{"$error":"#DIV/0!"},{"$error":"#DIV/0!"},{"$error":"#DIV/0!"},{"$error":"#DIV/0!"},{"$error":"#DIV/0!"},{"$error":"#DIV/0!"},{"$error":"#DIV/0!"},{"$error":"#DIV/0!"},{"$error":"#DIV/0!"},{"$error":"#DIV/0!"},{"$error":"#DIV/0!"},{"$error":"#DIV/0!"},{"$error":"#DIV/0!"},{"$error":"#DIV/0!"},{"$error":"#DIV/0!"},null,4,{"$f":"((((((AC262-AC261)/(AA262-AA261)/60)/1000)*10000)*1000))","v":353.82564368425454},{"$f":"Klimaatscenario!D11","v":8.4918154484221091},{"$error":"#DIV/0!"},{"$error":"#DIV/0!"},{"$error":"#DIV/0!"},{"$error":"#DIV/0!"},{"$error":"#DIV/0!"},{"$error":"#DIV/0!"},{"$error":"#DIV/0!"},{"$error":"#DIV/0!"},{"$error":"#DIV/0!"},{"$error":"#DIV/0!"},{"$error":"#DIV/0!"},{"$error":"#DIV/0!"},{"$error":"#DIV/0!"},{"$error":"#DIV/0!"},{"$error":"#DIV/0!"},{"$error":"#DIV/0!"},{"$error":"#DIV/0!"},{"$error":"#DIV/0!"},{"$error":"#DIV/0!"},{"$error":"#DIV/0!"}]
[null,null,5,{"$f":"((((((E263-E262)/(C263-C262))/60)/1000)*10000)*1000)","v":304.47784957593484},{"$f":"Klimaatscenario!C12","v":9.1343354872780438},{"$error":"#DIV/0!"},{"$error":"#DIV/0!"},{"$error":"#DIV/0!"},{"$error":"#DIV/0!"},{"$error":"#DIV/0!"},{"$error":"#DIV/0!"},{"$error":"#DIV/0!"},{"$error":"#DIV/0!"},{"$error":"#DIV/0!"},{"$error":"#DIV/0!"},{"$error":"#DIV/0!"},{"$error":"#DIV/0!"},{"$error":"#DIV/0!"},{"$error":"#DIV/0!"},{"$error":"#DIV/0!"},{"$error":"#DIV/0!"},{"$error":"#DIV/0!"},{"$error":"#DIV/0!"},{"$error":"#DIV/0!"},{"$error":"#DIV/0!"},null,5,{"$f":"((((((AC263-AC262)/(AA263-AA262))/60)/1000)*10000)*1000)","v":353.82564368425454},{"$f":"Klimaatscenario!D12","v":10.614769310527636},{"$error":"#DIV/0!"},{"$error":"#DIV/0!"},{"$error":"#DIV/0!"},{"$error":"#DIV/0!"},{"$error":"#DIV/0!"},{"$error":"#DIV/0!"},{"$error":"#DIV/0!"},{"$error":"#DIV/0!"},{"$error":"#DIV/0!"},{"$error":"#DIV/0!"},{"$error":"#DIV/0!"},{"$error":"#DIV/0!"},{"$error":"#DIV/0!"},{"$error":"#DIV/0!"},{"$error":"#DIV/0!"},{"$error":"#DIV/0!"},{"$error":"#DIV/0!"},{"$error":"#DIV/0!"},{"$error":"#DIV/0!"},{"$error":"#DIV/0!"}]
[null,null,6,304.47784957593467,{"$f":"Klimaatscenario!C13","v":10.961202584733652},{"$error":"#DIV/0!"},{"$error":"#DIV/0!"},{"$error":"#DIV/0!"},{"$error":"#DIV/0!"},{"$error":"#DIV/0!"},{"$error":"#DIV/0!"},{"$error":"#DIV/0!"},{"$error":"#DIV/0!"},{"$error":"#DIV/0!"},{"$error":"#DIV/0!"},{"$error":"#DIV/0!"},{"$error":"#DIV/0!"},{"$error":"#DIV/0!"},{"$error":"#DIV/0!"},{"$error":"#DIV/0!"},{"$error":"#DIV/0!"},{"$error":"#DIV/0!"},{"$error":"#DIV/0!"},{"$error":"#DIV/0!"},{"$error":"#DIV/0!"},null,6,353.82564368425454,{"$f":"Klimaatscenario!D13","v":12.737723172633164},{"$error":"#DIV/0!"},{"$error":"#DIV/0!"},{"$error":"#DIV/0!"},{"$error":"#DIV/0!"},{"$error":"#DIV/0!"},{"$error":"#DIV/0!"},{"$error":"#DIV/0!"},{"$error":"#DIV/0!"},{"$error":"#DIV/0!"},{"$error":"#DIV/0!"},{"$error":"#DIV/0!"},{"$error":"#DIV/0!"},{"$error":"#DIV/0!"},{"$error":"#DIV/0!"},{"$error":"#DIV/0!"},{"$error":"#DIV/0!"},{"$error":"#DIV/0!"},{"$error":"#DIV/0!"},{"$error":"#DIV/0!"},{"$error":"#DIV/0!"}]
[null,null,7,304.47784957593495,{"$f":"Klimaatscenario!C14","v":12.788069682189262},{"$error":"#DIV/0!"},{"$error":"#DIV/0!"},{"$error":"#DIV/0!"},{"$error":"#DIV/0!"},{"$error":"#DIV/0!"},{"$error":"#DIV/0!"},{"$error":"#DIV/0!"},{"$error":"#DIV/0!"},{"$error":"#DIV/0!"},{"$error":"#DIV/0!"},{"$error":"#DIV/0!"},{"$error":"#DIV/0!"},{"$error":"#DIV/0!"},{"$error":"#DIV/0!"},{"$error":"#DIV/0!"},{"$error":"#DIV/0!"},{"$error":"#DIV/0!"},{"$error":"#DIV/0!"},{"$error":"#DIV/0!"},{"$error":"#DIV/0!"},null,7,353.82564368425454,{"$f":"Klimaatscenario!D14","v":14.860677034738691},{"$error":"#DIV/0!"},{"$error":"#DIV/0!"},{"$error":"#DIV/0!"},{"$error":"#DIV/0!"},{"$error":"#DIV/0!"},{"$error":"#DIV/0!"},{"$error":"#DIV/0!"},{"$error":"#DIV/0!"},{"$error":"#DIV/0!"},{"$error":"#DIV/0!"},{"$error":"#DIV/0!"},{"$error":"#DIV/0!"},{"$error":"#DIV/0!"},{"$error":"#DIV/0!"},{"$error":"#DIV/0!"},{"$error":"#DIV/0!"},{"$error":"#DIV/0!"},{"$error":"#DIV/0!"},{"$error":"#DIV/0!"},{"$error":"#DIV/0!"}]
[null,null,8,304.47784957593467,{"$f":"Klimaatscenario!C15","v":14.61493677964487},{"$error":"#DIV/0!"},{"$error":"#DIV/0!"},{"$error":"#DIV/0!"},{"$error":"#DIV/0!"},{"$error":"#DIV/0!"},{"$error":"#DIV/0!"},{"$error":"#DIV/0!"},{"$error":"#DIV/0!"},{"$error":"#DIV/0!"},{"$error":"#DIV/0!"},{"$error":"#DIV/0!"},{"$error":"#DIV/0!"},{"$error":"#DIV/0!"},{"$error":"#DIV/0!"},{"$error":"#DIV/0!"},{"$error":"#DIV/0!"},{"$error":"#DIV/0!"},{"$error":"#DIV/0!"},{"$error":"#DIV/0!"},{"$error":"#DIV/0!"},null,8,353.82564368425454,{"$f":"Klimaatscenario!D15","v":16.983630896844218},{"$error":"#DIV/0!"},{"$error":"#DIV/0!"},{"$error":"#DIV/0!"},{"$error":"#DIV/0!"},{"$error":"#DIV/0!"},{"$error":"#DIV/0!"},{"$error":"#DIV/0!"},{"$error":"#DIV/0!"},{"$error":"#DIV/0!"},{"$error":"#DIV/0!"},{"$error":"#DIV/0!"},{"$error":"#DIV/0!"},{"$error":"#DIV/0!"},{"$error":"#DIV/0!"},{"$error":"#DIV/0!"},{"$error":"#DIV/0!"},{"$error":"#DIV/0!"},{"$error":"#DIV/0!"},{"$error":"#DIV/0!"},{"$error":"#DIV/0!"}]
[null,null,9,304.47784957593495,{"$f":"Klimaatscenario!C16","v":16.44180387710048},{"$error":"#DIV/0!"},{"$error":"#DIV/0!"},{"$error":"#DIV/0!"},{"$error":"#DIV/0!"},{"$error":"#DIV/0!"},{"$error":"#DIV/0!"},{"$error":"#DIV/0!"},{"$error":"#DIV/0!"},{"$error":"#DIV/0!"},{"$error":"#DIV/0!"},{"$error":"#DIV/0!"},{"$error":"#DIV/0!"},{"$error":"#DIV/0!"},{"$error":"#DIV/0!"},{"$error":"#DIV/0!"},{"$error":"#DIV/0!"},{"$error":"#DIV/0!"},{"$error":"#DIV/0!"},{"$error":"#DIV/0!"},{"$error":"#DIV/0!"},null,9,353.82564368425426,{"$f":"Klimaatscenario!D16","v":19.106584758949744},{"$error":"#DIV/0!"},{"$error":"#DIV/0!"},{"$error":"#DIV/0!"},{"$error":"#DIV/0!"},{"$error":"#DIV/0!"},{"$error":"#DIV/0!"},{"$error":"#DIV/0!"},{"$error":"#DIV/0!"},{"$error":"#DIV/0!"},{"$error":"#DIV/0!"},{"$error":"#DIV/0!"},{"$error":"#DIV/0!"},{"$error":"#DIV/0!"},{"$error":"#DIV/0!"},{"$error":"#DIV/0!"},{"$error":"#DIV/0!"},{"$error":"#DIV/0!"},{"$error":"#DIV/0!"},{"$error":"#DIV/0!"},{"$error":"#DIV/0!"}]
[null,null,10,304.47784957593467,{"$f":"Klimaatscenario!C17","v":18.268670974556088},{"$error":"#DIV/0!"},{"$error":"#DIV/0!"},{"$error":"#DIV/0!"},{"$error":"#DIV/0!"},{"$f":"$E268-F268-G268-H268-I268","v":{"$error":"#DIV/0!"}},{"$error":"#DIV/0!"},{"$error":"#DIV/0!"},{"$error":"#DIV/0!"},{"$error":"#DIV/0!"},{"$error":"#DIV/0!"},{"$error":"#DIV/0!"},{"$error":"#DIV/0!"},{"$error":"#DIV/0!"},{"$error":"#DIV/0!"},{"$error":"#DIV/0!"},{"$error":"#DIV/0!"},{"$error":"#DIV/0!"},{"$error":"#DIV/0!"},{"$error":"#DIV/0!"},{"$error":"#DIV/0!"},null,10,353.82564368425483,{"$f":"Klimaatscenario!D17","v":21.229538621055273},{"$error":"#DIV/0!"},{"$error":"#DIV/0!"},{"$error":"#DIV/0!"},{"$error":"#DIV/0!"},{"$error":"#DIV/0!"},{"$error":"#DIV/0!"},{"$error":"#DIV/0!"},{"$error":"#DIV/0!"},{"$error":"#DIV/0!"},{"$error":"#DIV/0!"},{"$error":"#DIV/0!"},{"$error":"#DIV/0!"},{"$error":"#DIV/0!"},{"$error":"#DIV/0!"},{"$error":"#DIV/0!"},{"$error":"#DIV/0!"},{"$error":"#DIV/0!"},{"$error":"#DIV/0!"},{"$error":"#DIV/0!"},{"$error":"#DIV/0!"}]
[null,null,11,61.783387132669773,{"$f":"Klimaatscenario!C18","v":18.639371297352106},{"$error":"#DIV/0!"},{"$error":"#DIV/0!"},{"$error":"#DIV/0!"},{"$error":"#DIV/0!"},{"$error":"#DIV/0!"},{"$error":"#DIV/0!"},{"$error":"#DIV/0!"},{"$error":"#DIV/0!"},{"$error":"#DIV/0!"},{"$error":"#DIV/0!"},{"$error":"#DIV/0!"},{"$error":"#DIV/0!"},{"$error":"#DIV/0!"},{"$error":"#DIV/0!"},{"$error":"#DIV/0!"},{"$error":"#DIV/0!"},{"$error":"#DIV/0!"},{"$error":"#DIV/0!"},{"$error":"#DIV/0!"},{"$f":"$E269-U269-V269-W269-X269","v":{"$error":"#DIV/0!"}},null,11,78.725288346554706,{"$f":"Klimaatscenario!D18","v":21.701890351134601},{"$error":"#DIV/0!"},{"$error":"#DIV/0!"},{"$error":"#DIV/0!"},{"$error":"#DIV/0!"},{"$error":"#DIV/0!"},{"$error":"#DIV/0!"},{"$error":"#DIV/0!"},{"$error":"#DIV/0!"},{"$error":"#DIV/0!"},{"$error":"#DIV/0!"},{"$error":"#DIV/0!"},{"$error":"#DIV/0!"},{"$error":"#DIV/0!"},{"$error":"#DIV/0!"},{"$error":"#DIV/0!"},{"$error":"#DIV/0!"},{"$error":"#DIV/0!"},{"$error":"#DIV/0!"},{"$error":"#DIV/0!"},{"$error":"#DIV/0!"}]
[null,null,12,61.783387132670356,{"$f":"Klimaatscenario!C19","v":19.010071620148128},{"$error":"#DIV/0!"},{"$error":"#DIV/0!"},{"$error":"#DIV/0!"},{"$error":"#DIV/0!"},{"$error":"#DIV/0!"},{"$error":"#DIV/0!"},{"$error":"#DIV/0!"},{"$error":"#DIV/0!"},{"$error":"#DIV/0!"},{"$error":"#DIV/0!"},{"$error":"#DIV/0!"},{"$error":"#DIV/0!"},{"$error":"#DIV/0!"},{"$error":"#DIV/0!"},{"$error":"#DIV/0!"},{"$error":"#DIV/0!"},{"$error":"#DIV/0!"},{"$error":"#DIV/0!"},{"$error":"#DIV/0!"},{"$f":"$E270-U270-V270-W270-X270","v":{"$error":"#DIV/0!"}},null,12,78.725288346554706,{"$f":"Klimaatscenario!D19","v":22.174242081213929},{"$error":"#DIV/0!"},{"$error":"#DIV/0!"},{"$error":"#DIV/0!"},{"$error":"#DIV/0!"},{"$error":"#DIV/0!"},{"$error":"#DIV/0!"},{"$error":"#DIV/0!"},{"$error":"#DIV/0!"},{"$error":"#DIV/0!"},{"$error":"#DIV/0!"},{"$error":"#DIV/0!"},{"$error":"#DIV/0!"},{"$error":"#DIV/0!"},{"$error":"#DIV/0!"},{"$error":"#DIV/0!"},{"$error":"#DIV/0!"},{"$error":"#DIV/0!"},{"$error":"#DIV/0!"},{"$error":"#DIV/0!"},{"$error":"#DIV/0!"}]
[null,null,13,61.783387132670356,{"$f":"Klimaatscenario!C20","v":19.380771942944151},{"$error":"#DIV/0!"},{"$error":"#DIV/0!"},{"$error":"#DIV/0!"},{"$error":"#DIV/0!"},{"$error":"#DIV/0!"},{"$error":"#DIV/0!"},{"$error":"#DIV/0!"},{"$error":"#DIV/0!"},{"$error":"#DIV/0!"},{"$error":"#DIV/0!"},{"$error":"#DIV/0!"},{"$error":"#DIV/0!"},{"$error":"#DIV/0!"},{"$error":"#DIV/0!"},{"$error":"#DIV/0!"},{"$error":"#DIV/0!"},{"$error":"#DIV/0!"},{"$error":"#DIV/0!"},{"$error":"#DIV/0!"},{"$error":"#DIV/0!"},null,13,78.725288346554706,{"$f":"Klimaatscenario!D20","v":22.646593811293258},{"$error":"#DIV/0!"},{"$error":"#DIV/0!"},{"$error":"#DIV/0!"},{"$error":"#DIV/0!"},{"$error":"#DIV/0!"},{"$error":"#DIV/0!"},{"$error":"#DIV/0!"},{"$error":"#DIV/0!"},{"$error":"#DIV/0!"},{"$error":"#DIV/0!"},{"$error":"#DIV/0!"},{"$error":"#DIV/0!"},{"$error":"#DIV/0!"},{"$error":"#DIV/0!"},{"$error":"#DIV/0!"},{"$error":"#DIV/0!"},{"$error":"#DIV/0!"},{"$error":"#DIV/0!"},{"$error":"#DIV/0!"},{"$error":"#DIV/0!"}]
[null,null,14,61.783387132669773,{"$f":"Klimaatscenario!C21","v":19.751472265740169},{"$error":"#DIV/0!"},{"$error":"#DIV/0!"},{"$error":"#DIV/0!"},{"$error":"#DIV/0!"},{"$error":"#DIV/0!"},{"$error":"#DIV/0!"},{"$error":"#DIV/0!"},{"$error":"#DIV/0!"},{"$error":"#DIV/0!"},{"$error":"#DIV/0!"},{"$error":"#DIV/0!"},{"$error":"#DIV/0!"},{"$error":"#DIV/0!"},{"$error":"#DIV/0!"},{"$error":"#DIV/0!"},{"$error":"#DIV/0!"},{"$error":"#DIV/0!"},{"$error":"#DIV/0!"},{"$error":"#DIV/0!"},{"$error":"#DIV/0!"},null,14,78.725288346554706,{"$f":"Klimaatscenario!D21","v":23.118945541372586},{"$error":"#DIV/0!"},{"$error":"#DIV/0!"},{"$error":"#DIV/0!"},{"$error":"#DIV/0!"},{"$error":"#DIV/0!"},{"$error":"#DIV/0!"},{"$error":"#DIV/0!"},{"$error":"#DIV/0!"},{"$error":"#DIV/0!"},{"$error":"#DIV/0!"},{"$error":"#DIV/0!"},{"$error":"#DIV/0!"},{"$error":"#DIV/0!"},{"$error":"#DIV/0!"},{"$error":"#DIV/0!"},{"$error":"#DIV/0!"},{"$error":"#DIV/0!"},{"$error":"#DIV/0!"},{"$error":"#DIV/0!"},{"$error":"#DIV/0!"}]
[null,null,15,61.783387132669773,{"$f":"Klimaatscenario!C22","v":20.122172588536188},{"$error":"#DIV/0!"},{"$error":"#DIV/0!"},{"$error":"#DIV/0!"},{"$error":"#DIV/0!"},{"$error":"#DIV/0!"},{"$error":"#DIV/0!"},{"$error":"#DIV/0!"},{"$error":"#DIV/0!"},{"$error":"#DIV/0!"},{"$error":"#DIV/0!"},{"$error":"#DIV/0!"},{"$error":"#DIV/0!"},{"$error":"#DIV/0!"},{"$error":"#DIV/0!"},{"$error":"#DIV/0!"},{"$error":"#DIV/0!"},{"$error":"#DIV/0!"},{"$error":"#DIV/0!"},{"$error":"#DIV/0!"},{"$error":"#DIV/0!"},null,15,78.725288346554706,{"$f":"Klimaatscenario!D22","v":23.591297271451914},{"$error":"#DIV/0!"},{"$error":"#DIV/0!"},{"$error":"#DIV/0!"},{"$error":"#DIV/0!"},{"$error":"#DIV/0!"},{"$error":"#DIV/0!"},{"$error":"#DIV/0!"},{"$error":"#DIV/0!"},{"$error":"#DIV/0!"},{"$error":"#DIV/0!"},{"$error":"#DIV/0!"},{"$error":"#DIV/0!"},{"$error":"#DIV/0!"},{"$error":"#DIV/0!"},{"$error":"#DIV/0!"},{"$error":"#DIV/0!"},{"$error":"#DIV/0!"},{"$error":"#DIV/0!"},{"$error":"#DIV/0!"},{"$error":"#DIV/0!"}]
[null,null,16,61.783387132670356,{"$f":"Klimaatscenario!C23","v":20.49287291133221},{"$error":"#DIV/0!"},{"$error":"#DIV/0!"},{"$error":"#DIV/0!"},{"$error":"#DIV/0!"},{"$error":"#DIV/0!"},{"$error":"#DIV/0!"},{"$error":"#DIV/0!"},{"$error":"#DIV/0!"},{"$error":"#DIV/0!"},{"$error":"#DIV/0!"},{"$error":"#DIV/0!"},{"$error":"#DIV/0!"},{"$error":"#DIV/0!"},{"$error":"#DIV/0!"},{"$error":"#DIV/0!"},{"$error":"#DIV/0!"},{"$error":"#DIV/0!"},{"$error":"#DIV/0!"},{"$error":"#DIV/0!"},{"$f":"$E274-U274-V274-W274-X274","v":{"$error":"#DIV/0!"}},null,16,78.725288346555303,{"$f":"Klimaatscenario!D23","v":24.063649001531246},{"$error":"#DIV/0!"},{"$error":"#DIV/0!"},{"$error":"#DIV/0!"},{"$error":"#DIV/0!"},{"$error":"#DIV/0!"},{"$error":"#DIV/0!"},{"$error":"#DIV/0!"},{"$error":"#DIV/0!"},{"$error":"#DIV/0!"},{"$error":"#DIV/0!"},{"$error":"#DIV/0!"},{"$error":"#DIV/0!"},{"$error":"#DIV/0!"},{"$error":"#DIV/0!"},{"$error":"#DIV/0!"},{"$error":"#DIV/0!"},{"$error":"#DIV/0!"},{"$error":"#DIV/0!"},{"$error":"#DIV/0!"},{"$error":"#DIV/0!"}]
[null,null,17,61.783387132670356,{"$f":"Klimaatscenario!C24","v":20.863573234128232},{"$error":"#DIV/0!"},{"$error":"#DIV/0!"},{"$error":"#DIV/0!"},{"$error":"#DIV/0!"},{"$error":"#DIV/0!"},{"$error":"#DIV/0!"},{"$error":"#DIV/0!"},{"$error":"#DIV/0!"},{"$error":"#DIV/0!"},{"$error":"#DIV/0!"},{"$error":"#DIV/0!"},{"$error":"#DIV/0!"},{"$error":"#DIV/0!"},{"$error":"#DIV/0!"},{"$error":"#DIV/0!"},{"$error":"#DIV/0!"},{"$error":"#DIV/0!"},{"$error":"#DIV/0!"},{"$error":"#DIV/0!"},{"$error":"#DIV/0!"},null,17,78.725288346554706,{"$f":"Klimaatscenario!D24","v":24.536000731610574},{"$error":"#DIV/0!"},{"$error":"#DIV/0!"},{"$error":"#DIV/0!"},{"$error":"#DIV/0!"},{"$error":"#DIV/0!"},{"$error":"#DIV/0!"},{"$error":"#DIV/0!"},{"$error":"#DIV/0!"},{"$error":"#DIV/0!"},{"$error":"#DIV/0!"},{"$error":"#DIV/0!"},{"$error":"#DIV/0!"},{"$error":"#DIV/0!"},{"$error":"#DIV/0!"},{"$error":"#DIV/0!"},{"$error":"#DIV/0!"},{"$error":"#DIV/0!"},{"$error":"#DIV/0!"},{"$error":"#DIV/0!"},{"$error":"#DIV/0!"}]
[null,null,18,61.783387132669773,{"$f":"Klimaatscenario!C25","v":21.234273556924251},{"$error":"#DIV/0!"},{"$error":"#DIV/0!"},{"$error":"#DIV/0!"},{"$error":"#DIV/0!"},{"$error":"#DIV/0!"},{"$error":"#DIV/0!"},{"$error":"#DIV/0!"},{"$error":"#DIV/0!"},{"$error":"#DIV/0!"},{"$error":"#DIV/0!"},{"$error":"#DIV/0!"},{"$error":"#DIV/0!"},{"$error":"#DIV/0!"},{"$error":"#DIV/0!"},{"$error":"#DIV/0!"},{"$error":"#DIV/0!"},{"$error":"#DIV/0!"},{"$error":"#DIV/0!"},{"$error":"#DIV/0!"},{"$error":"#DIV/0!"},null,18,78.725288346554706,{"$f":"Klimaatscenario!D25","v":25.008352461689903},{"$error":"#DIV/0!"},{"$error":"#DIV/0!"},{"$error":"#DIV/0!"},{"$error":"#DIV/0!"},{"$error":"#DIV/0!"},{"$error":"#DIV/0!"},{"$error":"#DIV/0!"},{"$error":"#DIV/0!"},{"$error":"#DIV/0!"},{"$error":"#DIV/0!"},{"$error":"#DIV/0!"},{"$error":"#DIV/0!"},{"$error":"#DIV/0!"},{"$error":"#DIV/0!"},{"$error":"#DIV/0!"},{"$error":"#DIV/0!"},{"$error":"#DIV/0!"},{"$error":"#DIV/0!"},{"$error":"#DIV/0!"},{"$error":"#DIV/0!"}]
[null,null,19,61.783387132669773,{"$f":"Klimaatscenario!C26","v":21.604973879720269},{"$error":"#DIV/0!"},{"$error":"#DIV/0!"},{"$error":"#DIV/0!"},{"$error":"#DIV/0!"},{"$error":"#DIV/0!"},{"$error":"#DIV/0!"},{"$error":"#DIV/0!"},{"$error":"#DIV/0!"},{"$error":"#DIV/0!"},{"$error":"#DIV/0!"},{"$error":"#DIV/0!"},{"$error":"#DIV/0!"},{"$error":"#DIV/0!"},{"$error":"#DIV/0!"},{"$error":"#DIV/0!"},{"$error":"#DIV/0!"},{"$error":"#DIV/0!"},{"$error":"#DIV/0!"},{"$error":"#DIV/0!"},{"$error":"#DIV/0!"},null,19,78.725288346554706,{"$f":"Klimaatscenario!D26","v":25.480704191769231},{"$error":"#DIV/0!"},{"$error":"#DIV/0!"},{"$error":"#DIV/0!"},{"$error":"#DIV/0!"},{"$error":"#DIV/0!"},{"$error":"#DIV/0!"},{"$error":"#DIV/0!"},{"$error":"#DIV/0!"},{"$error":"#DIV/0!"},{"$error":"#DIV/0!"},{"$error":"#DIV/0!"},{"$error":"#DIV/0!"},{"$error":"#DIV/0!"},{"$error":"#DIV/0!"},{"$error":"#DIV/0!"},{"$error":"#DIV/0!"},{"$error":"#DIV/0!"},{"$error":"#DIV/0!"},{"$error":"#DIV/0!"},{"$error":"#DIV/0!"}]
[null,null,20,61.783387132670356,{"$f":"Klimaatscenario!C27","v":21.975674202516291},{"$error":"#DIV/0!"},{"$error":"#DIV/0!"},{"$error":"#DIV/0!"},{"$error":"#DIV/0!"},{"$error":"#DIV/0!"},{"$error":"#DIV/0!"},{"$error":"#DIV/0!"},{"$error":"#DIV/0!"},{"$error":"#DIV/0!"},{"$error":"#DIV/0!"},{"$error":"#DIV/0!"},{"$error":"#DIV/0!"},{"$error":"#DIV/0!"},{"$error":"#DIV/0!"},{"$error":"#DIV/0!"},{"$error":"#DIV/0!"},{"$error":"#DIV/0!"},{"$error":"#DIV/0!"},{"$error":"#DIV/0!"},{"$error":"#DIV/0!"},null,20,78.725288346554706,{"$f":"Klimaatscenario!D27","v":25.953055921848559},{"$error":"#DIV/0!"},{"$error":"#DIV/0!"},{"$error":"#DIV/0!"},{"$error":"#DIV/0!"},{"$error":"#DIV/0!"},{"$error":"#DIV/0!"},{"$error":"#DIV/0!"},{"$error":"#DIV/0!"},{"$error":"#DIV/0!"},{"$error":"#DIV/0!"},{"$error":"#DIV/0!"},{"$error":"#DIV/0!"},{"$error":"#DIV/0!"},{"$error":"#DIV/0!"},{"$error":"#DIV/0!"},{"$error":"#DIV/0!"},{"$error":"#DIV/0!"},{"$error":"#DIV/0!"},{"$error":"#DIV/0!"},{"$error":"#DIV/0!"}]
[null,null,21,61.783387132670356,{"$f":"Klimaatscenario!C28","v":22.346374525312314},{"$error":"#DIV/0!"},{"$error":"#DIV/0!"},{"$error":"#DIV/0!"},{"$error":"#DIV/0!"},{"$error":"#DIV/0!"},{"$error":"#DIV/0!"},{"$error":"#DIV/0!"},{"$error":"#DIV/0!"},{"$error":"#DIV/0!"},{"$error":"#DIV/0!"},{"$error":"#DIV/0!"},{"$error":"#DIV/0!"},{"$error":"#DIV/0!"},{"$error":"#DIV/0!"},{"$error":"#DIV/0!"},{"$error":"#DIV/0!"},{"$error":"#DIV/0!"},{"$error":"#DIV/0!"},{"$error":"#DIV/0!"},{"$error":"#DIV/0!"},null,21,78.725288346554706,{"$f":"Klimaatscenario!D28","v":26.425407651927888},{"$error":"#DIV/0!"},{"$error":"#DIV/0!"},{"$error":"#DIV/0!"},{"$error":"#DIV/0!"},{"$error":"#DIV/0!"},{"$error":"#DIV/0!"},{"$error":"#DIV/0!"},{"$error":"#DIV/0!"},{"$error":"#DIV/0!"},{"$error":"#DIV/0!"},{"$error":"#DIV/0!"},{"$error":"#DIV/0!"},{"$error":"#DIV/0!"},{"$error":"#DIV/0!"},{"$error":"#DIV/0!"},{"$error":"#DIV/0!"},{"$error":"#DIV/0!"},{"$error":"#DIV/0!"},{"$error":"#DIV/0!"},{"$error":"#DIV/0!"}]
[null,null,22,61.783387132669773,{"$f":"Klimaatscenario!C29","v":22.717074848108332},{"$error":"#DIV/0!"},{"$error":"#DIV/0!"},{"$error":"#DIV/0!"},{"$error":"#DIV/0!"},{"$error":"#DIV/0!"},{"$error":"#DIV/0!"},{"$error":"#DIV/0!"},{"$error":"#DIV/0!"},{"$error":"#DIV/0!"},{"$error":"#DIV/0!"},{"$error":"#DIV/0!"},{"$error":"#DIV/0!"},{"$error":"#DIV/0!"},{"$error":"#DIV/0!"},{"$error":"#DIV/0!"},{"$error":"#DIV/0!"},{"$error":"#DIV/0!"},{"$error":"#DIV/0!"},{"$error":"#DIV/0!"},{"$error":"#DIV/0!"},null,22,78.725288346554706,{"$f":"Klimaatscenario!D29","v":26.897759382007216},{"$error":"#DIV/0!"},{"$error":"#DIV/0!"},{"$error":"#DIV/0!"},{"$error":"#DIV/0!"},{"$error":"#DIV/0!"},{"$error":"#DIV/0!"},{"$error":"#DIV/0!"},{"$error":"#DIV/0!"},{"$error":"#DIV/0!"},{"$error":"#DIV/0!"},{"$error":"#DIV/0!"},{"$error":"#DIV/0!"},{"$error":"#DIV/0!"},{"$error":"#DIV/0!"},{"$error":"#DIV/0!"},{"$error":"#DIV/0!"},{"$error":"#DIV/0!"},{"$error":"#DIV/0!"},{"$error":"#DIV/0!"},{"$error":"#DIV/0!"}]
[null,null,23,61.783387132669773,{"$f":"Klimaatscenario!C30","v":23.087775170904351},{"$error":"#DIV/0!"},{"$error":"#DIV/0!"},{"$error":"#DIV/0!"},{"$error":"#DIV/0!"},{"$error":"#DIV/0!"},{"$error":"#DIV/0!"},{"$error":"#DIV/0!"},{"$error":"#DIV/0!"},{"$error":"#DIV/0!"},{"$error":"#DIV/0!"},{"$error":"#DIV/0!"},{"$error":"#DIV/0!"},{"$error":"#DIV/0!"},{"$error":"#DIV/0!"},{"$error":"#DIV/0!"},{"$error":"#DIV/0!"},{"$error":"#DIV/0!"},{"$error":"#DIV/0!"},{"$error":"#DIV/0!"},{"$error":"#DIV/0!"},null,23,78.725288346554706,{"$f":"Klimaatscenario!D30","v":27.370111112086544},{"$error":"#DIV/0!"},{"$error":"#DIV/0!"},{"$error":"#DIV/0!"},{"$error":"#DIV/0!"},{"$error":"#DIV/0!"},{"$error":"#DIV/0!"},{"$error":"#DIV/0!"},{"$error":"#DIV/0!"},{"$error":"#DIV/0!"},{"$error":"#DIV/0!"},{"$error":"#DIV/0!"},{"$error":"#DIV/0!"},{"$error":"#DIV/0!"},{"$error":"#DIV/0!"},{"$error":"#DIV/0!"},{"$error":"#DIV/0!"},{"$error":"#DIV/0!"},{"$error":"#DIV/0!"},{"$error":"#DIV/0!"},{"$error":"#DIV/0!"}]
[null,null,24,61.783387132670356,{"$f":"Klimaatscenario!C31","v":23.458475493700373},{"$error":"#DIV/0!"},{"$error":"#DIV/0!"},{"$error":"#DIV/0!"},{"$error":"#DIV/0!"},{"$error":"#DIV/0!"},{"$error":"#DIV/0!"},{"$error":"#DIV/0!"},{"$error":"#DIV/0!"},{"$error":"#DIV/0!"},{"$error":"#DIV/0!"},{"$error":"#DIV/0!"},{"$error":"#DIV/0!"},{"$error":"#DIV/0!"},{"$error":"#DIV/0!"},{"$error":"#DIV/0!"},{"$error":"#DIV/0!"},{"$error":"#DIV/0!"},{"$error":"#DIV/0!"},{"$error":"#DIV/0!"},{"$error":"#DIV/0!"},null,24,78.725288346554706,{"$f":"Klimaatscenario!D31","v":27.842462842165872},{"$error":"#DIV/0!"},{"$error":"#DIV/0!"},{"$error":"#DIV/0!"},{"$error":"#DIV/0!"},{"$error":"#DIV/0!"},{"$error":"#DIV/0!"},{"$error":"#DIV/0!"},{"$error":"#DIV/0!"},{"$error":"#DIV/0!"},{"$error":"#DIV/0!"},{"$error":"#DIV/0!"},{"$error":"#DIV/0!"},{"$error":"#DIV/0!"},{"$error":"#DIV/0!"},{"$error":"#DIV/0!"},{"$error":"#DIV/0!"},{"$error":"#DIV/0!"},{"$error":"#DIV/0!"},{"$error":"#DIV/0!"},{"$error":"#DIV/0!"}]
[null,null,25,61.783387132670356,{"$f":"Klimaatscenario!C32","v":23.829175816496395},{"$error":"#DIV/0!"},{"$error":"#DIV/0!"},{"$error":"#DIV/0!"},{"$error":"#DIV/0!"},{"$error":"#DIV/0!"},{"$error":"#DIV/0!"},{"$error":"#DIV/0!"},{"$error":"#DIV/0!"},{"$error":"#DIV/0!"},{"$error":"#DIV/0!"},{"$error":"#DIV/0!"},{"$error":"#DIV/0!"},{"$error":"#DIV/0!"},{"$error":"#DIV/0!"},{"$error":"#DIV/0!"},{"$error":"#DIV/0!"},{"$error":"#DIV/0!"},{"$error":"#DIV/0!"},{"$error":"#DIV/0!"},{"$error":"#DIV/0!"},null,25,78.725288346555303,{"$f":"Klimaatscenario!D32","v":28.314814572245204},{"$error":"#DIV/0!"},{"$error":"#DIV/0!"},{"$error":"#DIV/0!"},{"$error":"#DIV/0!"},{"$error":"#DIV/0!"},{"$error":"#DIV/0!"},{"$error":"#DIV/0!"},{"$error":"#DIV/0!"},{"$error":"#DIV/0!"},{"$error":"#DIV/0!"},{"$error":"#DIV/0!"},{"$error":"#DIV/0!"},{"$error":"#DIV/0!"},{"$error":"#DIV/0!"},{"$error":"#DIV/0!"},{"$error":"#DIV/0!"},{"$error":"#DIV/0!"},{"$error":"#DIV/0!"},{"$error":"#DIV/0!"},{"$error":"#DIV/0!"}]
[null,null,26,61.783387132669773,{"$f":"Klimaatscenario!C33","v":24.199876139292414},{"$error":"#DIV/0!"},{"$error":"#DIV/0!"},{"$error":"#DIV/0!"},{"$error":"#DIV/0!"},{"$error":"#DIV/0!"},{"$error":"#DIV/0!"},{"$error":"#DIV/0!"},{"$error":"#DIV/0!"},{"$error":"#DIV/0!"},{"$error":"#DIV/0!"},{"$error":"#DIV/0!"},{"$error":"#DIV/0!"},{"$error":"#DIV/0!"},{"$error":"#DIV/0!"},{"$error":"#DIV/0!"},{"$error":"#DIV/0!"},{"$error":"#DIV/0!"},{"$error":"#DIV/0!"},{"$error":"#DIV/0!"},{"$error":"#DIV/0!"},null,26,78.725288346554123,{"$f":"Klimaatscenario!D33","v":28.787166302324529},{"$error":"#DIV/0!"},{"$error":"#DIV/0!"},{"$error":"#DIV/0!"},{"$error":"#DIV/0!"},{"$error":"#DIV/0!"},{"$error":"#DIV/0!"},{"$error":"#DIV/0!"},{"$error":"#DIV/0!"},{"$error":"#DIV/0!"},{"$error":"#DIV/0!"},{"$error":"#DIV/0!"},{"$error":"#DIV/0!"},{"$error":"#DIV/0!"},{"$error":"#DIV/0!"},{"$error":"#DIV/0!"},{"$error":"#DIV/0!"},{"$error":"#DIV/0!"},{"$error":"#DIV/0!"},{"$error":"#DIV/0!"},{"$error":"#DIV/0!"}]
[null,null,27,61.783387132669773,{"$f":"Klimaatscenario!C34","v":24.570576462088432},{"$error":"#DIV/0!"},{"$error":"#DIV/0!"},{"$error":"#DIV/0!"},{"$error":"#DIV/0!"},{"$error":"#DIV/0!"},{"$error":"#DIV/0!"},{"$error":"#DIV/0!"},{"$error":"#DIV/0!"},{"$error":"#DIV/0!"},{"$error":"#DIV/0!"},{"$error":"#DIV/0!"},{"$error":"#DIV/0!"},{"$error":"#DIV/0!"},{"$error":"#DIV/0!"},{"$error":"#DIV/0!"},{"$error":"#DIV/0!"},{"$error":"#DIV/0!"},{"$error":"#DIV/0!"},{"$error":"#DIV/0!"},{"$error":"#DIV/0!"},null,27,78.725288346555303,{"$f":"Klimaatscenario!D34","v":29.259518032403861},{"$error":"#DIV/0!"},{"$error":"#DIV/0!"},{"$error":"#DIV/0!"},{"$error":"#DIV/0!"},{"$error":"#DIV/0!"},{"$error":"#DIV/0!"},{"$error":"#DIV/0!"},{"$error":"#DIV/0!"},{"$error":"#DIV/0!"},{"$error":"#DIV/0!"},{"$error":"#DIV/0!"},{"$error":"#DIV/0!"},{"$error":"#DIV/0!"},{"$error":"#DIV/0!"},{"$error":"#DIV/0!"},{"$error":"#DIV/0!"},{"$error":"#DIV/0!"},{"$error":"#DIV/0!"},{"$error":"#DIV/0!"},{"$error":"#DIV/0!"}]
[null,null,28,61.783387132670356,{"$f":"Klimaatscenario!C35","v":24.941276784884455},{"$error":"#DIV/0!"},{"$error":"#DIV/0!"},{"$error":"#DIV/0!"},{"$error":"#DIV/0!"},{"$error":"#DIV/0!"},{"$error":"#DIV/0!"},{"$error":"#DIV/0!"},{"$error":"#DIV/0!"},{"$error":"#DIV/0!"},{"$error":"#DIV/0!"},{"$error":"#DIV/0!"},{"$error":"#DIV/0!"},{"$error":"#DIV/0!"},{"$error":"#DIV/0!"},{"$error":"#DIV/0!"},{"$error":"#DIV/0!"},{"$error":"#DIV/0!"},{"$error":"#DIV/0!"},{"$error":"#DIV/0!"},{"$error":"#DIV/0!"},null,28,78.725288346554123,{"$f":"Klimaatscenario!D35","v":29.731869762483186},{"$error":"#DIV/0!"},{"$error":"#DIV/0!"},{"$error":"#DIV/0!"},{"$error":"#DIV/0!"},{"$error":"#DIV/0!"},{"$error":"#DIV/0!"},{"$error":"#DIV/0!"},{"$error":"#DIV/0!"},{"$error":"#DIV/0!"},{"$error":"#DIV/0!"},{"$error":"#DIV/0!"},{"$error":"#DIV/0!"},{"$error":"#DIV/0!"},{"$error":"#DIV/0!"},{"$error":"#DIV/0!"},{"$error":"#DIV/0!"},{"$error":"#DIV/0!"},{"$error":"#DIV/0!"},{"$error":"#DIV/0!"},{"$error":"#DIV/0!"}]
[null,null,29,61.783387132670356,{"$f":"Klimaatscenario!C36","v":25.311977107680477},{"$error":"#DIV/0!"},{"$error":"#DIV/0!"},{"$error":"#DIV/0!"},{"$error":"#DIV/0!"},{"$error":"#DIV/0!"},{"$error":"#DIV/0!"},{"$error":"#DIV/0!"},{"$error":"#DIV/0!"},{"$error":"#DIV/0!"},{"$error":"#DIV/0!"},{"$error":"#DIV/0!"},{"$error":"#DIV/0!"},{"$error":"#DIV/0!"},{"$error":"#DIV/0!"},{"$error":"#DIV/0!"},{"$error":"#DIV/0!"},{"$error":"#DIV/0!"},{"$error":"#DIV/0!"},{"$error":"#DIV/0!"},{"$error":"#DIV/0!"},null,29,78.725288346555303,{"$f":"Klimaatscenario!D36","v":30.204221492562517},{"$error":"#DIV/0!"},{"$error":"#DIV/0!"},{"$error":"#DIV/0!"},{"$error":"#DIV/0!"},{"$error":"#DIV/0!"},{"$error":"#DIV/0!"},{"$error":"#DIV/0!"},{"$error":"#DIV/0!"},{"$error":"#DIV/0!"},{"$error":"#DIV/0!"},{"$error":"#DIV/0!"},{"$error":"#DIV/0!"},{"$error":"#DIV/0!"},{"$error":"#DIV/0!"},{"$error":"#DIV/0!"},{"$error":"#DIV/0!"},{"$error":"#DIV/0!"},{"$error":"#DIV/0!"},{"$error":"#DIV/0!"},{"$error":"#DIV/0!"}]
[null,null,30,61.783387132669773,{"$f":"Klimaatscenario!C37","v":25.682677430476495},{"$error":"#DIV/0!"},{"$error":"#DIV/0!"},{"$error":"#DIV/0!"},{"$error":"#DIV/0!"},{"$error":"#DIV/0!"},{"$error":"#DIV/0!"},{"$error":"#DIV/0!"},{"$error":"#DIV/0!"},{"$error":"#DIV/0!"},{"$error":"#DIV/0!"},{"$error":"#DIV/0!"},{"$error":"#DIV/0!"},{"$error":"#DIV/0!"},{"$error":"#DIV/0!"},{"$error":"#DIV/0!"},{"$error":"#DIV/0!"},{"$error":"#DIV/0!"},{"$error":"#DIV/0!"},{"$error":"#DIV/0!"},{"$error":"#DIV/0!"},null,30,78.725288346554706,{"$f":"Klimaatscenario!D37","v":30.676573222641846},{"$error":"#DIV/0!"},{"$error":"#DIV/0!"},{"$error":"#DIV/0!"},{"$error":"#DIV/0!"},{"$error":"#DIV/0!"},{"$error":"#DIV/0!"},{"$error":"#DIV/0!"},{"$error":"#DIV/0!"},{"$error":"#DIV/0!"},{"$error":"#DIV/0!"},{"$error":"#DIV/0!"},{"$error":"#DIV/0!"},{"$error":"#DIV/0!"},{"$error":"#DIV/0!"},{"$error":"#DIV/0!"},{"$error":"#DIV/0!"},{"$error":"#DIV/0!"},{"$error":"#DIV/0!"},{"$error":"#DIV/0!"},{"$error":"#DIV/0!"}]
[null,null,31,30.822564884787813,{"$f":"Klimaatscenario!C38","v":25.867612819785222},{"$error":"#DIV/0!"},{"$error":"#DIV/0!"},{"$error":"#DIV/0!"},{"$error":"#DIV/0!"},{"$error":"#DIV/0!"},{"$error":"#DIV/0!"},{"$error":"#DIV/0!"},{"$error":"#DIV/0!"},{"$error":"#DIV/0!"},{"$error":"#DIV/0!"},{"$error":"#DIV/0!"},{"$error":"#DIV/0!"},{"$error":"#DIV/0!"},{"$error":"#DIV/0!"},{"$error":"#DIV/0!"},{"$error":"#DIV/0!"},{"$error":"#DIV/0!"},{"$error":"#DIV/0!"},{"$error":"#DIV/0!"},{"$error":"#DIV/0!"},null,31,38.17945558408671,{"$f":"Klimaatscenario!D38","v":30.905649956146366},{"$error":"#DIV/0!"},{"$error":"#DIV/0!"},{"$error":"#DIV/0!"},{"$error":"#DIV/0!"},{"$error":"#DIV/0!"},{"$error":"#DIV/0!"},{"$error":"#DIV/0!"},{"$error":"#DIV/0!"},{"$error":"#DIV/0!"},{"$error":"#DIV/0!"},{"$error":"#DIV/0!"},{"$error":"#DIV/0!"},{"$error":"#DIV/0!"},{"$error":"#DIV/0!"},{"$error":"#DIV/0!"},{"$error":"#DIV/0!"},{"$error":"#DIV/0!"},{"$error":"#DIV/0!"},{"$error":"#DIV/0!"},{"$error":"#DIV/0!"}]
[null,null,32,30.822564884787813,{"$f":"Klimaatscenario!C39","v":26.052548209093949},{"$error":"#DIV/0!"},{"$error":"#DIV/0!"},{"$error":"#DIV/0!"},{"$f":"($J$338/60)*$C290","v":{"$error":"#DIV/0!"}},{"$f":"$E290-F290-G290-H290-I290","v":{"$error":"#DIV/0!"}},{"$error":"#DIV/0!"},{"$error":"#DIV/0!"},{"$error":"#DIV/0!"},{"$f":"($O$338/60)*$C290","v":{"$error":"#DIV/0!"}},{"$f":"$E290-K290-L290-M290-N290","v":{"$error":"#DIV/0!"}},{"$error":"#DIV/0!"},{"$error":"#DIV/0!"},{"$error":"#DIV/0!"},{"$f":"($T$338/60)*$C290","v":{"$error":"#DIV/0!"}},{"$f":"$E290-P290-Q290-R290-S290","v":{"$error":"#DIV/0!"}},{"$error":"#DIV/0!"},{"$error":"#DIV/0!"},{"$error":"#DIV/0!"},{"$f":"($Y$338/60)*$C290","v":{"$error":"#DIV/0!"}},{"$f":"$E290-U290-V290-W290-X290","v":{"$error":"#DIV/0!"}},null,32,38.179455584086128,{"$f":"Klimaatscenario!D39","v":31.134726689650883},{"$error":"#DIV/0!"},{"$error":"#DIV/0!"},{"$error":"#DIV/0!"},{"$f":"($AH$338/60)*$AA290","v":{"$error":"#DIV/0!"}},{"$f":"$AC290-AD290-AE290-AF290-AG290","v":{"$error":"#DIV/0!"}},{"$error":"#DIV/0!"},{"$error":"#DIV/0!"},{"$error":"#DIV/0!"},{"$f":"($AM$338/60)*$AA290","v":{"$error":"#DIV/0!"}},{"$f":"$AC290-AI290-AJ290-AK290-AL290","v":{"$error":"#DIV/0!"}},{"$error":"#DIV/0!"},{"$error":"#DIV/0!"},{"$error":"#DIV/0!"},{"$f":"($AR$338/60)*$AA290","v":{"$error":"#DIV/0!"}},{"$f":"$AC290-AN290-AO290-AP290-AQ290","v":{"$error":"#DIV/0!"}},{"$error":"#DIV/0!"},{"$error":"#DIV/0!"},{"$error":"#DIV/0!"},{"$f":"($AW$338/60)*$AA290","v":{"$error":"#DIV/0!"}},{"$f":"$AC290-AS290-AT290-AU290-AV290","v":{"$error":"#DIV/0!"}}]
[null,null,33,30.822564884787813,{"$f":"Klimaatscenario!C40","v":26.237483598402676},{"$f":"((J$337*60)/10000)+F290","v":{"$error":"#DIV/0!"}},{"$error":"#DIV/0!"},{"$error":"#DIV/0!"},{"$error":"#DIV/0!"},{"$error":"#DIV/0!"},{"$f":"((O$337*60)/10000)+K290","v":{"$error":"#DIV/0!"}},{"$error":"#DIV/0!"},{"$error":"#DIV/0!"},{"$error":"#DIV/0!"},{"$error":"#DIV/0!"},{"$f":"((T$337*60)/10000)+P290","v":{"$error":"#DIV/0!"}},{"$error":"#DIV/0!"},{"$error":"#DIV/0!"},{"$error":"#DIV/0!"},{"$error":"#DIV/0!"},{"$f":"((Y$337*60)/10000)+U290","v":{"$error":"#DIV/0!"}},{"$error":"#DIV/0!"},{"$error":"#DIV/0!"},{"$error":"#DIV/0!"},{"$error":"#DIV/0!"},null,33,38.17945558408671,{"$f":"Klimaatscenario!D40","v":31.363803423155403},{"$f":"((AH$337*60)/10000)+AD290","v":{"$error":"#DIV/0!"}},{"$error":"#DIV/0!"},{"$error":"#DIV/0!"},{"$error":"#DIV/0!"},{"$error":"#DIV/0!"},{"$f":"((AM$337*60)/10000)+AI290","v":{"$error":"#DIV/0!"}},{"$error":"#DIV/0!"},{"$error":"#DIV/0!"},{"$error":"#DIV/0!"},{"$error":"#DIV/0!"},{"$f":"((AR$337*60)/10000)+AN290","v":{"$error":"#DIV/0!"}},{"$error":"#DIV/0!"},{"$error":"#DIV/0!"},{"$error":"#DIV/0!"},{"$error":"#DIV/0!"},{"$f":"((AW$337*60)/10000)+AS290","v":{"$error":"#DIV/0!"}},{"$error":"#DIV/0!"},{"$error":"#DIV/0!"},{"$error":"#DIV/0!"},{"$error":"#DIV/0!"}]
[null,null,34,30.822564884787219,{"$f":"Klimaatscenario!C41","v":26.422418987711399},{"$error":"#DIV/0!"},{"$error":"#DIV/0!"},{"$error":"#DIV/0!"},{"$error":"#DIV/0!"},{"$error":"#DIV/0!"},{"$error":"#DIV/0!"},{"$error":"#DIV/0!"},{"$error":"#DIV/0!"},{"$error":"#DIV/0!"},{"$error":"#DIV/0!"},{"$error":"#DIV/0!"},{"$error":"#DIV/0!"},{"$error":"#DIV/0!"},{"$error":"#DIV/0!"},{"$error":"#DIV/0!"},{"$error":"#DIV/0!"},{"$error":"#DIV/0!"},{"$error":"#DIV/0!"},{"$error":"#DIV/0!"},{"$error":"#DIV/0!"},null,34,38.17945558408671,{"$f":"Klimaatscenario!D41","v":31.592880156659923},{"$error":"#DIV/0!"},{"$error":"#DIV/0!"},{"$error":"#DIV/0!"},{"$error":"#DIV/0!"},{"$error":"#DIV/0!"},{"$error":"#DIV/0!"},{"$error":"#DIV/0!"},{"$error":"#DIV/0!"},{"$error":"#DIV/0!"},{"$error":"#DIV/0!"},{"$error":"#DIV/0!"},{"$error":"#DIV/0!"},{"$error":"#DIV/0!"},{"$error":"#DIV/0!"},{"$error":"#DIV/0!"},{"$error":"#DIV/0!"},{"$error":"#DIV/0!"},{"$error":"#DIV/0!"},{"$error":"#DIV/0!"},{"$error":"#DIV/0!"}]
[null,null,35,30.822564884787813,{"$f":"Klimaatscenario!C42","v":26.607354377020126},{"$error":"#DIV/0!"},{"$error":"#DIV/0!"},{"$error":"#DIV/0!"},{"$error":"#DIV/0!"},{"$error":"#DIV/0!"},{"$error":"#DIV/0!"},{"$error":"#DIV/0!"},{"$error":"#DIV/0!"},{"$error":"#DIV/0!"},{"$error":"#DIV/0!"},{"$error":"#DIV/0!"},{"$error":"#DIV/0!"},{"$error":"#DIV/0!"},{"$error":"#DIV/0!"},{"$error":"#DIV/0!"},{"$error":"#DIV/0!"},{"$error":"#DIV/0!"},{"$error":"#DIV/0!"},{"$error":"#DIV/0!"},{"$error":"#DIV/0!"},null,35,38.179455584086128,{"$f":"Klimaatscenario!D42","v":31.82195689016444},{"$error":"#DIV/0!"},{"$error":"#DIV/0!"},{"$error":"#DIV/0!"},{"$error":"#DIV/0!"},{"$error":"#DIV/0!"},{"$error":"#DIV/0!"},{"$error":"#DIV/0!"},{"$error":"#DIV/0!"},{"$error":"#DIV/0!"},{"$error":"#DIV/0!"},{"$error":"#DIV/0!"},{"$error":"#DIV/0!"},{"$error":"#DIV/0!"},{"$error":"#DIV/0!"},{"$error":"#DIV/0!"},{"$error":"#DIV/0!"},{"$error":"#DIV/0!"},{"$error":"#DIV/0!"},{"$error":"#DIV/0!"},{"$error":"#DIV/0!"}]
[null,null,36,30.822564884787813,{"$f":"Klimaatscenario!C43","v":26.792289766328853},{"$error":"#DIV/0!"},{"$error":"#DIV/0!"},{"$error":"#DIV/0!"},{"$error":"#DIV/0!"},{"$error":"#DIV/0!"},{"$error":"#DIV/0!"},{"$error":"#DIV/0!"},{"$error":"#DIV/0!"},{"$error":"#DIV/0!"},{"$error":"#DIV/0!"},{"$error":"#DIV/0!"},{"$error":"#DIV/0!"},{"$error":"#DIV/0!"},{"$error":"#DIV/0!"},{"$error":"#DIV/0!"},{"$error":"#DIV/0!"},{"$error":"#DIV/0!"},{"$error":"#DIV/0!"},{"$error":"#DIV/0!"},{"$error":"#DIV/0!"},null,36,38.179455584086128,{"$f":"Klimaatscenario!D43","v":32.051033623668957},{"$error":"#DIV/0!"},{"$error":"#DIV/0!"},{"$error":"#DIV/0!"},{"$error":"#DIV/0!"},{"$error":"#DIV/0!"},{"$error":"#DIV/0!"},{"$error":"#DIV/0!"},{"$error":"#DIV/0!"},{"$error":"#DIV/0!"},{"$error":"#DIV/0!"},{"$error":"#DIV/0!"},{"$error":"#DIV/0!"},{"$error":"#DIV/0!"},{"$error":"#DIV/0!"},{"$error":"#DIV/0!"},{"$error":"#DIV/0!"},{"$error":"#DIV/0!"},{"$error":"#DIV/0!"},{"$error":"#DIV/0!"},{"$error":"#DIV/0!"}]
[null,null,37,{"$f":"((((((E295-E294)/(C295-C294))/60)/1000)*10000)*1000)","v":30.822564884787813},{"$f":"Klimaatscenario!C44","v":26.97722515563758},{"$error":"#DIV/0!"},{"$error":"#DIV/0!"},{"$error":"#DIV/0!"},{"$error":"#DIV/0!"},{"$error":"#DIV/0!"},{"$error":"#DIV/0!"},{"$error":"#DIV/0!"},{"$error":"#DIV/0!"},{"$error":"#DIV/0!"},{"$error":"#DIV/0!"},{"$error":"#DIV/0!"},{"$error":"#DIV/0!"},{"$error":"#DIV/0!"},{"$error":"#DIV/0!"},{"$error":"#DIV/0!"},{"$error":"#DIV/0!"},{"$error":"#DIV/0!"},{"$error":"#DIV/0!"},{"$error":"#DIV/0!"},{"$error":"#DIV/0!"},null,37,{"$f":"((((((AC295-AC294)/(AA295-AA294))/60)/1000)*10000)*1000)","v":38.17945558408671},{"$f":"Klimaatscenario!D44","v":32.280110357173477},{"$error":"#DIV/0!"},{"$error":"#DIV/0!"},{"$error":"#DIV/0!"},{"$error":"#DIV/0!"},{"$error":"#DIV/0!"},{"$error":"#DIV/0!"},{"$error":"#DIV/0!"},{"$error":"#DIV/0!"},{"$error":"#DIV/0!"},{"$error":"#DIV/0!"},{"$error":"#DIV/0!"},{"$error":"#DIV/0!"},{"$error":"#DIV/0!"},{"$error":"#DIV/0!"},{"$error":"#DIV/0!"},{"$error":"#DIV/0!"},{"$error":"#DIV/0!"},{"$error":"#DIV/0!"},{"$error":"#DIV/0!"},{"$error":"#DIV/0!"}]
[null,null,38,30.822564884787813,{"$f":"Klimaatscenario!C45","v":27.162160544946307},{"$error":"#DIV/0!"},{"$error":"#DIV/0!"},{"$error":"#DIV/0!"},{"$error":"#DIV/0!"},{"$error":"#DIV/0!"},{"$error":"#DIV/0!"},{"$error":"#DIV/0!"},{"$error":"#DIV/0!"},{"$error":"#DIV/0!"},{"$error":"#DIV/0!"},{"$error":"#DIV/0!"},{"$error":"#DIV/0!"},{"$error":"#DIV/0!"},{"$error":"#DIV/0!"},{"$error":"#DIV/0!"},{"$error":"#DIV/0!"},{"$error":"#DIV/0!"},{"$error":"#DIV/0!"},{"$error":"#DIV/0!"},{"$error":"#DIV/0!"},null,38,38.17945558408671,{"$f":"Klimaatscenario!D45","v":32.509187090677997},{"$error":"#DIV/0!"},{"$error":"#DIV/0!"},{"$error":"#DIV/0!"},{"$error":"#DIV/0!"},{"$error":"#DIV/0!"},{"$error":"#DIV/0!"},{"$error":"#DIV/0!"},{"$error":"#DIV/0!"},{"$error":"#DIV/0!"},{"$error":"#DIV/0!"},{"$error":"#DIV/0!"},{"$error":"#DIV/0!"},{"$error":"#DIV/0!"},{"$error":"#DIV/0!"},{"$error":"#DIV/0!"},{"$error":"#DIV/0!"},{"$error":"#DIV/0!"},{"$error":"#DIV/0!"},{"$error":"#DIV/0!"},{"$error":"#DIV/0!"}]
[null,null,39,30.822564884787813,{"$f":"Klimaatscenario!C46","v":27.347095934255034},{"$error":"#DIV/0!"},{"$error":"#DIV/0!"},{"$error":"#DIV/0!"},{"$error":"#DIV/0!"},{"$error":"#DIV/0!"},{"$error":"#DIV/0!"},{"$error":"#DIV/0!"},{"$error":"#DIV/0!"},{"$error":"#DIV/0!"},{"$error":"#DIV/0!"},{"$error":"#DIV/0!"},{"$error":"#DIV/0!"},{"$error":"#DIV/0!"},{"$error":"#DIV/0!"},{"$error":"#DIV/0!"},{"$error":"#DIV/0!"},{"$error":"#DIV/0!"},{"$error":"#DIV/0!"},{"$error":"#DIV/0!"},{"$error":"#DIV/0!"},null,39,38.17945558408671,{"$f":"Klimaatscenario!D46","v":32.738263824182518},{"$error":"#DIV/0!"},{"$error":"#DIV/0!"},{"$error":"#DIV/0!"},{"$error":"#DIV/0!"},{"$error":"#DIV/0!"},{"$error":"#DIV/0!"},{"$error":"#DIV/0!"},{"$error":"#DIV/0!"},{"$error":"#DIV/0!"},{"$error":"#DIV/0!"},{"$error":"#DIV/0!"},{"$error":"#DIV/0!"},{"$error":"#DIV/0!"},{"$error":"#DIV/0!"},{"$error":"#DIV/0!"},{"$error":"#DIV/0!"},{"$error":"#DIV/0!"},{"$error":"#DIV/0!"},{"$error":"#DIV/0!"},{"$error":"#DIV/0!"}]
[null,null,40,30.822564884787813,{"$f":"Klimaatscenario!C47","v":27.532031323563761},{"$error":"#DIV/0!"},{"$error":"#DIV/0!"},{"$error":"#DIV/0!"},{"$error":"#DIV/0!"},{"$error":"#DIV/0!"},{"$error":"#DIV/0!"},{"$error":"#DIV/0!"},{"$error":"#DIV/0!"},{"$error":"#DIV/0!"},{"$error":"#DIV/0!"},{"$error":"#DIV/0!"},{"$error":"#DIV/0!"},{"$error":"#DIV/0!"},{"$error":"#DIV/0!"},{"$error":"#DIV/0!"},{"$error":"#DIV/0!"},{"$error":"#DIV/0!"},{"$error":"#DIV/0!"},{"$error":"#DIV/0!"},{"$error":"#DIV/0!"},null,40,38.17945558408671,{"$f":"Klimaatscenario!D47","v":32.967340557687038},{"$error":"#DIV/0!"},{"$error":"#DIV/0!"},{"$error":"#DIV/0!"},{"$error":"#DIV/0!"},{"$error":"#DIV/0!"},{"$error":"#DIV/0!"},{"$error":"#DIV/0!"},{"$error":"#DIV/0!"},{"$error":"#DIV/0!"},{"$error":"#DIV/0!"},{"$error":"#DIV/0!"},{"$error":"#DIV/0!"},{"$error":"#DIV/0!"},{"$error":"#DIV/0!"},{"$error":"#DIV/0!"},{"$error":"#DIV/0!"},{"$error":"#DIV/0!"},{"$error":"#DIV/0!"},{"$error":"#DIV/0!"},{"$error":"#DIV/0!"}]
[null,null,41,30.822564884787219,{"$f":"Klimaatscenario!C48","v":27.716966712872484},{"$error":"#DIV/0!"},{"$error":"#DIV/0!"},{"$error":"#DIV/0!"},{"$error":"#DIV/0!"},{"$error":"#DIV/0!"},{"$error":"#DIV/0!"},{"$error":"#DIV/0!"},{"$error":"#DIV/0!"},{"$error":"#DIV/0!"},{"$error":"#DIV/0!"},{"$error":"#DIV/0!"},{"$error":"#DIV/0!"},{"$error":"#DIV/0!"},{"$error":"#DIV/0!"},{"$error":"#DIV/0!"},{"$error":"#DIV/0!"},{"$error":"#DIV/0!"},{"$error":"#DIV/0!"},{"$error":"#DIV/0!"},{"$error":"#DIV/0!"},null,41,38.179455584085531,{"$f":"Klimaatscenario!D48","v":33.196417291191551},{"$error":"#DIV/0!"},{"$error":"#DIV/0!"},{"$error":"#DIV/0!"},{"$error":"#DIV/0!"},{"$error":"#DIV/0!"},{"$error":"#DIV/0!"},{"$error":"#DIV/0!"},{"$error":"#DIV/0!"},{"$error":"#DIV/0!"},{"$error":"#DIV/0!"},{"$error":"#DIV/0!"},{"$error":"#DIV/0!"},{"$error":"#DIV/0!"},{"$error":"#DIV/0!"},{"$error":"#DIV/0!"},{"$error":"#DIV/0!"},{"$error":"#DIV/0!"},{"$error":"#DIV/0!"},{"$error":"#DIV/0!"},{"$error":"#DIV/0!"}]
[null,null,42,30.822564884787813,{"$f":"Klimaatscenario!C49","v":27.901902102181211},{"$error":"#DIV/0!"},{"$error":"#DIV/0!"},{"$error":"#DIV/0!"},{"$error":"#DIV/0!"},{"$error":"#DIV/0!"},{"$error":"#DIV/0!"},{"$error":"#DIV/0!"},{"$error":"#DIV/0!"},{"$error":"#DIV/0!"},{"$error":"#DIV/0!"},{"$error":"#DIV/0!"},{"$error":"#DIV/0!"},{"$error":"#DIV/0!"},{"$error":"#DIV/0!"},{"$error":"#DIV/0!"},{"$error":"#DIV/0!"},{"$error":"#DIV/0!"},{"$error":"#DIV/0!"},{"$error":"#DIV/0!"},{"$error":"#DIV/0!"},null,42,38.17945558408671,{"$f":"Klimaatscenario!D49","v":33.425494024696071},{"$error":"#DIV/0!"},{"$error":"#DIV/0!"},{"$error":"#DIV/0!"},{"$error":"#DIV/0!"},{"$error":"#DIV/0!"},{"$error":"#DIV/0!"},{"$error":"#DIV/0!"},{"$error":"#DIV/0!"},{"$error":"#DIV/0!"},{"$error":"#DIV/0!"},{"$error":"#DIV/0!"},{"$error":"#DIV/0!"},{"$error":"#DIV/0!"},{"$error":"#DIV/0!"},{"$error":"#DIV/0!"},{"$error":"#DIV/0!"},{"$error":"#DIV/0!"},{"$error":"#DIV/0!"},{"$error":"#DIV/0!"},{"$error":"#DIV/0!"}]
[null,null,43,30.822564884787813,{"$f":"Klimaatscenario!C50","v":28.086837491489938},{"$error":"#DIV/0!"},{"$error":"#DIV/0!"},{"$error":"#DIV/0!"},{"$error":"#DIV/0!"},{"$error":"#DIV/0!"},{"$error":"#DIV/0!"},{"$error":"#DIV/0!"},{"$error":"#DIV/0!"},{"$error":"#DIV/0!"},{"$error":"#DIV/0!"},{"$error":"#DIV/0!"},{"$error":"#DIV/0!"},{"$error":"#DIV/0!"},{"$error":"#DIV/0!"},{"$error":"#DIV/0!"},{"$error":"#DIV/0!"},{"$error":"#DIV/0!"},{"$error":"#DIV/0!"},{"$error":"#DIV/0!"},{"$error":"#DIV/0!"},null,43,38.17945558408671,{"$f":"Klimaatscenario!D50","v":33.654570758200592},{"$error":"#DIV/0!"},{"$error":"#DIV/0!"},{"$error":"#DIV/0!"},{"$error":"#DIV/0!"},{"$error":"#DIV/0!"},{"$error":"#DIV/0!"},{"$error":"#DIV/0!"},{"$error":"#DIV/0!"},{"$error":"#DIV/0!"},{"$error":"#DIV/0!"},{"$error":"#DIV/0!"},{"$error":"#DIV/0!"},{"$error":"#DIV/0!"},{"$error":"#DIV/0!"},{"$error":"#DIV/0!"},{"$error":"#DIV/0!"},{"$error":"#DIV/0!"},{"$error":"#DIV/0!"},{"$error":"#DIV/0!"},{"$error":"#DIV/0!"}]
[null,null,44,30.822564884787813,{"$f":"Klimaatscenario!C51","v":28.271772880798665},{"$error":"#DIV/0!"},{"$error":"#DIV/0!"},{"$error":"#DIV/0!"},{"$error":"#DIV/0!"},{"$error":"#DIV/0!"},{"$error":"#DIV/0!"},{"$error":"#DIV/0!"},{"$error":"#DIV/0!"},{"$error":"#DIV/0!"},{"$error":"#DIV/0!"},{"$error":"#DIV/0!"},{"$error":"#DIV/0!"},{"$error":"#DIV/0!"},{"$error":"#DIV/0!"},{"$error":"#DIV/0!"},{"$error":"#DIV/0!"},{"$error":"#DIV/0!"},{"$error":"#DIV/0!"},{"$error":"#DIV/0!"},{"$error":"#DIV/0!"},null,44,38.17945558408671,{"$f":"Klimaatscenario!D51","v":33.883647491705112},{"$error":"#DIV/0!"},{"$error":"#DIV/0!"},{"$error":"#DIV/0!"},{"$error":"#DIV/0!"},{"$error":"#DIV/0!"},{"$error":"#DIV/0!"},{"$error":"#DIV/0!"},{"$error":"#DIV/0!"},{"$error":"#DIV/0!"},{"$error":"#DIV/0!"},{"$error":"#DIV/0!"},{"$error":"#DIV/0!"},{"$error":"#DIV/0!"},{"$error":"#DIV/0!"},{"$error":"#DIV/0!"},{"$error":"#DIV/0!"},{"$error":"#DIV/0!"},{"$error":"#DIV/0!"},{"$error":"#DIV/0!"},{"$error":"#DIV/0!"}]
[null,null,45,30.822564884787813,{"$f":"Klimaatscenario!C52","v":28.456708270107391},{"$error":"#DIV/0!"},{"$error":"#DIV/0!"},{"$error":"#DIV/0!"},{"$error":"#DIV/0!"},{"$error":"#DIV/0!"},{"$error":"#DIV/0!"},{"$error":"#DIV/0!"},{"$error":"#DIV/0!"},{"$error":"#DIV/0!"},{"$error":"#DIV/0!"},{"$error":"#DIV/0!"},{"$error":"#DIV/0!"},{"$error":"#DIV/0!"},{"$error":"#DIV/0!"},{"$error":"#DIV/0!"},{"$error":"#DIV/0!"},{"$error":"#DIV/0!"},{"$error":"#DIV/0!"},{"$error":"#DIV/0!"},{"$error":"#DIV/0!"},null,45,38.17945558408671,{"$f":"Klimaatscenario!D52","v":34.112724225209632},{"$error":"#DIV/0!"},{"$error":"#DIV/0!"},{"$error":"#DIV/0!"},{"$error":"#DIV/0!"},{"$error":"#DIV/0!"},{"$error":"#DIV/0!"},{"$error":"#DIV/0!"},{"$error":"#DIV/0!"},{"$error":"#DIV/0!"},{"$error":"#DIV/0!"},{"$error":"#DIV/0!"},{"$error":"#DIV/0!"},{"$error":"#DIV/0!"},{"$error":"#DIV/0!"},{"$error":"#DIV/0!"},{"$error":"#DIV/0!"},{"$error":"#DIV/0!"},{"$error":"#DIV/0!"},{"$error":"#DIV/0!"},{"$error":"#DIV/0!"}]
[null,null,46,30.822564884787813,{"$f":"Klimaatscenario!C53","v":28.641643659416118},{"$error":"#DIV/0!"},{"$error":"#DIV/0!"},{"$error":"#DIV/0!"},{"$error":"#DIV/0!"},{"$error":"#DIV/0!"},{"$error":"#DIV/0!"},{"$error":"#DIV/0!"},{"$error":"#DIV/0!"},{"$error":"#DIV/0!"},{"$error":"#DIV/0!"},{"$error":"#DIV/0!"},{"$error":"#DIV/0!"},{"$error":"#DIV/0!"},{"$error":"#DIV/0!"},{"$error":"#DIV/0!"},{"$error":"#DIV/0!"},{"$error":"#DIV/0!"},{"$error":"#DIV/0!"},{"$error":"#DIV/0!"},{"$error":"#DIV/0!"},null,46,38.17945558408671,{"$f":"Klimaatscenario!D53","v":34.341800958714153},{"$error":"#DIV/0!"},{"$error":"#DIV/0!"},{"$error":"#DIV/0!"},{"$error":"#DIV/0!"},{"$error":"#DIV/0!"},{"$error":"#DIV/0!"},{"$error":"#DIV/0!"},{"$error":"#DIV/0!"},{"$error":"#DIV/0!"},{"$error":"#DIV/0!"},{"$error":"#DIV/0!"},{"$error":"#DIV/0!"},{"$error":"#DIV/0!"},{"$error":"#DIV/0!"},{"$error":"#DIV/0!"},{"$error":"#DIV/0!"},{"$error":"#DIV/0!"},{"$error":"#DIV/0!"},{"$error":"#DIV/0!"},{"$error":"#DIV/0!"}]
[null,null,47,30.822564884787813,{"$f":"Klimaatscenario!C54","v":28.826579048724845},{"$error":"#DIV/0!"},{"$error":"#DIV/0!"},{"$error":"#DIV/0!"},{"$error":"#DIV/0!"},{"$error":"#DIV/0!"},{"$error":"#DIV/0!"},{"$error":"#DIV/0!"},{"$error":"#DIV/0!"},{"$error":"#DIV/0!"},{"$error":"#DIV/0!"},{"$error":"#DIV/0!"},{"$error":"#DIV/0!"},{"$error":"#DIV/0!"},{"$error":"#DIV/0!"},{"$error":"#DIV/0!"},{"$error":"#DIV/0!"},{"$error":"#DIV/0!"},{"$error":"#DIV/0!"},{"$error":"#DIV/0!"},{"$error":"#DIV/0!"},null,47,38.179455584085531,{"$f":"Klimaatscenario!D54","v":34.570877692218666},{"$error":"#DIV/0!"},{"$error":"#DIV/0!"},{"$error":"#DIV/0!"},{"$error":"#DIV/0!"},{"$error":"#DIV/0!"},{"$error":"#DIV/0!"},{"$error":"#DIV/0!"},{"$error":"#DIV/0!"},{"$error":"#DIV/0!"},{"$error":"#DIV/0!"},{"$error":"#DIV/0!"},{"$error":"#DIV/0!"},{"$error":"#DIV/0!"},{"$error":"#DIV/0!"},{"$error":"#DIV/0!"},{"$error":"#DIV/0!"},{"$error":"#DIV/0!"},{"$error":"#DIV/0!"},{"$error":"#DIV/0!"},{"$error":"#DIV/0!"}]
[null,null,48,30.822564884787813,{"$f":"Klimaatscenario!C55","v":29.011514438033572},{"$error":"#DIV/0!"},{"$error":"#DIV/0!"},{"$error":"#DIV/0!"},{"$error":"#DIV/0!"},{"$error":"#DIV/0!"},{"$error":"#DIV/0!"},{"$error":"#DIV/0!"},{"$error":"#DIV/0!"},{"$error":"#DIV/0!"},{"$error":"#DIV/0!"},{"$error":"#DIV/0!"},{"$error":"#DIV/0!"},{"$error":"#DIV/0!"},{"$error":"#DIV/0!"},{"$error":"#DIV/0!"},{"$error":"#DIV/0!"},{"$error":"#DIV/0!"},{"$error":"#DIV/0!"},{"$error":"#DIV/0!"},{"$error":"#DIV/0!"},null,48,38.17945558408671,{"$f":"Klimaatscenario!D55","v":34.799954425723186},{"$error":"#DIV/0!"},{"$error":"#DIV/0!"},{"$error":"#DIV/0!"},{"$error":"#DIV/0!"},{"$error":"#DIV/0!"},{"$error":"#DIV/0!"},{"$error":"#DIV/0!"},{"$error":"#DIV/0!"},{"$error":"#DIV/0!"},{"$error":"#DIV/0!"},{"$error":"#DIV/0!"},{"$error":"#DIV/0!"},{"$error":"#DIV/0!"},{"$error":"#DIV/0!"},{"$error":"#DIV/0!"},{"$error":"#DIV/0!"},{"$error":"#DIV/0!"},{"$error":"#DIV/0!"},{"$error":"#DIV/0!"},{"$error":"#DIV/0!"}]
[null,null,49,30.822564884787813,{"$f":"Klimaatscenario!C56","v":29.196449827342299},{"$error":"#DIV/0!"},{"$error":"#DIV/0!"},{"$error":"#DIV/0!"},{"$error":"#DIV/0!"},{"$error":"#DIV/0!"},{"$error":"#DIV/0!"},{"$error":"#DIV/0!"},{"$error":"#DIV/0!"},{"$error":"#DIV/0!"},{"$error":"#DIV/0!"},{"$error":"#DIV/0!"},{"$error":"#DIV/0!"},{"$error":"#DIV/0!"},{"$error":"#DIV/0!"},{"$error":"#DIV/0!"},{"$error":"#DIV/0!"},{"$error":"#DIV/0!"},{"$error":"#DIV/0!"},{"$error":"#DIV/0!"},{"$error":"#DIV/0!"},null,49,38.17945558408671,{"$f":"Klimaatscenario!D56","v":35.029031159227706},{"$error":"#DIV/0!"},{"$error":"#DIV/0!"},{"$error":"#DIV/0!"},{"$error":"#DIV/0!"},{"$error":"#DIV/0!"},{"$error":"#DIV/0!"},{"$error":"#DIV/0!"},{"$error":"#DIV/0!"},{"$error":"#DIV/0!"},{"$error":"#DIV/0!"},{"$error":"#DIV/0!"},{"$error":"#DIV/0!"},{"$error":"#DIV/0!"},{"$error":"#DIV/0!"},{"$error":"#DIV/0!"},{"$error":"#DIV/0!"},{"$error":"#DIV/0!"},{"$error":"#DIV/0!"},{"$error":"#DIV/0!"},{"$error":"#DIV/0!"}]
[null,null,50,30.822564884787219,{"$f":"Klimaatscenario!C57","v":29.381385216651022},{"$error":"#DIV/0!"},{"$error":"#DIV/0!"},{"$error":"#DIV/0!"},{"$error":"#DIV/0!"},{"$error":"#DIV/0!"},{"$error":"#DIV/0!"},{"$error":"#DIV/0!"},{"$error":"#DIV/0!"},{"$error":"#DIV/0!"},{"$error":"#DIV/0!"},{"$error":"#DIV/0!"},{"$error":"#DIV/0!"},{"$error":"#DIV/0!"},{"$error":"#DIV/0!"},{"$error":"#DIV/0!"},{"$error":"#DIV/0!"},{"$error":"#DIV/0!"},{"$error":"#DIV/0!"},{"$error":"#DIV/0!"},{"$error":"#DIV/0!"},null,50,38.17945558408671,{"$f":"Klimaatscenario!D57","v":35.258107892732227},{"$error":"#DIV/0!"},{"$error":"#DIV/0!"},{"$error":"#DIV/0!"},{"$error":"#DIV/0!"},{"$error":"#DIV/0!"},{"$error":"#DIV/0!"},{"$error":"#DIV/0!"},{"$error":"#DIV/0!"},{"$error":"#DIV/0!"},{"$error":"#DIV/0!"},{"$error":"#DIV/0!"},{"$error":"#DIV/0!"},{"$error":"#DIV/0!"},{"$error":"#DIV/0!"},{"$error":"#DIV/0!"},{"$error":"#DIV/0!"},{"$error":"#DIV/0!"},{"$error":"#DIV/0!"},{"$error":"#DIV/0!"},{"$error":"#DIV/0!"}]
[null,null,51,30.822564884787813,{"$f":"Klimaatscenario!C58","v":29.566320605959749},{"$error":"#DIV/0!"},{"$error":"#DIV/0!"},{"$error":"#DIV/0!"},{"$error":"#DIV/0!"},{"$error":"#DIV/0!"},{"$error":"#DIV/0!"},{"$error":"#DIV/0!"},{"$error":"#DIV/0!"},{"$error":"#DIV/0!"},{"$error":"#DIV/0!"},{"$error":"#DIV/0!"},{"$error":"#DIV/0!"},{"$error":"#DIV/0!"},{"$error":"#DIV/0!"},{"$error":"#DIV/0!"},{"$error":"#DIV/0!"},{"$error":"#DIV/0!"},{"$error":"#DIV/0!"},{"$error":"#DIV/0!"},{"$error":"#DIV/0!"},null,51,38.17945558408671,{"$f":"Klimaatscenario!D58","v":35.487184626236747},{"$error":"#DIV/0!"},{"$error":"#DIV/0!"},{"$error":"#DIV/0!"},{"$error":"#DIV/0!"},{"$error":"#DIV/0!"},{"$error":"#DIV/0!"},{"$error":"#DIV/0!"},{"$error":"#DIV/0!"},{"$error":"#DIV/0!"},{"$error":"#DIV/0!"},{"$error":"#DIV/0!"},{"$error":"#DIV/0!"},{"$error":"#DIV/0!"},{"$error":"#DIV/0!"},{"$error":"#DIV/0!"},{"$error":"#DIV/0!"},{"$error":"#DIV/0!"},{"$error":"#DIV/0!"},{"$error":"#DIV/0!"},{"$error":"#DIV/0!"}]
[null,null,52,30.822564884787813,{"$f":"Klimaatscenario!C59","v":29.751255995268476},{"$error":"#DIV/0!"},{"$error":"#DIV/0!"},{"$error":"#DIV/0!"},{"$error":"#DIV/0!"},{"$error":"#DIV/0!"},{"$error":"#DIV/0!"},{"$error":"#DIV/0!"},{"$error":"#DIV/0!"},{"$error":"#DIV/0!"},{"$error":"#DIV/0!"},{"$error":"#DIV/0!"},{"$error":"#DIV/0!"},{"$error":"#DIV/0!"},{"$error":"#DIV/0!"},{"$error":"#DIV/0!"},{"$error":"#DIV/0!"},{"$error":"#DIV/0!"},{"$error":"#DIV/0!"},{"$error":"#DIV/0!"},{"$error":"#DIV/0!"},null,52,38.17945558408671,{"$f":"Klimaatscenario!D59","v":35.716261359741267},{"$error":"#DIV/0!"},{"$error":"#DIV/0!"},{"$error":"#DIV/0!"},{"$error":"#DIV/0!"},{"$error":"#DIV/0!"},{"$error":"#DIV/0!"},{"$error":"#DIV/0!"},{"$error":"#DIV/0!"},{"$error":"#DIV/0!"},{"$error":"#DIV/0!"},{"$error":"#DIV/0!"},{"$error":"#DIV/0!"},{"$error":"#DIV/0!"},{"$error":"#DIV/0!"},{"$error":"#DIV/0!"},{"$error":"#DIV/0!"},{"$error":"#DIV/0!"},{"$error":"#DIV/0!"},{"$error":"#DIV/0!"},{"$error":"#DIV/0!"}]
[null,null,53,30.822564884787813,{"$f":"Klimaatscenario!C60","v":29.936191384577203},{"$error":"#DIV/0!"},{"$error":"#DIV/0!"},{"$error":"#DIV/0!"},{"$error":"#DIV/0!"},{"$error":"#DIV/0!"},{"$error":"#DIV/0!"},{"$error":"#DIV/0!"},{"$error":"#DIV/0!"},{"$error":"#DIV/0!"},{"$error":"#DIV/0!"},{"$error":"#DIV/0!"},{"$error":"#DIV/0!"},{"$error":"#DIV/0!"},{"$error":"#DIV/0!"},{"$error":"#DIV/0!"},{"$error":"#DIV/0!"},{"$error":"#DIV/0!"},{"$error":"#DIV/0!"},{"$error":"#DIV/0!"},{"$f":"$E311-U311-V311-W311-X311","v":{"$error":"#DIV/0!"}},null,53,38.179455584085531,{"$f":"Klimaatscenario!D60","v":35.94533809324578},{"$error":"#DIV/0!"},{"$error":"#DIV/0!"},{"$error":"#DIV/0!"},{"$error":"#DIV/0!"},{"$error":"#DIV/0!"},{"$error":"#DIV/0!"},{"$error":"#DIV/0!"},{"$error":"#DIV/0!"},{"$error":"#DIV/0!"},{"$error":"#DIV/0!"},{"$error":"#DIV/0!"},{"$error":"#DIV/0!"},{"$error":"#DIV/0!"},{"$error":"#DIV/0!"},{"$error":"#DIV/0!"},{"$error":"#DIV/0!"},{"$error":"#DIV/0!"},{"$error":"#DIV/0!"},{"$error":"#DIV/0!"},{"$error":"#DIV/0!"}]
[null,null,54,30.822564884787813,{"$f":"Klimaatscenario!C61","v":30.12112677388593},{"$error":"#DIV/0!"},{"$error":"#DIV/0!"},{"$error":"#DIV/0!"},{"$error":"#DIV/0!"},{"$error":"#DIV/0!"},{"$error":"#DIV/0!"},{"$error":"#DIV/0!"},{"$error":"#DIV/0!"},{"$error":"#DIV/0!"},{"$error":"#DIV/0!"},{"$error":"#DIV/0!"},{"$error":"#DIV/0!"},{"$error":"#DIV/0!"},{"$error":"#DIV/0!"},{"$error":"#DIV/0!"},{"$error":"#DIV/0!"},{"$error":"#DIV/0!"},{"$error":"#DIV/0!"},{"$error":"#DIV/0!"},{"$error":"#DIV/0!"},null,54,38.17945558408671,{"$f":"Klimaatscenario!D61","v":36.174414826750301},{"$error":"#DIV/0!"},{"$error":"#DIV/0!"},{"$error":"#DIV/0!"},{"$error":"#DIV/0!"},{"$error":"#DIV/0!"},{"$error":"#DIV/0!"},{"$error":"#DIV/0!"},{"$error":"#DIV/0!"},{"$error":"#DIV/0!"},{"$error":"#DIV/0!"},{"$error":"#DIV/0!"},{"$error":"#DIV/0!"},{"$error":"#DIV/0!"},{"$error":"#DIV/0!"},{"$error":"#DIV/0!"},{"$error":"#DIV/0!"},{"$error":"#DIV/0!"},{"$error":"#DIV/0!"},{"$error":"#DIV/0!"},{"$error":"#DIV/0!"}]
[null,null,55,30.822564884787813,{"$f":"Klimaatscenario!C62","v":30.306062163194657},{"$error":"#DIV/0!"},{"$error":"#DIV/0!"},{"$error":"#DIV/0!"},{"$error":"#DIV/0!"},{"$error":"#DIV/0!"},{"$error":"#DIV/0!"},{"$error":"#DIV/0!"},{"$error":"#DIV/0!"},{"$error":"#DIV/0!"},{"$error":"#DIV/0!"},{"$error":"#DIV/0!"},{"$error":"#DIV/0!"},{"$error":"#DIV/0!"},{"$error":"#DIV/0!"},{"$error":"#DIV/0!"},{"$error":"#DIV/0!"},{"$error":"#DIV/0!"},{"$error":"#DIV/0!"},{"$error":"#DIV/0!"},{"$error":"#DIV/0!"},null,55,38.17945558408671,{"$f":"Klimaatscenario!D62","v":36.403491560254821},{"$error":"#DIV/0!"},{"$error":"#DIV/0!"},{"$error":"#DIV/0!"},{"$error":"#DIV/0!"},{"$error":"#DIV/0!"},{"$error":"#DIV/0!"},{"$error":"#DIV/0!"},{"$error":"#DIV/0!"},{"$error":"#DIV/0!"},{"$error":"#DIV/0!"},{"$error":"#DIV/0!"},{"$error":"#DIV/0!"},{"$error":"#DIV/0!"},{"$error":"#DIV/0!"},{"$error":"#DIV/0!"},{"$error":"#DIV/0!"},{"$error":"#DIV/0!"},{"$error":"#DIV/0!"},{"$error":"#DIV/0!"},{"$error":"#DIV/0!"}]
[null,null,56,30.822564884787219,{"$f":"Klimaatscenario!C63","v":30.49099755250338},{"$error":"#DIV/0!"},{"$error":"#DIV/0!"},{"$error":"#DIV/0!"},{"$error":"#DIV/0!"},{"$error":"#DIV/0!"},{"$error":"#DIV/0!"},{"$error":"#DIV/0!"},{"$error":"#DIV/0!"},{"$error":"#DIV/0!"},{"$error":"#DIV/0!"},{"$error":"#DIV/0!"},{"$error":"#DIV/0!"},{"$error":"#DIV/0!"},{"$error":"#DIV/0!"},{"$error":"#DIV/0!"},{"$error":"#DIV/0!"},{"$error":"#DIV/0!"},{"$error":"#DIV/0!"},{"$error":"#DIV/0!"},{"$error":"#DIV/0!"},null,56,38.17945558408671,{"$f":"Klimaatscenario!D63","v":36.632568293759341},{"$error":"#DIV/0!"},{"$error":"#DIV/0!"},{"$error":"#DIV/0!"},{"$error":"#DIV/0!"},{"$error":"#DIV/0!"},{"$error":"#DIV/0!"},{"$error":"#DIV/0!"},{"$error":"#DIV/0!"},{"$error":"#DIV/0!"},{"$error":"#DIV/0!"},{"$error":"#DIV/0!"},{"$error":"#DIV/0!"},{"$error":"#DIV/0!"},{"$error":"#DIV/0!"},{"$error":"#DIV/0!"},{"$error":"#DIV/0!"},{"$error":"#DIV/0!"},{"$error":"#DIV/0!"},{"$error":"#DIV/0!"},{"$error":"#DIV/0!"}]
[null,null,57,30.822564884787813,{"$f":"Klimaatscenario!C64","v":30.675932941812107},{"$error":"#DIV/0!"},{"$error":"#DIV/0!"},{"$error":"#DIV/0!"},{"$error":"#DIV/0!"},{"$error":"#DIV/0!"},{"$error":"#DIV/0!"},{"$error":"#DIV/0!"},{"$error":"#DIV/0!"},{"$error":"#DIV/0!"},{"$error":"#DIV/0!"},{"$error":"#DIV/0!"},{"$error":"#DIV/0!"},{"$error":"#DIV/0!"},{"$error":"#DIV/0!"},{"$error":"#DIV/0!"},{"$error":"#DIV/0!"},{"$error":"#DIV/0!"},{"$error":"#DIV/0!"},{"$error":"#DIV/0!"},{"$error":"#DIV/0!"},null,57,38.17945558408671,{"$f":"Klimaatscenario!D64","v":36.861645027263862},{"$error":"#DIV/0!"},{"$error":"#DIV/0!"},{"$error":"#DIV/0!"},{"$error":"#DIV/0!"},{"$error":"#DIV/0!"},{"$error":"#DIV/0!"},{"$error":"#DIV/0!"},{"$error":"#DIV/0!"},{"$error":"#DIV/0!"},{"$error":"#DIV/0!"},{"$error":"#DIV/0!"},{"$error":"#DIV/0!"},{"$error":"#DIV/0!"},{"$error":"#DIV/0!"},{"$error":"#DIV/0!"},{"$error":"#DIV/0!"},{"$error":"#DIV/0!"},{"$error":"#DIV/0!"},{"$error":"#DIV/0!"},{"$error":"#DIV/0!"}]
[null,null,58,30.822564884787813,{"$f":"Klimaatscenario!C65","v":30.860868331120834},{"$error":"#DIV/0!"},{"$error":"#DIV/0!"},{"$error":"#DIV/0!"},{"$error":"#DIV/0!"},{"$error":"#DIV/0!"},{"$error":"#DIV/0!"},{"$error":"#DIV/0!"},{"$error":"#DIV/0!"},{"$error":"#DIV/0!"},{"$error":"#DIV/0!"},{"$error":"#DIV/0!"},{"$error":"#DIV/0!"},{"$error":"#DIV/0!"},{"$error":"#DIV/0!"},{"$error":"#DIV/0!"},{"$error":"#DIV/0!"},{"$error":"#DIV/0!"},{"$error":"#DIV/0!"},{"$error":"#DIV/0!"},{"$error":"#DIV/0!"},null,58,38.179455584085531,{"$f":"Klimaatscenario!D65","v":37.090721760768375},{"$error":"#DIV/0!"},{"$error":"#DIV/0!"},{"$error":"#DIV/0!"},{"$error":"#DIV/0!"},{"$error":"#DIV/0!"},{"$error":"#DIV/0!"},{"$error":"#DIV/0!"},{"$error":"#DIV/0!"},{"$error":"#DIV/0!"},{"$error":"#DIV/0!"},{"$error":"#DIV/0!"},{"$error":"#DIV/0!"},{"$error":"#DIV/0!"},{"$error":"#DIV/0!"},{"$error":"#DIV/0!"},{"$error":"#DIV/0!"},{"$error":"#DIV/0!"},{"$error":"#DIV/0!"},{"$error":"#DIV/0!"},{"$error":"#DIV/0!"}]
[null,null,59,30.822564884787813,{"$f":"Klimaatscenario!C66","v":31.045803720429561},{"$error":"#DIV/0!"},{"$error":"#DIV/0!"},{"$error":"#DIV/0!"},{"$error":"#DIV/0!"},{"$error":"#DIV/0!"},{"$error":"#DIV/0!"},{"$error":"#DIV/0!"},{"$error":"#DIV/0!"},{"$error":"#DIV/0!"},{"$error":"#DIV/0!"},{"$error":"#DIV/0!"},{"$error":"#DIV/0!"},{"$error":"#DIV/0!"},{"$error":"#DIV/0!"},{"$error":"#DIV/0!"},{"$error":"#DIV/0!"},{"$error":"#DIV/0!"},{"$error":"#DIV/0!"},{"$error":"#DIV/0!"},{"$error":"#DIV/0!"},null,59,38.17945558408671,{"$f":"Klimaatscenario!D66","v":37.319798494272895},{"$error":"#DIV/0!"},{"$error":"#DIV/0!"},{"$error":"#DIV/0!"},{"$error":"#DIV/0!"},{"$error":"#DIV/0!"},{"$error":"#DIV/0!"},{"$error":"#DIV/0!"},{"$error":"#DIV/0!"},{"$error":"#DIV/0!"},{"$error":"#DIV/0!"},{"$error":"#DIV/0!"},{"$error":"#DIV/0!"},{"$error":"#DIV/0!"},{"$error":"#DIV/0!"},{"$error":"#DIV/0!"},{"$error":"#DIV/0!"},{"$error":"#DIV/0!"},{"$error":"#DIV/0!"},{"$error":"#DIV/0!"},{"$error":"#DIV/0!"}]
[null,null,60,30.822564884787813,{"$f":"Klimaatscenario!C67","v":31.230739109738288},{"$error":"#DIV/0!"},{"$f":"($J$340/60)*$C318","v":{"$error":"#DIV/0!"}},{"$error":"#DIV/0!"},{"$error":"#DIV/0!"},{"$error":"#DIV/0!"},{"$error":"#DIV/0!"},{"$error":"#DIV/0!"},{"$error":"#DIV/0!"},{"$error":"#DIV/0!"},{"$error":"#DIV/0!"},{"$error":"#DIV/0!"},{"$error":"#DIV/0!"},{"$error":"#DIV/0!"},{"$error":"#DIV/0!"},{"$error":"#DIV/0!"},{"$error":"#DIV/0!"},{"$error":"#DIV/0!"},{"$f":"Y$336","v":{"$error":"#DIV/0!"}},{"$error":"#DIV/0!"},{"$error":"#DIV/0!"},null,60,38.17945558408671,{"$f":"Klimaatscenario!D67","v":37.548875227777415},{"$error":"#DIV/0!"},{"$error":"#DIV/0!"},{"$error":"#DIV/0!"},{"$error":"#DIV/0!"},{"$error":"#DIV/0!"},{"$error":"#DIV/0!"},{"$error":"#DIV/0!"},{"$error":"#DIV/0!"},{"$error":"#DIV/0!"},{"$error":"#DIV/0!"},{"$error":"#DIV/0!"},{"$error":"#DIV/0!"},{"$error":"#DIV/0!"},{"$error":"#DIV/0!"},{"$error":"#DIV/0!"},{"$error":"#DIV/0!"},{"$error":"#DIV/0!"},{"$error":"#DIV/0!"},{"$error":"#DIV/0!"},{"$error":"#DIV/0!"}]
[null,null,61,16.488190769027966,{"$f":"Klimaatscenario!C68","v":31.329668254352455},{"$error":"#DIV/0!"},{"$f":"($J$340/60)*$C319","v":{"$error":"#DIV/0!"}},{"$f":"H318","v":{"$error":"#DIV/0!"}},{"$error":"#DIV/0!"},{"$error":"#DIV/0!"},{"$error":"#DIV/0!"},{"$error":"#DIV/0!"},{"$f":"M318","v":{"$error":"#DIV/0!"}},{"$error":"#DIV/0!"},{"$error":"#DIV/0!"},{"$error":"#DIV/0!"},{"$error":"#DIV/0!"},{"$f":"R318","v":{"$error":"#DIV/0!"}},{"$error":"#DIV/0!"},{"$error":"#DIV/0!"},{"$error":"#DIV/0!"},{"$error":"#DIV/0!"},{"$f":"W318","v":{"$error":"#DIV/0!"}},{"$error":"#DIV/0!"},{"$error":"#DIV/0!"},null,61,19.553237863870976,{"$f":"Klimaatscenario!D68","v":37.666194654960641},{"$error":"#DIV/0!"},{"$error":"#DIV/0!"},{"$error":"#DIV/0!"},{"$error":"#DIV/0!"},{"$error":"#DIV/0!"},{"$error":"#DIV/0!"},{"$error":"#DIV/0!"},{"$error":"#DIV/0!"},{"$error":"#DIV/0!"},{"$error":"#DIV/0!"},{"$error":"#DIV/0!"},{"$error":"#DIV/0!"},{"$error":"#DIV/0!"},{"$error":"#DIV/0!"},{"$error":"#DIV/0!"},{"$error":"#DIV/0!"},{"$error":"#DIV/0!"},{"$error":"#DIV/0!"},{"$error":"#DIV/0!"},{"$error":"#DIV/0!"}]
[null,null,62,16.488190769027373,{"$f":"Klimaatscenario!C69","v":31.42859739896662},{"$error":"#DIV/0!"},{"$f":"($J$340/60)*$C320","v":{"$error":"#DIV/0!"}},{"$error":"#DIV/0!"},{"$error":"#DIV/0!"},{"$error":"#DIV/0!"},{"$error":"#DIV/0!"},{"$error":"#DIV/0!"},{"$error":"#DIV/0!"},{"$error":"#DIV/0!"},{"$error":"#DIV/0!"},{"$error":"#DIV/0!"},{"$error":"#DIV/0!"},{"$error":"#DIV/0!"},{"$error":"#DIV/0!"},{"$error":"#DIV/0!"},{"$error":"#DIV/0!"},{"$error":"#DIV/0!"},{"$error":"#DIV/0!"},{"$error":"#DIV/0!"},{"$error":"#DIV/0!"},null,62,19.553237863870976,{"$f":"Klimaatscenario!D69","v":37.783514082143867},{"$error":"#DIV/0!"},{"$error":"#DIV/0!"},{"$error":"#DIV/0!"},{"$error":"#DIV/0!"},{"$error":"#DIV/0!"},{"$error":"#DIV/0!"},{"$error":"#DIV/0!"},{"$error":"#DIV/0!"},{"$error":"#DIV/0!"},{"$error":"#DIV/0!"},{"$error":"#DIV/0!"},{"$error":"#DIV/0!"},{"$error":"#DIV/0!"},{"$error":"#DIV/0!"},{"$error":"#DIV/0!"},{"$error":"#DIV/0!"},{"$error":"#DIV/0!"},{"$error":"#DIV/0!"},{"$error":"#DIV/0!"},{"$error":"#DIV/0!"}]
[null,null,63,16.488190769027966,{"$f":"Klimaatscenario!C70","v":31.527526543580787},{"$error":"#DIV/0!"},{"$error":"#DIV/0!"},{"$error":"#DIV/0!"},{"$error":"#DIV/0!"},{"$error":"#DIV/0!"},{"$error":"#DIV/0!"},{"$error":"#DIV/0!"},{"$error":"#DIV/0!"},{"$error":"#DIV/0!"},{"$error":"#DIV/0!"},{"$error":"#DIV/0!"},{"$error":"#DIV/0!"},{"$error":"#DIV/0!"},{"$error":"#DIV/0!"},{"$error":"#DIV/0!"},{"$error":"#DIV/0!"},{"$error":"#DIV/0!"},{"$error":"#DIV/0!"},{"$error":"#DIV/0!"},{"$error":"#DIV/0!"},null,63,19.553237863870976,{"$f":"Klimaatscenario!D70","v":37.900833509327093},{"$error":"#DIV/0!"},{"$error":"#DIV/0!"},{"$error":"#DIV/0!"},{"$error":"#DIV/0!"},{"$error":"#DIV/0!"},{"$error":"#DIV/0!"},{"$error":"#DIV/0!"},{"$error":"#DIV/0!"},{"$error":"#DIV/0!"},{"$error":"#DIV/0!"},{"$error":"#DIV/0!"},{"$error":"#DIV/0!"},{"$error":"#DIV/0!"},{"$error":"#DIV/0!"},{"$error":"#DIV/0!"},{"$error":"#DIV/0!"},{"$error":"#DIV/0!"},{"$error":"#DIV/0!"},{"$error":"#DIV/0!"},{"$error":"#DIV/0!"}]
[null,null,64,16.488190769027966,{"$f":"Klimaatscenario!C71","v":31.626455688194955},{"$error":"#DIV/0!"},{"$error":"#DIV/0!"},{"$error":"#DIV/0!"},{"$f":"($J$338/60)*$C322","v":{"$error":"#DIV/0!"}},{"$f":"$E322-F322-G322-H322-I322","v":{"$error":"#DIV/0!"}},{"$error":"#DIV/0!"},{"$f":"$O$340/60*$C322","v":{"$error":"#DIV/0!"}},{"$error":"#DIV/0!"},{"$f":"($O$338/60)*$C322","v":{"$error":"#DIV/0!"}},{"$f":"$E322-K322-L322-M322-N322","v":{"$error":"#DIV/0!"}},{"$error":"#DIV/0!"},{"$f":"$T$340/60*$C322","v":{"$error":"#DIV/0!"}},{"$error":"#DIV/0!"},{"$f":"($T$338/60)*$C322","v":{"$error":"#DIV/0!"}},{"$f":"$E322-P322-Q322-R322-S322","v":{"$error":"#DIV/0!"}},{"$error":"#DIV/0!"},{"$f":"$Y$340/60*$C322","v":{"$error":"#DIV/0!"}},{"$error":"#DIV/0!"},{"$f":"($Y$338/60)*$C322","v":{"$error":"#DIV/0!"}},{"$f":"$E322-U322-V322-W322-X322","v":{"$error":"#DIV/0!"}},null,64,19.553237863870976,{"$f":"Klimaatscenario!D71","v":38.018152936510319},{"$error":"#DIV/0!"},{"$f":"($AH$340/60)*($AA322)","v":{"$error":"#DIV/0!"}},{"$error":"#DIV/0!"},{"$f":"($AH$338/60)*$AA322","v":{"$error":"#DIV/0!"}},{"$f":"$AC322-AD322-AE322-AF322-AG322","v":{"$error":"#DIV/0!"}},{"$error":"#DIV/0!"},{"$f":"($AM$340/60)*($AA322)","v":{"$error":"#DIV/0!"}},{"$error":"#DIV/0!"},{"$f":"($AM$338/60)*$AA322","v":{"$error":"#DIV/0!"}},{"$f":"$AC322-AI322-AJ322-AK322-AL322","v":{"$error":"#DIV/0!"}},{"$error":"#DIV/0!"},{"$f":"($AR$340/60)*($AA322)","v":{"$error":"#DIV/0!"}},{"$error":"#DIV/0!"},{"$f":"($AR$338/60)*$AA322","v":{"$error":"#DIV/0!"}},{"$f":"$AC322-AN322-AO322-AP322-AQ322","v":{"$error":"#DIV/0!"}},{"$error":"#DIV/0!"},{"$f":"($AW$340/60)*($AA322)","v":{"$error":"#DIV/0!"}},{"$error":"#DIV/0!"},{"$f":"($AW$338/60)*$AA322","v":{"$error":"#DIV/0!"}},{"$f":"$AC322-AS322-AT322-AU322-AV322","v":{"$error":"#DIV/0!"}}]
[null,null,65,16.488190769027966,{"$f":"Klimaatscenario!C72","v":31.725384832809123},{"$f":"((J$337*60)/10000)+F322","v":{"$error":"#DIV/0!"}},{"$error":"#DIV/0!"},{"$f":"H322","v":{"$error":"#DIV/0!"}},{"$error":"#DIV/0!"},{"$error":"#DIV/0!"},{"$f":"((O$337*60)/10000)+K322","v":{"$error":"#DIV/0!"}},{"$error":"#DIV/0!"},{"$error":"#DIV/0!"},{"$error":"#DIV/0!"},{"$error":"#DIV/0!"},{"$f":"((T$337*60)/10000)+P322","v":{"$error":"#DIV/0!"}},{"$error":"#DIV/0!"},{"$error":"#DIV/0!"},{"$error":"#DIV/0!"},{"$f":"$E323-P323-Q323-R323-S323","v":{"$error":"#DIV/0!"}},{"$f":"((Y$337*60)/10000)+U322","v":{"$error":"#DIV/0!"}},{"$error":"#DIV/0!"},{"$error":"#DIV/0!"},{"$error":"#DIV/0!"},{"$error":"#DIV/0!"},null,65,19.553237863869793,{"$f":"Klimaatscenario!D72","v":38.135472363693538},{"$f":"((AH$337*60)/10000)+AD322","v":{"$error":"#DIV/0!"}},{"$error":"#DIV/0!"},{"$f":"AH$336","v":{"$error":"#DIV/0!"}},{"$error":"#DIV/0!"},{"$error":"#DIV/0!"},{"$f":"((AM$337*60)/10000)+AI322","v":{"$error":"#DIV/0!"}},{"$error":"#DIV/0!"},{"$f":"AM$336","v":{"$error":"#DIV/0!"}},{"$error":"#DIV/0!"},{"$error":"#DIV/0!"},{"$f":"((AR$337*60)/10000)+AN322","v":{"$error":"#DIV/0!"}},{"$error":"#DIV/0!"},{"$f":"AR$336","v":{"$error":"#DIV/0!"}},{"$error":"#DIV/0!"},{"$error":"#DIV/0!"},{"$f":"((AW$337*60)/10000)+AS322","v":{"$error":"#DIV/0!"}},{"$error":"#DIV/0!"},{"$f":"AW$336","v":{"$error":"#DIV/0!"}},{"$error":"#DIV/0!"},{"$error":"#DIV/0!"}]
[null,null,66,16.488190769027373,{"$f":"Klimaatscenario!C73","v":31.824313977423287},{"$error":"#DIV/0!"},{"$error":"#DIV/0!"},{"$error":"#DIV/0!"},{"$error":"#DIV/0!"},{"$error":"#DIV/0!"},{"$error":"#DIV/0!"},{"$error":"#DIV/0!"},{"$error":"#DIV/0!"},{"$error":"#DIV/0!"},{"$error":"#DIV/0!"},{"$error":"#DIV/0!"},{"$error":"#DIV/0!"},{"$error":"#DIV/0!"},{"$error":"#DIV/0!"},{"$error":"#DIV/0!"},{"$error":"#DIV/0!"},{"$error":"#DIV/0!"},{"$error":"#DIV/0!"},{"$error":"#DIV/0!"},{"$error":"#DIV/0!"},null,66,19.553237863870976,{"$f":"Klimaatscenario!D73","v":38.252791790876763},{"$error":"#DIV/0!"},{"$error":"#DIV/0!"},{"$error":"#DIV/0!"},{"$error":"#DIV/0!"},{"$error":"#DIV/0!"},{"$error":"#DIV/0!"},{"$error":"#DIV/0!"},{"$error":"#DIV/0!"},{"$error":"#DIV/0!"},{"$error":"#DIV/0!"},{"$error":"#DIV/0!"},{"$error":"#DIV/0!"},{"$error":"#DIV/0!"},{"$error":"#DIV/0!"},{"$error":"#DIV/0!"},{"$error":"#DIV/0!"},{"$error":"#DIV/0!"},{"$error":"#DIV/0!"},{"$error":"#DIV/0!"},{"$error":"#DIV/0!"}]
[null,null,67,16.488190769027966,{"$f":"Klimaatscenario!C74","v":31.923243122037455},{"$error":"#DIV/0!"},{"$error":"#DIV/0!"},{"$error":"#DIV/0!"},{"$error":"#DIV/0!"},{"$error":"#DIV/0!"},{"$error":"#DIV/0!"},{"$error":"#DIV/0!"},{"$error":"#DIV/0!"},{"$error":"#DIV/0!"},{"$error":"#DIV/0!"},{"$error":"#DIV/0!"},{"$error":"#DIV/0!"},{"$f":"R324","v":{"$error":"#DIV/0!"}},{"$error":"#DIV/0!"},{"$error":"#DIV/0!"},{"$error":"#DIV/0!"},{"$error":"#DIV/0!"},{"$error":"#DIV/0!"},{"$error":"#DIV/0!"},{"$error":"#DIV/0!"},null,67,19.553237863870976,{"$f":"Klimaatscenario!D74","v":38.370111218059989},{"$error":"#DIV/0!"},{"$error":"#DIV/0!"},{"$error":"#DIV/0!"},{"$error":"#DIV/0!"},{"$error":"#DIV/0!"},{"$error":"#DIV/0!"},{"$error":"#DIV/0!"},{"$error":"#DIV/0!"},{"$error":"#DIV/0!"},{"$error":"#DIV/0!"},{"$error":"#DIV/0!"},{"$error":"#DIV/0!"},{"$error":"#DIV/0!"},{"$error":"#DIV/0!"},{"$error":"#DIV/0!"},{"$error":"#DIV/0!"},{"$error":"#DIV/0!"},{"$error":"#DIV/0!"},{"$error":"#DIV/0!"},{"$error":"#DIV/0!"}]
[null,null,68,16.488190769027966,{"$f":"Klimaatscenario!C75","v":32.022172266651623},{"$error":"#DIV/0!"},{"$error":"#DIV/0!"},{"$error":"#DIV/0!"},{"$error":"#DIV/0!"},{"$error":"#DIV/0!"},{"$error":"#DIV/0!"},{"$error":"#DIV/0!"},{"$error":"#DIV/0!"},{"$error":"#DIV/0!"},{"$error":"#DIV/0!"},{"$error":"#DIV/0!"},{"$error":"#DIV/0!"},{"$error":"#DIV/0!"},{"$error":"#DIV/0!"},{"$error":"#DIV/0!"},{"$error":"#DIV/0!"},{"$error":"#DIV/0!"},{"$error":"#DIV/0!"},{"$error":"#DIV/0!"},{"$error":"#DIV/0!"},null,68,19.553237863870976,{"$f":"Klimaatscenario!D75","v":38.487430645243215},{"$error":"#DIV/0!"},{"$error":"#DIV/0!"},{"$error":"#DIV/0!"},{"$error":"#DIV/0!"},{"$error":"#DIV/0!"},{"$error":"#DIV/0!"},{"$error":"#DIV/0!"},{"$error":"#DIV/0!"},{"$error":"#DIV/0!"},{"$error":"#DIV/0!"},{"$error":"#DIV/0!"},{"$error":"#DIV/0!"},{"$error":"#DIV/0!"},{"$error":"#DIV/0!"},{"$error":"#DIV/0!"},{"$error":"#DIV/0!"},{"$error":"#DIV/0!"},{"$error":"#DIV/0!"},{"$error":"#DIV/0!"},{"$error":"#DIV/0!"}]
[null,null,69,{"$f":"((((((E327-E326)/(C327-C326))/60)/1000)*10000)*1000)","v":16.488190769027966},{"$f":"Klimaatscenario!C76","v":32.121101411265791},{"$error":"#DIV/0!"},{"$error":"#DIV/0!"},{"$error":"#DIV/0!"},{"$error":"#DIV/0!"},{"$f":"$E327-F327-G327-H327-I327","v":{"$error":"#DIV/0!"}},{"$error":"#DIV/0!"},{"$error":"#DIV/0!"},{"$error":"#DIV/0!"},{"$error":"#DIV/0!"},{"$error":"#DIV/0!"},{"$error":"#DIV/0!"},{"$error":"#DIV/0!"},{"$error":"#DIV/0!"},{"$error":"#DIV/0!"},{"$error":"#DIV/0!"},{"$error":"#DIV/0!"},{"$error":"#DIV/0!"},{"$error":"#DIV/0!"},{"$error":"#DIV/0!"},{"$error":"#DIV/0!"},null,69,{"$f":"((((((AC327-AC326)/(AA327-AA326))/60)/1000)*10000)*1000)","v":19.553237863870976},{"$f":"Klimaatscenario!D76","v":38.604750072426441},{"$error":"#DIV/0!"},{"$error":"#DIV/0!"},{"$error":"#DIV/0!"},{"$error":"#DIV/0!"},{"$error":"#DIV/0!"},{"$error":"#DIV/0!"},{"$error":"#DIV/0!"},{"$error":"#DIV/0!"},{"$error":"#DIV/0!"},{"$error":"#DIV/0!"},{"$error":"#DIV/0!"},{"$error":"#DIV/0!"},{"$error":"#DIV/0!"},{"$error":"#DIV/0!"},{"$error":"#DIV/0!"},{"$error":"#DIV/0!"},{"$error":"#DIV/0!"},{"$error":"#DIV/0!"},{"$error":"#DIV/0!"},{"$error":"#DIV/0!"}]
[null,null,70,16.488190769027966,{"$f":"Klimaatscenario!C77","v":32.220030555879958},{"$error":"#DIV/0!"},{"$f":"($J$340/60)*$C328","v":{"$error":"#DIV/0!"}},{"$error":"#DIV/0!"},{"$error":"#DIV/0!"},{"$error":"#DIV/0!"},{"$error":"#DIV/0!"},{"$error":"#DIV/0!"},{"$error":"#DIV/0!"},{"$error":"#DIV/0!"},{"$error":"#DIV/0!"},{"$error":"#DIV/0!"},{"$error":"#DIV/0!"},{"$error":"#DIV/0!"},{"$error":"#DIV/0!"},{"$error":"#DIV/0!"},{"$error":"#DIV/0!"},{"$error":"#DIV/0!"},{"$error":"#DIV/0!"},{"$error":"#DIV/0!"},{"$error":"#DIV/0!"},null,70,19.553237863870976,{"$f":"Klimaatscenario!D77","v":38.722069499609667},{"$error":"#DIV/0!"},{"$error":"#DIV/0!"},{"$error":"#DIV/0!"},{"$error":"#DIV/0!"},{"$error":"#DIV/0!"},{"$error":"#DIV/0!"},{"$error":"#DIV/0!"},{"$error":"#DIV/0!"},{"$error":"#DIV/0!"},{"$error":"#DIV/0!"},{"$error":"#DIV/0!"},{"$error":"#DIV/0!"},{"$error":"#DIV/0!"},{"$error":"#DIV/0!"},{"$error":"#DIV/0!"},{"$error":"#DIV/0!"},{"$error":"#DIV/0!"},{"$error":"#DIV/0!"},{"$error":"#DIV/0!"},{"$error":"#DIV/0!"}]
[null,null,71,16.488190769027966,{"$f":"Klimaatscenario!C78","v":32.318959700494126},{"$error":"#DIV/0!"},{"$error":"#DIV/0!"},{"$error":"#DIV/0!"},{"$error":"#DIV/0!"},{"$error":"#DIV/0!"},{"$error":"#DIV/0!"},{"$error":"#DIV/0!"},{"$error":"#DIV/0!"},{"$error":"#DIV/0!"},{"$error":"#DIV/0!"},{"$error":"#DIV/0!"},{"$error":"#DIV/0!"},{"$error":"#DIV/0!"},{"$error":"#DIV/0!"},{"$error":"#DIV/0!"},{"$error":"#DIV/0!"},{"$error":"#DIV/0!"},{"$error":"#DIV/0!"},{"$error":"#DIV/0!"},{"$error":"#DIV/0!"},null,71,19.553237863870976,{"$f":"Klimaatscenario!D78","v":38.839388926792893},{"$error":"#DIV/0!"},{"$error":"#DIV/0!"},{"$error":"#DIV/0!"},{"$error":"#DIV/0!"},{"$error":"#DIV/0!"},{"$error":"#DIV/0!"},{"$error":"#DIV/0!"},{"$error":"#DIV/0!"},{"$error":"#DIV/0!"},{"$error":"#DIV/0!"},{"$error":"#DIV/0!"},{"$error":"#DIV/0!"},{"$error":"#DIV/0!"},{"$error":"#DIV/0!"},{"$error":"#DIV/0!"},{"$error":"#DIV/0!"},{"$error":"#DIV/0!"},{"$error":"#DIV/0!"},{"$error":"#DIV/0!"},{"$error":"#DIV/0!"}]
[null,null,72,16.488190769026779,{"$f":"Klimaatscenario!C79","v":32.417888845108287},{"$error":"#DIV/0!"},{"$error":"#DIV/0!"},{"$error":"#DIV/0!"},{"$error":"#DIV/0!"},{"$error":"#DIV/0!"},{"$error":"#DIV/0!"},{"$error":"#DIV/0!"},{"$error":"#DIV/0!"},{"$error":"#DIV/0!"},{"$error":"#DIV/0!"},{"$error":"#DIV/0!"},{"$error":"#DIV/0!"},{"$error":"#DIV/0!"},{"$error":"#DIV/0!"},{"$f":"$E330-P330-Q330-R330-S330","v":{"$error":"#DIV/0!"}},{"$error":"#DIV/0!"},{"$error":"#DIV/0!"},{"$error":"#DIV/0!"},{"$error":"#DIV/0!"},{"$error":"#DIV/0!"},null,72,19.553237863870976,{"$f":"Klimaatscenario!D79","v":38.956708353976119},{"$error":"#DIV/0!"},{"$error":"#DIV/0!"},{"$error":"#DIV/0!"},{"$error":"#DIV/0!"},{"$error":"#DIV/0!"},{"$error":"#DIV/0!"},{"$error":"#DIV/0!"},{"$error":"#DIV/0!"},{"$error":"#DIV/0!"},{"$error":"#DIV/0!"},{"$error":"#DIV/0!"},{"$error":"#DIV/0!"},{"$error":"#DIV/0!"},{"$error":"#DIV/0!"},{"$error":"#DIV/0!"},{"$error":"#DIV/0!"},{"$error":"#DIV/0!"},{"$error":"#DIV/0!"},{"$error":"#DIV/0!"},{"$error":"#DIV/0!"}]
[null,null,73,16.488190769027966,{"$f":"Klimaatscenario!C80","v":32.516817989722455},{"$error":"#DIV/0!"},{"$error":"#DIV/0!"},{"$error":"#DIV/0!"},{"$error":"#DIV/0!"},{"$error":"#DIV/0!"},{"$error":"#DIV/0!"},{"$error":"#DIV/0!"},{"$error":"#DIV/0!"},{"$error":"#DIV/0!"},{"$error":"#DIV/0!"},{"$error":"#DIV/0!"},{"$error":"#DIV/0!"},{"$error":"#DIV/0!"},{"$error":"#DIV/0!"},{"$error":"#DIV/0!"},{"$error":"#DIV/0!"},{"$error":"#DIV/0!"},{"$error":"#DIV/0!"},{"$error":"#DIV/0!"},{"$error":"#DIV/0!"},null,73,19.553237863869793,{"$f":"Klimaatscenario!D80","v":39.074027781159337},{"$error":"#DIV/0!"},{"$error":"#DIV/0!"},{"$error":"#DIV/0!"},{"$error":"#DIV/0!"},{"$error":"#DIV/0!"},{"$error":"#DIV/0!"},{"$error":"#DIV/0!"},{"$error":"#DIV/0!"},{"$error":"#DIV/0!"},{"$error":"#DIV/0!"},{"$error":"#DIV/0!"},{"$error":"#DIV/0!"},{"$error":"#DIV/0!"},{"$error":"#DIV/0!"},{"$error":"#DIV/0!"},{"$error":"#DIV/0!"},{"$error":"#DIV/0!"},{"$error":"#DIV/0!"},{"$error":"#DIV/0!"},{"$error":"#DIV/0!"}]
[null,null,74,16.488190769027966,{"$f":"Klimaatscenario!C81","v":32.615747134336623},{"$error":"#DIV/0!"},{"$error":"#DIV/0!"},{"$error":"#DIV/0!"},{"$error":"#DIV/0!"},{"$error":"#DIV/0!"},{"$error":"#DIV/0!"},{"$error":"#DIV/0!"},{"$error":"#DIV/0!"},{"$error":"#DIV/0!"},{"$error":"#DIV/0!"},{"$error":"#DIV/0!"},{"$error":"#DIV/0!"},{"$error":"#DIV/0!"},{"$error":"#DIV/0!"},{"$error":"#DIV/0!"},{"$error":"#DIV/0!"},{"$error":"#DIV/0!"},{"$error":"#DIV/0!"},{"$error":"#DIV/0!"},{"$error":"#DIV/0!"},null,74,19.553237863870976,{"$f":"Klimaatscenario!D81","v":39.191347208342563},{"$error":"#DIV/0!"},{"$error":"#DIV/0!"},{"$error":"#DIV/0!"},{"$error":"#DIV/0!"},{"$error":"#DIV/0!"},{"$error":"#DIV/0!"},{"$error":"#DIV/0!"},{"$error":"#DIV/0!"},{"$error":"#DIV/0!"},{"$error":"#DIV/0!"},{"$error":"#DIV/0!"},{"$error":"#DIV/0!"},{"$error":"#DIV/0!"},{"$error":"#DIV/0!"},{"$error":"#DIV/0!"},{"$error":"#DIV/0!"},{"$error":"#DIV/0!"},{"$error":"#DIV/0!"},{"$error":"#DIV/0!"},{"$error":"#DIV/0!"}]
[null,null,75,16.488190769027966,{"$f":"Klimaatscenario!C82","v":32.71467627895079},{"$error":"#DIV/0!"},{"$f":"$J$340/60*$C333","v":{"$error":"#DIV/0!"}},{"$error":"#DIV/0!"},{"$error":"#DIV/0!"},{"$error":"#DIV/0!"},{"$error":"#DIV/0!"},{"$f":"$O$340/60*$C333","v":{"$error":"#DIV/0!"}},{"$error":"#DIV/0!"},{"$error":"#DIV/0!"},{"$error":"#DIV/0!"},{"$error":"#DIV/0!"},{"$f":"$T$340/60*$C333","v":{"$error":"#DIV/0!"}},{"$error":"#DIV/0!"},{"$error":"#DIV/0!"},{"$error":"#DIV/0!"},{"$error":"#DIV/0!"},{"$f":"$Y$340/60*$C333","v":{"$error":"#DIV/0!"}},{"$error":"#DIV/0!"},{"$error":"#DIV/0!"},{"$error":"#DIV/0!"},null,75,19.553237863870976,{"$f":"Klimaatscenario!D82","v":39.308666635525789},{"$error":"#DIV/0!"},{"$f":"($AH$340/60)*($AA333)","v":{"$error":"#DIV/0!"}},{"$error":"#DIV/0!"},{"$error":"#DIV/0!"},{"$error":"#DIV/0!"},{"$error":"#DIV/0!"},{"$f":"($AM$340/60)*($AA333)","v":{"$error":"#DIV/0!"}},{"$error":"#DIV/0!"},{"$error":"#DIV/0!"},{"$error":"#DIV/0!"},{"$error":"#DIV/0!"},{"$f":"($AR$340/60)*($AA333)","v":{"$error":"#DIV/0!"}},{"$error":"#DIV/0!"},{"$error":"#DIV/0!"},{"$error":"#DIV/0!"},{"$error":"#DIV/0!"},{"$f":"($AW$340/60)*($AA333)","v":{"$error":"#DIV/0!"}},{"$error":"#DIV/0!"},{"$error":"#DIV/0!"},{"$error":"#DIV/0!"}]
[]
[null,null,"Berging blokmethode, maximale waterstand op straat [mm]",null,null,null,null,null,null,{"$f":"MAX(J258:J333)","v":{"$error":"#DIV/0!"}},null,null,null,null,{"$f":"MAX(O258:O333)","v":{"$error":"#DIV/0!"}},null,null,null,null,{"$f":"MAX(T258:T333)","v":{"$error":"#DIV/0!"}},null,null,null,null,{"$f":"MAX(Y258:Y333)","v":{"$error":"#DIV/0!"}},null,"Berging blokmethode, maximale waterstand op straat [mm]",null,null,null,null,null,null,{"$f":"MAX(AH258:AH333)","v":{"$error":"#DIV/0!"}},null,null,null,null,{"$f":"MAX(AM258:AM333)","v":{"$error":"#DIV/0!"}},null,null,null,null,{"$f":"MAX(AR258:AR333)","v":{"$error":"#DIV/0!"}},null,null,null,null,{"$f":"MAX(AW258:AW333)","v":{"$error":"#DIV/0!"}}]
[null,null,"Berging in de voorziening [mm neerslagoppervlak]",null,null,null,null,null,null,{"$f":"(Invoer!$D$14*Invoer!$D$21)/Invoer!D19","v":{"$error":"#DIV/0!"}},null,null,null,null,{"$f":"(Invoer!$E$14*Invoer!$E$21)/Invoer!Neerslag_oppervlak","v":{"$error":"#DIV/0!"}},null,null,null,null,{"$f":"(Invoer!$F$14*Invoer!$F$21)/Invoer!Neerslag_oppervlak","v":{"$error":"#DIV/0!"}},null,null,null,null,{"$f":"(Invoer!$G$14*Invoer!$G$21)/Invoer!Neerslag_oppervlak","v":{"$error":"#DIV/0!"}},null,"Berging in de voorziening [mm neerslagoppervlak]",null,null,null,null,null,null,{"$f":"(Invoer!$D$14*Invoer!$D$21)/Invoer!Neerslag_oppervlak","v":{"$error":"#DIV/0!"}},null,null,null,null,{"$f":"(Invoer!$E$14*Invoer!$E$21)/Invoer!Neerslag_oppervlak","v":{"$error":"#DIV/0!"}},null,null,null,null,{"$f":"(Invoer!$F$14*Invoer!$F$21)/Invoer!Neerslag_oppervlak","v":{"$error":"#DIV/0!"}},null,null,null,null,{"$f":"(Invoer!$G$14*Invoer!$G$21)/Invoer!Neerslag_oppervlak","v":{"$error":"#DIV/0!"}}]
[null,null,"Afvoercapaciteit riool [l/s/ha neerslagoppervlak]",null,null,null,null,null,null,{"$f":"((Invoer!$D$11*Invoer!$D$21)/Invoer!Neerslag_oppervlak)*10000/60/60","v":{"$error":"#DIV/0!"}},null,null,null,null,{"$f":"((Invoer!$E$11*Invoer!$E$21)/Invoer!Neerslag_oppervlak)*10000/60/60","v":{"$error":"#DIV/0!"}},null,null,null,null,{"$f":"((Invoer!$F$11*Invoer!$F$21)/Invoer!Neerslag_oppervlak)*10000/60/60","v":{"$error":"#DIV/0!"}},null,null,null,null,{"$f":"((Invoer!$G$11*Invoer!$G$21)/Invoer!Neerslag_oppervlak)*10000/60/60","v":{"$error":"#DIV/0!"}},null,"Afvoercapaciteit riool [l/s/ha neerslagoppervlak]",null,null,null,null,null,null,{"$f":"((Invoer!$D$11*Invoer!$D$21)/Invoer!Neerslag_oppervlak)*10000/60/60","v":{"$error":"#DIV/0!"}},null,null,null,null,{"$f":"((Invoer!$E$11*Invoer!$E$21)/Invoer!Neerslag_oppervlak)*10000/60/60","v":{"$error":"#DIV/0!"}},null,null,null,null,{"$f":"((Invoer!$F$11*Invoer!$F$21)/Invoer!Neerslag_oppervlak)*10000/60/60","v":{"$error":"#DIV/0!"}},null,null,null,null,{"$f":"((Invoer!$G$11*Invoer!$G$21)/Invoer!Neerslag_oppervlak)*10000/60/60","v":{"$error":"#DIV/0!"}}]
[null,null,"Infiltratiecapaciteit onverhard [mm/uur neerslagoppervlak]",null,null,null,null,null,null,{"$f":"(Invoer!$D$16*Invoer!$D$23)/Invoer!Neerslag_oppervlak","v":{"$error":"#DIV/0!"}},null,null,null,null,{"$f":"(Invoer!$E$16*Invoer!$E$23)/Invoer!Neerslag_oppervlak","v":{"$error":"#DIV/0!"}},null,null,null,null,{"$f":"(Invoer!$F$16*Invoer!$F$23)/Invoer!Neerslag_oppervlak","v":{"$error":"#DIV/0!"}},null,null,null,null,{"$f":"(Invoer!$G$16*Invoer!$G$23)/Invoer!Neerslag_oppervlak","v":{"$error":"#DIV/0!"}},null,"Infiltratiecapaciteit onverhard [mm/uur neerslagoppervlak]",null,null,null,null,null,null,{"$f":"(Invoer!$D$16*Invoer!$D$23)/Invoer!Neerslag_oppervlak","v":{"$error":"#DIV/0!"}},null,null,null,null,{"$f":"(Invoer!$E$16*Invoer!$E$23)/Invoer!Neerslag_oppervlak","v":{"$error":"#DIV/0!"}},null,null,null,null,{"$f":"(Invoer!$F$16*Invoer!$F$23)/Invoer!Neerslag_oppervlak","v":{"$error":"#DIV/0!"}},null,null,null,null,{"$f":"(Invoer!$G$16*Invoer!$G$23)/Invoer!Neerslag_oppervlak","v":{"$error":"#DIV/0!"}}]
[null,null,"Toename/Afname laatste kwartier",null,null,null,null,null,null,{"$f":"J333-J319","v":{"$error":"#DIV/0!"}},null,null,null,null,{"$f":"O333-O319","v":{"$error":"#DIV/0!"}},null,null,null,null,{"$f":"T333-T319","v":{"$error":"#DIV/0!"}},null,null,null,null,{"$f":"Y333-Y319","v":{"$error":"#DIV/0!"}},null,"Toename/Afname laatste kwartier",null,null,null,null,null,null,{"$f":"AH333-AH319","v":{"$error":"#DIV/0!"}},null,null,null,null,{"$f":"AM333-AM319","v":{"$error":"#DIV/0!"}},null,null,null,null,{"$f":"AR333-AR319","v":{"$error":"#DIV/0!"}},null,null,null,null,{"$f":"AW333-AW319","v":{"$error":"#DIV/0!"}}]
[null,null,"Infiltratiecapaciteit en afvoer vanuit berging voorziening [mm/uur neerslagoppervlak]",null,null,null,null,null,null,{"$f":"(Invoer!$D$12*Invoer!$D$21)/Invoer!Neerslag_oppervlak","v":{"$error":"#DIV/0!"}},null,null,null,null,{"$f":"(Invoer!$E$12*Invoer!$E$21)/Invoer!Neerslag_oppervlak","v":{"$error":"#DIV/0!"}},null,null,null,null,{"$f":"(Invoer!$F$12*Invoer!$F$21)/Invoer!Neerslag_oppervlak","v":{"$error":"#DIV/0!"}},null,null,null,null,{"$f":"(Invoer!$G$12*Invoer!$G$21)/Invoer!Neerslag_oppervlak","v":{"$error":"#DIV/0!"}},null,"Infiltratiecapaciteit en afvoer vanuit berging voorziening [mm/uur neerslagoppervlak]",null,null,null,null,null,null,{"$f":"(Invoer!$D$12*Invoer!$D$21)/Invoer!Neerslag_oppervlak","v":{"$error":"#DIV/0!"}},null,null,null,null,{"$f":"(Invoer!$E$12*Invoer!$E$21)/Invoer!Neerslag_oppervlak","v":{"$error":"#DIV/0!"}},null,null,null,null,{"$f":"(Invoer!$F$12*Invoer!$F$21)/Invoer!Neerslag_oppervlak","v":{"$error":"#DIV/0!"}},null,null,null,null,{"$f":"(Invoer!$G$12*Invoer!$G$21)/Invoer!Neerslag_oppervlak","v":{"$error":"#DIV/0!"}}]
[]
[null,null,"Herhalingkans T=20",null,null,null,null,null,null,null,null,null,null,null,null,null,null,null,null,null,null,null,null,null,null,null,"Herhalingkans T=50"]
[null,null,"Duur [min]","Aanvoer bui  T=20 [l/s/ha]","Neerslag bui T=20 [mm]","Afvoercapaciteit riolering V0 [mm]","Afvoercapaciteit V0 voorzieningen [mm]","Bergingscapaciteit V0 voorzieningen [mm]","Infiltratiecapaciteit onverhard [mm]","Aanvoer-Afvoer","Afvoercapaciteit riolering V1 [mm]","Afvoercapaciteit V1 voorzieningen [mm]","Bergingscapaciteit V1 voorzieningen [mm]","Infiltratiecapaciteit onverhard [mm]","Aanvoer-Afvoer","Afvoercapaciteit riolering V2 [mm]","Afvoercapaciteit V2 voorzieningen [mm]","Bergingscapaciteit V2 voorzieningen [mm]","Infiltratiecapaciteit onverhard [mm]","Aanvoer-Afvoer","Afvoercapaciteit riolering V3 [mm]","Afvoercapaciteit V3 voorzieningen [mm]","Bergingscapaciteit V3 voorzieningen [mm]","Infiltratiecapaciteit onverhard [mm]","Aanvoer-Afvoer",null,"Duur [min]","Aanvoer bui T=50 [l/s/ha]","Neerslag bui T=50 [mm]","Afvoercapaciteit riolering V0 [mm]","Afvoercapaciteit V0 voorzieningen [mm]","Bergingscapaciteit V0 voorzieningen [mm]","Infiltratiecapaciteit onverhard [mm]","Aanvoer-Afvoer","Afvoercapaciteit riolering V1 [mm]","Afvoercapaciteit V1 voorzieningen [mm]","Bergingscapaciteit V1 voorzieningen [mm]","Infiltratiecapaciteit onverhard [mm]","Aanvoer-Afvoer","Afvoercapaciteit riolering V2 [mm]","Afvoercapaciteit V2 voorzieningen [mm]","Bergingscapaciteit V2 voorzieningen [mm]","Infiltratiecapaciteit onverhard [mm]","Aanvoer-Afvoer","Afvoercapaciteit riolering V3 [mm]","Afvoercapaciteit V3 voorzieningen [mm]","Bergingscapaciteit V3 voorzieningen [mm]","Infiltratiecapaciteit onverhard [mm]","Aanvoer-Afvoer"]
[null,null,0,0,0,0,{"$f":"($J$426/60)*($C344)","v":{"$error":"#DIV/0!"}},{"$f":"J$422","v":{"$error":"#DIV/0!"}},{"$f":"($J$424/60)*$C344","v":{"$error":"#DIV/0!"}},null,0,{"$f":"($O$426/60)*($C344)","v":{"$error":"#DIV/0!"}},{"$f":"O$422","v":{"$error":"#DIV/0!"}},{"$f":"($O$424/60)*$C344","v":{"$error":"#DIV/0!"}},null,0,{"$f":"($T$426/60)*($C344)","v":{"$error":"#DIV/0!"}},{"$f":"T$422","v":{"$error":"#DIV/0!"}},{"$f":"($T$424/60)*$C344","v":{"$error":"#DIV/0!"}},null,0,{"$f":"($Y$426/60)*($C344)","v":{"$error":"#DIV/0!"}},{"$f":"Y$422","v":{"$error":"#DIV/0!"}},{"$f":"($Y$424/60)*$C344","v":{"$error":"#DIV/0!"}},null,null,0,0,0,0,{"$f":"($AH$426/60)*($AA344)","v":{"$error":"#DIV/0!"}},{"$f":"AH$422","v":{"$error":"#DIV/0!"}},{"$f":"($AH$424/60)*$AA344","v":{"$error":"#DIV/0!"}},null,0,{"$f":"($AM$426/60)*($AA344)","v":{"$error":"#DIV/0!"}},{"$f":"AM$422/60*$AA344","v":{"$error":"#DIV/0!"}},{"$f":"($AM$424/60)*$AA344","v":{"$error":"#DIV/0!"}},null,0,0,{"$f":"AR$422/60*$AA344","v":{"$error":"#DIV/0!"}},{"$f":"($AR$424/60)*$AA344","v":{"$error":"#DIV/0!"}},null,0,0,{"$f":"AW$422/60*$AA344","v":{"$error":"#DIV/0!"}},{"$f":"($AW$424/60)*$AA344","v":{"$error":"#DIV/0!"}}]
[null,null,1,{"$f":"((((((E345-E344)/(C345-C344)/60)/1000)*10000)*1000))","v":410.34008679679096},{"$f":"Klimaatscenario!E8","v":2.4620405207807456},{"$f":"((J$423*60)/10000)+F344","v":{"$error":"#DIV/0!"}},{"$error":"#DIV/0!"},{"$f":"J$422","v":{"$error":"#DIV/0!"}},{"$error":"#DIV/0!"},{"$f":"$E345-F345-G345-H345-I345","v":{"$error":"#DIV/0!"}},{"$f":"((O$423*60)/10000)+K344","v":{"$error":"#DIV/0!"}},{"$error":"#DIV/0!"},{"$f":"O$422","v":{"$error":"#DIV/0!"}},{"$error":"#DIV/0!"},{"$f":"$E345-K345-L345-M345-N345","v":{"$error":"#DIV/0!"}},{"$f":"((T$423*60)/10000)+P344","v":{"$error":"#DIV/0!"}},{"$error":"#DIV/0!"},{"$f":"T$422","v":{"$error":"#DIV/0!"}},{"$error":"#DIV/0!"},{"$f":"$E345-P345-Q345-R345-S345","v":{"$error":"#DIV/0!"}},{"$f":"((Y$423*60)/10000)+U344","v":{"$error":"#DIV/0!"}},{"$error":"#DIV/0!"},{"$f":"Y$422","v":{"$error":"#DIV/0!"}},{"$error":"#DIV/0!"},{"$f":"$E345-U345-V345-W345-X345","v":{"$error":"#DIV/0!"}},null,1,{"$f":"((((((AC345-AC344)/(AA345-AA344)/60)/1000)*10000)*1000))","v":499.27316209897634},{"$f":"Klimaatscenario!F8","v":2.9956389725938579},{"$f":"((AH$423*60)/10000)+AD344","v":{"$error":"#DIV/0!"}},{"$error":"#DIV/0!"},{"$f":"AH$422","v":{"$error":"#DIV/0!"}},{"$error":"#DIV/0!"},{"$f":"$AC345-AD345-AE345-AF345-AG345","v":{"$error":"#DIV/0!"}},{"$f":"((AM$423*60)/10000)+AI344","v":{"$error":"#DIV/0!"}},{"$error":"#DIV/0!"},{"$f":"AM$422","v":{"$error":"#DIV/0!"}},{"$error":"#DIV/0!"},{"$f":"$AC345-AI345-AJ345-AK345-AL345","v":{"$error":"#DIV/0!"}},{"$f":"((AR$423*60)/10000)+AN344","v":{"$error":"#DIV/0!"}},{"$f":"($AR$426/60)*($AA345)","v":{"$error":"#DIV/0!"}},{"$f":"AR$422","v":{"$error":"#DIV/0!"}},{"$error":"#DIV/0!"},{"$f":"$AC345-AN345-AO345-AP345-AQ345","v":{"$error":"#DIV/0!"}},{"$f":"((AW$423*60)/10000)+AS344","v":{"$error":"#DIV/0!"}},{"$f":"($AW$426/60)*($AA345)","v":{"$error":"#DIV/0!"}},{"$f":"AW$422","v":{"$error":"#DIV/0!"}},{"$error":"#DIV/0!"},{"$f":"$AC345-AS345-AT345-AU345-AV345","v":{"$error":"#DIV/0!"}}]
[null,null,2,{"$f":"((((((E346-E345)/(C346-C345)/60)/1000)*10000)*1000))","v":410.34008679679096},{"$f":"Klimaatscenario!E9","v":4.9240810415614913},{"$error":"#DIV/0!"},{"$error":"#DIV/0!"},{"$error":"#DIV/0!"},{"$error":"#DIV/0!"},{"$error":"#DIV/0!"},{"$error":"#DIV/0!"},{"$error":"#DIV/0!"},{"$error":"#DIV/0!"},{"$error":"#DIV/0!"},{"$error":"#DIV/0!"},{"$error":"#DIV/0!"},{"$error":"#DIV/0!"},{"$error":"#DIV/0!"},{"$error":"#DIV/0!"},{"$error":"#DIV/0!"},{"$error":"#DIV/0!"},{"$error":"#DIV/0!"},{"$error":"#DIV/0!"},{"$error":"#DIV/0!"},{"$error":"#DIV/0!"},null,2,{"$f":"((((((AC346-AC345)/(AA346-AA345)/60)/1000)*10000)*1000))","v":499.27316209897634},{"$f":"Klimaatscenario!F9","v":5.9912779451877158},{"$error":"#DIV/0!"},{"$error":"#DIV/0!"},{"$error":"#DIV/0!"},{"$error":"#DIV/0!"},{"$error":"#DIV/0!"},{"$error":"#DIV/0!"},{"$error":"#DIV/0!"},{"$f":"AM$422","v":{"$error":"#DIV/0!"}},{"$error":"#DIV/0!"},{"$error":"#DIV/0!"},{"$error":"#DIV/0!"},{"$error":"#DIV/0!"},{"$f":"AR$422","v":{"$error":"#DIV/0!"}},{"$error":"#DIV/0!"},{"$error":"#DIV/0!"},{"$error":"#DIV/0!"},{"$error":"#DIV/0!"},{"$f":"AW$422","v":{"$error":"#DIV/0!"}},{"$error":"#DIV/0!"},{"$error":"#DIV/0!"}]
[null,null,3,{"$f":"((((((E347-E346)/(C347-C346)/60)/1000)*10000)*1000))","v":410.34008679679096},{"$f":"Klimaatscenario!E10","v":7.3861215623422369},{"$error":"#DIV/0!"},{"$error":"#DIV/0!"},{"$error":"#DIV/0!"},{"$error":"#DIV/0!"},{"$error":"#DIV/0!"},{"$error":"#DIV/0!"},{"$error":"#DIV/0!"},{"$error":"#DIV/0!"},{"$error":"#DIV/0!"},{"$error":"#DIV/0!"},{"$error":"#DIV/0!"},{"$error":"#DIV/0!"},{"$error":"#DIV/0!"},{"$error":"#DIV/0!"},{"$error":"#DIV/0!"},{"$error":"#DIV/0!"},{"$error":"#DIV/0!"},{"$error":"#DIV/0!"},{"$error":"#DIV/0!"},{"$error":"#DIV/0!"},null,3,{"$f":"((((((AC347-AC346)/(AA347-AA346)/60)/1000)*10000)*1000))","v":499.2731620989764},{"$f":"Klimaatscenario!F10","v":8.9869169177815742},{"$error":"#DIV/0!"},{"$error":"#DIV/0!"},{"$error":"#DIV/0!"},{"$error":"#DIV/0!"},{"$error":"#DIV/0!"},{"$error":"#DIV/0!"},{"$error":"#DIV/0!"},{"$error":"#DIV/0!"},{"$error":"#DIV/0!"},{"$error":"#DIV/0!"},{"$error":"#DIV/0!"},{"$error":"#DIV/0!"},{"$error":"#DIV/0!"},{"$error":"#DIV/0!"},{"$error":"#DIV/0!"},{"$error":"#DIV/0!"},{"$error":"#DIV/0!"},{"$error":"#DIV/0!"},{"$error":"#DIV/0!"},{"$error":"#DIV/0!"}]
[null,null,4,{"$f":"((((((E348-E347)/(C348-C347)/60)/1000)*10000)*1000))","v":410.34008679679096},{"$f":"Klimaatscenario!E11","v":9.8481620831229826},{"$error":"#DIV/0!"},{"$error":"#DIV/0!"},{"$error":"#DIV/0!"},{"$error":"#DIV/0!"},{"$error":"#DIV/0!"},{"$error":"#DIV/0!"},{"$error":"#DIV/0!"},{"$error":"#DIV/0!"},{"$error":"#DIV/0!"},{"$error":"#DIV/0!"},{"$error":"#DIV/0!"},{"$error":"#DIV/0!"},{"$error":"#DIV/0!"},{"$error":"#DIV/0!"},{"$error":"#DIV/0!"},{"$error":"#DIV/0!"},{"$error":"#DIV/0!"},{"$error":"#DIV/0!"},{"$error":"#DIV/0!"},{"$error":"#DIV/0!"},null,4,{"$f":"((((((AC348-AC347)/(AA348-AA347)/60)/1000)*10000)*1000))","v":499.27316209897629},{"$f":"Klimaatscenario!F11","v":11.982555890375432},{"$error":"#DIV/0!"},{"$error":"#DIV/0!"},{"$error":"#DIV/0!"},{"$error":"#DIV/0!"},{"$error":"#DIV/0!"},{"$error":"#DIV/0!"},{"$error":"#DIV/0!"},{"$error":"#DIV/0!"},{"$error":"#DIV/0!"},{"$error":"#DIV/0!"},{"$error":"#DIV/0!"},{"$error":"#DIV/0!"},{"$error":"#DIV/0!"},{"$error":"#DIV/0!"},{"$error":"#DIV/0!"},{"$error":"#DIV/0!"},{"$error":"#DIV/0!"},{"$error":"#DIV/0!"},{"$error":"#DIV/0!"},{"$error":"#DIV/0!"}]
[null,null,5,{"$f":"((((((E349-E348)/(C349-C348))/60)/1000)*10000)*1000)","v":410.34008679679107},{"$f":"Klimaatscenario!E12","v":12.310202603903729},{"$error":"#DIV/0!"},{"$error":"#DIV/0!"},{"$error":"#DIV/0!"},{"$error":"#DIV/0!"},{"$error":"#DIV/0!"},{"$error":"#DIV/0!"},{"$error":"#DIV/0!"},{"$error":"#DIV/0!"},{"$error":"#DIV/0!"},{"$error":"#DIV/0!"},{"$error":"#DIV/0!"},{"$error":"#DIV/0!"},{"$error":"#DIV/0!"},{"$error":"#DIV/0!"},{"$error":"#DIV/0!"},{"$error":"#DIV/0!"},{"$error":"#DIV/0!"},{"$error":"#DIV/0!"},{"$error":"#DIV/0!"},{"$error":"#DIV/0!"},null,5,{"$f":"((((((AC349-AC348)/(AA349-AA348))/60)/1000)*10000)*1000)","v":499.27316209897629},{"$f":"Klimaatscenario!F12","v":14.978194862969289},{"$error":"#DIV/0!"},{"$error":"#DIV/0!"},{"$error":"#DIV/0!"},{"$error":"#DIV/0!"},{"$error":"#DIV/0!"},{"$error":"#DIV/0!"},{"$error":"#DIV/0!"},{"$error":"#DIV/0!"},{"$error":"#DIV/0!"},{"$error":"#DIV/0!"},{"$error":"#DIV/0!"},{"$error":"#DIV/0!"},{"$error":"#DIV/0!"},{"$error":"#DIV/0!"},{"$error":"#DIV/0!"},{"$error":"#DIV/0!"},{"$error":"#DIV/0!"},{"$error":"#DIV/0!"},{"$error":"#DIV/0!"},{"$error":"#DIV/0!"}]
[null,null,6,{"$f":"((((((E350-E349)/(C350-C349))/60)/1000)*10000)*1000)","v":410.34008679679079},{"$f":"Klimaatscenario!E13","v":14.772243124684474},{"$error":"#DIV/0!"},{"$error":"#DIV/0!"},{"$error":"#DIV/0!"},{"$error":"#DIV/0!"},{"$error":"#DIV/0!"},{"$error":"#DIV/0!"},{"$error":"#DIV/0!"},{"$error":"#DIV/0!"},{"$error":"#DIV/0!"},{"$error":"#DIV/0!"},{"$error":"#DIV/0!"},{"$error":"#DIV/0!"},{"$error":"#DIV/0!"},{"$error":"#DIV/0!"},{"$error":"#DIV/0!"},{"$error":"#DIV/0!"},{"$error":"#DIV/0!"},{"$error":"#DIV/0!"},{"$error":"#DIV/0!"},{"$error":"#DIV/0!"},null,6,499.27316209897651,{"$f":"Klimaatscenario!F13","v":17.973833835563148},{"$error":"#DIV/0!"},{"$error":"#DIV/0!"},{"$error":"#DIV/0!"},{"$error":"#DIV/0!"},{"$error":"#DIV/0!"},{"$error":"#DIV/0!"},{"$error":"#DIV/0!"},{"$error":"#DIV/0!"},{"$error":"#DIV/0!"},{"$error":"#DIV/0!"},{"$error":"#DIV/0!"},{"$error":"#DIV/0!"},{"$error":"#DIV/0!"},{"$error":"#DIV/0!"},{"$error":"#DIV/0!"},{"$error":"#DIV/0!"},{"$error":"#DIV/0!"},{"$error":"#DIV/0!"},{"$error":"#DIV/0!"},{"$error":"#DIV/0!"}]
[null,null,7,410.34008679679079,{"$f":"Klimaatscenario!E14","v":17.234283645465219},{"$error":"#DIV/0!"},{"$error":"#DIV/0!"},{"$error":"#DIV/0!"},{"$error":"#DIV/0!"},{"$error":"#DIV/0!"},{"$error":"#DIV/0!"},{"$error":"#DIV/0!"},{"$error":"#DIV/0!"},{"$error":"#DIV/0!"},{"$error":"#DIV/0!"},{"$error":"#DIV/0!"},{"$error":"#DIV/0!"},{"$error":"#DIV/0!"},{"$error":"#DIV/0!"},{"$error":"#DIV/0!"},{"$error":"#DIV/0!"},{"$error":"#DIV/0!"},{"$error":"#DIV/0!"},{"$error":"#DIV/0!"},{"$error":"#DIV/0!"},null,7,499.27316209897594,{"$f":"Klimaatscenario!F14","v":20.969472808157004},{"$error":"#DIV/0!"},{"$error":"#DIV/0!"},{"$error":"#DIV/0!"},{"$error":"#DIV/0!"},{"$error":"#DIV/0!"},{"$error":"#DIV/0!"},{"$error":"#DIV/0!"},{"$error":"#DIV/0!"},{"$error":"#DIV/0!"},{"$error":"#DIV/0!"},{"$error":"#DIV/0!"},{"$error":"#DIV/0!"},{"$error":"#DIV/0!"},{"$error":"#DIV/0!"},{"$error":"#DIV/0!"},{"$error":"#DIV/0!"},{"$error":"#DIV/0!"},{"$error":"#DIV/0!"},{"$error":"#DIV/0!"},{"$error":"#DIV/0!"}]
[null,null,8,410.34008679679107,{"$f":"Klimaatscenario!E15","v":19.696324166245965},{"$error":"#DIV/0!"},{"$error":"#DIV/0!"},{"$error":"#DIV/0!"},{"$error":"#DIV/0!"},{"$error":"#DIV/0!"},{"$error":"#DIV/0!"},{"$error":"#DIV/0!"},{"$error":"#DIV/0!"},{"$error":"#DIV/0!"},{"$error":"#DIV/0!"},{"$error":"#DIV/0!"},{"$error":"#DIV/0!"},{"$error":"#DIV/0!"},{"$error":"#DIV/0!"},{"$error":"#DIV/0!"},{"$error":"#DIV/0!"},{"$error":"#DIV/0!"},{"$error":"#DIV/0!"},{"$error":"#DIV/0!"},{"$error":"#DIV/0!"},null,8,499.27316209897651,{"$f":"Klimaatscenario!F15","v":23.965111780750863},{"$error":"#DIV/0!"},{"$error":"#DIV/0!"},{"$error":"#DIV/0!"},{"$error":"#DIV/0!"},{"$error":"#DIV/0!"},{"$error":"#DIV/0!"},{"$error":"#DIV/0!"},{"$error":"#DIV/0!"},{"$error":"#DIV/0!"},{"$error":"#DIV/0!"},{"$error":"#DIV/0!"},{"$error":"#DIV/0!"},{"$error":"#DIV/0!"},{"$error":"#DIV/0!"},{"$error":"#DIV/0!"},{"$error":"#DIV/0!"},{"$error":"#DIV/0!"},{"$error":"#DIV/0!"},{"$error":"#DIV/0!"},{"$error":"#DIV/0!"}]
[null,null,9,410.34008679679107,{"$f":"Klimaatscenario!E16","v":22.158364687026712},{"$error":"#DIV/0!"},{"$error":"#DIV/0!"},{"$error":"#DIV/0!"},{"$error":"#DIV/0!"},{"$error":"#DIV/0!"},{"$error":"#DIV/0!"},{"$error":"#DIV/0!"},{"$error":"#DIV/0!"},{"$error":"#DIV/0!"},{"$error":"#DIV/0!"},{"$error":"#DIV/0!"},{"$error":"#DIV/0!"},{"$error":"#DIV/0!"},{"$error":"#DIV/0!"},{"$error":"#DIV/0!"},{"$error":"#DIV/0!"},{"$error":"#DIV/0!"},{"$error":"#DIV/0!"},{"$error":"#DIV/0!"},{"$error":"#DIV/0!"},null,9,499.27316209897651,{"$f":"Klimaatscenario!F16","v":26.960750753344723},{"$error":"#DIV/0!"},{"$error":"#DIV/0!"},{"$error":"#DIV/0!"},{"$error":"#DIV/0!"},{"$error":"#DIV/0!"},{"$error":"#DIV/0!"},{"$error":"#DIV/0!"},{"$error":"#DIV/0!"},{"$error":"#DIV/0!"},{"$error":"#DIV/0!"},{"$error":"#DIV/0!"},{"$error":"#DIV/0!"},{"$error":"#DIV/0!"},{"$error":"#DIV/0!"},{"$error":"#DIV/0!"},{"$error":"#DIV/0!"},{"$error":"#DIV/0!"},{"$error":"#DIV/0!"},{"$error":"#DIV/0!"},{"$error":"#DIV/0!"}]
[null,null,10,410.3400867967905,{"$f":"Klimaatscenario!E17","v":24.620405207807455},{"$error":"#DIV/0!"},{"$error":"#DIV/0!"},{"$error":"#DIV/0!"},{"$error":"#DIV/0!"},{"$error":"#DIV/0!"},{"$error":"#DIV/0!"},{"$error":"#DIV/0!"},{"$error":"#DIV/0!"},{"$error":"#DIV/0!"},{"$error":"#DIV/0!"},{"$error":"#DIV/0!"},{"$error":"#DIV/0!"},{"$error":"#DIV/0!"},{"$error":"#DIV/0!"},{"$error":"#DIV/0!"},{"$error":"#DIV/0!"},{"$error":"#DIV/0!"},{"$error":"#DIV/0!"},{"$error":"#DIV/0!"},{"$error":"#DIV/0!"},null,10,499.27316209897594,{"$f":"Klimaatscenario!F17","v":29.956389725938578},{"$error":"#DIV/0!"},{"$error":"#DIV/0!"},{"$error":"#DIV/0!"},{"$error":"#DIV/0!"},{"$error":"#DIV/0!"},{"$error":"#DIV/0!"},{"$error":"#DIV/0!"},{"$error":"#DIV/0!"},{"$error":"#DIV/0!"},{"$error":"#DIV/0!"},{"$error":"#DIV/0!"},{"$error":"#DIV/0!"},{"$error":"#DIV/0!"},{"$error":"#DIV/0!"},{"$error":"#DIV/0!"},{"$error":"#DIV/0!"},{"$error":"#DIV/0!"},{"$error":"#DIV/0!"},{"$error":"#DIV/0!"},{"$error":"#DIV/0!"}]
[null,null,11,99.929444239003004,{"$f":"Klimaatscenario!E18","v":25.219981873241473},{"$error":"#DIV/0!"},{"$error":"#DIV/0!"},{"$error":"#DIV/0!"},{"$error":"#DIV/0!"},{"$error":"#DIV/0!"},{"$error":"#DIV/0!"},{"$error":"#DIV/0!"},{"$error":"#DIV/0!"},{"$error":"#DIV/0!"},{"$error":"#DIV/0!"},{"$error":"#DIV/0!"},{"$error":"#DIV/0!"},{"$error":"#DIV/0!"},{"$error":"#DIV/0!"},{"$error":"#DIV/0!"},{"$error":"#DIV/0!"},{"$error":"#DIV/0!"},{"$error":"#DIV/0!"},{"$error":"#DIV/0!"},{"$error":"#DIV/0!"},null,11,136.6587739594749,{"$f":"Klimaatscenario!F18","v":30.776342369695428},{"$error":"#DIV/0!"},{"$error":"#DIV/0!"},{"$error":"#DIV/0!"},{"$error":"#DIV/0!"},{"$error":"#DIV/0!"},{"$error":"#DIV/0!"},{"$error":"#DIV/0!"},{"$error":"#DIV/0!"},{"$error":"#DIV/0!"},{"$error":"#DIV/0!"},{"$error":"#DIV/0!"},{"$error":"#DIV/0!"},{"$error":"#DIV/0!"},{"$error":"#DIV/0!"},{"$error":"#DIV/0!"},{"$error":"#DIV/0!"},{"$error":"#DIV/0!"},{"$error":"#DIV/0!"},{"$error":"#DIV/0!"},{"$error":"#DIV/0!"}]
[null,null,12,99.929444239003004,{"$f":"Klimaatscenario!E19","v":25.819558538675491},{"$error":"#DIV/0!"},{"$error":"#DIV/0!"},{"$error":"#DIV/0!"},{"$error":"#DIV/0!"},{"$error":"#DIV/0!"},{"$error":"#DIV/0!"},{"$error":"#DIV/0!"},{"$error":"#DIV/0!"},{"$error":"#DIV/0!"},{"$error":"#DIV/0!"},{"$error":"#DIV/0!"},{"$error":"#DIV/0!"},{"$error":"#DIV/0!"},{"$error":"#DIV/0!"},{"$error":"#DIV/0!"},{"$error":"#DIV/0!"},{"$error":"#DIV/0!"},{"$error":"#DIV/0!"},{"$error":"#DIV/0!"},{"$error":"#DIV/0!"},null,12,136.6587739594743,{"$f":"Klimaatscenario!F19","v":31.596295013452274},{"$error":"#DIV/0!"},{"$error":"#DIV/0!"},{"$error":"#DIV/0!"},{"$error":"#DIV/0!"},{"$error":"#DIV/0!"},{"$error":"#DIV/0!"},{"$error":"#DIV/0!"},{"$error":"#DIV/0!"},{"$error":"#DIV/0!"},{"$error":"#DIV/0!"},{"$error":"#DIV/0!"},{"$error":"#DIV/0!"},{"$error":"#DIV/0!"},{"$error":"#DIV/0!"},{"$error":"#DIV/0!"},{"$error":"#DIV/0!"},{"$error":"#DIV/0!"},{"$error":"#DIV/0!"},{"$error":"#DIV/0!"},{"$error":"#DIV/0!"}]
[null,null,13,99.929444239003004,{"$f":"Klimaatscenario!E20","v":26.419135204109509},{"$error":"#DIV/0!"},{"$error":"#DIV/0!"},{"$error":"#DIV/0!"},{"$error":"#DIV/0!"},{"$error":"#DIV/0!"},{"$error":"#DIV/0!"},{"$error":"#DIV/0!"},{"$error":"#DIV/0!"},{"$error":"#DIV/0!"},{"$error":"#DIV/0!"},{"$error":"#DIV/0!"},{"$error":"#DIV/0!"},{"$error":"#DIV/0!"},{"$error":"#DIV/0!"},{"$error":"#DIV/0!"},{"$error":"#DIV/0!"},{"$error":"#DIV/0!"},{"$error":"#DIV/0!"},{"$error":"#DIV/0!"},{"$error":"#DIV/0!"},null,13,136.6587739594743,{"$f":"Klimaatscenario!F20","v":32.416247657209119},{"$error":"#DIV/0!"},{"$error":"#DIV/0!"},{"$error":"#DIV/0!"},{"$error":"#DIV/0!"},{"$error":"#DIV/0!"},{"$error":"#DIV/0!"},{"$error":"#DIV/0!"},{"$error":"#DIV/0!"},{"$error":"#DIV/0!"},{"$error":"#DIV/0!"},{"$error":"#DIV/0!"},{"$error":"#DIV/0!"},{"$error":"#DIV/0!"},{"$error":"#DIV/0!"},{"$error":"#DIV/0!"},{"$error":"#DIV/0!"},{"$error":"#DIV/0!"},{"$error":"#DIV/0!"},{"$error":"#DIV/0!"},{"$error":"#DIV/0!"}]
[null,null,14,99.929444239003004,{"$f":"Klimaatscenario!E21","v":27.018711869543527},{"$error":"#DIV/0!"},{"$error":"#DIV/0!"},{"$error":"#DIV/0!"},{"$error":"#DIV/0!"},{"$error":"#DIV/0!"},{"$error":"#DIV/0!"},{"$error":"#DIV/0!"},{"$error":"#DIV/0!"},{"$error":"#DIV/0!"},{"$error":"#DIV/0!"},{"$error":"#DIV/0!"},{"$error":"#DIV/0!"},{"$error":"#DIV/0!"},{"$error":"#DIV/0!"},{"$error":"#DIV/0!"},{"$error":"#DIV/0!"},{"$error":"#DIV/0!"},{"$error":"#DIV/0!"},{"$error":"#DIV/0!"},{"$error":"#DIV/0!"},null,14,136.6587739594749,{"$f":"Klimaatscenario!F21","v":33.236200300965969},{"$error":"#DIV/0!"},{"$error":"#DIV/0!"},{"$error":"#DIV/0!"},{"$error":"#DIV/0!"},{"$error":"#DIV/0!"},{"$error":"#DIV/0!"},{"$error":"#DIV/0!"},{"$error":"#DIV/0!"},{"$error":"#DIV/0!"},{"$error":"#DIV/0!"},{"$error":"#DIV/0!"},{"$error":"#DIV/0!"},{"$error":"#DIV/0!"},{"$error":"#DIV/0!"},{"$error":"#DIV/0!"},{"$error":"#DIV/0!"},{"$error":"#DIV/0!"},{"$error":"#DIV/0!"},{"$error":"#DIV/0!"},{"$error":"#DIV/0!"}]
[null,null,15,99.929444239003004,{"$f":"Klimaatscenario!E22","v":27.618288534977545},{"$error":"#DIV/0!"},{"$error":"#DIV/0!"},{"$error":"#DIV/0!"},{"$error":"#DIV/0!"},{"$error":"#DIV/0!"},{"$error":"#DIV/0!"},{"$error":"#DIV/0!"},{"$error":"#DIV/0!"},{"$error":"#DIV/0!"},{"$error":"#DIV/0!"},{"$error":"#DIV/0!"},{"$error":"#DIV/0!"},{"$error":"#DIV/0!"},{"$error":"#DIV/0!"},{"$error":"#DIV/0!"},{"$error":"#DIV/0!"},{"$error":"#DIV/0!"},{"$error":"#DIV/0!"},{"$error":"#DIV/0!"},{"$error":"#DIV/0!"},null,15,136.6587739594749,{"$f":"Klimaatscenario!F22","v":34.056152944722818},{"$error":"#DIV/0!"},{"$error":"#DIV/0!"},{"$error":"#DIV/0!"},{"$error":"#DIV/0!"},{"$error":"#DIV/0!"},{"$error":"#DIV/0!"},{"$error":"#DIV/0!"},{"$error":"#DIV/0!"},{"$error":"#DIV/0!"},{"$error":"#DIV/0!"},{"$error":"#DIV/0!"},{"$error":"#DIV/0!"},{"$error":"#DIV/0!"},{"$error":"#DIV/0!"},{"$error":"#DIV/0!"},{"$error":"#DIV/0!"},{"$error":"#DIV/0!"},{"$error":"#DIV/0!"},{"$error":"#DIV/0!"},{"$error":"#DIV/0!"}]
[null,null,16,99.929444239003004,{"$f":"Klimaatscenario!E23","v":28.217865200411563},{"$error":"#DIV/0!"},{"$error":"#DIV/0!"},{"$error":"#DIV/0!"},{"$error":"#DIV/0!"},{"$error":"#DIV/0!"},{"$error":"#DIV/0!"},{"$error":"#DIV/0!"},{"$error":"#DIV/0!"},{"$error":"#DIV/0!"},{"$error":"#DIV/0!"},{"$error":"#DIV/0!"},{"$error":"#DIV/0!"},{"$error":"#DIV/0!"},{"$error":"#DIV/0!"},{"$error":"#DIV/0!"},{"$error":"#DIV/0!"},{"$error":"#DIV/0!"},{"$error":"#DIV/0!"},{"$error":"#DIV/0!"},{"$error":"#DIV/0!"},null,16,136.65877395947371,{"$f":"Klimaatscenario!F23","v":34.87610558847966},{"$error":"#DIV/0!"},{"$error":"#DIV/0!"},{"$error":"#DIV/0!"},{"$error":"#DIV/0!"},{"$error":"#DIV/0!"},{"$error":"#DIV/0!"},{"$error":"#DIV/0!"},{"$error":"#DIV/0!"},{"$error":"#DIV/0!"},{"$error":"#DIV/0!"},{"$error":"#DIV/0!"},{"$error":"#DIV/0!"},{"$error":"#DIV/0!"},{"$error":"#DIV/0!"},{"$error":"#DIV/0!"},{"$error":"#DIV/0!"},{"$error":"#DIV/0!"},{"$error":"#DIV/0!"},{"$error":"#DIV/0!"},{"$error":"#DIV/0!"}]
[null,null,17,99.929444239003004,{"$f":"Klimaatscenario!E24","v":28.817441865845581},{"$error":"#DIV/0!"},{"$error":"#DIV/0!"},{"$error":"#DIV/0!"},{"$error":"#DIV/0!"},{"$error":"#DIV/0!"},{"$error":"#DIV/0!"},{"$error":"#DIV/0!"},{"$error":"#DIV/0!"},{"$error":"#DIV/0!"},{"$error":"#DIV/0!"},{"$error":"#DIV/0!"},{"$error":"#DIV/0!"},{"$error":"#DIV/0!"},{"$error":"#DIV/0!"},{"$error":"#DIV/0!"},{"$error":"#DIV/0!"},{"$error":"#DIV/0!"},{"$error":"#DIV/0!"},{"$error":"#DIV/0!"},{"$error":"#DIV/0!"},null,17,136.6587739594749,{"$f":"Klimaatscenario!F24","v":35.69605823223651},{"$error":"#DIV/0!"},{"$error":"#DIV/0!"},{"$error":"#DIV/0!"},{"$error":"#DIV/0!"},{"$error":"#DIV/0!"},{"$error":"#DIV/0!"},{"$error":"#DIV/0!"},{"$error":"#DIV/0!"},{"$error":"#DIV/0!"},{"$error":"#DIV/0!"},{"$error":"#DIV/0!"},{"$error":"#DIV/0!"},{"$error":"#DIV/0!"},{"$error":"#DIV/0!"},{"$error":"#DIV/0!"},{"$error":"#DIV/0!"},{"$error":"#DIV/0!"},{"$error":"#DIV/0!"},{"$error":"#DIV/0!"},{"$error":"#DIV/0!"}]
[null,null,18,99.929444239002407,{"$f":"Klimaatscenario!E25","v":29.417018531279595},{"$error":"#DIV/0!"},{"$error":"#DIV/0!"},{"$error":"#DIV/0!"},{"$error":"#DIV/0!"},{"$error":"#DIV/0!"},{"$error":"#DIV/0!"},{"$error":"#DIV/0!"},{"$error":"#DIV/0!"},{"$error":"#DIV/0!"},{"$error":"#DIV/0!"},{"$error":"#DIV/0!"},{"$error":"#DIV/0!"},{"$error":"#DIV/0!"},{"$error":"#DIV/0!"},{"$error":"#DIV/0!"},{"$error":"#DIV/0!"},{"$error":"#DIV/0!"},{"$error":"#DIV/0!"},{"$error":"#DIV/0!"},{"$error":"#DIV/0!"},null,18,136.6587739594749,{"$f":"Klimaatscenario!F25","v":36.516010875993359},{"$error":"#DIV/0!"},{"$error":"#DIV/0!"},{"$error":"#DIV/0!"},{"$error":"#DIV/0!"},{"$error":"#DIV/0!"},{"$error":"#DIV/0!"},{"$error":"#DIV/0!"},{"$error":"#DIV/0!"},{"$error":"#DIV/0!"},{"$error":"#DIV/0!"},{"$error":"#DIV/0!"},{"$error":"#DIV/0!"},{"$error":"#DIV/0!"},{"$error":"#DIV/0!"},{"$error":"#DIV/0!"},{"$error":"#DIV/0!"},{"$error":"#DIV/0!"},{"$error":"#DIV/0!"},{"$error":"#DIV/0!"},{"$error":"#DIV/0!"}]
[null,null,19,99.929444239003601,{"$f":"Klimaatscenario!E26","v":30.016595196713617},{"$error":"#DIV/0!"},{"$error":"#DIV/0!"},{"$error":"#DIV/0!"},{"$error":"#DIV/0!"},{"$error":"#DIV/0!"},{"$error":"#DIV/0!"},{"$error":"#DIV/0!"},{"$error":"#DIV/0!"},{"$error":"#DIV/0!"},{"$error":"#DIV/0!"},{"$error":"#DIV/0!"},{"$error":"#DIV/0!"},{"$error":"#DIV/0!"},{"$error":"#DIV/0!"},{"$error":"#DIV/0!"},{"$error":"#DIV/0!"},{"$error":"#DIV/0!"},{"$error":"#DIV/0!"},{"$error":"#DIV/0!"},{"$error":"#DIV/0!"},null,19,136.6587739594749,{"$f":"Klimaatscenario!F26","v":37.335963519750209},{"$error":"#DIV/0!"},{"$error":"#DIV/0!"},{"$error":"#DIV/0!"},{"$error":"#DIV/0!"},{"$error":"#DIV/0!"},{"$error":"#DIV/0!"},{"$error":"#DIV/0!"},{"$error":"#DIV/0!"},{"$error":"#DIV/0!"},{"$error":"#DIV/0!"},{"$error":"#DIV/0!"},{"$error":"#DIV/0!"},{"$error":"#DIV/0!"},{"$error":"#DIV/0!"},{"$error":"#DIV/0!"},{"$error":"#DIV/0!"},{"$error":"#DIV/0!"},{"$error":"#DIV/0!"},{"$error":"#DIV/0!"},{"$error":"#DIV/0!"}]
[null,null,20,99.929444239002407,{"$f":"Klimaatscenario!E27","v":30.616171862147631},{"$error":"#DIV/0!"},{"$error":"#DIV/0!"},{"$error":"#DIV/0!"},{"$error":"#DIV/0!"},{"$error":"#DIV/0!"},{"$error":"#DIV/0!"},{"$error":"#DIV/0!"},{"$error":"#DIV/0!"},{"$error":"#DIV/0!"},{"$error":"#DIV/0!"},{"$error":"#DIV/0!"},{"$error":"#DIV/0!"},{"$error":"#DIV/0!"},{"$error":"#DIV/0!"},{"$error":"#DIV/0!"},{"$error":"#DIV/0!"},{"$error":"#DIV/0!"},{"$error":"#DIV/0!"},{"$error":"#DIV/0!"},{"$error":"#DIV/0!"},null,20,136.6587739594749,{"$f":"Klimaatscenario!F27","v":38.155916163507058},{"$error":"#DIV/0!"},{"$error":"#DIV/0!"},{"$error":"#DIV/0!"},{"$error":"#DIV/0!"},{"$error":"#DIV/0!"},{"$error":"#DIV/0!"},{"$error":"#DIV/0!"},{"$error":"#DIV/0!"},{"$error":"#DIV/0!"},{"$error":"#DIV/0!"},{"$error":"#DIV/0!"},{"$error":"#DIV/0!"},{"$error":"#DIV/0!"},{"$error":"#DIV/0!"},{"$error":"#DIV/0!"},{"$error":"#DIV/0!"},{"$error":"#DIV/0!"},{"$error":"#DIV/0!"},{"$error":"#DIV/0!"},{"$error":"#DIV/0!"}]
[null,null,21,99.929444239003004,{"$f":"Klimaatscenario!E28","v":31.215748527581649},{"$error":"#DIV/0!"},{"$error":"#DIV/0!"},{"$error":"#DIV/0!"},{"$error":"#DIV/0!"},{"$error":"#DIV/0!"},{"$error":"#DIV/0!"},{"$error":"#DIV/0!"},{"$error":"#DIV/0!"},{"$error":"#DIV/0!"},{"$error":"#DIV/0!"},{"$error":"#DIV/0!"},{"$error":"#DIV/0!"},{"$error":"#DIV/0!"},{"$error":"#DIV/0!"},{"$error":"#DIV/0!"},{"$error":"#DIV/0!"},{"$error":"#DIV/0!"},{"$error":"#DIV/0!"},{"$error":"#DIV/0!"},{"$error":"#DIV/0!"},null,21,136.65877395947371,{"$f":"Klimaatscenario!F28","v":38.9758688072639},{"$error":"#DIV/0!"},{"$error":"#DIV/0!"},{"$error":"#DIV/0!"},{"$error":"#DIV/0!"},{"$error":"#DIV/0!"},{"$error":"#DIV/0!"},{"$error":"#DIV/0!"},{"$error":"#DIV/0!"},{"$error":"#DIV/0!"},{"$error":"#DIV/0!"},{"$error":"#DIV/0!"},{"$error":"#DIV/0!"},{"$error":"#DIV/0!"},{"$error":"#DIV/0!"},{"$error":"#DIV/0!"},{"$error":"#DIV/0!"},{"$error":"#DIV/0!"},{"$error":"#DIV/0!"},{"$error":"#DIV/0!"},{"$error":"#DIV/0!"}]
[null,null,22,99.929444239003004,{"$f":"Klimaatscenario!E29","v":31.815325193015667},{"$error":"#DIV/0!"},{"$error":"#DIV/0!"},{"$error":"#DIV/0!"},{"$error":"#DIV/0!"},{"$error":"#DIV/0!"},{"$error":"#DIV/0!"},{"$error":"#DIV/0!"},{"$error":"#DIV/0!"},{"$error":"#DIV/0!"},{"$error":"#DIV/0!"},{"$error":"#DIV/0!"},{"$error":"#DIV/0!"},{"$error":"#DIV/0!"},{"$error":"#DIV/0!"},{"$error":"#DIV/0!"},{"$error":"#DIV/0!"},{"$error":"#DIV/0!"},{"$error":"#DIV/0!"},{"$error":"#DIV/0!"},{"$error":"#DIV/0!"},null,22,136.6587739594749,{"$f":"Klimaatscenario!F29","v":39.79582145102075},{"$error":"#DIV/0!"},{"$error":"#DIV/0!"},{"$error":"#DIV/0!"},{"$error":"#DIV/0!"},{"$error":"#DIV/0!"},{"$error":"#DIV/0!"},{"$error":"#DIV/0!"},{"$error":"#DIV/0!"},{"$error":"#DIV/0!"},{"$error":"#DIV/0!"},{"$error":"#DIV/0!"},{"$error":"#DIV/0!"},{"$error":"#DIV/0!"},{"$error":"#DIV/0!"},{"$error":"#DIV/0!"},{"$error":"#DIV/0!"},{"$error":"#DIV/0!"},{"$error":"#DIV/0!"},{"$error":"#DIV/0!"},{"$error":"#DIV/0!"}]
[null,null,23,99.929444239003601,{"$f":"Klimaatscenario!E30","v":32.414901858449689},{"$error":"#DIV/0!"},{"$error":"#DIV/0!"},{"$error":"#DIV/0!"},{"$error":"#DIV/0!"},{"$error":"#DIV/0!"},{"$error":"#DIV/0!"},{"$error":"#DIV/0!"},{"$error":"#DIV/0!"},{"$error":"#DIV/0!"},{"$error":"#DIV/0!"},{"$error":"#DIV/0!"},{"$error":"#DIV/0!"},{"$error":"#DIV/0!"},{"$error":"#DIV/0!"},{"$error":"#DIV/0!"},{"$error":"#DIV/0!"},{"$error":"#DIV/0!"},{"$error":"#DIV/0!"},{"$error":"#DIV/0!"},{"$error":"#DIV/0!"},null,23,136.6587739594749,{"$f":"Klimaatscenario!F30","v":40.615774094777599},{"$error":"#DIV/0!"},{"$error":"#DIV/0!"},{"$error":"#DIV/0!"},{"$error":"#DIV/0!"},{"$error":"#DIV/0!"},{"$error":"#DIV/0!"},{"$error":"#DIV/0!"},{"$error":"#DIV/0!"},{"$error":"#DIV/0!"},{"$error":"#DIV/0!"},{"$error":"#DIV/0!"},{"$error":"#DIV/0!"},{"$error":"#DIV/0!"},{"$error":"#DIV/0!"},{"$error":"#DIV/0!"},{"$error":"#DIV/0!"},{"$error":"#DIV/0!"},{"$error":"#DIV/0!"},{"$error":"#DIV/0!"},{"$error":"#DIV/0!"}]
[null,null,24,99.929444239002407,{"$f":"Klimaatscenario!E31","v":33.014478523883703},{"$error":"#DIV/0!"},{"$error":"#DIV/0!"},{"$error":"#DIV/0!"},{"$error":"#DIV/0!"},{"$error":"#DIV/0!"},{"$error":"#DIV/0!"},{"$error":"#DIV/0!"},{"$error":"#DIV/0!"},{"$error":"#DIV/0!"},{"$error":"#DIV/0!"},{"$error":"#DIV/0!"},{"$error":"#DIV/0!"},{"$error":"#DIV/0!"},{"$error":"#DIV/0!"},{"$error":"#DIV/0!"},{"$error":"#DIV/0!"},{"$error":"#DIV/0!"},{"$error":"#DIV/0!"},{"$error":"#DIV/0!"},{"$error":"#DIV/0!"},null,24,136.65877395947371,{"$f":"Klimaatscenario!F31","v":41.435726738534441},{"$error":"#DIV/0!"},{"$error":"#DIV/0!"},{"$error":"#DIV/0!"},{"$error":"#DIV/0!"},{"$error":"#DIV/0!"},{"$error":"#DIV/0!"},{"$error":"#DIV/0!"},{"$error":"#DIV/0!"},{"$error":"#DIV/0!"},{"$error":"#DIV/0!"},{"$error":"#DIV/0!"},{"$error":"#DIV/0!"},{"$error":"#DIV/0!"},{"$error":"#DIV/0!"},{"$error":"#DIV/0!"},{"$error":"#DIV/0!"},{"$error":"#DIV/0!"},{"$error":"#DIV/0!"},{"$error":"#DIV/0!"},{"$error":"#DIV/0!"}]
[null,null,25,99.929444239003601,{"$f":"Klimaatscenario!E32","v":33.614055189317725},{"$error":"#DIV/0!"},{"$error":"#DIV/0!"},{"$error":"#DIV/0!"},{"$error":"#DIV/0!"},{"$error":"#DIV/0!"},{"$error":"#DIV/0!"},{"$error":"#DIV/0!"},{"$error":"#DIV/0!"},{"$error":"#DIV/0!"},{"$error":"#DIV/0!"},{"$error":"#DIV/0!"},{"$error":"#DIV/0!"},{"$error":"#DIV/0!"},{"$error":"#DIV/0!"},{"$error":"#DIV/0!"},{"$error":"#DIV/0!"},{"$error":"#DIV/0!"},{"$error":"#DIV/0!"},{"$error":"#DIV/0!"},{"$error":"#DIV/0!"},null,25,136.6587739594749,{"$f":"Klimaatscenario!F32","v":42.255679382291291},{"$error":"#DIV/0!"},{"$error":"#DIV/0!"},{"$error":"#DIV/0!"},{"$error":"#DIV/0!"},{"$error":"#DIV/0!"},{"$error":"#DIV/0!"},{"$error":"#DIV/0!"},{"$error":"#DIV/0!"},{"$error":"#DIV/0!"},{"$error":"#DIV/0!"},{"$error":"#DIV/0!"},{"$error":"#DIV/0!"},{"$error":"#DIV/0!"},{"$error":"#DIV/0!"},{"$error":"#DIV/0!"},{"$error":"#DIV/0!"},{"$error":"#DIV/0!"},{"$error":"#DIV/0!"},{"$error":"#DIV/0!"},{"$error":"#DIV/0!"}]
[null,null,26,99.929444239002407,{"$f":"Klimaatscenario!E33","v":34.213631854751739},{"$error":"#DIV/0!"},{"$error":"#DIV/0!"},{"$error":"#DIV/0!"},{"$error":"#DIV/0!"},{"$error":"#DIV/0!"},{"$error":"#DIV/0!"},{"$error":"#DIV/0!"},{"$error":"#DIV/0!"},{"$error":"#DIV/0!"},{"$error":"#DIV/0!"},{"$error":"#DIV/0!"},{"$error":"#DIV/0!"},{"$error":"#DIV/0!"},{"$error":"#DIV/0!"},{"$error":"#DIV/0!"},{"$error":"#DIV/0!"},{"$error":"#DIV/0!"},{"$error":"#DIV/0!"},{"$error":"#DIV/0!"},{"$error":"#DIV/0!"},null,26,136.6587739594749,{"$f":"Klimaatscenario!F33","v":43.07563202604814},{"$error":"#DIV/0!"},{"$error":"#DIV/0!"},{"$error":"#DIV/0!"},{"$error":"#DIV/0!"},{"$error":"#DIV/0!"},{"$error":"#DIV/0!"},{"$error":"#DIV/0!"},{"$error":"#DIV/0!"},{"$error":"#DIV/0!"},{"$error":"#DIV/0!"},{"$error":"#DIV/0!"},{"$error":"#DIV/0!"},{"$error":"#DIV/0!"},{"$error":"#DIV/0!"},{"$error":"#DIV/0!"},{"$error":"#DIV/0!"},{"$error":"#DIV/0!"},{"$error":"#DIV/0!"},{"$error":"#DIV/0!"},{"$error":"#DIV/0!"}]
[null,null,27,99.929444239002407,{"$f":"Klimaatscenario!E34","v":34.813208520185754},{"$error":"#DIV/0!"},{"$error":"#DIV/0!"},{"$error":"#DIV/0!"},{"$error":"#DIV/0!"},{"$error":"#DIV/0!"},{"$error":"#DIV/0!"},{"$error":"#DIV/0!"},{"$error":"#DIV/0!"},{"$error":"#DIV/0!"},{"$error":"#DIV/0!"},{"$error":"#DIV/0!"},{"$error":"#DIV/0!"},{"$error":"#DIV/0!"},{"$error":"#DIV/0!"},{"$error":"#DIV/0!"},{"$error":"#DIV/0!"},{"$error":"#DIV/0!"},{"$error":"#DIV/0!"},{"$error":"#DIV/0!"},{"$error":"#DIV/0!"},null,27,136.6587739594749,{"$f":"Klimaatscenario!F34","v":43.89558466980499},{"$error":"#DIV/0!"},{"$error":"#DIV/0!"},{"$error":"#DIV/0!"},{"$error":"#DIV/0!"},{"$error":"#DIV/0!"},{"$error":"#DIV/0!"},{"$error":"#DIV/0!"},{"$error":"#DIV/0!"},{"$error":"#DIV/0!"},{"$error":"#DIV/0!"},{"$error":"#DIV/0!"},{"$error":"#DIV/0!"},{"$error":"#DIV/0!"},{"$error":"#DIV/0!"},{"$error":"#DIV/0!"},{"$error":"#DIV/0!"},{"$error":"#DIV/0!"},{"$error":"#DIV/0!"},{"$error":"#DIV/0!"},{"$error":"#DIV/0!"}]
[null,null,28,99.929444239003601,{"$f":"Klimaatscenario!E35","v":35.412785185619775},{"$error":"#DIV/0!"},{"$error":"#DIV/0!"},{"$error":"#DIV/0!"},{"$error":"#DIV/0!"},{"$error":"#DIV/0!"},{"$error":"#DIV/0!"},{"$error":"#DIV/0!"},{"$error":"#DIV/0!"},{"$error":"#DIV/0!"},{"$error":"#DIV/0!"},{"$error":"#DIV/0!"},{"$error":"#DIV/0!"},{"$error":"#DIV/0!"},{"$error":"#DIV/0!"},{"$error":"#DIV/0!"},{"$error":"#DIV/0!"},{"$error":"#DIV/0!"},{"$error":"#DIV/0!"},{"$error":"#DIV/0!"},{"$error":"#DIV/0!"},null,28,136.6587739594749,{"$f":"Klimaatscenario!F35","v":44.715537313561839},{"$error":"#DIV/0!"},{"$error":"#DIV/0!"},{"$error":"#DIV/0!"},{"$error":"#DIV/0!"},{"$error":"#DIV/0!"},{"$error":"#DIV/0!"},{"$error":"#DIV/0!"},{"$error":"#DIV/0!"},{"$error":"#DIV/0!"},{"$error":"#DIV/0!"},{"$error":"#DIV/0!"},{"$error":"#DIV/0!"},{"$error":"#DIV/0!"},{"$error":"#DIV/0!"},{"$error":"#DIV/0!"},{"$error":"#DIV/0!"},{"$error":"#DIV/0!"},{"$error":"#DIV/0!"},{"$error":"#DIV/0!"},{"$error":"#DIV/0!"}]
[null,null,29,99.929444239003601,{"$f":"Klimaatscenario!E36","v":36.012361851053797},{"$error":"#DIV/0!"},{"$error":"#DIV/0!"},{"$error":"#DIV/0!"},{"$error":"#DIV/0!"},{"$error":"#DIV/0!"},{"$error":"#DIV/0!"},{"$error":"#DIV/0!"},{"$error":"#DIV/0!"},{"$error":"#DIV/0!"},{"$error":"#DIV/0!"},{"$error":"#DIV/0!"},{"$error":"#DIV/0!"},{"$error":"#DIV/0!"},{"$error":"#DIV/0!"},{"$error":"#DIV/0!"},{"$error":"#DIV/0!"},{"$error":"#DIV/0!"},{"$error":"#DIV/0!"},{"$error":"#DIV/0!"},{"$error":"#DIV/0!"},null,29,136.65877395947371,{"$f":"Klimaatscenario!F36","v":45.535489957318681},{"$error":"#DIV/0!"},{"$error":"#DIV/0!"},{"$error":"#DIV/0!"},{"$error":"#DIV/0!"},{"$error":"#DIV/0!"},{"$error":"#DIV/0!"},{"$error":"#DIV/0!"},{"$error":"#DIV/0!"},{"$error":"#DIV/0!"},{"$error":"#DIV/0!"},{"$error":"#DIV/0!"},{"$error":"#DIV/0!"},{"$error":"#DIV/0!"},{"$error":"#DIV/0!"},{"$error":"#DIV/0!"},{"$error":"#DIV/0!"},{"$error":"#DIV/0!"},{"$error":"#DIV/0!"},{"$error":"#DIV/0!"},{"$error":"#DIV/0!"}]
[null,null,30,99.929444239002407,{"$f":"Klimaatscenario!E37","v":36.611938516487811},{"$error":"#DIV/0!"},{"$error":"#DIV/0!"},{"$error":"#DIV/0!"},{"$error":"#DIV/0!"},{"$error":"#DIV/0!"},{"$error":"#DIV/0!"},{"$error":"#DIV/0!"},{"$error":"#DIV/0!"},{"$error":"#DIV/0!"},{"$error":"#DIV/0!"},{"$error":"#DIV/0!"},{"$error":"#DIV/0!"},{"$error":"#DIV/0!"},{"$error":"#DIV/0!"},{"$error":"#DIV/0!"},{"$error":"#DIV/0!"},{"$error":"#DIV/0!"},{"$error":"#DIV/0!"},{"$error":"#DIV/0!"},{"$error":"#DIV/0!"},null,30,136.6587739594749,{"$f":"Klimaatscenario!F37","v":46.355442601075531},{"$error":"#DIV/0!"},{"$error":"#DIV/0!"},{"$error":"#DIV/0!"},{"$error":"#DIV/0!"},{"$error":"#DIV/0!"},{"$error":"#DIV/0!"},{"$error":"#DIV/0!"},{"$error":"#DIV/0!"},{"$error":"#DIV/0!"},{"$error":"#DIV/0!"},{"$error":"#DIV/0!"},{"$error":"#DIV/0!"},{"$error":"#DIV/0!"},{"$error":"#DIV/0!"},{"$error":"#DIV/0!"},{"$error":"#DIV/0!"},{"$error":"#DIV/0!"},{"$error":"#DIV/0!"},{"$error":"#DIV/0!"},{"$error":"#DIV/0!"}]
[null,null,31,47.449174185688989,{"$f":"Klimaatscenario!E38","v":36.896633561601945},{"$error":"#DIV/0!"},{"$error":"#DIV/0!"},{"$error":"#DIV/0!"},{"$error":"#DIV/0!"},{"$error":"#DIV/0!"},{"$error":"#DIV/0!"},{"$error":"#DIV/0!"},{"$error":"#DIV/0!"},{"$error":"#DIV/0!"},{"$error":"#DIV/0!"},{"$error":"#DIV/0!"},{"$error":"#DIV/0!"},{"$error":"#DIV/0!"},{"$error":"#DIV/0!"},{"$error":"#DIV/0!"},{"$error":"#DIV/0!"},{"$error":"#DIV/0!"},{"$error":"#DIV/0!"},{"$error":"#DIV/0!"},{"$error":"#DIV/0!"},null,31,63.66464431363994,{"$f":"Klimaatscenario!F38","v":46.73743046695737},{"$error":"#DIV/0!"},{"$error":"#DIV/0!"},{"$error":"#DIV/0!"},{"$error":"#DIV/0!"},{"$error":"#DIV/0!"},{"$error":"#DIV/0!"},{"$error":"#DIV/0!"},{"$error":"#DIV/0!"},{"$error":"#DIV/0!"},{"$error":"#DIV/0!"},{"$error":"#DIV/0!"},{"$error":"#DIV/0!"},{"$error":"#DIV/0!"},{"$error":"#DIV/0!"},{"$error":"#DIV/0!"},{"$error":"#DIV/0!"},{"$error":"#DIV/0!"},{"$error":"#DIV/0!"},{"$error":"#DIV/0!"},{"$error":"#DIV/0!"}]
[null,null,32,47.449174185690168,{"$f":"Klimaatscenario!E39","v":37.181328606716086},{"$error":"#DIV/0!"},{"$error":"#DIV/0!"},{"$error":"#DIV/0!"},{"$f":"($J$424/60)*$C376","v":{"$error":"#DIV/0!"}},{"$f":"$E376-F376-G376-H376-I376","v":{"$error":"#DIV/0!"}},{"$error":"#DIV/0!"},{"$error":"#DIV/0!"},{"$error":"#DIV/0!"},{"$f":"($O$424/60)*$C376","v":{"$error":"#DIV/0!"}},{"$f":"$E376-K376-L376-M376-N376","v":{"$error":"#DIV/0!"}},{"$error":"#DIV/0!"},{"$error":"#DIV/0!"},{"$error":"#DIV/0!"},{"$f":"($T$424/60)*$C376","v":{"$error":"#DIV/0!"}},{"$f":"$E376-P376-Q376-R376-S376","v":{"$error":"#DIV/0!"}},{"$error":"#DIV/0!"},{"$error":"#DIV/0!"},{"$error":"#DIV/0!"},{"$f":"($Y$424/60)*$C376","v":{"$error":"#DIV/0!"}},{"$f":"$E376-U376-V376-W376-X376","v":{"$error":"#DIV/0!"}},null,32,63.66464431363994,{"$f":"Klimaatscenario!F39","v":47.11941833283921},{"$error":"#DIV/0!"},{"$error":"#DIV/0!"},{"$error":"#DIV/0!"},{"$f":"($AH$424/60)*$AA376","v":{"$error":"#DIV/0!"}},{"$f":"$AC376-AD376-AE376-AF376-AG376","v":{"$error":"#DIV/0!"}},{"$error":"#DIV/0!"},{"$error":"#DIV/0!"},{"$error":"#DIV/0!"},{"$f":"($AM$424/60)*$AA376","v":{"$error":"#DIV/0!"}},{"$f":"$AC376-AI376-AJ376-AK376-AL376","v":{"$error":"#DIV/0!"}},{"$error":"#DIV/0!"},{"$error":"#DIV/0!"},{"$error":"#DIV/0!"},{"$f":"($AR$424/60)*$AA376","v":{"$error":"#DIV/0!"}},{"$f":"$AC376-AN376-AO376-AP376-AQ376","v":{"$error":"#DIV/0!"}},{"$error":"#DIV/0!"},{"$error":"#DIV/0!"},{"$error":"#DIV/0!"},{"$f":"($AW$424/60)*$AA376","v":{"$error":"#DIV/0!"}},{"$f":"$AC376-AS376-AT376-AU376-AV376","v":{"$error":"#DIV/0!"}}]
[null,null,33,47.449174185688989,{"$f":"Klimaatscenario!E40","v":37.46602365183022},{"$f":"((J$423*60)/10000)+F376","v":{"$error":"#DIV/0!"}},{"$error":"#DIV/0!"},{"$error":"#DIV/0!"},{"$error":"#DIV/0!"},{"$error":"#DIV/0!"},{"$f":"((O$423*60)/10000)+K376","v":{"$error":"#DIV/0!"}},{"$error":"#DIV/0!"},{"$error":"#DIV/0!"},{"$error":"#DIV/0!"},{"$error":"#DIV/0!"},{"$f":"((T$423*60)/10000)+P376","v":{"$error":"#DIV/0!"}},{"$error":"#DIV/0!"},{"$error":"#DIV/0!"},{"$error":"#DIV/0!"},{"$error":"#DIV/0!"},{"$f":"((Y$423*60)/10000)+U376","v":{"$error":"#DIV/0!"}},{"$error":"#DIV/0!"},{"$error":"#DIV/0!"},{"$error":"#DIV/0!"},{"$error":"#DIV/0!"},null,33,63.66464431363994,{"$f":"Klimaatscenario!F40","v":47.50140619872105},{"$f":"((AH$423*60)/10000)+AD376","v":{"$error":"#DIV/0!"}},{"$error":"#DIV/0!"},{"$error":"#DIV/0!"},{"$error":"#DIV/0!"},{"$error":"#DIV/0!"},{"$f":"((AM$423*60)/10000)+AI376","v":{"$error":"#DIV/0!"}},{"$error":"#DIV/0!"},{"$error":"#DIV/0!"},{"$error":"#DIV/0!"},{"$error":"#DIV/0!"},{"$f":"((AR$423*60)/10000)+AN376","v":{"$error":"#DIV/0!"}},{"$error":"#DIV/0!"},{"$error":"#DIV/0!"},{"$error":"#DIV/0!"},{"$error":"#DIV/0!"},{"$f":"((AW$423*60)/10000)+AS376","v":{"$error":"#DIV/0!"}},{"$error":"#DIV/0!"},{"$error":"#DIV/0!"},{"$error":"#DIV/0!"},{"$error":"#DIV/0!"}]
[null,null,34,47.449174185690168,{"$f":"Klimaatscenario!E41","v":37.750718696944361},{"$error":"#DIV/0!"},{"$error":"#DIV/0!"},{"$error":"#DIV/0!"},{"$error":"#DIV/0!"},{"$error":"#DIV/0!"},{"$error":"#DIV/0!"},{"$error":"#DIV/0!"},{"$error":"#DIV/0!"},{"$error":"#DIV/0!"},{"$error":"#DIV/0!"},{"$error":"#DIV/0!"},{"$error":"#DIV/0!"},{"$error":"#DIV/0!"},{"$error":"#DIV/0!"},{"$error":"#DIV/0!"},{"$error":"#DIV/0!"},{"$error":"#DIV/0!"},{"$error":"#DIV/0!"},{"$error":"#DIV/0!"},{"$error":"#DIV/0!"},null,34,63.66464431363994,{"$f":"Klimaatscenario!F41","v":47.883394064602889},{"$error":"#DIV/0!"},{"$error":"#DIV/0!"},{"$error":"#DIV/0!"},{"$error":"#DIV/0!"},{"$error":"#DIV/0!"},{"$error":"#DIV/0!"},{"$error":"#DIV/0!"},{"$error":"#DIV/0!"},{"$error":"#DIV/0!"},{"$error":"#DIV/0!"},{"$error":"#DIV/0!"},{"$error":"#DIV/0!"},{"$error":"#DIV/0!"},{"$error":"#DIV/0!"},{"$error":"#DIV/0!"},{"$error":"#DIV/0!"},{"$error":"#DIV/0!"},{"$error":"#DIV/0!"},{"$error":"#DIV/0!"},{"$error":"#DIV/0!"}]
[null,null,35,47.449174185688989,{"$f":"Klimaatscenario!E42","v":38.035413742058495},{"$error":"#DIV/0!"},{"$error":"#DIV/0!"},{"$error":"#DIV/0!"},{"$error":"#DIV/0!"},{"$error":"#DIV/0!"},{"$error":"#DIV/0!"},{"$error":"#DIV/0!"},{"$error":"#DIV/0!"},{"$error":"#DIV/0!"},{"$error":"#DIV/0!"},{"$error":"#DIV/0!"},{"$error":"#DIV/0!"},{"$error":"#DIV/0!"},{"$error":"#DIV/0!"},{"$error":"#DIV/0!"},{"$error":"#DIV/0!"},{"$error":"#DIV/0!"},{"$error":"#DIV/0!"},{"$error":"#DIV/0!"},{"$error":"#DIV/0!"},null,35,63.66464431363994,{"$f":"Klimaatscenario!F42","v":48.265381930484729},{"$error":"#DIV/0!"},{"$error":"#DIV/0!"},{"$error":"#DIV/0!"},{"$error":"#DIV/0!"},{"$error":"#DIV/0!"},{"$error":"#DIV/0!"},{"$error":"#DIV/0!"},{"$error":"#DIV/0!"},{"$error":"#DIV/0!"},{"$error":"#DIV/0!"},{"$error":"#DIV/0!"},{"$error":"#DIV/0!"},{"$error":"#DIV/0!"},{"$error":"#DIV/0!"},{"$error":"#DIV/0!"},{"$error":"#DIV/0!"},{"$error":"#DIV/0!"},{"$error":"#DIV/0!"},{"$error":"#DIV/0!"},{"$error":"#DIV/0!"}]
[null,null,36,47.449174185690168,{"$f":"Klimaatscenario!E43","v":38.320108787172636},{"$error":"#DIV/0!"},{"$error":"#DIV/0!"},{"$error":"#DIV/0!"},{"$error":"#DIV/0!"},{"$error":"#DIV/0!"},{"$error":"#DIV/0!"},{"$error":"#DIV/0!"},{"$error":"#DIV/0!"},{"$error":"#DIV/0!"},{"$error":"#DIV/0!"},{"$error":"#DIV/0!"},{"$error":"#DIV/0!"},{"$error":"#DIV/0!"},{"$error":"#DIV/0!"},{"$error":"#DIV/0!"},{"$error":"#DIV/0!"},{"$error":"#DIV/0!"},{"$error":"#DIV/0!"},{"$error":"#DIV/0!"},{"$error":"#DIV/0!"},null,36,63.66464431363994,{"$f":"Klimaatscenario!F43","v":48.647369796366569},{"$error":"#DIV/0!"},{"$error":"#DIV/0!"},{"$error":"#DIV/0!"},{"$error":"#DIV/0!"},{"$error":"#DIV/0!"},{"$error":"#DIV/0!"},{"$error":"#DIV/0!"},{"$error":"#DIV/0!"},{"$error":"#DIV/0!"},{"$error":"#DIV/0!"},{"$error":"#DIV/0!"},{"$error":"#DIV/0!"},{"$error":"#DIV/0!"},{"$error":"#DIV/0!"},{"$error":"#DIV/0!"},{"$error":"#DIV/0!"},{"$error":"#DIV/0!"},{"$error":"#DIV/0!"},{"$error":"#DIV/0!"},{"$error":"#DIV/0!"}]
[null,null,37,{"$f":"((((((E381-E380)/(C381-C380))/60)/1000)*10000)*1000)","v":47.449174185688989},{"$f":"Klimaatscenario!E44","v":38.60480383228677},{"$error":"#DIV/0!"},{"$error":"#DIV/0!"},{"$error":"#DIV/0!"},{"$error":"#DIV/0!"},{"$error":"#DIV/0!"},{"$error":"#DIV/0!"},{"$error":"#DIV/0!"},{"$error":"#DIV/0!"},{"$error":"#DIV/0!"},{"$error":"#DIV/0!"},{"$error":"#DIV/0!"},{"$error":"#DIV/0!"},{"$error":"#DIV/0!"},{"$error":"#DIV/0!"},{"$error":"#DIV/0!"},{"$error":"#DIV/0!"},{"$error":"#DIV/0!"},{"$error":"#DIV/0!"},{"$error":"#DIV/0!"},{"$error":"#DIV/0!"},null,37,{"$f":"((((((AC381-AC380)/(AA381-AA380))/60)/1000)*10000)*1000)","v":63.66464431363876},{"$f":"Klimaatscenario!F44","v":49.029357662248401},{"$error":"#DIV/0!"},{"$error":"#DIV/0!"},{"$error":"#DIV/0!"},{"$error":"#DIV/0!"},{"$error":"#DIV/0!"},{"$error":"#DIV/0!"},{"$error":"#DIV/0!"},{"$error":"#DIV/0!"},{"$error":"#DIV/0!"},{"$error":"#DIV/0!"},{"$error":"#DIV/0!"},{"$error":"#DIV/0!"},{"$error":"#DIV/0!"},{"$error":"#DIV/0!"},{"$error":"#DIV/0!"},{"$error":"#DIV/0!"},{"$error":"#DIV/0!"},{"$error":"#DIV/0!"},{"$error":"#DIV/0!"},{"$error":"#DIV/0!"}]
[null,null,38,47.449174185688989,{"$f":"Klimaatscenario!E45","v":38.889498877400904},{"$error":"#DIV/0!"},{"$error":"#DIV/0!"},{"$error":"#DIV/0!"},{"$error":"#DIV/0!"},{"$error":"#DIV/0!"},{"$error":"#DIV/0!"},{"$error":"#DIV/0!"},{"$error":"#DIV/0!"},{"$error":"#DIV/0!"},{"$error":"#DIV/0!"},{"$error":"#DIV/0!"},{"$error":"#DIV/0!"},{"$error":"#DIV/0!"},{"$error":"#DIV/0!"},{"$error":"#DIV/0!"},{"$error":"#DIV/0!"},{"$error":"#DIV/0!"},{"$error":"#DIV/0!"},{"$error":"#DIV/0!"},{"$error":"#DIV/0!"},null,38,63.66464431363994,{"$f":"Klimaatscenario!F45","v":49.411345528130241},{"$error":"#DIV/0!"},{"$error":"#DIV/0!"},{"$error":"#DIV/0!"},{"$error":"#DIV/0!"},{"$error":"#DIV/0!"},{"$error":"#DIV/0!"},{"$error":"#DIV/0!"},{"$error":"#DIV/0!"},{"$error":"#DIV/0!"},{"$error":"#DIV/0!"},{"$error":"#DIV/0!"},{"$error":"#DIV/0!"},{"$error":"#DIV/0!"},{"$error":"#DIV/0!"},{"$error":"#DIV/0!"},{"$error":"#DIV/0!"},{"$error":"#DIV/0!"},{"$error":"#DIV/0!"},{"$error":"#DIV/0!"},{"$error":"#DIV/0!"}]
[null,null,39,47.449174185690168,{"$f":"Klimaatscenario!E46","v":39.174193922515045},{"$error":"#DIV/0!"},{"$error":"#DIV/0!"},{"$error":"#DIV/0!"},{"$error":"#DIV/0!"},{"$error":"#DIV/0!"},{"$error":"#DIV/0!"},{"$error":"#DIV/0!"},{"$error":"#DIV/0!"},{"$error":"#DIV/0!"},{"$error":"#DIV/0!"},{"$error":"#DIV/0!"},{"$error":"#DIV/0!"},{"$error":"#DIV/0!"},{"$error":"#DIV/0!"},{"$error":"#DIV/0!"},{"$error":"#DIV/0!"},{"$error":"#DIV/0!"},{"$error":"#DIV/0!"},{"$error":"#DIV/0!"},{"$error":"#DIV/0!"},null,39,63.66464431363994,{"$f":"Klimaatscenario!F46","v":49.79333339401208},{"$error":"#DIV/0!"},{"$error":"#DIV/0!"},{"$error":"#DIV/0!"},{"$error":"#DIV/0!"},{"$error":"#DIV/0!"},{"$error":"#DIV/0!"},{"$error":"#DIV/0!"},{"$error":"#DIV/0!"},{"$error":"#DIV/0!"},{"$error":"#DIV/0!"},{"$error":"#DIV/0!"},{"$error":"#DIV/0!"},{"$error":"#DIV/0!"},{"$error":"#DIV/0!"},{"$error":"#DIV/0!"},{"$error":"#DIV/0!"},{"$error":"#DIV/0!"},{"$error":"#DIV/0!"},{"$error":"#DIV/0!"},{"$error":"#DIV/0!"}]
[null,null,40,47.449174185688989,{"$f":"Klimaatscenario!E47","v":39.458888967629179},{"$error":"#DIV/0!"},{"$error":"#DIV/0!"},{"$error":"#DIV/0!"},{"$error":"#DIV/0!"},{"$error":"#DIV/0!"},{"$error":"#DIV/0!"},{"$error":"#DIV/0!"},{"$error":"#DIV/0!"},{"$error":"#DIV/0!"},{"$error":"#DIV/0!"},{"$error":"#DIV/0!"},{"$error":"#DIV/0!"},{"$error":"#DIV/0!"},{"$error":"#DIV/0!"},{"$error":"#DIV/0!"},{"$error":"#DIV/0!"},{"$error":"#DIV/0!"},{"$error":"#DIV/0!"},{"$error":"#DIV/0!"},{"$error":"#DIV/0!"},null,40,63.66464431363994,{"$f":"Klimaatscenario!F47","v":50.17532125989392},{"$error":"#DIV/0!"},{"$error":"#DIV/0!"},{"$error":"#DIV/0!"},{"$error":"#DIV/0!"},{"$error":"#DIV/0!"},{"$error":"#DIV/0!"},{"$error":"#DIV/0!"},{"$error":"#DIV/0!"},{"$error":"#DIV/0!"},{"$error":"#DIV/0!"},{"$error":"#DIV/0!"},{"$error":"#DIV/0!"},{"$error":"#DIV/0!"},{"$error":"#DIV/0!"},{"$error":"#DIV/0!"},{"$error":"#DIV/0!"},{"$error":"#DIV/0!"},{"$error":"#DIV/0!"},{"$error":"#DIV/0!"},{"$error":"#DIV/0!"}]
[null,null,41,47.449174185690168,{"$f":"Klimaatscenario!E48","v":39.74358401274332},{"$error":"#DIV/0!"},{"$error":"#DIV/0!"},{"$error":"#DIV/0!"},{"$error":"#DIV/0!"},{"$error":"#DIV/0!"},{"$error":"#DIV/0!"},{"$error":"#DIV/0!"},{"$error":"#DIV/0!"},{"$error":"#DIV/0!"},{"$error":"#DIV/0!"},{"$error":"#DIV/0!"},{"$error":"#DIV/0!"},{"$error":"#DIV/0!"},{"$error":"#DIV/0!"},{"$error":"#DIV/0!"},{"$error":"#DIV/0!"},{"$error":"#DIV/0!"},{"$error":"#DIV/0!"},{"$error":"#DIV/0!"},{"$error":"#DIV/0!"},null,41,63.66464431363994,{"$f":"Klimaatscenario!F48","v":50.55730912577576},{"$error":"#DIV/0!"},{"$error":"#DIV/0!"},{"$error":"#DIV/0!"},{"$error":"#DIV/0!"},{"$error":"#DIV/0!"},{"$error":"#DIV/0!"},{"$error":"#DIV/0!"},{"$error":"#DIV/0!"},{"$error":"#DIV/0!"},{"$error":"#DIV/0!"},{"$error":"#DIV/0!"},{"$error":"#DIV/0!"},{"$error":"#DIV/0!"},{"$error":"#DIV/0!"},{"$error":"#DIV/0!"},{"$error":"#DIV/0!"},{"$error":"#DIV/0!"},{"$error":"#DIV/0!"},{"$error":"#DIV/0!"},{"$error":"#DIV/0!"}]
[null,null,42,47.449174185688989,{"$f":"Klimaatscenario!E49","v":40.028279057857453},{"$error":"#DIV/0!"},{"$error":"#DIV/0!"},{"$error":"#DIV/0!"},{"$error":"#DIV/0!"},{"$error":"#DIV/0!"},{"$error":"#DIV/0!"},{"$error":"#DIV/0!"},{"$error":"#DIV/0!"},{"$error":"#DIV/0!"},{"$error":"#DIV/0!"},{"$error":"#DIV/0!"},{"$error":"#DIV/0!"},{"$error":"#DIV/0!"},{"$error":"#DIV/0!"},{"$error":"#DIV/0!"},{"$error":"#DIV/0!"},{"$error":"#DIV/0!"},{"$error":"#DIV/0!"},{"$error":"#DIV/0!"},{"$error":"#DIV/0!"},null,42,63.66464431363994,{"$f":"Klimaatscenario!F49","v":50.939296991657599},{"$error":"#DIV/0!"},{"$error":"#DIV/0!"},{"$error":"#DIV/0!"},{"$error":"#DIV/0!"},{"$error":"#DIV/0!"},{"$error":"#DIV/0!"},{"$error":"#DIV/0!"},{"$error":"#DIV/0!"},{"$error":"#DIV/0!"},{"$error":"#DIV/0!"},{"$error":"#DIV/0!"},{"$error":"#DIV/0!"},{"$error":"#DIV/0!"},{"$error":"#DIV/0!"},{"$error":"#DIV/0!"},{"$error":"#DIV/0!"},{"$error":"#DIV/0!"},{"$error":"#DIV/0!"},{"$error":"#DIV/0!"},{"$error":"#DIV/0!"}]
[null,null,43,47.449174185690168,{"$f":"Klimaatscenario!E50","v":40.312974102971594},{"$error":"#DIV/0!"},{"$error":"#DIV/0!"},{"$error":"#DIV/0!"},{"$error":"#DIV/0!"},{"$error":"#DIV/0!"},{"$error":"#DIV/0!"},{"$error":"#DIV/0!"},{"$error":"#DIV/0!"},{"$error":"#DIV/0!"},{"$error":"#DIV/0!"},{"$error":"#DIV/0!"},{"$error":"#DIV/0!"},{"$error":"#DIV/0!"},{"$error":"#DIV/0!"},{"$error":"#DIV/0!"},{"$error":"#DIV/0!"},{"$error":"#DIV/0!"},{"$error":"#DIV/0!"},{"$error":"#DIV/0!"},{"$error":"#DIV/0!"},null,43,63.66464431363994,{"$f":"Klimaatscenario!F50","v":51.321284857539439},{"$error":"#DIV/0!"},{"$error":"#DIV/0!"},{"$error":"#DIV/0!"},{"$error":"#DIV/0!"},{"$error":"#DIV/0!"},{"$error":"#DIV/0!"},{"$error":"#DIV/0!"},{"$error":"#DIV/0!"},{"$error":"#DIV/0!"},{"$error":"#DIV/0!"},{"$error":"#DIV/0!"},{"$error":"#DIV/0!"},{"$error":"#DIV/0!"},{"$error":"#DIV/0!"},{"$error":"#DIV/0!"},{"$error":"#DIV/0!"},{"$error":"#DIV/0!"},{"$error":"#DIV/0!"},{"$error":"#DIV/0!"},{"$error":"#DIV/0!"}]
[null,null,44,47.449174185688989,{"$f":"Klimaatscenario!E51","v":40.597669148085728},{"$error":"#DIV/0!"},{"$error":"#DIV/0!"},{"$error":"#DIV/0!"},{"$error":"#DIV/0!"},{"$error":"#DIV/0!"},{"$error":"#DIV/0!"},{"$error":"#DIV/0!"},{"$error":"#DIV/0!"},{"$error":"#DIV/0!"},{"$error":"#DIV/0!"},{"$error":"#DIV/0!"},{"$error":"#DIV/0!"},{"$error":"#DIV/0!"},{"$error":"#DIV/0!"},{"$error":"#DIV/0!"},{"$error":"#DIV/0!"},{"$error":"#DIV/0!"},{"$error":"#DIV/0!"},{"$error":"#DIV/0!"},{"$error":"#DIV/0!"},null,44,63.66464431363994,{"$f":"Klimaatscenario!F51","v":51.703272723421279},{"$error":"#DIV/0!"},{"$error":"#DIV/0!"},{"$error":"#DIV/0!"},{"$error":"#DIV/0!"},{"$error":"#DIV/0!"},{"$error":"#DIV/0!"},{"$error":"#DIV/0!"},{"$error":"#DIV/0!"},{"$error":"#DIV/0!"},{"$error":"#DIV/0!"},{"$error":"#DIV/0!"},{"$error":"#DIV/0!"},{"$error":"#DIV/0!"},{"$error":"#DIV/0!"},{"$error":"#DIV/0!"},{"$error":"#DIV/0!"},{"$error":"#DIV/0!"},{"$error":"#DIV/0!"},{"$error":"#DIV/0!"},{"$error":"#DIV/0!"}]
[null,null,45,47.449174185688989,{"$f":"Klimaatscenario!E52","v":40.882364193199862},{"$error":"#DIV/0!"},{"$error":"#DIV/0!"},{"$error":"#DIV/0!"},{"$error":"#DIV/0!"},{"$error":"#DIV/0!"},{"$error":"#DIV/0!"},{"$error":"#DIV/0!"},{"$error":"#DIV/0!"},{"$error":"#DIV/0!"},{"$error":"#DIV/0!"},{"$error":"#DIV/0!"},{"$error":"#DIV/0!"},{"$error":"#DIV/0!"},{"$error":"#DIV/0!"},{"$error":"#DIV/0!"},{"$error":"#DIV/0!"},{"$error":"#DIV/0!"},{"$error":"#DIV/0!"},{"$error":"#DIV/0!"},{"$error":"#DIV/0!"},null,45,63.66464431363994,{"$f":"Klimaatscenario!F52","v":52.085260589303118},{"$error":"#DIV/0!"},{"$error":"#DIV/0!"},{"$error":"#DIV/0!"},{"$error":"#DIV/0!"},{"$error":"#DIV/0!"},{"$error":"#DIV/0!"},{"$error":"#DIV/0!"},{"$error":"#DIV/0!"},{"$error":"#DIV/0!"},{"$error":"#DIV/0!"},{"$error":"#DIV/0!"},{"$error":"#DIV/0!"},{"$error":"#DIV/0!"},{"$error":"#DIV/0!"},{"$error":"#DIV/0!"},{"$error":"#DIV/0!"},{"$error":"#DIV/0!"},{"$error":"#DIV/0!"},{"$error":"#DIV/0!"},{"$error":"#DIV/0!"}]
[null,null,46,47.449174185690168,{"$f":"Klimaatscenario!E53","v":41.167059238314003},{"$error":"#DIV/0!"},{"$error":"#DIV/0!"},{"$error":"#DIV/0!"},{"$error":"#DIV/0!"},{"$error":"#DIV/0!"},{"$error":"#DIV/0!"},{"$error":"#DIV/0!"},{"$error":"#DIV/0!"},{"$error":"#DIV/0!"},{"$error":"#DIV/0!"},{"$error":"#DIV/0!"},{"$error":"#DIV/0!"},{"$error":"#DIV/0!"},{"$error":"#DIV/0!"},{"$error":"#DIV/0!"},{"$error":"#DIV/0!"},{"$error":"#DIV/0!"},{"$error":"#DIV/0!"},{"$error":"#DIV/0!"},{"$error":"#DIV/0!"},null,46,63.66464431363994,{"$f":"Klimaatscenario!F53","v":52.467248455184958},{"$error":"#DIV/0!"},{"$error":"#DIV/0!"},{"$error":"#DIV/0!"},{"$error":"#DIV/0!"},{"$error":"#DIV/0!"},{"$error":"#DIV/0!"},{"$error":"#DIV/0!"},{"$error":"#DIV/0!"},{"$error":"#DIV/0!"},{"$error":"#DIV/0!"},{"$error":"#DIV/0!"},{"$error":"#DIV/0!"},{"$error":"#DIV/0!"},{"$error":"#DIV/0!"},{"$error":"#DIV/0!"},{"$error":"#DIV/0!"},{"$error":"#DIV/0!"},{"$error":"#DIV/0!"},{"$error":"#DIV/0!"},{"$error":"#DIV/0!"}]
[null,null,47,47.449174185688989,{"$f":"Klimaatscenario!E54","v":41.451754283428137},{"$error":"#DIV/0!"},{"$error":"#DIV/0!"},{"$error":"#DIV/0!"},{"$error":"#DIV/0!"},{"$error":"#DIV/0!"},{"$error":"#DIV/0!"},{"$error":"#DIV/0!"},{"$error":"#DIV/0!"},{"$error":"#DIV/0!"},{"$error":"#DIV/0!"},{"$error":"#DIV/0!"},{"$error":"#DIV/0!"},{"$error":"#DIV/0!"},{"$error":"#DIV/0!"},{"$error":"#DIV/0!"},{"$error":"#DIV/0!"},{"$error":"#DIV/0!"},{"$error":"#DIV/0!"},{"$error":"#DIV/0!"},{"$error":"#DIV/0!"},null,47,63.66464431363994,{"$f":"Klimaatscenario!F54","v":52.849236321066797},{"$error":"#DIV/0!"},{"$error":"#DIV/0!"},{"$error":"#DIV/0!"},{"$error":"#DIV/0!"},{"$error":"#DIV/0!"},{"$error":"#DIV/0!"},{"$error":"#DIV/0!"},{"$error":"#DIV/0!"},{"$error":"#DIV/0!"},{"$error":"#DIV/0!"},{"$error":"#DIV/0!"},{"$error":"#DIV/0!"},{"$error":"#DIV/0!"},{"$error":"#DIV/0!"},{"$error":"#DIV/0!"},{"$error":"#DIV/0!"},{"$error":"#DIV/0!"},{"$error":"#DIV/0!"},{"$error":"#DIV/0!"},{"$error":"#DIV/0!"}]
[null,null,48,47.449174185690168,{"$f":"Klimaatscenario!E55","v":41.736449328542278},{"$error":"#DIV/0!"},{"$error":"#DIV/0!"},{"$error":"#DIV/0!"},{"$error":"#DIV/0!"},{"$error":"#DIV/0!"},{"$error":"#DIV/0!"},{"$error":"#DIV/0!"},{"$error":"#DIV/0!"},{"$error":"#DIV/0!"},{"$error":"#DIV/0!"},{"$error":"#DIV/0!"},{"$error":"#DIV/0!"},{"$error":"#DIV/0!"},{"$error":"#DIV/0!"},{"$error":"#DIV/0!"},{"$error":"#DIV/0!"},{"$error":"#DIV/0!"},{"$error":"#DIV/0!"},{"$error":"#DIV/0!"},{"$error":"#DIV/0!"},null,48,63.66464431363994,{"$f":"Klimaatscenario!F55","v":53.231224186948637},{"$error":"#DIV/0!"},{"$error":"#DIV/0!"},{"$error":"#DIV/0!"},{"$error":"#DIV/0!"},{"$error":"#DIV/0!"},{"$error":"#DIV/0!"},{"$error":"#DIV/0!"},{"$error":"#DIV/0!"},{"$error":"#DIV/0!"},{"$error":"#DIV/0!"},{"$error":"#DIV/0!"},{"$error":"#DIV/0!"},{"$error":"#DIV/0!"},{"$error":"#DIV/0!"},{"$error":"#DIV/0!"},{"$error":"#DIV/0!"},{"$error":"#DIV/0!"},{"$error":"#DIV/0!"},{"$error":"#DIV/0!"},{"$error":"#DIV/0!"}]
[null,null,49,47.449174185688989,{"$f":"Klimaatscenario!E56","v":42.021144373656412},{"$error":"#DIV/0!"},{"$error":"#DIV/0!"},{"$error":"#DIV/0!"},{"$error":"#DIV/0!"},{"$error":"#DIV/0!"},{"$error":"#DIV/0!"},{"$error":"#DIV/0!"},{"$error":"#DIV/0!"},{"$error":"#DIV/0!"},{"$error":"#DIV/0!"},{"$error":"#DIV/0!"},{"$error":"#DIV/0!"},{"$error":"#DIV/0!"},{"$error":"#DIV/0!"},{"$error":"#DIV/0!"},{"$error":"#DIV/0!"},{"$error":"#DIV/0!"},{"$error":"#DIV/0!"},{"$error":"#DIV/0!"},{"$error":"#DIV/0!"},null,49,63.66464431363994,{"$f":"Klimaatscenario!F56","v":53.613212052830477},{"$error":"#DIV/0!"},{"$error":"#DIV/0!"},{"$error":"#DIV/0!"},{"$error":"#DIV/0!"},{"$error":"#DIV/0!"},{"$error":"#DIV/0!"},{"$error":"#DIV/0!"},{"$error":"#DIV/0!"},{"$error":"#DIV/0!"},{"$error":"#DIV/0!"},{"$error":"#DIV/0!"},{"$error":"#DIV/0!"},{"$error":"#DIV/0!"},{"$error":"#DIV/0!"},{"$error":"#DIV/0!"},{"$error":"#DIV/0!"},{"$error":"#DIV/0!"},{"$error":"#DIV/0!"},{"$error":"#DIV/0!"},{"$error":"#DIV/0!"}]
[null,null,50,47.449174185690168,{"$f":"Klimaatscenario!E57","v":42.305839418770553},{"$error":"#DIV/0!"},{"$error":"#DIV/0!"},{"$error":"#DIV/0!"},{"$error":"#DIV/0!"},{"$error":"#DIV/0!"},{"$error":"#DIV/0!"},{"$error":"#DIV/0!"},{"$error":"#DIV/0!"},{"$error":"#DIV/0!"},{"$error":"#DIV/0!"},{"$error":"#DIV/0!"},{"$error":"#DIV/0!"},{"$error":"#DIV/0!"},{"$error":"#DIV/0!"},{"$error":"#DIV/0!"},{"$error":"#DIV/0!"},{"$error":"#DIV/0!"},{"$error":"#DIV/0!"},{"$error":"#DIV/0!"},{"$error":"#DIV/0!"},null,50,63.66464431363994,{"$f":"Klimaatscenario!F57","v":53.995199918712316},{"$error":"#DIV/0!"},{"$error":"#DIV/0!"},{"$error":"#DIV/0!"},{"$error":"#DIV/0!"},{"$error":"#DIV/0!"},{"$error":"#DIV/0!"},{"$error":"#DIV/0!"},{"$error":"#DIV/0!"},{"$error":"#DIV/0!"},{"$error":"#DIV/0!"},{"$error":"#DIV/0!"},{"$error":"#DIV/0!"},{"$error":"#DIV/0!"},{"$error":"#DIV/0!"},{"$error":"#DIV/0!"},{"$error":"#DIV/0!"},{"$error":"#DIV/0!"},{"$error":"#DIV/0!"},{"$error":"#DIV/0!"},{"$error":"#DIV/0!"}]
[null,null,51,47.449174185688989,{"$f":"Klimaatscenario!E58","v":42.590534463884687},{"$error":"#DIV/0!"},{"$error":"#DIV/0!"},{"$error":"#DIV/0!"},{"$error":"#DIV/0!"},{"$error":"#DIV/0!"},{"$error":"#DIV/0!"},{"$error":"#DIV/0!"},{"$error":"#DIV/0!"},{"$error":"#DIV/0!"},{"$error":"#DIV/0!"},{"$error":"#DIV/0!"},{"$error":"#DIV/0!"},{"$error":"#DIV/0!"},{"$error":"#DIV/0!"},{"$error":"#DIV/0!"},{"$error":"#DIV/0!"},{"$error":"#DIV/0!"},{"$error":"#DIV/0!"},{"$error":"#DIV/0!"},{"$error":"#DIV/0!"},null,51,63.66464431363994,{"$f":"Klimaatscenario!F58","v":54.377187784594156},{"$error":"#DIV/0!"},{"$error":"#DIV/0!"},{"$error":"#DIV/0!"},{"$error":"#DIV/0!"},{"$error":"#DIV/0!"},{"$error":"#DIV/0!"},{"$error":"#DIV/0!"},{"$error":"#DIV/0!"},{"$error":"#DIV/0!"},{"$error":"#DIV/0!"},{"$error":"#DIV/0!"},{"$error":"#DIV/0!"},{"$error":"#DIV/0!"},{"$error":"#DIV/0!"},{"$error":"#DIV/0!"},{"$error":"#DIV/0!"},{"$error":"#DIV/0!"},{"$error":"#DIV/0!"},{"$error":"#DIV/0!"},{"$error":"#DIV/0!"}]
[null,null,52,47.449174185690168,{"$f":"Klimaatscenario!E59","v":42.875229508998828},{"$error":"#DIV/0!"},{"$error":"#DIV/0!"},{"$error":"#DIV/0!"},{"$error":"#DIV/0!"},{"$error":"#DIV/0!"},{"$error":"#DIV/0!"},{"$error":"#DIV/0!"},{"$error":"#DIV/0!"},{"$error":"#DIV/0!"},{"$error":"#DIV/0!"},{"$error":"#DIV/0!"},{"$error":"#DIV/0!"},{"$error":"#DIV/0!"},{"$error":"#DIV/0!"},{"$error":"#DIV/0!"},{"$error":"#DIV/0!"},{"$error":"#DIV/0!"},{"$error":"#DIV/0!"},{"$error":"#DIV/0!"},{"$error":"#DIV/0!"},null,52,63.66464431363994,{"$f":"Klimaatscenario!F59","v":54.759175650475996},{"$error":"#DIV/0!"},{"$error":"#DIV/0!"},{"$error":"#DIV/0!"},{"$error":"#DIV/0!"},{"$error":"#DIV/0!"},{"$error":"#DIV/0!"},{"$error":"#DIV/0!"},{"$error":"#DIV/0!"},{"$error":"#DIV/0!"},{"$error":"#DIV/0!"},{"$error":"#DIV/0!"},{"$error":"#DIV/0!"},{"$error":"#DIV/0!"},{"$error":"#DIV/0!"},{"$error":"#DIV/0!"},{"$error":"#DIV/0!"},{"$error":"#DIV/0!"},{"$error":"#DIV/0!"},{"$error":"#DIV/0!"},{"$error":"#DIV/0!"}]
[null,null,53,47.449174185688989,{"$f":"Klimaatscenario!E60","v":43.159924554112962},{"$error":"#DIV/0!"},{"$error":"#DIV/0!"},{"$error":"#DIV/0!"},{"$error":"#DIV/0!"},{"$error":"#DIV/0!"},{"$error":"#DIV/0!"},{"$error":"#DIV/0!"},{"$error":"#DIV/0!"},{"$error":"#DIV/0!"},{"$error":"#DIV/0!"},{"$error":"#DIV/0!"},{"$error":"#DIV/0!"},{"$error":"#DIV/0!"},{"$error":"#DIV/0!"},{"$error":"#DIV/0!"},{"$error":"#DIV/0!"},{"$error":"#DIV/0!"},{"$error":"#DIV/0!"},{"$error":"#DIV/0!"},{"$error":"#DIV/0!"},null,53,63.66464431363994,{"$f":"Klimaatscenario!F60","v":55.141163516357835},{"$error":"#DIV/0!"},{"$error":"#DIV/0!"},{"$error":"#DIV/0!"},{"$error":"#DIV/0!"},{"$error":"#DIV/0!"},{"$error":"#DIV/0!"},{"$error":"#DIV/0!"},{"$error":"#DIV/0!"},{"$error":"#DIV/0!"},{"$error":"#DIV/0!"},{"$error":"#DIV/0!"},{"$error":"#DIV/0!"},{"$error":"#DIV/0!"},{"$error":"#DIV/0!"},{"$error":"#DIV/0!"},{"$error":"#DIV/0!"},{"$error":"#DIV/0!"},{"$error":"#DIV/0!"},{"$error":"#DIV/0!"},{"$error":"#DIV/0!"}]
[null,null,54,47.449174185688989,{"$f":"Klimaatscenario!E61","v":43.444619599227096},{"$error":"#DIV/0!"},{"$error":"#DIV/0!"},{"$error":"#DIV/0!"},{"$error":"#DIV/0!"},{"$error":"#DIV/0!"},{"$error":"#DIV/0!"},{"$error":"#DIV/0!"},{"$error":"#DIV/0!"},{"$error":"#DIV/0!"},{"$error":"#DIV/0!"},{"$error":"#DIV/0!"},{"$error":"#DIV/0!"},{"$error":"#DIV/0!"},{"$error":"#DIV/0!"},{"$error":"#DIV/0!"},{"$error":"#DIV/0!"},{"$error":"#DIV/0!"},{"$error":"#DIV/0!"},{"$error":"#DIV/0!"},{"$error":"#DIV/0!"},null,54,63.66464431363876,{"$f":"Klimaatscenario!F61","v":55.523151382239668},{"$error":"#DIV/0!"},{"$error":"#DIV/0!"},{"$error":"#DIV/0!"},{"$error":"#DIV/0!"},{"$error":"#DIV/0!"},{"$error":"#DIV/0!"},{"$error":"#DIV/0!"},{"$error":"#DIV/0!"},{"$error":"#DIV/0!"},{"$error":"#DIV/0!"},{"$error":"#DIV/0!"},{"$error":"#DIV/0!"},{"$error":"#DIV/0!"},{"$error":"#DIV/0!"},{"$error":"#DIV/0!"},{"$error":"#DIV/0!"},{"$error":"#DIV/0!"},{"$error":"#DIV/0!"},{"$error":"#DIV/0!"},{"$error":"#DIV/0!"}]
[null,null,55,47.449174185690168,{"$f":"Klimaatscenario!E62","v":43.729314644341237},{"$error":"#DIV/0!"},{"$error":"#DIV/0!"},{"$error":"#DIV/0!"},{"$error":"#DIV/0!"},{"$error":"#DIV/0!"},{"$error":"#DIV/0!"},{"$error":"#DIV/0!"},{"$error":"#DIV/0!"},{"$error":"#DIV/0!"},{"$error":"#DIV/0!"},{"$error":"#DIV/0!"},{"$error":"#DIV/0!"},{"$error":"#DIV/0!"},{"$error":"#DIV/0!"},{"$error":"#DIV/0!"},{"$error":"#DIV/0!"},{"$error":"#DIV/0!"},{"$error":"#DIV/0!"},{"$error":"#DIV/0!"},{"$error":"#DIV/0!"},null,55,63.66464431363994,{"$f":"Klimaatscenario!F62","v":55.905139248121507},{"$error":"#DIV/0!"},{"$error":"#DIV/0!"},{"$error":"#DIV/0!"},{"$error":"#DIV/0!"},{"$error":"#DIV/0!"},{"$error":"#DIV/0!"},{"$error":"#DIV/0!"},{"$error":"#DIV/0!"},{"$error":"#DIV/0!"},{"$error":"#DIV/0!"},{"$error":"#DIV/0!"},{"$error":"#DIV/0!"},{"$error":"#DIV/0!"},{"$error":"#DIV/0!"},{"$error":"#DIV/0!"},{"$error":"#DIV/0!"},{"$error":"#DIV/0!"},{"$error":"#DIV/0!"},{"$error":"#DIV/0!"},{"$error":"#DIV/0!"}]
[null,null,56,47.449174185688989,{"$f":"Klimaatscenario!E63","v":44.014009689455371},{"$error":"#DIV/0!"},{"$error":"#DIV/0!"},{"$error":"#DIV/0!"},{"$error":"#DIV/0!"},{"$error":"#DIV/0!"},{"$error":"#DIV/0!"},{"$error":"#DIV/0!"},{"$error":"#DIV/0!"},{"$error":"#DIV/0!"},{"$error":"#DIV/0!"},{"$error":"#DIV/0!"},{"$error":"#DIV/0!"},{"$error":"#DIV/0!"},{"$error":"#DIV/0!"},{"$error":"#DIV/0!"},{"$error":"#DIV/0!"},{"$error":"#DIV/0!"},{"$error":"#DIV/0!"},{"$error":"#DIV/0!"},{"$error":"#DIV/0!"},null,56,63.66464431363994,{"$f":"Klimaatscenario!F63","v":56.287127114003347},{"$error":"#DIV/0!"},{"$error":"#DIV/0!"},{"$error":"#DIV/0!"},{"$error":"#DIV/0!"},{"$error":"#DIV/0!"},{"$error":"#DIV/0!"},{"$error":"#DIV/0!"},{"$error":"#DIV/0!"},{"$error":"#DIV/0!"},{"$error":"#DIV/0!"},{"$error":"#DIV/0!"},{"$error":"#DIV/0!"},{"$error":"#DIV/0!"},{"$error":"#DIV/0!"},{"$error":"#DIV/0!"},{"$error":"#DIV/0!"},{"$error":"#DIV/0!"},{"$error":"#DIV/0!"},{"$error":"#DIV/0!"},{"$error":"#DIV/0!"}]
[null,null,57,47.449174185690168,{"$f":"Klimaatscenario!E64","v":44.298704734569512},{"$error":"#DIV/0!"},{"$error":"#DIV/0!"},{"$error":"#DIV/0!"},{"$error":"#DIV/0!"},{"$error":"#DIV/0!"},{"$error":"#DIV/0!"},{"$error":"#DIV/0!"},{"$error":"#DIV/0!"},{"$error":"#DIV/0!"},{"$error":"#DIV/0!"},{"$error":"#DIV/0!"},{"$error":"#DIV/0!"},{"$error":"#DIV/0!"},{"$error":"#DIV/0!"},{"$error":"#DIV/0!"},{"$error":"#DIV/0!"},{"$error":"#DIV/0!"},{"$error":"#DIV/0!"},{"$error":"#DIV/0!"},{"$error":"#DIV/0!"},null,57,63.66464431363994,{"$f":"Klimaatscenario!F64","v":56.669114979885187},{"$error":"#DIV/0!"},{"$error":"#DIV/0!"},{"$error":"#DIV/0!"},{"$error":"#DIV/0!"},{"$error":"#DIV/0!"},{"$error":"#DIV/0!"},{"$error":"#DIV/0!"},{"$error":"#DIV/0!"},{"$error":"#DIV/0!"},{"$error":"#DIV/0!"},{"$error":"#DIV/0!"},{"$error":"#DIV/0!"},{"$error":"#DIV/0!"},{"$error":"#DIV/0!"},{"$error":"#DIV/0!"},{"$error":"#DIV/0!"},{"$error":"#DIV/0!"},{"$error":"#DIV/0!"},{"$error":"#DIV/0!"},{"$error":"#DIV/0!"}]
[null,null,58,47.449174185688989,{"$f":"Klimaatscenario!E65","v":44.583399779683646},{"$error":"#DIV/0!"},{"$error":"#DIV/0!"},{"$error":"#DIV/0!"},{"$error":"#DIV/0!"},{"$error":"#DIV/0!"},{"$error":"#DIV/0!"},{"$error":"#DIV/0!"},{"$error":"#DIV/0!"},{"$error":"#DIV/0!"},{"$error":"#DIV/0!"},{"$error":"#DIV/0!"},{"$error":"#DIV/0!"},{"$error":"#DIV/0!"},{"$error":"#DIV/0!"},{"$error":"#DIV/0!"},{"$error":"#DIV/0!"},{"$error":"#DIV/0!"},{"$error":"#DIV/0!"},{"$error":"#DIV/0!"},{"$error":"#DIV/0!"},null,58,63.66464431363994,{"$f":"Klimaatscenario!F65","v":57.051102845767026},{"$error":"#DIV/0!"},{"$error":"#DIV/0!"},{"$error":"#DIV/0!"},{"$error":"#DIV/0!"},{"$error":"#DIV/0!"},{"$error":"#DIV/0!"},{"$error":"#DIV/0!"},{"$error":"#DIV/0!"},{"$error":"#DIV/0!"},{"$error":"#DIV/0!"},{"$error":"#DIV/0!"},{"$error":"#DIV/0!"},{"$error":"#DIV/0!"},{"$error":"#DIV/0!"},{"$error":"#DIV/0!"},{"$error":"#DIV/0!"},{"$error":"#DIV/0!"},{"$error":"#DIV/0!"},{"$error":"#DIV/0!"},{"$error":"#DIV/0!"}]
[null,null,59,47.449174185688989,{"$f":"Klimaatscenario!E66","v":44.86809482479778},{"$error":"#DIV/0!"},{"$error":"#DIV/0!"},{"$error":"#DIV/0!"},{"$error":"#DIV/0!"},{"$error":"#DIV/0!"},{"$error":"#DIV/0!"},{"$error":"#DIV/0!"},{"$error":"#DIV/0!"},{"$error":"#DIV/0!"},{"$error":"#DIV/0!"},{"$error":"#DIV/0!"},{"$error":"#DIV/0!"},{"$error":"#DIV/0!"},{"$error":"#DIV/0!"},{"$error":"#DIV/0!"},{"$error":"#DIV/0!"},{"$error":"#DIV/0!"},{"$error":"#DIV/0!"},{"$error":"#DIV/0!"},{"$error":"#DIV/0!"},null,59,63.66464431363994,{"$f":"Klimaatscenario!F66","v":57.433090711648866},{"$error":"#DIV/0!"},{"$error":"#DIV/0!"},{"$error":"#DIV/0!"},{"$error":"#DIV/0!"},{"$error":"#DIV/0!"},{"$error":"#DIV/0!"},{"$error":"#DIV/0!"},{"$error":"#DIV/0!"},{"$error":"#DIV/0!"},{"$error":"#DIV/0!"},{"$error":"#DIV/0!"},{"$error":"#DIV/0!"},{"$error":"#DIV/0!"},{"$error":"#DIV/0!"},{"$error":"#DIV/0!"},{"$error":"#DIV/0!"},{"$error":"#DIV/0!"},{"$error":"#DIV/0!"},{"$error":"#DIV/0!"},{"$error":"#DIV/0!"}]
[null,null,60,47.449174185690168,{"$f":"Klimaatscenario!E67","v":45.152789869911921},{"$error":"#DIV/0!"},{"$error":"#DIV/0!"},{"$error":"#DIV/0!"},{"$error":"#DIV/0!"},{"$error":"#DIV/0!"},{"$error":"#DIV/0!"},{"$error":"#DIV/0!"},{"$error":"#DIV/0!"},{"$error":"#DIV/0!"},{"$error":"#DIV/0!"},{"$error":"#DIV/0!"},{"$error":"#DIV/0!"},{"$error":"#DIV/0!"},{"$error":"#DIV/0!"},{"$error":"#DIV/0!"},{"$error":"#DIV/0!"},{"$error":"#DIV/0!"},{"$error":"#DIV/0!"},{"$error":"#DIV/0!"},{"$error":"#DIV/0!"},null,60,63.66464431363994,{"$f":"Klimaatscenario!F67","v":57.815078577530706},{"$error":"#DIV/0!"},{"$error":"#DIV/0!"},{"$error":"#DIV/0!"},{"$error":"#DIV/0!"},{"$error":"#DIV/0!"},{"$error":"#DIV/0!"},{"$error":"#DIV/0!"},{"$error":"#DIV/0!"},{"$error":"#DIV/0!"},{"$error":"#DIV/0!"},{"$error":"#DIV/0!"},{"$error":"#DIV/0!"},{"$error":"#DIV/0!"},{"$error":"#DIV/0!"},{"$error":"#DIV/0!"},{"$error":"#DIV/0!"},{"$error":"#DIV/0!"},{"$error":"#DIV/0!"},{"$error":"#DIV/0!"},{"$error":"#DIV/0!"}]
[null,null,61,23.344127681930615,{"$f":"Klimaatscenario!E68","v":45.292854636003504},{"$error":"#DIV/0!"},{"$error":"#DIV/0!"},{"$error":"#DIV/0!"},{"$error":"#DIV/0!"},{"$error":"#DIV/0!"},{"$error":"#DIV/0!"},{"$error":"#DIV/0!"},{"$error":"#DIV/0!"},{"$error":"#DIV/0!"},{"$error":"#DIV/0!"},{"$error":"#DIV/0!"},{"$error":"#DIV/0!"},{"$error":"#DIV/0!"},{"$error":"#DIV/0!"},{"$error":"#DIV/0!"},{"$error":"#DIV/0!"},{"$error":"#DIV/0!"},{"$error":"#DIV/0!"},{"$error":"#DIV/0!"},{"$error":"#DIV/0!"},null,61,29.851749726773846,{"$f":"Klimaatscenario!F68","v":57.994189075891349},{"$error":"#DIV/0!"},{"$error":"#DIV/0!"},{"$error":"#DIV/0!"},{"$error":"#DIV/0!"},{"$error":"#DIV/0!"},{"$error":"#DIV/0!"},{"$error":"#DIV/0!"},{"$error":"#DIV/0!"},{"$error":"#DIV/0!"},{"$error":"#DIV/0!"},{"$error":"#DIV/0!"},{"$error":"#DIV/0!"},{"$error":"#DIV/0!"},{"$error":"#DIV/0!"},{"$error":"#DIV/0!"},{"$error":"#DIV/0!"},{"$error":"#DIV/0!"},{"$error":"#DIV/0!"},{"$error":"#DIV/0!"},{"$error":"#DIV/0!"}]
[null,null,62,23.344127681929429,{"$f":"Klimaatscenario!E69","v":45.432919402095081},{"$error":"#DIV/0!"},{"$error":"#DIV/0!"},{"$error":"#DIV/0!"},{"$error":"#DIV/0!"},{"$error":"#DIV/0!"},{"$error":"#DIV/0!"},{"$error":"#DIV/0!"},{"$error":"#DIV/0!"},{"$error":"#DIV/0!"},{"$error":"#DIV/0!"},{"$error":"#DIV/0!"},{"$error":"#DIV/0!"},{"$error":"#DIV/0!"},{"$error":"#DIV/0!"},{"$error":"#DIV/0!"},{"$error":"#DIV/0!"},{"$error":"#DIV/0!"},{"$error":"#DIV/0!"},{"$error":"#DIV/0!"},{"$error":"#DIV/0!"},null,62,29.851749726773846,{"$f":"Klimaatscenario!F69","v":58.173299574251992},{"$error":"#DIV/0!"},{"$error":"#DIV/0!"},{"$error":"#DIV/0!"},{"$error":"#DIV/0!"},{"$error":"#DIV/0!"},{"$error":"#DIV/0!"},{"$error":"#DIV/0!"},{"$error":"#DIV/0!"},{"$error":"#DIV/0!"},{"$error":"#DIV/0!"},{"$error":"#DIV/0!"},{"$error":"#DIV/0!"},{"$error":"#DIV/0!"},{"$error":"#DIV/0!"},{"$error":"#DIV/0!"},{"$error":"#DIV/0!"},{"$error":"#DIV/0!"},{"$error":"#DIV/0!"},{"$error":"#DIV/0!"},{"$error":"#DIV/0!"}]
[null,null,63,23.344127681930615,{"$f":"Klimaatscenario!E70","v":45.572984168186665},{"$error":"#DIV/0!"},{"$error":"#DIV/0!"},{"$error":"#DIV/0!"},{"$error":"#DIV/0!"},{"$error":"#DIV/0!"},{"$error":"#DIV/0!"},{"$error":"#DIV/0!"},{"$error":"#DIV/0!"},{"$error":"#DIV/0!"},{"$error":"#DIV/0!"},{"$error":"#DIV/0!"},{"$error":"#DIV/0!"},{"$error":"#DIV/0!"},{"$error":"#DIV/0!"},{"$error":"#DIV/0!"},{"$error":"#DIV/0!"},{"$error":"#DIV/0!"},{"$error":"#DIV/0!"},{"$error":"#DIV/0!"},{"$error":"#DIV/0!"},null,63,29.85174972677266,{"$f":"Klimaatscenario!F70","v":58.352410072612628},{"$error":"#DIV/0!"},{"$error":"#DIV/0!"},{"$error":"#DIV/0!"},{"$error":"#DIV/0!"},{"$error":"#DIV/0!"},{"$error":"#DIV/0!"},{"$error":"#DIV/0!"},{"$error":"#DIV/0!"},{"$error":"#DIV/0!"},{"$error":"#DIV/0!"},{"$error":"#DIV/0!"},{"$error":"#DIV/0!"},{"$error":"#DIV/0!"},{"$error":"#DIV/0!"},{"$error":"#DIV/0!"},{"$error":"#DIV/0!"},{"$error":"#DIV/0!"},{"$error":"#DIV/0!"},{"$error":"#DIV/0!"},{"$error":"#DIV/0!"}]
[null,null,64,23.344127681930615,{"$f":"Klimaatscenario!E71","v":45.713048934278248},{"$error":"#DIV/0!"},{"$f":"($J$426/60)*($C408)","v":{"$error":"#DIV/0!"}},{"$error":"#DIV/0!"},{"$f":"($J$424/60)*$C408","v":{"$error":"#DIV/0!"}},{"$f":"$E408-F408-G408-H408-I408","v":{"$error":"#DIV/0!"}},{"$error":"#DIV/0!"},{"$f":"($O$426/60)*($C408)","v":{"$error":"#DIV/0!"}},{"$error":"#DIV/0!"},{"$f":"($O$424/60)*$C408","v":{"$error":"#DIV/0!"}},{"$f":"$E408-K408-L408-M408-N408","v":{"$error":"#DIV/0!"}},{"$error":"#DIV/0!"},{"$f":"($T$426/60)*($C408)","v":{"$error":"#DIV/0!"}},{"$error":"#DIV/0!"},{"$f":"($T$424/60)*$C408","v":{"$error":"#DIV/0!"}},{"$f":"$E408-P408-Q408-R408-S408","v":{"$error":"#DIV/0!"}},{"$error":"#DIV/0!"},{"$f":"($Y$426/60)*($C408)","v":{"$error":"#DIV/0!"}},{"$error":"#DIV/0!"},{"$f":"($Y$424/60)*$C408","v":{"$error":"#DIV/0!"}},{"$f":"$E408-U408-V408-W408-X408","v":{"$error":"#DIV/0!"}},null,64,29.851749726773846,{"$f":"Klimaatscenario!F71","v":58.531520570973271},{"$error":"#DIV/0!"},{"$f":"($AH$426/60)*($AA408)","v":{"$error":"#DIV/0!"}},{"$error":"#DIV/0!"},{"$f":"($AH$424/60)*$AA408","v":{"$error":"#DIV/0!"}},{"$f":"$AC408-AD408-AE408-AF408-AG408","v":{"$error":"#DIV/0!"}},{"$error":"#DIV/0!"},{"$f":"($AM$426/60)*($AA408)","v":{"$error":"#DIV/0!"}},{"$error":"#DIV/0!"},{"$f":"($AM$424/60)*$AA408","v":{"$error":"#DIV/0!"}},{"$f":"$AC408-AI408-AJ408-AK408-AL408","v":{"$error":"#DIV/0!"}},{"$error":"#DIV/0!"},{"$error":"#DIV/0!"},{"$error":"#DIV/0!"},{"$f":"($AR$424/60)*$AA408","v":{"$error":"#DIV/0!"}},{"$f":"$AC408-AN408-AO408-AP408-AQ408","v":{"$error":"#DIV/0!"}},{"$error":"#DIV/0!"},{"$error":"#DIV/0!"},{"$error":"#DIV/0!"},{"$f":"($AW$424/60)*$AA408","v":{"$error":"#DIV/0!"}},{"$f":"$AC408-AS408-AT408-AU408-AV408","v":{"$error":"#DIV/0!"}}]
[null,null,65,23.344127681930615,{"$f":"Klimaatscenario!E72","v":45.853113700369832},{"$f":"((J$423*60)/10000)+F408","v":{"$error":"#DIV/0!"}},{"$error":"#DIV/0!"},{"$f":"J$422","v":{"$error":"#DIV/0!"}},{"$error":"#DIV/0!"},{"$error":"#DIV/0!"},{"$f":"((O$423*60)/10000)+K408","v":{"$error":"#DIV/0!"}},{"$error":"#DIV/0!"},{"$f":"O$422","v":{"$error":"#DIV/0!"}},{"$error":"#DIV/0!"},{"$error":"#DIV/0!"},{"$f":"((T$423*60)/10000)+P408","v":{"$error":"#DIV/0!"}},{"$error":"#DIV/0!"},{"$f":"T$422","v":{"$error":"#DIV/0!"}},{"$error":"#DIV/0!"},{"$error":"#DIV/0!"},{"$f":"((Y$423*60)/10000)+U408","v":{"$error":"#DIV/0!"}},{"$error":"#DIV/0!"},{"$f":"Y$422","v":{"$error":"#DIV/0!"}},{"$error":"#DIV/0!"},{"$error":"#DIV/0!"},null,65,29.851749726773846,{"$f":"Klimaatscenario!F72","v":58.710631069333914},{"$f":"((AH$423*60)/10000)+AD408","v":{"$error":"#DIV/0!"}},{"$error":"#DIV/0!"},{"$f":"AH$422","v":{"$error":"#DIV/0!"}},{"$error":"#DIV/0!"},{"$error":"#DIV/0!"},{"$f":"((AM$423*60)/10000)+AI408","v":{"$error":"#DIV/0!"}},{"$error":"#DIV/0!"},{"$error":"#DIV/0!"},{"$error":"#DIV/0!"},{"$error":"#DIV/0!"},{"$f":"((AR$423*60)/10000)+AN408","v":{"$error":"#DIV/0!"}},{"$f":"($AR$426/60)*($AA409)","v":{"$error":"#DIV/0!"}},{"$error":"#DIV/0!"},{"$error":"#DIV/0!"},{"$error":"#DIV/0!"},{"$f":"((AW$423*60)/10000)+AS408","v":{"$error":"#DIV/0!"}},{"$f":"($AW$426/60)*($AA409)","v":{"$error":"#DIV/0!"}},{"$error":"#DIV/0!"},{"$error":"#DIV/0!"},{"$error":"#DIV/0!"}]
[null,null,66,23.344127681929429,{"$f":"Klimaatscenario!E73","v":45.993178466461409},{"$error":"#DIV/0!"},{"$error":"#DIV/0!"},{"$error":"#DIV/0!"},{"$error":"#DIV/0!"},{"$error":"#DIV/0!"},{"$error":"#DIV/0!"},{"$error":"#DIV/0!"},{"$error":"#DIV/0!"},{"$error":"#DIV/0!"},{"$error":"#DIV/0!"},{"$error":"#DIV/0!"},{"$error":"#DIV/0!"},{"$error":"#DIV/0!"},{"$error":"#DIV/0!"},{"$error":"#DIV/0!"},{"$error":"#DIV/0!"},{"$error":"#DIV/0!"},{"$error":"#DIV/0!"},{"$error":"#DIV/0!"},{"$error":"#DIV/0!"},null,66,29.851749726773846,{"$f":"Klimaatscenario!F73","v":58.889741567694557},{"$error":"#DIV/0!"},{"$error":"#DIV/0!"},{"$error":"#DIV/0!"},{"$error":"#DIV/0!"},{"$error":"#DIV/0!"},{"$error":"#DIV/0!"},{"$error":"#DIV/0!"},{"$f":"AM$422","v":{"$error":"#DIV/0!"}},{"$error":"#DIV/0!"},{"$error":"#DIV/0!"},{"$error":"#DIV/0!"},{"$error":"#DIV/0!"},{"$f":"AR$422","v":{"$error":"#DIV/0!"}},{"$error":"#DIV/0!"},{"$error":"#DIV/0!"},{"$error":"#DIV/0!"},{"$error":"#DIV/0!"},{"$f":"AW$422","v":{"$error":"#DIV/0!"}},{"$error":"#DIV/0!"},{"$error":"#DIV/0!"}]
[null,null,67,23.344127681930615,{"$f":"Klimaatscenario!E74","v":46.133243232552992},{"$error":"#DIV/0!"},{"$error":"#DIV/0!"},{"$error":"#DIV/0!"},{"$error":"#DIV/0!"},{"$error":"#DIV/0!"},{"$error":"#DIV/0!"},{"$error":"#DIV/0!"},{"$error":"#DIV/0!"},{"$error":"#DIV/0!"},{"$error":"#DIV/0!"},{"$error":"#DIV/0!"},{"$error":"#DIV/0!"},{"$error":"#DIV/0!"},{"$error":"#DIV/0!"},{"$error":"#DIV/0!"},{"$error":"#DIV/0!"},{"$error":"#DIV/0!"},{"$error":"#DIV/0!"},{"$error":"#DIV/0!"},{"$error":"#DIV/0!"},null,67,29.851749726773846,{"$f":"Klimaatscenario!F74","v":59.0688520660552},{"$error":"#DIV/0!"},{"$error":"#DIV/0!"},{"$error":"#DIV/0!"},{"$error":"#DIV/0!"},{"$error":"#DIV/0!"},{"$error":"#DIV/0!"},{"$error":"#DIV/0!"},{"$error":"#DIV/0!"},{"$error":"#DIV/0!"},{"$error":"#DIV/0!"},{"$error":"#DIV/0!"},{"$error":"#DIV/0!"},{"$error":"#DIV/0!"},{"$error":"#DIV/0!"},{"$error":"#DIV/0!"},{"$error":"#DIV/0!"},{"$error":"#DIV/0!"},{"$error":"#DIV/0!"},{"$error":"#DIV/0!"},{"$error":"#DIV/0!"}]
[null,null,68,23.344127681930615,{"$f":"Klimaatscenario!E75","v":46.273307998644576},{"$error":"#DIV/0!"},{"$error":"#DIV/0!"},{"$error":"#DIV/0!"},{"$error":"#DIV/0!"},{"$error":"#DIV/0!"},{"$error":"#DIV/0!"},{"$error":"#DIV/0!"},{"$error":"#DIV/0!"},{"$error":"#DIV/0!"},{"$error":"#DIV/0!"},{"$error":"#DIV/0!"},{"$error":"#DIV/0!"},{"$error":"#DIV/0!"},{"$error":"#DIV/0!"},{"$error":"#DIV/0!"},{"$error":"#DIV/0!"},{"$error":"#DIV/0!"},{"$error":"#DIV/0!"},{"$error":"#DIV/0!"},{"$error":"#DIV/0!"},null,68,29.85174972677266,{"$f":"Klimaatscenario!F75","v":59.247962564415836},{"$error":"#DIV/0!"},{"$error":"#DIV/0!"},{"$error":"#DIV/0!"},{"$error":"#DIV/0!"},{"$error":"#DIV/0!"},{"$error":"#DIV/0!"},{"$error":"#DIV/0!"},{"$error":"#DIV/0!"},{"$error":"#DIV/0!"},{"$error":"#DIV/0!"},{"$error":"#DIV/0!"},{"$error":"#DIV/0!"},{"$error":"#DIV/0!"},{"$error":"#DIV/0!"},{"$error":"#DIV/0!"},{"$error":"#DIV/0!"},{"$error":"#DIV/0!"},{"$error":"#DIV/0!"},{"$error":"#DIV/0!"},{"$error":"#DIV/0!"}]
[null,null,69,{"$f":"((((((E413-E412)/(C413-C412))/60)/1000)*10000)*1000)","v":23.344127681929429},{"$f":"Klimaatscenario!E76","v":46.413372764736152},{"$error":"#DIV/0!"},{"$error":"#DIV/0!"},{"$error":"#DIV/0!"},{"$error":"#DIV/0!"},{"$error":"#DIV/0!"},{"$error":"#DIV/0!"},{"$error":"#DIV/0!"},{"$error":"#DIV/0!"},{"$error":"#DIV/0!"},{"$error":"#DIV/0!"},{"$error":"#DIV/0!"},{"$error":"#DIV/0!"},{"$error":"#DIV/0!"},{"$error":"#DIV/0!"},{"$error":"#DIV/0!"},{"$error":"#DIV/0!"},{"$error":"#DIV/0!"},{"$error":"#DIV/0!"},{"$error":"#DIV/0!"},{"$error":"#DIV/0!"},null,69,{"$f":"((((((AC413-AC412)/(AA413-AA412))/60)/1000)*10000)*1000)","v":29.851749726773846},{"$f":"Klimaatscenario!F76","v":59.427073062776479},{"$error":"#DIV/0!"},{"$error":"#DIV/0!"},{"$error":"#DIV/0!"},{"$error":"#DIV/0!"},{"$error":"#DIV/0!"},{"$error":"#DIV/0!"},{"$error":"#DIV/0!"},{"$error":"#DIV/0!"},{"$error":"#DIV/0!"},{"$error":"#DIV/0!"},{"$error":"#DIV/0!"},{"$error":"#DIV/0!"},{"$error":"#DIV/0!"},{"$error":"#DIV/0!"},{"$error":"#DIV/0!"},{"$error":"#DIV/0!"},{"$error":"#DIV/0!"},{"$error":"#DIV/0!"},{"$error":"#DIV/0!"},{"$error":"#DIV/0!"}]
[null,null,70,23.344127681930615,{"$f":"Klimaatscenario!E77","v":46.553437530827736},{"$error":"#DIV/0!"},{"$error":"#DIV/0!"},{"$error":"#DIV/0!"},{"$error":"#DIV/0!"},{"$error":"#DIV/0!"},{"$error":"#DIV/0!"},{"$error":"#DIV/0!"},{"$error":"#DIV/0!"},{"$error":"#DIV/0!"},{"$error":"#DIV/0!"},{"$error":"#DIV/0!"},{"$error":"#DIV/0!"},{"$error":"#DIV/0!"},{"$error":"#DIV/0!"},{"$error":"#DIV/0!"},{"$error":"#DIV/0!"},{"$error":"#DIV/0!"},{"$error":"#DIV/0!"},{"$error":"#DIV/0!"},{"$error":"#DIV/0!"},null,70,29.851749726773846,{"$f":"Klimaatscenario!F77","v":59.606183561137122},{"$error":"#DIV/0!"},{"$error":"#DIV/0!"},{"$error":"#DIV/0!"},{"$error":"#DIV/0!"},{"$error":"#DIV/0!"},{"$error":"#DIV/0!"},{"$error":"#DIV/0!"},{"$error":"#DIV/0!"},{"$error":"#DIV/0!"},{"$error":"#DIV/0!"},{"$error":"#DIV/0!"},{"$error":"#DIV/0!"},{"$error":"#DIV/0!"},{"$error":"#DIV/0!"},{"$error":"#DIV/0!"},{"$error":"#DIV/0!"},{"$error":"#DIV/0!"},{"$error":"#DIV/0!"},{"$error":"#DIV/0!"},{"$error":"#DIV/0!"}]
[null,null,71,23.344127681930615,{"$f":"Klimaatscenario!E78","v":46.69350229691932},{"$error":"#DIV/0!"},{"$error":"#DIV/0!"},{"$error":"#DIV/0!"},{"$error":"#DIV/0!"},{"$error":"#DIV/0!"},{"$error":"#DIV/0!"},{"$error":"#DIV/0!"},{"$error":"#DIV/0!"},{"$error":"#DIV/0!"},{"$error":"#DIV/0!"},{"$error":"#DIV/0!"},{"$error":"#DIV/0!"},{"$error":"#DIV/0!"},{"$error":"#DIV/0!"},{"$error":"#DIV/0!"},{"$error":"#DIV/0!"},{"$error":"#DIV/0!"},{"$error":"#DIV/0!"},{"$error":"#DIV/0!"},{"$error":"#DIV/0!"},null,71,29.851749726773846,{"$f":"Klimaatscenario!F78","v":59.785294059497765},{"$error":"#DIV/0!"},{"$error":"#DIV/0!"},{"$error":"#DIV/0!"},{"$error":"#DIV/0!"},{"$error":"#DIV/0!"},{"$error":"#DIV/0!"},{"$error":"#DIV/0!"},{"$error":"#DIV/0!"},{"$error":"#DIV/0!"},{"$error":"#DIV/0!"},{"$error":"#DIV/0!"},{"$error":"#DIV/0!"},{"$error":"#DIV/0!"},{"$error":"#DIV/0!"},{"$error":"#DIV/0!"},{"$error":"#DIV/0!"},{"$error":"#DIV/0!"},{"$error":"#DIV/0!"},{"$error":"#DIV/0!"},{"$error":"#DIV/0!"}]
[null,null,72,23.344127681930615,{"$f":"Klimaatscenario!E79","v":46.833567063010904},{"$error":"#DIV/0!"},{"$error":"#DIV/0!"},{"$error":"#DIV/0!"},{"$error":"#DIV/0!"},{"$error":"#DIV/0!"},{"$error":"#DIV/0!"},{"$error":"#DIV/0!"},{"$error":"#DIV/0!"},{"$error":"#DIV/0!"},{"$error":"#DIV/0!"},{"$error":"#DIV/0!"},{"$error":"#DIV/0!"},{"$error":"#DIV/0!"},{"$error":"#DIV/0!"},{"$error":"#DIV/0!"},{"$error":"#DIV/0!"},{"$error":"#DIV/0!"},{"$error":"#DIV/0!"},{"$error":"#DIV/0!"},{"$error":"#DIV/0!"},null,72,29.85174972677266,{"$f":"Klimaatscenario!F79","v":59.964404557858401},{"$error":"#DIV/0!"},{"$error":"#DIV/0!"},{"$error":"#DIV/0!"},{"$error":"#DIV/0!"},{"$error":"#DIV/0!"},{"$error":"#DIV/0!"},{"$error":"#DIV/0!"},{"$error":"#DIV/0!"},{"$error":"#DIV/0!"},{"$error":"#DIV/0!"},{"$error":"#DIV/0!"},{"$error":"#DIV/0!"},{"$error":"#DIV/0!"},{"$error":"#DIV/0!"},{"$error":"#DIV/0!"},{"$error":"#DIV/0!"},{"$error":"#DIV/0!"},{"$error":"#DIV/0!"},{"$error":"#DIV/0!"},{"$error":"#DIV/0!"}]
[null,null,73,23.344127681929429,{"$f":"Klimaatscenario!E80","v":46.97363182910248},{"$error":"#DIV/0!"},{"$error":"#DIV/0!"},{"$error":"#DIV/0!"},{"$error":"#DIV/0!"},{"$error":"#DIV/0!"},{"$error":"#DIV/0!"},{"$error":"#DIV/0!"},{"$error":"#DIV/0!"},{"$error":"#DIV/0!"},{"$error":"#DIV/0!"},{"$error":"#DIV/0!"},{"$error":"#DIV/0!"},{"$error":"#DIV/0!"},{"$error":"#DIV/0!"},{"$error":"#DIV/0!"},{"$error":"#DIV/0!"},{"$error":"#DIV/0!"},{"$error":"#DIV/0!"},{"$error":"#DIV/0!"},{"$error":"#DIV/0!"},null,73,29.851749726773846,{"$f":"Klimaatscenario!F80","v":60.143515056219044},{"$error":"#DIV/0!"},{"$error":"#DIV/0!"},{"$error":"#DIV/0!"},{"$error":"#DIV/0!"},{"$error":"#DIV/0!"},{"$error":"#DIV/0!"},{"$error":"#DIV/0!"},{"$error":"#DIV/0!"},{"$error":"#DIV/0!"},{"$error":"#DIV/0!"},{"$error":"#DIV/0!"},{"$error":"#DIV/0!"},{"$error":"#DIV/0!"},{"$error":"#DIV/0!"},{"$error":"#DIV/0!"},{"$error":"#DIV/0!"},{"$error":"#DIV/0!"},{"$error":"#DIV/0!"},{"$error":"#DIV/0!"},{"$error":"#DIV/0!"}]
[null,null,74,23.344127681930615,{"$f":"Klimaatscenario!E81","v":47.113696595194064},{"$error":"#DIV/0!"},{"$error":"#DIV/0!"},{"$error":"#DIV/0!"},{"$error":"#DIV/0!"},{"$error":"#DIV/0!"},{"$error":"#DIV/0!"},{"$error":"#DIV/0!"},{"$error":"#DIV/0!"},{"$error":"#DIV/0!"},{"$error":"#DIV/0!"},{"$error":"#DIV/0!"},{"$error":"#DIV/0!"},{"$error":"#DIV/0!"},{"$error":"#DIV/0!"},{"$error":"#DIV/0!"},{"$error":"#DIV/0!"},{"$error":"#DIV/0!"},{"$error":"#DIV/0!"},{"$error":"#DIV/0!"},{"$error":"#DIV/0!"},null,74,29.851749726773846,{"$f":"Klimaatscenario!F81","v":60.322625554579687},{"$error":"#DIV/0!"},{"$error":"#DIV/0!"},{"$error":"#DIV/0!"},{"$error":"#DIV/0!"},{"$error":"#DIV/0!"},{"$error":"#DIV/0!"},{"$error":"#DIV/0!"},{"$error":"#DIV/0!"},{"$error":"#DIV/0!"},{"$error":"#DIV/0!"},{"$error":"#DIV/0!"},{"$error":"#DIV/0!"},{"$error":"#DIV/0!"},{"$error":"#DIV/0!"},{"$error":"#DIV/0!"},{"$error":"#DIV/0!"},{"$error":"#DIV/0!"},{"$error":"#DIV/0!"},{"$error":"#DIV/0!"},{"$error":"#DIV/0!"}]
[null,null,75,23.344127681930615,{"$f":"Klimaatscenario!E82","v":47.253761361285648},{"$error":"#DIV/0!"},{"$f":"($J$426/60)*($C419)","v":{"$error":"#DIV/0!"}},{"$error":"#DIV/0!"},{"$error":"#DIV/0!"},{"$error":"#DIV/0!"},{"$error":"#DIV/0!"},{"$f":"($O$426/60)*($C419)","v":{"$error":"#DIV/0!"}},{"$error":"#DIV/0!"},{"$error":"#DIV/0!"},{"$error":"#DIV/0!"},{"$error":"#DIV/0!"},{"$f":"($T$426/60)*($C419)","v":{"$error":"#DIV/0!"}},{"$error":"#DIV/0!"},{"$error":"#DIV/0!"},{"$error":"#DIV/0!"},{"$error":"#DIV/0!"},{"$f":"($Y$426/60)*($C419)","v":{"$error":"#DIV/0!"}},{"$error":"#DIV/0!"},{"$error":"#DIV/0!"},{"$error":"#DIV/0!"},null,75,29.851749726773846,{"$f":"Klimaatscenario!F82","v":60.501736052940331},{"$error":"#DIV/0!"},{"$f":"($AH$426/60)*($AA419)","v":{"$error":"#DIV/0!"}},{"$error":"#DIV/0!"},{"$error":"#DIV/0!"},{"$error":"#DIV/0!"},{"$error":"#DIV/0!"},{"$f":"($AM$426/60)*($AA419)","v":{"$error":"#DIV/0!"}},{"$error":"#DIV/0!"},{"$error":"#DIV/0!"},{"$error":"#DIV/0!"},{"$error":"#DIV/0!"},{"$f":"($AR$426/60)*($AA419)","v":{"$error":"#DIV/0!"}},{"$error":"#DIV/0!"},{"$error":"#DIV/0!"},{"$error":"#DIV/0!"},{"$error":"#DIV/0!"},{"$f":"($AW$426/60)*($AA419)","v":{"$error":"#DIV/0!"}},{"$error":"#DIV/0!"},{"$error":"#DIV/0!"},{"$error":"#DIV/0!"}]
[]
[null,null,"Berging blokmethode, maximale waterstand op straat [mm]",null,null,null,null,null,null,{"$f":"MAX(J344:J419)","v":{"$error":"#DIV/0!"}},null,null,null,null,{"$f":"MAX(O344:O419)","v":{"$error":"#DIV/0!"}},null,null,null,null,{"$f":"MAX(T344:T419)","v":{"$error":"#DIV/0!"}},null,null,null,null,{"$f":"MAX(Y344:Y419)","v":{"$error":"#DIV/0!"}},null,"Berging blokmethode, maximale waterstand op straat [mm]",null,null,null,null,null,null,{"$f":"MAX(AH344:AH419)","v":{"$error":"#DIV/0!"}},null,null,null,null,{"$f":"MAX(AM344:AM419)","v":{"$error":"#DIV/0!"}},null,null,null,null,{"$f":"MAX(AR344:AR419)","v":{"$error":"#DIV/0!"}},null,null,null,null,{"$f":"MAX(AW344:AW419)","v":{"$error":"#DIV/0!"}}]
[null,null,"Berging in de voorziening [mm neerslagoppervlak]",null,null,null,null,null,null,{"$f":"(Invoer!$D$14*Invoer!$D$21)/Invoer!Neerslag_oppervlak","v":{"$error":"#DIV/0!"}},null,null,null,null,{"$f":"(Invoer!$E$14*Invoer!$E$21)/Invoer!Neerslag_oppervlak","v":{"$error":"#DIV/0!"}},null,null,null,null,{"$f":"(Invoer!$F$14*Invoer!$F$21)/Invoer!Neerslag_oppervlak","v":{"$error":"#DIV/0!"}},null,null,null,null,{"$f":"(Invoer!$G$14*Invoer!$G$21)/Invoer!Neerslag_oppervlak","v":{"$error":"#DIV/0!"}},null,"Berging in de voorziening [mm neerslagoppervlak]",null,null,null,null,null,null,{"$f":"(Invoer!$D$14*Invoer!$D$21)/Invoer!Neerslag_oppervlak","v":{"$error":"#DIV/0!"}},null,null,null,null,{"$f":"(Invoer!$E$14*Invoer!$E$21)/Invoer!Neerslag_oppervlak","v":{"$error":"#DIV/0!"}},null,null,null,null,{"$f":"(Invoer!$F$14*Invoer!$F$21)/Invoer!Neerslag_oppervlak","v":{"$error":"#DIV/0!"}},null,null,null,null,{"$f":"(Invoer!$G$14*Invoer!$G$21)/Invoer!Neerslag_oppervlak","v":{"$error":"#DIV/0!"}}]
[null,null,"Afvoercapaciteit riool [l/s/ha neerslagoppervlak]",null,null,null,null,null,null,{"$f":"((Invoer!$D$11*Invoer!$D$21)/Invoer!Neerslag_oppervlak)*10000/60/60","v":{"$error":"#DIV/0!"}},null,null,null,null,{"$f":"((Invoer!$E$11*Invoer!$E$21)/Invoer!Neerslag_oppervlak)*10000/60/60","v":{"$error":"#DIV/0!"}},null,null,null,null,{"$f":"((Invoer!$F$11*Invoer!$F$21)/Invoer!Neerslag_oppervlak)*10000/60/60","v":{"$error":"#DIV/0!"}},null,null,null,null,{"$f":"((Invoer!$G$11*Invoer!$G$21)/Invoer!Neerslag_oppervlak)*10000/60/60","v":{"$error":"#DIV/0!"}},null,"Afvoercapaciteit riool [l/s/ha neerslagoppervlak]",null,null,null,null,null,null,{"$f":"((Invoer!$D$11*Invoer!$D$21)/Invoer!Neerslag_oppervlak)*10000/60/60","v":{"$error":"#DIV/0!"}},null,null,null,null,{"$f":"((Invoer!$E$11*Invoer!$E$21)/Invoer!Neerslag_oppervlak)*10000/60/60","v":{"$error":"#DIV/0!"}},null,null,null,null,{"$f":"((Invoer!$F$11*Invoer!$F$21)/Invoer!Neerslag_oppervlak)*10000/60/60","v":{"$error":"#DIV/0!"}},null,null,null,null,{"$f":"((Invoer!$G$11*Invoer!$G$21)/Invoer!Neerslag_oppervlak)*10000/60/60","v":{"$error":"#DIV/0!"}}]
[null,null,"Infiltratiecapaciteit onverhard [mm/uur neerslagoppervlak]",null,null,null,null,null,null,{"$f":"(Invoer!$D$16*Invoer!$D$23)/Invoer!Neerslag_oppervlak","v":{"$error":"#DIV/0!"}},null,null,null,null,{"$f":"(Invoer!$E$16*Invoer!$E$23)/Invoer!Neerslag_oppervlak","v":{"$error":"#DIV/0!"}},null,null,null,null,{"$f":"(Invoer!$F$16*Invoer!$F$23)/Invoer!Neerslag_oppervlak","v":{"$error":"#DIV/0!"}},null,null,null,null,{"$f":"(Invoer!$G$16*Invoer!$G$23)/Invoer!Neerslag_oppervlak","v":{"$error":"#DIV/0!"}},null,"Infiltratiecapaciteit onverhard [mm/uur neerslagoppervlak]",null,null,null,null,null,null,{"$f":"(Invoer!$D$16*Invoer!$D$23)/Invoer!Neerslag_oppervlak","v":{"$error":"#DIV/0!"}},null,null,null,null,{"$f":"(Invoer!$E$16*Invoer!$E$23)/Invoer!Neerslag_oppervlak","v":{"$error":"#DIV/0!"}},null,null,null,null,{"$f":"(Invoer!$F$16*Invoer!$F$23)/Invoer!Neerslag_oppervlak","v":{"$error":"#DIV/0!"}},null,null,null,null,{"$f":"(Invoer!$G$16*Invoer!$G$23)/Invoer!Neerslag_oppervlak","v":{"$error":"#DIV/0!"}}]
[null,null,"Toename/Afname laatste kwartier",null,null,null,null,null,null,{"$f":"J419-J405","v":{"$error":"#DIV/0!"}},null,null,null,null,{"$f":"O419-O405","v":{"$error":"#DIV/0!"}},null,null,null,null,{"$f":"T419-T405","v":{"$error":"#DIV/0!"}},null,null,null,null,{"$f":"Y419-Y405","v":{"$error":"#DIV/0!"}},null,"Toename/Afname laatste kwartier",null,null,null,null,null,null,{"$f":"AH419-AH405","v":{"$error":"#DIV/0!"}},null,null,null,null,{"$f":"AM419-AM405","v":{"$error":"#DIV/0!"}},null,null,null,null,{"$f":"AR419-AR405","v":{"$error":"#DIV/0!"}},null,null,null,null,{"$f":"AW419-AW405","v":{"$error":"#DIV/0!"}}]
[null,null,"Infiltratiecapaciteit en afvoer vanuit berging voorziening [mm/uur neerslagoppervlak]",null,null,null,null,null,null,{"$f":"(Invoer!$D$12*Invoer!$D$21)/Invoer!Neerslag_oppervlak","v":{"$error":"#DIV/0!"}},null,null,null,null,{"$f":"(Invoer!$E$12*Invoer!$E$21)/Invoer!Neerslag_oppervlak","v":{"$error":"#DIV/0!"}},null,null,null,null,{"$f":"(Invoer!$F$12*Invoer!$F$21)/Invoer!Neerslag_oppervlak","v":{"$error":"#DIV/0!"}},null,null,null,null,{"$f":"(Invoer!$G$12*Invoer!$G$21)/Invoer!Neerslag_oppervlak","v":{"$error":"#DIV/0!"}},null,"Infiltratiecapaciteit en afvoer vanuit berging voorziening [mm/uur neerslagoppervlak]",null,null,null,null,null,null,{"$f":"(Invoer!$D$12*Invoer!$D$21)/Invoer!Neerslag_oppervlak","v":{"$error":"#DIV/0!"}},null,null,null,null,{"$f":"(Invoer!$E$12*Invoer!$E$21)/Invoer!Neerslag_oppervlak","v":{"$error":"#DIV/0!"}},null,null,null,null,{"$f":"(Invoer!$F$12*Invoer!$F$21)/Invoer!Neerslag_oppervlak","v":{"$error":"#DIV/0!"}},null,null,null,null,{"$f":"(Invoer!$G$12*Invoer!$G$21)/Invoer!Neerslag_oppervlak","v":{"$error":"#DIV/0!"}}]
[]
[null,null,"Herhalingkans T=100",null,null,null,null,null,null,null,null,null,null,null,null,null,null,null,null,null,null,null,null,null,null,null,"Herhalingkans T=200"]
[null,null,"Duur [min]","Aanvoer bui T=100 [l/s/ha]","Neerslag bui T=100 [mm]","Afvoercapaciteit riolering V0 [mm]","Afvoercapaciteit V0 voorzieningen [mm]","Bergingscapaciteit V0 voorzieningen [mm]","Infiltratiecapaciteit onverhard [mm]","Aanvoer-Afvoer","Afvoercapaciteit riolering V1 [mm]","Afvoercapaciteit V1 voorzieningen [mm]","Bergingscapaciteit V1 voorzieningen [mm]","Infiltratiecapaciteit onverhard [mm]","Aanvoer-Afvoer","Afvoercapaciteit riolering V2 [mm]","Afvoercapaciteit V2 voorzieningen [mm]","Bergingscapaciteit V2 voorzieningen [mm]","Infiltratiecapaciteit onverhard [mm]","Aanvoer-Afvoer","Afvoercapaciteit riolering V3 [mm]","Afvoercapaciteit V3 voorzieningen [mm]","Bergingscapaciteit V3 voorzieningen [mm]","Infiltratiecapaciteit onverhard [mm]","Aanvoer-Afvoer",null,"Duur [min]","Aanvoer bui T=200 [l/s/ha]","Neerslag bui T=200 [mm]","Afvoercapaciteit riolering V0 [mm]","Afvoercapaciteit V0 voorzieningen [mm]","Bergingscapaciteit V0 voorzieningen [mm]","Infiltratiecapaciteit onverhard [mm]","Aanvoer-Afvoer","Afvoercapaciteit riolering V1 [mm]","Afvoercapaciteit V1 voorzieningen [mm]","Bergingscapaciteit V1 voorzieningen [mm]","Infiltratiecapaciteit onverhard [mm]","Aanvoer-Afvoer","Afvoercapaciteit riolering V2 [mm]","Afvoercapaciteit V2 voorzieningen [mm]","Bergingscapaciteit V2 voorzieningen [mm]","Infiltratiecapaciteit onverhard [mm]","Aanvoer-Afvoer","Afvoercapaciteit riolering V3 [mm]","Afvoercapaciteit V3 voorzieningen [mm]","Bergingscapaciteit V3 voorzieningen [mm]","Infiltratiecapaciteit onverhard [mm]","Aanvoer-Afvoer"]
[null,null,0,0,0,0,0,{"$f":"J$508/60*$C430","v":{"$error":"#DIV/0!"}},{"$f":"($J$510/60)*$C430","v":{"$error":"#DIV/0!"}},null,0,{"$f":"($O$512/60)*($C430)","v":{"$error":"#DIV/0!"}},{"$f":"O$508","v":{"$error":"#DIV/0!"}},{"$f":"($O$510/60)*$C430","v":{"$error":"#DIV/0!"}},null,0,0,{"$f":"T$508/60*$C430","v":{"$error":"#DIV/0!"}},{"$f":"($T$510/60)*$C430","v":{"$error":"#DIV/0!"}},null,0,0,{"$f":"Y$508","v":{"$error":"#DIV/0!"}},{"$f":"($Y$510/60)*$C430","v":{"$error":"#DIV/0!"}},null,null,0,0,0,0,0,{"$f":"AH$508/60*$AA430","v":{"$error":"#DIV/0!"}},{"$f":"($AH$510/60)*$AA430","v":{"$error":"#DIV/0!"}},null,0,{"$f":"($AM$512/60)*($AA430)","v":{"$error":"#DIV/0!"}},{"$f":"AM$508/60*$AA430","v":{"$error":"#DIV/0!"}},{"$f":"($AM$510/60)*$AA430","v":{"$error":"#DIV/0!"}},null,0,0,{"$f":"AR$508/60*$AA430","v":{"$error":"#DIV/0!"}},{"$f":"($AR$510/60)*$AA430","v":{"$error":"#DIV/0!"}},null,0,{"$f":"($AW$512/60)*($AA430)","v":{"$error":"#DIV/0!"}},{"$f":"AW$508/60*$AA430","v":{"$error":"#DIV/0!"}},{"$f":"($AW$510/60)*$AA430","v":{"$error":"#DIV/0!"}}]
[null,null,1,{"$f":"((((((E431-E430)/(C431-C430)/60)/1000)*10000)*1000))","v":579.86971864964937},{"$f":"Klimaatscenario!G8","v":3.4792183118978963},{"$f":"((J$509*60)/10000)+F430","v":{"$error":"#DIV/0!"}},{"$f":"($J$512/60)*($C431)","v":{"$error":"#DIV/0!"}},{"$f":"J$508","v":{"$error":"#DIV/0!"}},{"$error":"#DIV/0!"},{"$f":"$E431-F431-G431-H431-I431","v":{"$error":"#DIV/0!"}},{"$f":"((O$509*60)/10000)+K430","v":{"$error":"#DIV/0!"}},{"$error":"#DIV/0!"},{"$f":"O$508","v":{"$error":"#DIV/0!"}},{"$error":"#DIV/0!"},{"$f":"$E431-K431-L431-M431-N431","v":{"$error":"#DIV/0!"}},{"$f":"((T$509*60)/10000)+P430","v":{"$error":"#DIV/0!"}},{"$f":"($T$512/60)*($C431)","v":{"$error":"#DIV/0!"}},{"$f":"T$508","v":{"$error":"#DIV/0!"}},{"$error":"#DIV/0!"},{"$f":"$E431-P431-Q431-R431-S431","v":{"$error":"#DIV/0!"}},{"$f":"((Y$509*60)/10000)+U430","v":{"$error":"#DIV/0!"}},{"$f":"($Y$512/60)*($C431)","v":{"$error":"#DIV/0!"}},{"$f":"Y$508","v":{"$error":"#DIV/0!"}},{"$error":"#DIV/0!"},{"$f":"$E431-U431-V431-W431-X431","v":{"$error":"#DIV/0!"}},null,1,{"$f":"((((((AC431-AC430)/(AA431-AA430)/60)/1000)*10000)*1000))","v":674.40026011022849},{"$f":"Klimaatscenario!H8","v":4.046401560661371},{"$f":"((AH$509*60)/10000)+AD430","v":{"$error":"#DIV/0!"}},{"$f":"($AH$512/60)*($AA431)","v":{"$error":"#DIV/0!"}},{"$f":"AH$508","v":{"$error":"#DIV/0!"}},{"$error":"#DIV/0!"},{"$f":"$AC431-AD431-AE431-AF431-AG431","v":{"$error":"#DIV/0!"}},{"$f":"((AM$509*60)/10000)+AI430","v":{"$error":"#DIV/0!"}},{"$error":"#DIV/0!"},{"$f":"AM$508","v":{"$error":"#DIV/0!"}},{"$error":"#DIV/0!"},{"$f":"$AC431-AI431-AJ431-AK431-AL431","v":{"$error":"#DIV/0!"}},{"$f":"((AR$509*60)/10000)+AN430","v":{"$error":"#DIV/0!"}},{"$f":"($AR$512/60)*($AA431)","v":{"$error":"#DIV/0!"}},{"$f":"AR$508","v":{"$error":"#DIV/0!"}},{"$error":"#DIV/0!"},{"$f":"$AC431-AN431-AO431-AP431-AQ431","v":{"$error":"#DIV/0!"}},{"$f":"((AW$509*60)/10000)+AS430","v":{"$error":"#DIV/0!"}},{"$error":"#DIV/0!"},{"$f":"AW$508","v":{"$error":"#DIV/0!"}},{"$error":"#DIV/0!"},{"$f":"$AC431-AS431-AT431-AU431-AV431","v":{"$error":"#DIV/0!"}}]
[null,null,2,{"$f":"((((((E432-E431)/(C432-C431)/60)/1000)*10000)*1000))","v":579.86971864964937},{"$f":"Klimaatscenario!G9","v":6.9584366237957926},{"$error":"#DIV/0!"},{"$error":"#DIV/0!"},{"$f":"J$508","v":{"$error":"#DIV/0!"}},{"$error":"#DIV/0!"},{"$error":"#DIV/0!"},{"$error":"#DIV/0!"},{"$error":"#DIV/0!"},{"$error":"#DIV/0!"},{"$error":"#DIV/0!"},{"$error":"#DIV/0!"},{"$error":"#DIV/0!"},{"$error":"#DIV/0!"},{"$f":"T$508","v":{"$error":"#DIV/0!"}},{"$error":"#DIV/0!"},{"$error":"#DIV/0!"},{"$error":"#DIV/0!"},{"$error":"#DIV/0!"},{"$error":"#DIV/0!"},{"$error":"#DIV/0!"},{"$error":"#DIV/0!"},null,2,{"$f":"((((((AC432-AC431)/(AA432-AA431)/60)/1000)*10000)*1000))","v":674.40026011022849},{"$f":"Klimaatscenario!H9","v":8.092803121322742},{"$error":"#DIV/0!"},{"$error":"#DIV/0!"},{"$f":"AH$508","v":{"$error":"#DIV/0!"}},{"$error":"#DIV/0!"},{"$error":"#DIV/0!"},{"$error":"#DIV/0!"},{"$error":"#DIV/0!"},{"$f":"AM$508","v":{"$error":"#DIV/0!"}},{"$error":"#DIV/0!"},{"$error":"#DIV/0!"},{"$error":"#DIV/0!"},{"$error":"#DIV/0!"},{"$f":"AR$508","v":{"$error":"#DIV/0!"}},{"$error":"#DIV/0!"},{"$error":"#DIV/0!"},{"$error":"#DIV/0!"},{"$error":"#DIV/0!"},{"$f":"AW$508","v":{"$error":"#DIV/0!"}},{"$error":"#DIV/0!"},{"$error":"#DIV/0!"}]
[null,null,3,{"$f":"((((((E433-E432)/(C433-C432)/60)/1000)*10000)*1000))","v":579.86971864964949},{"$f":"Klimaatscenario!G10","v":10.43765493569369},{"$error":"#DIV/0!"},{"$error":"#DIV/0!"},{"$error":"#DIV/0!"},{"$error":"#DIV/0!"},{"$error":"#DIV/0!"},{"$error":"#DIV/0!"},{"$error":"#DIV/0!"},{"$error":"#DIV/0!"},{"$error":"#DIV/0!"},{"$error":"#DIV/0!"},{"$error":"#DIV/0!"},{"$error":"#DIV/0!"},{"$error":"#DIV/0!"},{"$error":"#DIV/0!"},{"$error":"#DIV/0!"},{"$error":"#DIV/0!"},{"$error":"#DIV/0!"},{"$error":"#DIV/0!"},{"$error":"#DIV/0!"},{"$error":"#DIV/0!"},null,3,{"$f":"((((((AC433-AC432)/(AA433-AA432)/60)/1000)*10000)*1000))","v":674.40026011022849},{"$f":"Klimaatscenario!H10","v":12.139204681984113},{"$error":"#DIV/0!"},{"$error":"#DIV/0!"},{"$error":"#DIV/0!"},{"$error":"#DIV/0!"},{"$error":"#DIV/0!"},{"$error":"#DIV/0!"},{"$error":"#DIV/0!"},{"$error":"#DIV/0!"},{"$error":"#DIV/0!"},{"$error":"#DIV/0!"},{"$error":"#DIV/0!"},{"$error":"#DIV/0!"},{"$error":"#DIV/0!"},{"$error":"#DIV/0!"},{"$error":"#DIV/0!"},{"$error":"#DIV/0!"},{"$error":"#DIV/0!"},{"$error":"#DIV/0!"},{"$error":"#DIV/0!"},{"$error":"#DIV/0!"}]
[null,null,4,{"$f":"((((((E434-E433)/(C434-C433)/60)/1000)*10000)*1000))","v":579.86971864964926},{"$f":"Klimaatscenario!G11","v":13.916873247591585},{"$error":"#DIV/0!"},{"$error":"#DIV/0!"},{"$error":"#DIV/0!"},{"$error":"#DIV/0!"},{"$error":"#DIV/0!"},{"$error":"#DIV/0!"},{"$error":"#DIV/0!"},{"$error":"#DIV/0!"},{"$error":"#DIV/0!"},{"$error":"#DIV/0!"},{"$error":"#DIV/0!"},{"$error":"#DIV/0!"},{"$error":"#DIV/0!"},{"$error":"#DIV/0!"},{"$error":"#DIV/0!"},{"$error":"#DIV/0!"},{"$error":"#DIV/0!"},{"$error":"#DIV/0!"},{"$error":"#DIV/0!"},{"$error":"#DIV/0!"},null,4,{"$f":"((((((AC434-AC433)/(AA434-AA433)/60)/1000)*10000)*1000))","v":674.40026011022849},{"$f":"Klimaatscenario!H11","v":16.185606242645484},{"$error":"#DIV/0!"},{"$error":"#DIV/0!"},{"$error":"#DIV/0!"},{"$error":"#DIV/0!"},{"$error":"#DIV/0!"},{"$error":"#DIV/0!"},{"$error":"#DIV/0!"},{"$error":"#DIV/0!"},{"$error":"#DIV/0!"},{"$error":"#DIV/0!"},{"$error":"#DIV/0!"},{"$error":"#DIV/0!"},{"$error":"#DIV/0!"},{"$error":"#DIV/0!"},{"$error":"#DIV/0!"},{"$error":"#DIV/0!"},{"$error":"#DIV/0!"},{"$error":"#DIV/0!"},{"$error":"#DIV/0!"},{"$error":"#DIV/0!"}]
[null,null,5,{"$f":"((((((E435-E434)/(C435-C434))/60)/1000)*10000)*1000)","v":579.86971864964926},{"$f":"Klimaatscenario!G12","v":17.396091559489481},{"$error":"#DIV/0!"},{"$error":"#DIV/0!"},{"$error":"#DIV/0!"},{"$error":"#DIV/0!"},{"$error":"#DIV/0!"},{"$error":"#DIV/0!"},{"$error":"#DIV/0!"},{"$error":"#DIV/0!"},{"$error":"#DIV/0!"},{"$error":"#DIV/0!"},{"$error":"#DIV/0!"},{"$error":"#DIV/0!"},{"$error":"#DIV/0!"},{"$error":"#DIV/0!"},{"$error":"#DIV/0!"},{"$error":"#DIV/0!"},{"$error":"#DIV/0!"},{"$error":"#DIV/0!"},{"$error":"#DIV/0!"},{"$error":"#DIV/0!"},null,5,{"$f":"((((((AC435-AC434)/(AA435-AA434))/60)/1000)*10000)*1000)","v":674.40026011022883},{"$f":"Klimaatscenario!H12","v":20.232007803306857},{"$error":"#DIV/0!"},{"$error":"#DIV/0!"},{"$error":"#DIV/0!"},{"$error":"#DIV/0!"},{"$error":"#DIV/0!"},{"$error":"#DIV/0!"},{"$error":"#DIV/0!"},{"$error":"#DIV/0!"},{"$error":"#DIV/0!"},{"$error":"#DIV/0!"},{"$error":"#DIV/0!"},{"$error":"#DIV/0!"},{"$error":"#DIV/0!"},{"$error":"#DIV/0!"},{"$error":"#DIV/0!"},{"$error":"#DIV/0!"},{"$error":"#DIV/0!"},{"$error":"#DIV/0!"},{"$error":"#DIV/0!"},{"$error":"#DIV/0!"}]
[null,null,6,579.86971864964971,{"$f":"Klimaatscenario!G13","v":20.87530987138738},{"$error":"#DIV/0!"},{"$error":"#DIV/0!"},{"$error":"#DIV/0!"},{"$error":"#DIV/0!"},{"$error":"#DIV/0!"},{"$error":"#DIV/0!"},{"$error":"#DIV/0!"},{"$error":"#DIV/0!"},{"$error":"#DIV/0!"},{"$error":"#DIV/0!"},{"$error":"#DIV/0!"},{"$error":"#DIV/0!"},{"$error":"#DIV/0!"},{"$error":"#DIV/0!"},{"$error":"#DIV/0!"},{"$error":"#DIV/0!"},{"$error":"#DIV/0!"},{"$error":"#DIV/0!"},{"$error":"#DIV/0!"},{"$error":"#DIV/0!"},null,6,674.40026011022826,{"$f":"Klimaatscenario!H13","v":24.278409363968226},{"$error":"#DIV/0!"},{"$error":"#DIV/0!"},{"$error":"#DIV/0!"},{"$error":"#DIV/0!"},{"$error":"#DIV/0!"},{"$error":"#DIV/0!"},{"$error":"#DIV/0!"},{"$error":"#DIV/0!"},{"$error":"#DIV/0!"},{"$error":"#DIV/0!"},{"$error":"#DIV/0!"},{"$error":"#DIV/0!"},{"$error":"#DIV/0!"},{"$error":"#DIV/0!"},{"$error":"#DIV/0!"},{"$error":"#DIV/0!"},{"$error":"#DIV/0!"},{"$error":"#DIV/0!"},{"$error":"#DIV/0!"},{"$error":"#DIV/0!"}]
[null,null,7,579.86971864964926,{"$f":"Klimaatscenario!G14","v":24.354528183285275},{"$error":"#DIV/0!"},{"$error":"#DIV/0!"},{"$error":"#DIV/0!"},{"$error":"#DIV/0!"},{"$error":"#DIV/0!"},{"$error":"#DIV/0!"},{"$error":"#DIV/0!"},{"$error":"#DIV/0!"},{"$error":"#DIV/0!"},{"$error":"#DIV/0!"},{"$error":"#DIV/0!"},{"$error":"#DIV/0!"},{"$error":"#DIV/0!"},{"$error":"#DIV/0!"},{"$error":"#DIV/0!"},{"$error":"#DIV/0!"},{"$error":"#DIV/0!"},{"$error":"#DIV/0!"},{"$error":"#DIV/0!"},{"$error":"#DIV/0!"},null,7,674.40026011022826,{"$f":"Klimaatscenario!H14","v":28.324810924629595},{"$error":"#DIV/0!"},{"$error":"#DIV/0!"},{"$error":"#DIV/0!"},{"$error":"#DIV/0!"},{"$error":"#DIV/0!"},{"$error":"#DIV/0!"},{"$error":"#DIV/0!"},{"$error":"#DIV/0!"},{"$error":"#DIV/0!"},{"$error":"#DIV/0!"},{"$error":"#DIV/0!"},{"$error":"#DIV/0!"},{"$error":"#DIV/0!"},{"$error":"#DIV/0!"},{"$error":"#DIV/0!"},{"$error":"#DIV/0!"},{"$error":"#DIV/0!"},{"$error":"#DIV/0!"},{"$error":"#DIV/0!"},{"$error":"#DIV/0!"}]
[null,null,8,579.86971864964926,{"$f":"Klimaatscenario!G15","v":27.833746495183171},{"$error":"#DIV/0!"},{"$error":"#DIV/0!"},{"$error":"#DIV/0!"},{"$error":"#DIV/0!"},{"$error":"#DIV/0!"},{"$error":"#DIV/0!"},{"$error":"#DIV/0!"},{"$error":"#DIV/0!"},{"$error":"#DIV/0!"},{"$error":"#DIV/0!"},{"$error":"#DIV/0!"},{"$error":"#DIV/0!"},{"$error":"#DIV/0!"},{"$error":"#DIV/0!"},{"$error":"#DIV/0!"},{"$error":"#DIV/0!"},{"$error":"#DIV/0!"},{"$error":"#DIV/0!"},{"$error":"#DIV/0!"},{"$error":"#DIV/0!"},null,8,674.40026011022883,{"$f":"Klimaatscenario!H15","v":32.371212485290968},{"$error":"#DIV/0!"},{"$error":"#DIV/0!"},{"$error":"#DIV/0!"},{"$error":"#DIV/0!"},{"$error":"#DIV/0!"},{"$error":"#DIV/0!"},{"$error":"#DIV/0!"},{"$error":"#DIV/0!"},{"$error":"#DIV/0!"},{"$error":"#DIV/0!"},{"$error":"#DIV/0!"},{"$error":"#DIV/0!"},{"$error":"#DIV/0!"},{"$error":"#DIV/0!"},{"$error":"#DIV/0!"},{"$error":"#DIV/0!"},{"$error":"#DIV/0!"},{"$error":"#DIV/0!"},{"$error":"#DIV/0!"},{"$error":"#DIV/0!"}]
[null,null,9,579.86971864964926,{"$f":"Klimaatscenario!G16","v":31.312964807081066},{"$error":"#DIV/0!"},{"$error":"#DIV/0!"},{"$error":"#DIV/0!"},{"$error":"#DIV/0!"},{"$error":"#DIV/0!"},{"$error":"#DIV/0!"},{"$error":"#DIV/0!"},{"$error":"#DIV/0!"},{"$error":"#DIV/0!"},{"$error":"#DIV/0!"},{"$error":"#DIV/0!"},{"$error":"#DIV/0!"},{"$error":"#DIV/0!"},{"$error":"#DIV/0!"},{"$error":"#DIV/0!"},{"$error":"#DIV/0!"},{"$error":"#DIV/0!"},{"$error":"#DIV/0!"},{"$error":"#DIV/0!"},{"$error":"#DIV/0!"},null,9,674.40026011022883,{"$f":"Klimaatscenario!H16","v":36.417614045952341},{"$error":"#DIV/0!"},{"$error":"#DIV/0!"},{"$error":"#DIV/0!"},{"$error":"#DIV/0!"},{"$error":"#DIV/0!"},{"$error":"#DIV/0!"},{"$error":"#DIV/0!"},{"$error":"#DIV/0!"},{"$error":"#DIV/0!"},{"$error":"#DIV/0!"},{"$error":"#DIV/0!"},{"$error":"#DIV/0!"},{"$error":"#DIV/0!"},{"$error":"#DIV/0!"},{"$error":"#DIV/0!"},{"$error":"#DIV/0!"},{"$error":"#DIV/0!"},{"$error":"#DIV/0!"},{"$error":"#DIV/0!"},{"$error":"#DIV/0!"}]
[null,null,10,579.86971864964926,{"$f":"Klimaatscenario!G17","v":34.792183118978961},{"$error":"#DIV/0!"},{"$error":"#DIV/0!"},{"$error":"#DIV/0!"},{"$error":"#DIV/0!"},{"$error":"#DIV/0!"},{"$error":"#DIV/0!"},{"$error":"#DIV/0!"},{"$error":"#DIV/0!"},{"$error":"#DIV/0!"},{"$error":"#DIV/0!"},{"$error":"#DIV/0!"},{"$error":"#DIV/0!"},{"$error":"#DIV/0!"},{"$error":"#DIV/0!"},{"$error":"#DIV/0!"},{"$error":"#DIV/0!"},{"$error":"#DIV/0!"},{"$error":"#DIV/0!"},{"$error":"#DIV/0!"},{"$error":"#DIV/0!"},null,10,674.40026011022769,{"$f":"Klimaatscenario!H17","v":40.464015606613707},{"$error":"#DIV/0!"},{"$error":"#DIV/0!"},{"$error":"#DIV/0!"},{"$error":"#DIV/0!"},{"$error":"#DIV/0!"},{"$error":"#DIV/0!"},{"$error":"#DIV/0!"},{"$error":"#DIV/0!"},{"$error":"#DIV/0!"},{"$error":"#DIV/0!"},{"$error":"#DIV/0!"},{"$error":"#DIV/0!"},{"$error":"#DIV/0!"},{"$error":"#DIV/0!"},{"$error":"#DIV/0!"},{"$error":"#DIV/0!"},{"$error":"#DIV/0!"},{"$error":"#DIV/0!"},{"$error":"#DIV/0!"},{"$error":"#DIV/0!"}]
[null,null,11,173.02227475813106,{"$f":"Klimaatscenario!G18","v":35.830316767527748},{"$error":"#DIV/0!"},{"$error":"#DIV/0!"},{"$error":"#DIV/0!"},{"$error":"#DIV/0!"},{"$error":"#DIV/0!"},{"$error":"#DIV/0!"},{"$error":"#DIV/0!"},{"$error":"#DIV/0!"},{"$error":"#DIV/0!"},{"$error":"#DIV/0!"},{"$error":"#DIV/0!"},{"$error":"#DIV/0!"},{"$error":"#DIV/0!"},{"$error":"#DIV/0!"},{"$error":"#DIV/0!"},{"$error":"#DIV/0!"},{"$error":"#DIV/0!"},{"$error":"#DIV/0!"},{"$error":"#DIV/0!"},{"$error":"#DIV/0!"},null,11,218.91190092355592,{"$f":"Klimaatscenario!H18","v":41.777487012155042},{"$error":"#DIV/0!"},{"$error":"#DIV/0!"},{"$error":"#DIV/0!"},{"$error":"#DIV/0!"},{"$error":"#DIV/0!"},{"$error":"#DIV/0!"},{"$error":"#DIV/0!"},{"$error":"#DIV/0!"},{"$error":"#DIV/0!"},{"$error":"#DIV/0!"},{"$error":"#DIV/0!"},{"$error":"#DIV/0!"},{"$error":"#DIV/0!"},{"$error":"#DIV/0!"},{"$error":"#DIV/0!"},{"$error":"#DIV/0!"},{"$error":"#DIV/0!"},{"$error":"#DIV/0!"},{"$error":"#DIV/0!"},{"$error":"#DIV/0!"}]
[null,null,12,173.02227475813106,{"$f":"Klimaatscenario!G19","v":36.868450416076534},{"$error":"#DIV/0!"},{"$error":"#DIV/0!"},{"$error":"#DIV/0!"},{"$error":"#DIV/0!"},{"$error":"#DIV/0!"},{"$error":"#DIV/0!"},{"$error":"#DIV/0!"},{"$error":"#DIV/0!"},{"$error":"#DIV/0!"},{"$error":"#DIV/0!"},{"$error":"#DIV/0!"},{"$error":"#DIV/0!"},{"$error":"#DIV/0!"},{"$error":"#DIV/0!"},{"$error":"#DIV/0!"},{"$error":"#DIV/0!"},{"$error":"#DIV/0!"},{"$error":"#DIV/0!"},{"$error":"#DIV/0!"},{"$error":"#DIV/0!"},null,12,218.91190092355706,{"$f":"Klimaatscenario!H19","v":43.090958417696385},{"$error":"#DIV/0!"},{"$error":"#DIV/0!"},{"$error":"#DIV/0!"},{"$error":"#DIV/0!"},{"$error":"#DIV/0!"},{"$error":"#DIV/0!"},{"$error":"#DIV/0!"},{"$error":"#DIV/0!"},{"$error":"#DIV/0!"},{"$error":"#DIV/0!"},{"$error":"#DIV/0!"},{"$error":"#DIV/0!"},{"$error":"#DIV/0!"},{"$error":"#DIV/0!"},{"$error":"#DIV/0!"},{"$error":"#DIV/0!"},{"$error":"#DIV/0!"},{"$error":"#DIV/0!"},{"$error":"#DIV/0!"},{"$error":"#DIV/0!"}]
[null,null,13,173.02227475812987,{"$f":"Klimaatscenario!G20","v":37.906584064625314},{"$error":"#DIV/0!"},{"$error":"#DIV/0!"},{"$error":"#DIV/0!"},{"$error":"#DIV/0!"},{"$error":"#DIV/0!"},{"$error":"#DIV/0!"},{"$error":"#DIV/0!"},{"$error":"#DIV/0!"},{"$error":"#DIV/0!"},{"$error":"#DIV/0!"},{"$error":"#DIV/0!"},{"$error":"#DIV/0!"},{"$error":"#DIV/0!"},{"$error":"#DIV/0!"},{"$error":"#DIV/0!"},{"$error":"#DIV/0!"},{"$error":"#DIV/0!"},{"$error":"#DIV/0!"},{"$error":"#DIV/0!"},{"$error":"#DIV/0!"},null,13,218.91190092355592,{"$f":"Klimaatscenario!H20","v":44.40442982323772},{"$error":"#DIV/0!"},{"$error":"#DIV/0!"},{"$error":"#DIV/0!"},{"$error":"#DIV/0!"},{"$error":"#DIV/0!"},{"$error":"#DIV/0!"},{"$error":"#DIV/0!"},{"$error":"#DIV/0!"},{"$error":"#DIV/0!"},{"$error":"#DIV/0!"},{"$error":"#DIV/0!"},{"$error":"#DIV/0!"},{"$error":"#DIV/0!"},{"$error":"#DIV/0!"},{"$error":"#DIV/0!"},{"$error":"#DIV/0!"},{"$error":"#DIV/0!"},{"$error":"#DIV/0!"},{"$error":"#DIV/0!"},{"$error":"#DIV/0!"}]
[null,null,14,173.02227475813106,{"$f":"Klimaatscenario!G21","v":38.9447177131741},{"$error":"#DIV/0!"},{"$error":"#DIV/0!"},{"$error":"#DIV/0!"},{"$error":"#DIV/0!"},{"$error":"#DIV/0!"},{"$error":"#DIV/0!"},{"$error":"#DIV/0!"},{"$error":"#DIV/0!"},{"$error":"#DIV/0!"},{"$error":"#DIV/0!"},{"$error":"#DIV/0!"},{"$error":"#DIV/0!"},{"$error":"#DIV/0!"},{"$error":"#DIV/0!"},{"$error":"#DIV/0!"},{"$error":"#DIV/0!"},{"$error":"#DIV/0!"},{"$error":"#DIV/0!"},{"$error":"#DIV/0!"},{"$error":"#DIV/0!"},null,14,218.91190092355592,{"$f":"Klimaatscenario!H21","v":45.717901228779056},{"$error":"#DIV/0!"},{"$error":"#DIV/0!"},{"$error":"#DIV/0!"},{"$error":"#DIV/0!"},{"$error":"#DIV/0!"},{"$error":"#DIV/0!"},{"$error":"#DIV/0!"},{"$error":"#DIV/0!"},{"$error":"#DIV/0!"},{"$error":"#DIV/0!"},{"$error":"#DIV/0!"},{"$error":"#DIV/0!"},{"$error":"#DIV/0!"},{"$error":"#DIV/0!"},{"$error":"#DIV/0!"},{"$error":"#DIV/0!"},{"$error":"#DIV/0!"},{"$error":"#DIV/0!"},{"$error":"#DIV/0!"},{"$error":"#DIV/0!"}]
[null,null,15,173.02227475813106,{"$f":"Klimaatscenario!G22","v":39.982851361722886},{"$error":"#DIV/0!"},{"$error":"#DIV/0!"},{"$error":"#DIV/0!"},{"$error":"#DIV/0!"},{"$error":"#DIV/0!"},{"$error":"#DIV/0!"},{"$error":"#DIV/0!"},{"$error":"#DIV/0!"},{"$error":"#DIV/0!"},{"$error":"#DIV/0!"},{"$error":"#DIV/0!"},{"$error":"#DIV/0!"},{"$error":"#DIV/0!"},{"$error":"#DIV/0!"},{"$error":"#DIV/0!"},{"$error":"#DIV/0!"},{"$error":"#DIV/0!"},{"$error":"#DIV/0!"},{"$error":"#DIV/0!"},{"$error":"#DIV/0!"},null,15,218.91190092355706,{"$f":"Klimaatscenario!H22","v":47.031372634320398},{"$error":"#DIV/0!"},{"$error":"#DIV/0!"},{"$error":"#DIV/0!"},{"$error":"#DIV/0!"},{"$error":"#DIV/0!"},{"$error":"#DIV/0!"},{"$error":"#DIV/0!"},{"$error":"#DIV/0!"},{"$error":"#DIV/0!"},{"$error":"#DIV/0!"},{"$error":"#DIV/0!"},{"$error":"#DIV/0!"},{"$error":"#DIV/0!"},{"$error":"#DIV/0!"},{"$error":"#DIV/0!"},{"$error":"#DIV/0!"},{"$error":"#DIV/0!"},{"$error":"#DIV/0!"},{"$error":"#DIV/0!"},{"$error":"#DIV/0!"}]
[null,null,16,173.02227475813106,{"$f":"Klimaatscenario!G23","v":41.020985010271673},{"$error":"#DIV/0!"},{"$error":"#DIV/0!"},{"$error":"#DIV/0!"},{"$error":"#DIV/0!"},{"$error":"#DIV/0!"},{"$error":"#DIV/0!"},{"$error":"#DIV/0!"},{"$error":"#DIV/0!"},{"$error":"#DIV/0!"},{"$error":"#DIV/0!"},{"$error":"#DIV/0!"},{"$error":"#DIV/0!"},{"$error":"#DIV/0!"},{"$error":"#DIV/0!"},{"$error":"#DIV/0!"},{"$error":"#DIV/0!"},{"$error":"#DIV/0!"},{"$error":"#DIV/0!"},{"$error":"#DIV/0!"},{"$error":"#DIV/0!"},null,16,218.91190092355592,{"$f":"Klimaatscenario!H23","v":48.344844039861734},{"$error":"#DIV/0!"},{"$error":"#DIV/0!"},{"$error":"#DIV/0!"},{"$error":"#DIV/0!"},{"$error":"#DIV/0!"},{"$error":"#DIV/0!"},{"$error":"#DIV/0!"},{"$error":"#DIV/0!"},{"$error":"#DIV/0!"},{"$error":"#DIV/0!"},{"$error":"#DIV/0!"},{"$error":"#DIV/0!"},{"$error":"#DIV/0!"},{"$error":"#DIV/0!"},{"$error":"#DIV/0!"},{"$error":"#DIV/0!"},{"$error":"#DIV/0!"},{"$error":"#DIV/0!"},{"$error":"#DIV/0!"},{"$error":"#DIV/0!"}]
[null,null,17,173.02227475813106,{"$f":"Klimaatscenario!G24","v":42.059118658820459},{"$error":"#DIV/0!"},{"$error":"#DIV/0!"},{"$error":"#DIV/0!"},{"$error":"#DIV/0!"},{"$error":"#DIV/0!"},{"$error":"#DIV/0!"},{"$error":"#DIV/0!"},{"$error":"#DIV/0!"},{"$error":"#DIV/0!"},{"$error":"#DIV/0!"},{"$error":"#DIV/0!"},{"$error":"#DIV/0!"},{"$error":"#DIV/0!"},{"$error":"#DIV/0!"},{"$error":"#DIV/0!"},{"$error":"#DIV/0!"},{"$error":"#DIV/0!"},{"$error":"#DIV/0!"},{"$error":"#DIV/0!"},{"$error":"#DIV/0!"},null,17,218.91190092355706,{"$f":"Klimaatscenario!H24","v":49.658315445403076},{"$error":"#DIV/0!"},{"$error":"#DIV/0!"},{"$error":"#DIV/0!"},{"$error":"#DIV/0!"},{"$error":"#DIV/0!"},{"$error":"#DIV/0!"},{"$error":"#DIV/0!"},{"$error":"#DIV/0!"},{"$error":"#DIV/0!"},{"$error":"#DIV/0!"},{"$error":"#DIV/0!"},{"$error":"#DIV/0!"},{"$error":"#DIV/0!"},{"$error":"#DIV/0!"},{"$error":"#DIV/0!"},{"$error":"#DIV/0!"},{"$error":"#DIV/0!"},{"$error":"#DIV/0!"},{"$error":"#DIV/0!"},{"$error":"#DIV/0!"}]
[null,null,18,173.02227475813106,{"$f":"Klimaatscenario!G25","v":43.097252307369246},{"$error":"#DIV/0!"},{"$error":"#DIV/0!"},{"$error":"#DIV/0!"},{"$error":"#DIV/0!"},{"$error":"#DIV/0!"},{"$error":"#DIV/0!"},{"$error":"#DIV/0!"},{"$error":"#DIV/0!"},{"$error":"#DIV/0!"},{"$error":"#DIV/0!"},{"$error":"#DIV/0!"},{"$error":"#DIV/0!"},{"$error":"#DIV/0!"},{"$error":"#DIV/0!"},{"$error":"#DIV/0!"},{"$error":"#DIV/0!"},{"$error":"#DIV/0!"},{"$error":"#DIV/0!"},{"$error":"#DIV/0!"},{"$error":"#DIV/0!"},null,18,218.91190092355592,{"$f":"Klimaatscenario!H25","v":50.971786850944412},{"$error":"#DIV/0!"},{"$error":"#DIV/0!"},{"$error":"#DIV/0!"},{"$error":"#DIV/0!"},{"$error":"#DIV/0!"},{"$error":"#DIV/0!"},{"$error":"#DIV/0!"},{"$error":"#DIV/0!"},{"$error":"#DIV/0!"},{"$error":"#DIV/0!"},{"$error":"#DIV/0!"},{"$error":"#DIV/0!"},{"$error":"#DIV/0!"},{"$error":"#DIV/0!"},{"$error":"#DIV/0!"},{"$error":"#DIV/0!"},{"$error":"#DIV/0!"},{"$error":"#DIV/0!"},{"$error":"#DIV/0!"},{"$error":"#DIV/0!"}]
[null,null,19,173.02227475812987,{"$f":"Klimaatscenario!G26","v":44.135385955918025},{"$error":"#DIV/0!"},{"$error":"#DIV/0!"},{"$error":"#DIV/0!"},{"$error":"#DIV/0!"},{"$error":"#DIV/0!"},{"$error":"#DIV/0!"},{"$error":"#DIV/0!"},{"$error":"#DIV/0!"},{"$error":"#DIV/0!"},{"$error":"#DIV/0!"},{"$error":"#DIV/0!"},{"$error":"#DIV/0!"},{"$error":"#DIV/0!"},{"$error":"#DIV/0!"},{"$error":"#DIV/0!"},{"$error":"#DIV/0!"},{"$error":"#DIV/0!"},{"$error":"#DIV/0!"},{"$error":"#DIV/0!"},{"$error":"#DIV/0!"},null,19,218.91190092355592,{"$f":"Klimaatscenario!H26","v":52.285258256485747},{"$error":"#DIV/0!"},{"$error":"#DIV/0!"},{"$error":"#DIV/0!"},{"$error":"#DIV/0!"},{"$error":"#DIV/0!"},{"$error":"#DIV/0!"},{"$error":"#DIV/0!"},{"$error":"#DIV/0!"},{"$error":"#DIV/0!"},{"$error":"#DIV/0!"},{"$error":"#DIV/0!"},{"$error":"#DIV/0!"},{"$error":"#DIV/0!"},{"$error":"#DIV/0!"},{"$error":"#DIV/0!"},{"$error":"#DIV/0!"},{"$error":"#DIV/0!"},{"$error":"#DIV/0!"},{"$error":"#DIV/0!"},{"$error":"#DIV/0!"}]
[null,null,20,173.02227475813106,{"$f":"Klimaatscenario!G27","v":45.173519604466811},{"$error":"#DIV/0!"},{"$error":"#DIV/0!"},{"$error":"#DIV/0!"},{"$error":"#DIV/0!"},{"$error":"#DIV/0!"},{"$error":"#DIV/0!"},{"$error":"#DIV/0!"},{"$error":"#DIV/0!"},{"$error":"#DIV/0!"},{"$error":"#DIV/0!"},{"$error":"#DIV/0!"},{"$error":"#DIV/0!"},{"$error":"#DIV/0!"},{"$error":"#DIV/0!"},{"$error":"#DIV/0!"},{"$error":"#DIV/0!"},{"$error":"#DIV/0!"},{"$error":"#DIV/0!"},{"$error":"#DIV/0!"},{"$error":"#DIV/0!"},null,20,218.91190092355592,{"$f":"Klimaatscenario!H27","v":53.598729662027083},{"$error":"#DIV/0!"},{"$error":"#DIV/0!"},{"$error":"#DIV/0!"},{"$error":"#DIV/0!"},{"$error":"#DIV/0!"},{"$error":"#DIV/0!"},{"$error":"#DIV/0!"},{"$error":"#DIV/0!"},{"$error":"#DIV/0!"},{"$error":"#DIV/0!"},{"$error":"#DIV/0!"},{"$error":"#DIV/0!"},{"$error":"#DIV/0!"},{"$error":"#DIV/0!"},{"$error":"#DIV/0!"},{"$error":"#DIV/0!"},{"$error":"#DIV/0!"},{"$error":"#DIV/0!"},{"$error":"#DIV/0!"},{"$error":"#DIV/0!"}]
[null,null,21,173.02227475813106,{"$f":"Klimaatscenario!G28","v":46.211653253015598},{"$error":"#DIV/0!"},{"$error":"#DIV/0!"},{"$error":"#DIV/0!"},{"$error":"#DIV/0!"},{"$error":"#DIV/0!"},{"$error":"#DIV/0!"},{"$error":"#DIV/0!"},{"$error":"#DIV/0!"},{"$error":"#DIV/0!"},{"$error":"#DIV/0!"},{"$error":"#DIV/0!"},{"$error":"#DIV/0!"},{"$error":"#DIV/0!"},{"$error":"#DIV/0!"},{"$error":"#DIV/0!"},{"$error":"#DIV/0!"},{"$error":"#DIV/0!"},{"$error":"#DIV/0!"},{"$error":"#DIV/0!"},{"$error":"#DIV/0!"},null,21,218.91190092355706,{"$f":"Klimaatscenario!H28","v":54.912201067568425},{"$error":"#DIV/0!"},{"$error":"#DIV/0!"},{"$error":"#DIV/0!"},{"$error":"#DIV/0!"},{"$error":"#DIV/0!"},{"$error":"#DIV/0!"},{"$error":"#DIV/0!"},{"$error":"#DIV/0!"},{"$error":"#DIV/0!"},{"$error":"#DIV/0!"},{"$error":"#DIV/0!"},{"$error":"#DIV/0!"},{"$error":"#DIV/0!"},{"$error":"#DIV/0!"},{"$error":"#DIV/0!"},{"$error":"#DIV/0!"},{"$error":"#DIV/0!"},{"$error":"#DIV/0!"},{"$error":"#DIV/0!"},{"$error":"#DIV/0!"}]
[null,null,22,173.02227475813106,{"$f":"Klimaatscenario!G29","v":47.249786901564384},{"$error":"#DIV/0!"},{"$error":"#DIV/0!"},{"$error":"#DIV/0!"},{"$error":"#DIV/0!"},{"$error":"#DIV/0!"},{"$error":"#DIV/0!"},{"$error":"#DIV/0!"},{"$error":"#DIV/0!"},{"$error":"#DIV/0!"},{"$error":"#DIV/0!"},{"$error":"#DIV/0!"},{"$error":"#DIV/0!"},{"$error":"#DIV/0!"},{"$error":"#DIV/0!"},{"$error":"#DIV/0!"},{"$error":"#DIV/0!"},{"$error":"#DIV/0!"},{"$error":"#DIV/0!"},{"$error":"#DIV/0!"},{"$error":"#DIV/0!"},null,22,218.91190092355592,{"$f":"Klimaatscenario!H29","v":56.225672473109761},{"$error":"#DIV/0!"},{"$error":"#DIV/0!"},{"$error":"#DIV/0!"},{"$error":"#DIV/0!"},{"$error":"#DIV/0!"},{"$error":"#DIV/0!"},{"$error":"#DIV/0!"},{"$error":"#DIV/0!"},{"$error":"#DIV/0!"},{"$error":"#DIV/0!"},{"$error":"#DIV/0!"},{"$error":"#DIV/0!"},{"$error":"#DIV/0!"},{"$error":"#DIV/0!"},{"$error":"#DIV/0!"},{"$error":"#DIV/0!"},{"$error":"#DIV/0!"},{"$error":"#DIV/0!"},{"$error":"#DIV/0!"},{"$error":"#DIV/0!"}]
[null,null,23,173.02227475813106,{"$f":"Klimaatscenario!G30","v":48.287920550113171},{"$error":"#DIV/0!"},{"$error":"#DIV/0!"},{"$error":"#DIV/0!"},{"$error":"#DIV/0!"},{"$error":"#DIV/0!"},{"$error":"#DIV/0!"},{"$error":"#DIV/0!"},{"$error":"#DIV/0!"},{"$error":"#DIV/0!"},{"$error":"#DIV/0!"},{"$error":"#DIV/0!"},{"$error":"#DIV/0!"},{"$error":"#DIV/0!"},{"$error":"#DIV/0!"},{"$error":"#DIV/0!"},{"$error":"#DIV/0!"},{"$error":"#DIV/0!"},{"$error":"#DIV/0!"},{"$error":"#DIV/0!"},{"$error":"#DIV/0!"},null,23,218.91190092355706,{"$f":"Klimaatscenario!H30","v":57.539143878651103},{"$error":"#DIV/0!"},{"$error":"#DIV/0!"},{"$error":"#DIV/0!"},{"$error":"#DIV/0!"},{"$error":"#DIV/0!"},{"$error":"#DIV/0!"},{"$error":"#DIV/0!"},{"$error":"#DIV/0!"},{"$error":"#DIV/0!"},{"$error":"#DIV/0!"},{"$error":"#DIV/0!"},{"$error":"#DIV/0!"},{"$error":"#DIV/0!"},{"$error":"#DIV/0!"},{"$error":"#DIV/0!"},{"$error":"#DIV/0!"},{"$error":"#DIV/0!"},{"$error":"#DIV/0!"},{"$error":"#DIV/0!"},{"$error":"#DIV/0!"}]
[null,null,24,173.02227475812987,{"$f":"Klimaatscenario!G31","v":49.32605419866195},{"$error":"#DIV/0!"},{"$error":"#DIV/0!"},{"$error":"#DIV/0!"},{"$error":"#DIV/0!"},{"$error":"#DIV/0!"},{"$error":"#DIV/0!"},{"$error":"#DIV/0!"},{"$error":"#DIV/0!"},{"$error":"#DIV/0!"},{"$error":"#DIV/0!"},{"$error":"#DIV/0!"},{"$error":"#DIV/0!"},{"$error":"#DIV/0!"},{"$error":"#DIV/0!"},{"$error":"#DIV/0!"},{"$error":"#DIV/0!"},{"$error":"#DIV/0!"},{"$error":"#DIV/0!"},{"$error":"#DIV/0!"},{"$error":"#DIV/0!"},null,24,218.91190092355592,{"$f":"Klimaatscenario!H31","v":58.852615284192439},{"$error":"#DIV/0!"},{"$error":"#DIV/0!"},{"$error":"#DIV/0!"},{"$error":"#DIV/0!"},{"$error":"#DIV/0!"},{"$error":"#DIV/0!"},{"$error":"#DIV/0!"},{"$error":"#DIV/0!"},{"$error":"#DIV/0!"},{"$error":"#DIV/0!"},{"$error":"#DIV/0!"},{"$error":"#DIV/0!"},{"$error":"#DIV/0!"},{"$error":"#DIV/0!"},{"$error":"#DIV/0!"},{"$error":"#DIV/0!"},{"$error":"#DIV/0!"},{"$error":"#DIV/0!"},{"$error":"#DIV/0!"},{"$error":"#DIV/0!"}]
[null,null,25,173.02227475813106,{"$f":"Klimaatscenario!G32","v":50.364187847210736},{"$error":"#DIV/0!"},{"$error":"#DIV/0!"},{"$error":"#DIV/0!"},{"$error":"#DIV/0!"},{"$error":"#DIV/0!"},{"$error":"#DIV/0!"},{"$error":"#DIV/0!"},{"$error":"#DIV/0!"},{"$error":"#DIV/0!"},{"$error":"#DIV/0!"},{"$error":"#DIV/0!"},{"$error":"#DIV/0!"},{"$error":"#DIV/0!"},{"$error":"#DIV/0!"},{"$error":"#DIV/0!"},{"$error":"#DIV/0!"},{"$error":"#DIV/0!"},{"$error":"#DIV/0!"},{"$error":"#DIV/0!"},{"$error":"#DIV/0!"},null,25,218.91190092355592,{"$f":"Klimaatscenario!H32","v":60.166086689733774},{"$error":"#DIV/0!"},{"$error":"#DIV/0!"},{"$error":"#DIV/0!"},{"$error":"#DIV/0!"},{"$error":"#DIV/0!"},{"$error":"#DIV/0!"},{"$error":"#DIV/0!"},{"$error":"#DIV/0!"},{"$error":"#DIV/0!"},{"$error":"#DIV/0!"},{"$error":"#DIV/0!"},{"$error":"#DIV/0!"},{"$error":"#DIV/0!"},{"$error":"#DIV/0!"},{"$error":"#DIV/0!"},{"$error":"#DIV/0!"},{"$error":"#DIV/0!"},{"$error":"#DIV/0!"},{"$error":"#DIV/0!"},{"$error":"#DIV/0!"}]
[null,null,26,173.02227475813106,{"$f":"Klimaatscenario!G33","v":51.402321495759523},{"$error":"#DIV/0!"},{"$error":"#DIV/0!"},{"$error":"#DIV/0!"},{"$error":"#DIV/0!"},{"$error":"#DIV/0!"},{"$error":"#DIV/0!"},{"$error":"#DIV/0!"},{"$error":"#DIV/0!"},{"$error":"#DIV/0!"},{"$error":"#DIV/0!"},{"$error":"#DIV/0!"},{"$error":"#DIV/0!"},{"$error":"#DIV/0!"},{"$error":"#DIV/0!"},{"$error":"#DIV/0!"},{"$error":"#DIV/0!"},{"$error":"#DIV/0!"},{"$error":"#DIV/0!"},{"$error":"#DIV/0!"},{"$error":"#DIV/0!"},null,26,218.91190092355592,{"$f":"Klimaatscenario!H33","v":61.47955809527511},{"$error":"#DIV/0!"},{"$error":"#DIV/0!"},{"$error":"#DIV/0!"},{"$error":"#DIV/0!"},{"$error":"#DIV/0!"},{"$error":"#DIV/0!"},{"$error":"#DIV/0!"},{"$error":"#DIV/0!"},{"$error":"#DIV/0!"},{"$error":"#DIV/0!"},{"$error":"#DIV/0!"},{"$error":"#DIV/0!"},{"$error":"#DIV/0!"},{"$error":"#DIV/0!"},{"$error":"#DIV/0!"},{"$error":"#DIV/0!"},{"$error":"#DIV/0!"},{"$error":"#DIV/0!"},{"$error":"#DIV/0!"},{"$error":"#DIV/0!"}]
[null,null,27,173.02227475813106,{"$f":"Klimaatscenario!G34","v":52.440455144308309},{"$error":"#DIV/0!"},{"$error":"#DIV/0!"},{"$error":"#DIV/0!"},{"$error":"#DIV/0!"},{"$error":"#DIV/0!"},{"$error":"#DIV/0!"},{"$error":"#DIV/0!"},{"$error":"#DIV/0!"},{"$error":"#DIV/0!"},{"$error":"#DIV/0!"},{"$error":"#DIV/0!"},{"$error":"#DIV/0!"},{"$error":"#DIV/0!"},{"$error":"#DIV/0!"},{"$error":"#DIV/0!"},{"$error":"#DIV/0!"},{"$error":"#DIV/0!"},{"$error":"#DIV/0!"},{"$error":"#DIV/0!"},{"$error":"#DIV/0!"},null,27,218.91190092355706,{"$f":"Klimaatscenario!H34","v":62.793029500816452},{"$error":"#DIV/0!"},{"$error":"#DIV/0!"},{"$error":"#DIV/0!"},{"$error":"#DIV/0!"},{"$error":"#DIV/0!"},{"$error":"#DIV/0!"},{"$error":"#DIV/0!"},{"$error":"#DIV/0!"},{"$error":"#DIV/0!"},{"$error":"#DIV/0!"},{"$error":"#DIV/0!"},{"$error":"#DIV/0!"},{"$error":"#DIV/0!"},{"$error":"#DIV/0!"},{"$error":"#DIV/0!"},{"$error":"#DIV/0!"},{"$error":"#DIV/0!"},{"$error":"#DIV/0!"},{"$error":"#DIV/0!"},{"$error":"#DIV/0!"}]
[null,null,28,173.02227475813106,{"$f":"Klimaatscenario!G35","v":53.478588792857096},{"$error":"#DIV/0!"},{"$error":"#DIV/0!"},{"$error":"#DIV/0!"},{"$error":"#DIV/0!"},{"$error":"#DIV/0!"},{"$error":"#DIV/0!"},{"$error":"#DIV/0!"},{"$error":"#DIV/0!"},{"$error":"#DIV/0!"},{"$error":"#DIV/0!"},{"$error":"#DIV/0!"},{"$error":"#DIV/0!"},{"$error":"#DIV/0!"},{"$error":"#DIV/0!"},{"$error":"#DIV/0!"},{"$error":"#DIV/0!"},{"$error":"#DIV/0!"},{"$error":"#DIV/0!"},{"$error":"#DIV/0!"},{"$error":"#DIV/0!"},null,28,218.91190092355473,{"$f":"Klimaatscenario!H35","v":64.10650090635778},{"$error":"#DIV/0!"},{"$error":"#DIV/0!"},{"$error":"#DIV/0!"},{"$error":"#DIV/0!"},{"$error":"#DIV/0!"},{"$error":"#DIV/0!"},{"$error":"#DIV/0!"},{"$error":"#DIV/0!"},{"$error":"#DIV/0!"},{"$error":"#DIV/0!"},{"$error":"#DIV/0!"},{"$error":"#DIV/0!"},{"$error":"#DIV/0!"},{"$error":"#DIV/0!"},{"$error":"#DIV/0!"},{"$error":"#DIV/0!"},{"$error":"#DIV/0!"},{"$error":"#DIV/0!"},{"$error":"#DIV/0!"},{"$error":"#DIV/0!"}]
[null,null,29,173.02227475812987,{"$f":"Klimaatscenario!G36","v":54.516722441405875},{"$error":"#DIV/0!"},{"$error":"#DIV/0!"},{"$error":"#DIV/0!"},{"$error":"#DIV/0!"},{"$error":"#DIV/0!"},{"$error":"#DIV/0!"},{"$error":"#DIV/0!"},{"$error":"#DIV/0!"},{"$error":"#DIV/0!"},{"$error":"#DIV/0!"},{"$error":"#DIV/0!"},{"$error":"#DIV/0!"},{"$error":"#DIV/0!"},{"$error":"#DIV/0!"},{"$error":"#DIV/0!"},{"$error":"#DIV/0!"},{"$error":"#DIV/0!"},{"$error":"#DIV/0!"},{"$error":"#DIV/0!"},{"$error":"#DIV/0!"},null,29,218.91190092355828,{"$f":"Klimaatscenario!H36","v":65.41997231189913},{"$error":"#DIV/0!"},{"$error":"#DIV/0!"},{"$error":"#DIV/0!"},{"$error":"#DIV/0!"},{"$error":"#DIV/0!"},{"$error":"#DIV/0!"},{"$error":"#DIV/0!"},{"$error":"#DIV/0!"},{"$error":"#DIV/0!"},{"$error":"#DIV/0!"},{"$error":"#DIV/0!"},{"$error":"#DIV/0!"},{"$error":"#DIV/0!"},{"$error":"#DIV/0!"},{"$error":"#DIV/0!"},{"$error":"#DIV/0!"},{"$error":"#DIV/0!"},{"$error":"#DIV/0!"},{"$error":"#DIV/0!"},{"$error":"#DIV/0!"}]
[null,null,30,173.02227475813106,{"$f":"Klimaatscenario!G37","v":55.554856089954662},{"$error":"#DIV/0!"},{"$error":"#DIV/0!"},{"$error":"#DIV/0!"},{"$error":"#DIV/0!"},{"$error":"#DIV/0!"},{"$error":"#DIV/0!"},{"$error":"#DIV/0!"},{"$error":"#DIV/0!"},{"$error":"#DIV/0!"},{"$error":"#DIV/0!"},{"$error":"#DIV/0!"},{"$error":"#DIV/0!"},{"$error":"#DIV/0!"},{"$error":"#DIV/0!"},{"$error":"#DIV/0!"},{"$error":"#DIV/0!"},{"$error":"#DIV/0!"},{"$error":"#DIV/0!"},{"$error":"#DIV/0!"},{"$error":"#DIV/0!"},null,30,218.91190092355592,{"$f":"Klimaatscenario!H37","v":66.733443717440466},{"$error":"#DIV/0!"},{"$error":"#DIV/0!"},{"$error":"#DIV/0!"},{"$error":"#DIV/0!"},{"$error":"#DIV/0!"},{"$error":"#DIV/0!"},{"$error":"#DIV/0!"},{"$error":"#DIV/0!"},{"$error":"#DIV/0!"},{"$error":"#DIV/0!"},{"$error":"#DIV/0!"},{"$error":"#DIV/0!"},{"$error":"#DIV/0!"},{"$error":"#DIV/0!"},{"$error":"#DIV/0!"},{"$error":"#DIV/0!"},{"$error":"#DIV/0!"},{"$error":"#DIV/0!"},{"$error":"#DIV/0!"},{"$error":"#DIV/0!"}]
[null,null,31,79.898395656742338,{"$f":"Klimaatscenario!G38","v":56.034246463895116},{"$error":"#DIV/0!"},{"$error":"#DIV/0!"},{"$error":"#DIV/0!"},{"$error":"#DIV/0!"},{"$error":"#DIV/0!"},{"$error":"#DIV/0!"},{"$error":"#DIV/0!"},{"$error":"#DIV/0!"},{"$error":"#DIV/0!"},{"$error":"#DIV/0!"},{"$error":"#DIV/0!"},{"$error":"#DIV/0!"},{"$error":"#DIV/0!"},{"$error":"#DIV/0!"},{"$error":"#DIV/0!"},{"$error":"#DIV/0!"},{"$error":"#DIV/0!"},{"$error":"#DIV/0!"},{"$error":"#DIV/0!"},{"$error":"#DIV/0!"},null,31,100.6083540461494,{"$f":"Klimaatscenario!H38","v":67.337093841717362},{"$error":"#DIV/0!"},{"$error":"#DIV/0!"},{"$error":"#DIV/0!"},{"$error":"#DIV/0!"},{"$error":"#DIV/0!"},{"$error":"#DIV/0!"},{"$error":"#DIV/0!"},{"$error":"#DIV/0!"},{"$error":"#DIV/0!"},{"$error":"#DIV/0!"},{"$error":"#DIV/0!"},{"$error":"#DIV/0!"},{"$error":"#DIV/0!"},{"$error":"#DIV/0!"},{"$error":"#DIV/0!"},{"$error":"#DIV/0!"},{"$error":"#DIV/0!"},{"$error":"#DIV/0!"},{"$error":"#DIV/0!"},{"$error":"#DIV/0!"}]
[null,null,32,79.898395656741172,{"$f":"Klimaatscenario!G39","v":56.513636837835563},{"$error":"#DIV/0!"},{"$error":"#DIV/0!"},{"$error":"#DIV/0!"},{"$f":"($J$510/60)*$C462","v":{"$error":"#DIV/0!"}},{"$f":"$E462-F462-G462-H462-I462","v":{"$error":"#DIV/0!"}},{"$error":"#DIV/0!"},{"$error":"#DIV/0!"},{"$error":"#DIV/0!"},{"$f":"($O$510/60)*$C462","v":{"$error":"#DIV/0!"}},{"$f":"$E462-K462-L462-M462-N462","v":{"$error":"#DIV/0!"}},{"$error":"#DIV/0!"},{"$error":"#DIV/0!"},{"$error":"#DIV/0!"},{"$f":"($T$510/60)*$C462","v":{"$error":"#DIV/0!"}},{"$f":"$E462-P462-Q462-R462-S462","v":{"$error":"#DIV/0!"}},{"$error":"#DIV/0!"},{"$error":"#DIV/0!"},{"$error":"#DIV/0!"},{"$f":"($Y$510/60)*$C462","v":{"$error":"#DIV/0!"}},{"$f":"$E462-U462-V462-W462-X462","v":{"$error":"#DIV/0!"}},null,32,100.60835404614703,{"$f":"Klimaatscenario!H39","v":67.940743965994244},{"$error":"#DIV/0!"},{"$error":"#DIV/0!"},{"$error":"#DIV/0!"},{"$f":"($AH$510/60)*$AA462","v":{"$error":"#DIV/0!"}},{"$f":"$AC462-AD462-AE462-AF462-AG462","v":{"$error":"#DIV/0!"}},{"$error":"#DIV/0!"},{"$error":"#DIV/0!"},{"$error":"#DIV/0!"},{"$f":"($AM$510/60)*$AA462","v":{"$error":"#DIV/0!"}},{"$f":"$AC462-AI462-AJ462-AK462-AL462","v":{"$error":"#DIV/0!"}},{"$error":"#DIV/0!"},{"$error":"#DIV/0!"},{"$error":"#DIV/0!"},{"$f":"($AR$510/60)*$AA462","v":{"$error":"#DIV/0!"}},{"$f":"$AC462-AN462-AO462-AP462-AQ462","v":{"$error":"#DIV/0!"}},{"$error":"#DIV/0!"},{"$error":"#DIV/0!"},{"$error":"#DIV/0!"},{"$f":"($AW$510/60)*$AA462","v":{"$error":"#DIV/0!"}},{"$f":"$AC462-AS462-AT462-AU462-AV462","v":{"$error":"#DIV/0!"}}]
[null,null,33,79.898395656742338,{"$f":"Klimaatscenario!G40","v":56.993027211776017},{"$f":"((J$509*60)/10000)+F462","v":{"$error":"#DIV/0!"}},{"$error":"#DIV/0!"},{"$error":"#DIV/0!"},{"$error":"#DIV/0!"},{"$error":"#DIV/0!"},{"$f":"((O$509*60)/10000)+K462","v":{"$error":"#DIV/0!"}},{"$error":"#DIV/0!"},{"$error":"#DIV/0!"},{"$error":"#DIV/0!"},{"$error":"#DIV/0!"},{"$f":"((T$509*60)/10000)+P462","v":{"$error":"#DIV/0!"}},{"$error":"#DIV/0!"},{"$error":"#DIV/0!"},{"$error":"#DIV/0!"},{"$error":"#DIV/0!"},{"$f":"((Y$509*60)/10000)+U462","v":{"$error":"#DIV/0!"}},{"$error":"#DIV/0!"},{"$error":"#DIV/0!"},{"$error":"#DIV/0!"},{"$error":"#DIV/0!"},null,33,100.6083540461494,{"$f":"Klimaatscenario!H40","v":68.54439409027114},{"$f":"((AH$509*60)/10000)+AD462","v":{"$error":"#DIV/0!"}},{"$error":"#DIV/0!"},{"$error":"#DIV/0!"},{"$error":"#DIV/0!"},{"$error":"#DIV/0!"},{"$f":"((AM$509*60)/10000)+AI462","v":{"$error":"#DIV/0!"}},{"$error":"#DIV/0!"},{"$error":"#DIV/0!"},{"$error":"#DIV/0!"},{"$error":"#DIV/0!"},{"$f":"((AR$509*60)/10000)+AN462","v":{"$error":"#DIV/0!"}},{"$error":"#DIV/0!"},{"$error":"#DIV/0!"},{"$error":"#DIV/0!"},{"$error":"#DIV/0!"},{"$f":"((AW$509*60)/10000)+AS462","v":{"$error":"#DIV/0!"}},{"$error":"#DIV/0!"},{"$error":"#DIV/0!"},{"$error":"#DIV/0!"},{"$error":"#DIV/0!"}]
[null,null,34,79.898395656742338,{"$f":"Klimaatscenario!G41","v":57.472417585716471},{"$error":"#DIV/0!"},{"$error":"#DIV/0!"},{"$error":"#DIV/0!"},{"$error":"#DIV/0!"},{"$error":"#DIV/0!"},{"$error":"#DIV/0!"},{"$error":"#DIV/0!"},{"$error":"#DIV/0!"},{"$error":"#DIV/0!"},{"$error":"#DIV/0!"},{"$error":"#DIV/0!"},{"$error":"#DIV/0!"},{"$error":"#DIV/0!"},{"$error":"#DIV/0!"},{"$error":"#DIV/0!"},{"$error":"#DIV/0!"},{"$error":"#DIV/0!"},{"$error":"#DIV/0!"},{"$error":"#DIV/0!"},{"$error":"#DIV/0!"},null,34,100.6083540461494,{"$f":"Klimaatscenario!H41","v":69.148044214548037},{"$error":"#DIV/0!"},{"$error":"#DIV/0!"},{"$error":"#DIV/0!"},{"$error":"#DIV/0!"},{"$error":"#DIV/0!"},{"$error":"#DIV/0!"},{"$error":"#DIV/0!"},{"$error":"#DIV/0!"},{"$error":"#DIV/0!"},{"$error":"#DIV/0!"},{"$error":"#DIV/0!"},{"$error":"#DIV/0!"},{"$error":"#DIV/0!"},{"$error":"#DIV/0!"},{"$error":"#DIV/0!"},{"$error":"#DIV/0!"},{"$error":"#DIV/0!"},{"$error":"#DIV/0!"},{"$error":"#DIV/0!"},{"$error":"#DIV/0!"}]
[null,null,35,79.898395656741172,{"$f":"Klimaatscenario!G42","v":57.951807959656918},{"$error":"#DIV/0!"},{"$error":"#DIV/0!"},{"$error":"#DIV/0!"},{"$error":"#DIV/0!"},{"$error":"#DIV/0!"},{"$error":"#DIV/0!"},{"$error":"#DIV/0!"},{"$error":"#DIV/0!"},{"$error":"#DIV/0!"},{"$error":"#DIV/0!"},{"$error":"#DIV/0!"},{"$error":"#DIV/0!"},{"$error":"#DIV/0!"},{"$error":"#DIV/0!"},{"$error":"#DIV/0!"},{"$error":"#DIV/0!"},{"$error":"#DIV/0!"},{"$error":"#DIV/0!"},{"$error":"#DIV/0!"},{"$error":"#DIV/0!"},null,35,100.60835404614703,{"$f":"Klimaatscenario!H42","v":69.751694338824919},{"$error":"#DIV/0!"},{"$error":"#DIV/0!"},{"$error":"#DIV/0!"},{"$error":"#DIV/0!"},{"$error":"#DIV/0!"},{"$error":"#DIV/0!"},{"$error":"#DIV/0!"},{"$error":"#DIV/0!"},{"$error":"#DIV/0!"},{"$error":"#DIV/0!"},{"$error":"#DIV/0!"},{"$error":"#DIV/0!"},{"$error":"#DIV/0!"},{"$error":"#DIV/0!"},{"$error":"#DIV/0!"},{"$error":"#DIV/0!"},{"$error":"#DIV/0!"},{"$error":"#DIV/0!"},{"$error":"#DIV/0!"},{"$error":"#DIV/0!"}]
[null,null,36,79.898395656742338,{"$f":"Klimaatscenario!G43","v":58.431198333597372},{"$error":"#DIV/0!"},{"$error":"#DIV/0!"},{"$error":"#DIV/0!"},{"$error":"#DIV/0!"},{"$error":"#DIV/0!"},{"$error":"#DIV/0!"},{"$error":"#DIV/0!"},{"$error":"#DIV/0!"},{"$error":"#DIV/0!"},{"$error":"#DIV/0!"},{"$error":"#DIV/0!"},{"$error":"#DIV/0!"},{"$error":"#DIV/0!"},{"$error":"#DIV/0!"},{"$error":"#DIV/0!"},{"$error":"#DIV/0!"},{"$error":"#DIV/0!"},{"$error":"#DIV/0!"},{"$error":"#DIV/0!"},{"$error":"#DIV/0!"},null,36,100.6083540461494,{"$f":"Klimaatscenario!H43","v":70.355344463101815},{"$error":"#DIV/0!"},{"$error":"#DIV/0!"},{"$error":"#DIV/0!"},{"$error":"#DIV/0!"},{"$error":"#DIV/0!"},{"$error":"#DIV/0!"},{"$error":"#DIV/0!"},{"$error":"#DIV/0!"},{"$error":"#DIV/0!"},{"$error":"#DIV/0!"},{"$error":"#DIV/0!"},{"$error":"#DIV/0!"},{"$error":"#DIV/0!"},{"$error":"#DIV/0!"},{"$error":"#DIV/0!"},{"$error":"#DIV/0!"},{"$error":"#DIV/0!"},{"$error":"#DIV/0!"},{"$error":"#DIV/0!"},{"$error":"#DIV/0!"}]
[null,null,37,{"$f":"((((((E467-E466)/(C467-C466))/60)/1000)*10000)*1000)","v":79.898395656741172},{"$f":"Klimaatscenario!G44","v":58.910588707537819},{"$error":"#DIV/0!"},{"$error":"#DIV/0!"},{"$error":"#DIV/0!"},{"$error":"#DIV/0!"},{"$error":"#DIV/0!"},{"$error":"#DIV/0!"},{"$error":"#DIV/0!"},{"$error":"#DIV/0!"},{"$error":"#DIV/0!"},{"$error":"#DIV/0!"},{"$error":"#DIV/0!"},{"$error":"#DIV/0!"},{"$error":"#DIV/0!"},{"$error":"#DIV/0!"},{"$error":"#DIV/0!"},{"$error":"#DIV/0!"},{"$error":"#DIV/0!"},{"$error":"#DIV/0!"},{"$error":"#DIV/0!"},{"$error":"#DIV/0!"},null,37,{"$f":"((((((AC467-AC466)/(AA467-AA466))/60)/1000)*10000)*1000)","v":100.60835404614703},{"$f":"Klimaatscenario!H44","v":70.958994587378697},{"$error":"#DIV/0!"},{"$error":"#DIV/0!"},{"$error":"#DIV/0!"},{"$error":"#DIV/0!"},{"$error":"#DIV/0!"},{"$error":"#DIV/0!"},{"$error":"#DIV/0!"},{"$error":"#DIV/0!"},{"$error":"#DIV/0!"},{"$error":"#DIV/0!"},{"$error":"#DIV/0!"},{"$error":"#DIV/0!"},{"$error":"#DIV/0!"},{"$error":"#DIV/0!"},{"$error":"#DIV/0!"},{"$error":"#DIV/0!"},{"$error":"#DIV/0!"},{"$error":"#DIV/0!"},{"$error":"#DIV/0!"},{"$error":"#DIV/0!"}]
[null,null,38,79.898395656742338,{"$f":"Klimaatscenario!G45","v":59.389979081478273},{"$error":"#DIV/0!"},{"$error":"#DIV/0!"},{"$error":"#DIV/0!"},{"$error":"#DIV/0!"},{"$error":"#DIV/0!"},{"$error":"#DIV/0!"},{"$error":"#DIV/0!"},{"$error":"#DIV/0!"},{"$error":"#DIV/0!"},{"$error":"#DIV/0!"},{"$error":"#DIV/0!"},{"$error":"#DIV/0!"},{"$error":"#DIV/0!"},{"$error":"#DIV/0!"},{"$error":"#DIV/0!"},{"$error":"#DIV/0!"},{"$error":"#DIV/0!"},{"$error":"#DIV/0!"},{"$error":"#DIV/0!"},{"$error":"#DIV/0!"},null,38,100.6083540461494,{"$f":"Klimaatscenario!H45","v":71.562644711655594},{"$error":"#DIV/0!"},{"$error":"#DIV/0!"},{"$error":"#DIV/0!"},{"$error":"#DIV/0!"},{"$error":"#DIV/0!"},{"$error":"#DIV/0!"},{"$error":"#DIV/0!"},{"$error":"#DIV/0!"},{"$error":"#DIV/0!"},{"$error":"#DIV/0!"},{"$error":"#DIV/0!"},{"$error":"#DIV/0!"},{"$error":"#DIV/0!"},{"$error":"#DIV/0!"},{"$error":"#DIV/0!"},{"$error":"#DIV/0!"},{"$error":"#DIV/0!"},{"$error":"#DIV/0!"},{"$error":"#DIV/0!"},{"$error":"#DIV/0!"}]
[null,null,39,79.898395656742338,{"$f":"Klimaatscenario!G46","v":59.869369455418727},{"$error":"#DIV/0!"},{"$error":"#DIV/0!"},{"$error":"#DIV/0!"},{"$error":"#DIV/0!"},{"$error":"#DIV/0!"},{"$error":"#DIV/0!"},{"$error":"#DIV/0!"},{"$error":"#DIV/0!"},{"$error":"#DIV/0!"},{"$error":"#DIV/0!"},{"$error":"#DIV/0!"},{"$error":"#DIV/0!"},{"$error":"#DIV/0!"},{"$error":"#DIV/0!"},{"$error":"#DIV/0!"},{"$error":"#DIV/0!"},{"$error":"#DIV/0!"},{"$error":"#DIV/0!"},{"$error":"#DIV/0!"},{"$error":"#DIV/0!"},null,39,100.6083540461494,{"$f":"Klimaatscenario!H46","v":72.16629483593249},{"$error":"#DIV/0!"},{"$error":"#DIV/0!"},{"$error":"#DIV/0!"},{"$error":"#DIV/0!"},{"$error":"#DIV/0!"},{"$error":"#DIV/0!"},{"$error":"#DIV/0!"},{"$error":"#DIV/0!"},{"$error":"#DIV/0!"},{"$error":"#DIV/0!"},{"$error":"#DIV/0!"},{"$error":"#DIV/0!"},{"$error":"#DIV/0!"},{"$error":"#DIV/0!"},{"$error":"#DIV/0!"},{"$error":"#DIV/0!"},{"$error":"#DIV/0!"},{"$error":"#DIV/0!"},{"$error":"#DIV/0!"},{"$error":"#DIV/0!"}]
[null,null,40,79.898395656741172,{"$f":"Klimaatscenario!G47","v":60.348759829359174},{"$error":"#DIV/0!"},{"$error":"#DIV/0!"},{"$error":"#DIV/0!"},{"$error":"#DIV/0!"},{"$error":"#DIV/0!"},{"$error":"#DIV/0!"},{"$error":"#DIV/0!"},{"$error":"#DIV/0!"},{"$error":"#DIV/0!"},{"$error":"#DIV/0!"},{"$error":"#DIV/0!"},{"$error":"#DIV/0!"},{"$error":"#DIV/0!"},{"$error":"#DIV/0!"},{"$error":"#DIV/0!"},{"$error":"#DIV/0!"},{"$error":"#DIV/0!"},{"$error":"#DIV/0!"},{"$error":"#DIV/0!"},{"$error":"#DIV/0!"},null,40,100.60835404614703,{"$f":"Klimaatscenario!H47","v":72.769944960209372},{"$error":"#DIV/0!"},{"$error":"#DIV/0!"},{"$error":"#DIV/0!"},{"$error":"#DIV/0!"},{"$error":"#DIV/0!"},{"$error":"#DIV/0!"},{"$error":"#DIV/0!"},{"$error":"#DIV/0!"},{"$error":"#DIV/0!"},{"$error":"#DIV/0!"},{"$error":"#DIV/0!"},{"$error":"#DIV/0!"},{"$error":"#DIV/0!"},{"$error":"#DIV/0!"},{"$error":"#DIV/0!"},{"$error":"#DIV/0!"},{"$error":"#DIV/0!"},{"$error":"#DIV/0!"},{"$error":"#DIV/0!"},{"$error":"#DIV/0!"}]
[null,null,41,79.898395656742338,{"$f":"Klimaatscenario!G48","v":60.828150203299629},{"$error":"#DIV/0!"},{"$error":"#DIV/0!"},{"$error":"#DIV/0!"},{"$error":"#DIV/0!"},{"$error":"#DIV/0!"},{"$error":"#DIV/0!"},{"$error":"#DIV/0!"},{"$error":"#DIV/0!"},{"$error":"#DIV/0!"},{"$error":"#DIV/0!"},{"$error":"#DIV/0!"},{"$error":"#DIV/0!"},{"$error":"#DIV/0!"},{"$error":"#DIV/0!"},{"$error":"#DIV/0!"},{"$error":"#DIV/0!"},{"$error":"#DIV/0!"},{"$error":"#DIV/0!"},{"$error":"#DIV/0!"},{"$error":"#DIV/0!"},null,41,100.6083540461494,{"$f":"Klimaatscenario!H48","v":73.373595084486269},{"$error":"#DIV/0!"},{"$error":"#DIV/0!"},{"$error":"#DIV/0!"},{"$error":"#DIV/0!"},{"$error":"#DIV/0!"},{"$error":"#DIV/0!"},{"$error":"#DIV/0!"},{"$error":"#DIV/0!"},{"$error":"#DIV/0!"},{"$error":"#DIV/0!"},{"$error":"#DIV/0!"},{"$error":"#DIV/0!"},{"$error":"#DIV/0!"},{"$error":"#DIV/0!"},{"$error":"#DIV/0!"},{"$error":"#DIV/0!"},{"$error":"#DIV/0!"},{"$error":"#DIV/0!"},{"$error":"#DIV/0!"},{"$error":"#DIV/0!"}]
[null,null,42,79.898395656742338,{"$f":"Klimaatscenario!G49","v":61.307540577240083},{"$error":"#DIV/0!"},{"$error":"#DIV/0!"},{"$error":"#DIV/0!"},{"$error":"#DIV/0!"},{"$error":"#DIV/0!"},{"$error":"#DIV/0!"},{"$error":"#DIV/0!"},{"$error":"#DIV/0!"},{"$error":"#DIV/0!"},{"$error":"#DIV/0!"},{"$error":"#DIV/0!"},{"$error":"#DIV/0!"},{"$error":"#DIV/0!"},{"$error":"#DIV/0!"},{"$error":"#DIV/0!"},{"$error":"#DIV/0!"},{"$error":"#DIV/0!"},{"$error":"#DIV/0!"},{"$error":"#DIV/0!"},{"$error":"#DIV/0!"},null,42,100.6083540461494,{"$f":"Klimaatscenario!H49","v":73.977245208763165},{"$error":"#DIV/0!"},{"$error":"#DIV/0!"},{"$error":"#DIV/0!"},{"$error":"#DIV/0!"},{"$error":"#DIV/0!"},{"$error":"#DIV/0!"},{"$error":"#DIV/0!"},{"$error":"#DIV/0!"},{"$error":"#DIV/0!"},{"$error":"#DIV/0!"},{"$error":"#DIV/0!"},{"$error":"#DIV/0!"},{"$error":"#DIV/0!"},{"$error":"#DIV/0!"},{"$error":"#DIV/0!"},{"$error":"#DIV/0!"},{"$error":"#DIV/0!"},{"$error":"#DIV/0!"},{"$error":"#DIV/0!"},{"$error":"#DIV/0!"}]
[null,null,43,79.898395656741172,{"$f":"Klimaatscenario!G50","v":61.78693095118053},{"$error":"#DIV/0!"},{"$error":"#DIV/0!"},{"$error":"#DIV/0!"},{"$error":"#DIV/0!"},{"$error":"#DIV/0!"},{"$error":"#DIV/0!"},{"$error":"#DIV/0!"},{"$error":"#DIV/0!"},{"$error":"#DIV/0!"},{"$error":"#DIV/0!"},{"$error":"#DIV/0!"},{"$error":"#DIV/0!"},{"$error":"#DIV/0!"},{"$error":"#DIV/0!"},{"$error":"#DIV/0!"},{"$error":"#DIV/0!"},{"$error":"#DIV/0!"},{"$error":"#DIV/0!"},{"$error":"#DIV/0!"},{"$error":"#DIV/0!"},null,43,100.60835404614703,{"$f":"Klimaatscenario!H50","v":74.580895333040047},{"$error":"#DIV/0!"},{"$error":"#DIV/0!"},{"$error":"#DIV/0!"},{"$error":"#DIV/0!"},{"$error":"#DIV/0!"},{"$error":"#DIV/0!"},{"$error":"#DIV/0!"},{"$error":"#DIV/0!"},{"$error":"#DIV/0!"},{"$error":"#DIV/0!"},{"$error":"#DIV/0!"},{"$error":"#DIV/0!"},{"$error":"#DIV/0!"},{"$error":"#DIV/0!"},{"$error":"#DIV/0!"},{"$error":"#DIV/0!"},{"$error":"#DIV/0!"},{"$error":"#DIV/0!"},{"$error":"#DIV/0!"},{"$error":"#DIV/0!"}]
[null,null,44,79.898395656742338,{"$f":"Klimaatscenario!G51","v":62.266321325120984},{"$error":"#DIV/0!"},{"$error":"#DIV/0!"},{"$error":"#DIV/0!"},{"$error":"#DIV/0!"},{"$error":"#DIV/0!"},{"$error":"#DIV/0!"},{"$error":"#DIV/0!"},{"$error":"#DIV/0!"},{"$error":"#DIV/0!"},{"$error":"#DIV/0!"},{"$error":"#DIV/0!"},{"$error":"#DIV/0!"},{"$error":"#DIV/0!"},{"$error":"#DIV/0!"},{"$error":"#DIV/0!"},{"$error":"#DIV/0!"},{"$error":"#DIV/0!"},{"$error":"#DIV/0!"},{"$error":"#DIV/0!"},{"$error":"#DIV/0!"},null,44,100.6083540461494,{"$f":"Klimaatscenario!H51","v":75.184545457316943},{"$error":"#DIV/0!"},{"$error":"#DIV/0!"},{"$error":"#DIV/0!"},{"$error":"#DIV/0!"},{"$error":"#DIV/0!"},{"$error":"#DIV/0!"},{"$error":"#DIV/0!"},{"$error":"#DIV/0!"},{"$error":"#DIV/0!"},{"$error":"#DIV/0!"},{"$error":"#DIV/0!"},{"$error":"#DIV/0!"},{"$error":"#DIV/0!"},{"$error":"#DIV/0!"},{"$error":"#DIV/0!"},{"$error":"#DIV/0!"},{"$error":"#DIV/0!"},{"$error":"#DIV/0!"},{"$error":"#DIV/0!"},{"$error":"#DIV/0!"}]
[null,null,45,79.898395656741172,{"$f":"Klimaatscenario!G52","v":62.745711699061431},{"$error":"#DIV/0!"},{"$error":"#DIV/0!"},{"$error":"#DIV/0!"},{"$error":"#DIV/0!"},{"$error":"#DIV/0!"},{"$error":"#DIV/0!"},{"$error":"#DIV/0!"},{"$error":"#DIV/0!"},{"$error":"#DIV/0!"},{"$error":"#DIV/0!"},{"$error":"#DIV/0!"},{"$error":"#DIV/0!"},{"$error":"#DIV/0!"},{"$error":"#DIV/0!"},{"$error":"#DIV/0!"},{"$error":"#DIV/0!"},{"$error":"#DIV/0!"},{"$error":"#DIV/0!"},{"$error":"#DIV/0!"},{"$error":"#DIV/0!"},null,45,100.6083540461494,{"$f":"Klimaatscenario!H52","v":75.78819558159384},{"$error":"#DIV/0!"},{"$error":"#DIV/0!"},{"$error":"#DIV/0!"},{"$error":"#DIV/0!"},{"$error":"#DIV/0!"},{"$error":"#DIV/0!"},{"$error":"#DIV/0!"},{"$error":"#DIV/0!"},{"$error":"#DIV/0!"},{"$error":"#DIV/0!"},{"$error":"#DIV/0!"},{"$error":"#DIV/0!"},{"$error":"#DIV/0!"},{"$error":"#DIV/0!"},{"$error":"#DIV/0!"},{"$error":"#DIV/0!"},{"$error":"#DIV/0!"},{"$error":"#DIV/0!"},{"$error":"#DIV/0!"},{"$error":"#DIV/0!"}]
[null,null,46,79.898395656742338,{"$f":"Klimaatscenario!G53","v":63.225102073001885},{"$error":"#DIV/0!"},{"$error":"#DIV/0!"},{"$error":"#DIV/0!"},{"$error":"#DIV/0!"},{"$error":"#DIV/0!"},{"$error":"#DIV/0!"},{"$error":"#DIV/0!"},{"$error":"#DIV/0!"},{"$error":"#DIV/0!"},{"$error":"#DIV/0!"},{"$error":"#DIV/0!"},{"$error":"#DIV/0!"},{"$error":"#DIV/0!"},{"$error":"#DIV/0!"},{"$error":"#DIV/0!"},{"$error":"#DIV/0!"},{"$error":"#DIV/0!"},{"$error":"#DIV/0!"},{"$error":"#DIV/0!"},{"$error":"#DIV/0!"},null,46,100.60835404614703,{"$f":"Klimaatscenario!H53","v":76.391845705870722},{"$error":"#DIV/0!"},{"$error":"#DIV/0!"},{"$error":"#DIV/0!"},{"$error":"#DIV/0!"},{"$error":"#DIV/0!"},{"$error":"#DIV/0!"},{"$error":"#DIV/0!"},{"$error":"#DIV/0!"},{"$error":"#DIV/0!"},{"$error":"#DIV/0!"},{"$error":"#DIV/0!"},{"$error":"#DIV/0!"},{"$error":"#DIV/0!"},{"$error":"#DIV/0!"},{"$error":"#DIV/0!"},{"$error":"#DIV/0!"},{"$error":"#DIV/0!"},{"$error":"#DIV/0!"},{"$error":"#DIV/0!"},{"$error":"#DIV/0!"}]
[null,null,47,79.898395656742338,{"$f":"Klimaatscenario!G54","v":63.704492446942339},{"$error":"#DIV/0!"},{"$error":"#DIV/0!"},{"$error":"#DIV/0!"},{"$error":"#DIV/0!"},{"$error":"#DIV/0!"},{"$error":"#DIV/0!"},{"$error":"#DIV/0!"},{"$error":"#DIV/0!"},{"$error":"#DIV/0!"},{"$error":"#DIV/0!"},{"$error":"#DIV/0!"},{"$error":"#DIV/0!"},{"$error":"#DIV/0!"},{"$error":"#DIV/0!"},{"$error":"#DIV/0!"},{"$error":"#DIV/0!"},{"$error":"#DIV/0!"},{"$error":"#DIV/0!"},{"$error":"#DIV/0!"},{"$error":"#DIV/0!"},null,47,100.6083540461494,{"$f":"Klimaatscenario!H54","v":76.995495830147618},{"$error":"#DIV/0!"},{"$error":"#DIV/0!"},{"$error":"#DIV/0!"},{"$error":"#DIV/0!"},{"$error":"#DIV/0!"},{"$error":"#DIV/0!"},{"$error":"#DIV/0!"},{"$error":"#DIV/0!"},{"$error":"#DIV/0!"},{"$error":"#DIV/0!"},{"$error":"#DIV/0!"},{"$error":"#DIV/0!"},{"$error":"#DIV/0!"},{"$error":"#DIV/0!"},{"$error":"#DIV/0!"},{"$error":"#DIV/0!"},{"$error":"#DIV/0!"},{"$error":"#DIV/0!"},{"$error":"#DIV/0!"},{"$error":"#DIV/0!"}]
[null,null,48,79.898395656741172,{"$f":"Klimaatscenario!G55","v":64.183882820882786},{"$error":"#DIV/0!"},{"$error":"#DIV/0!"},{"$error":"#DIV/0!"},{"$error":"#DIV/0!"},{"$error":"#DIV/0!"},{"$error":"#DIV/0!"},{"$error":"#DIV/0!"},{"$error":"#DIV/0!"},{"$error":"#DIV/0!"},{"$error":"#DIV/0!"},{"$error":"#DIV/0!"},{"$error":"#DIV/0!"},{"$error":"#DIV/0!"},{"$error":"#DIV/0!"},{"$error":"#DIV/0!"},{"$error":"#DIV/0!"},{"$error":"#DIV/0!"},{"$error":"#DIV/0!"},{"$error":"#DIV/0!"},{"$error":"#DIV/0!"},null,48,100.60835404614703,{"$f":"Klimaatscenario!H55","v":77.5991459544245},{"$error":"#DIV/0!"},{"$error":"#DIV/0!"},{"$error":"#DIV/0!"},{"$error":"#DIV/0!"},{"$error":"#DIV/0!"},{"$error":"#DIV/0!"},{"$error":"#DIV/0!"},{"$error":"#DIV/0!"},{"$error":"#DIV/0!"},{"$error":"#DIV/0!"},{"$error":"#DIV/0!"},{"$error":"#DIV/0!"},{"$error":"#DIV/0!"},{"$error":"#DIV/0!"},{"$error":"#DIV/0!"},{"$error":"#DIV/0!"},{"$error":"#DIV/0!"},{"$error":"#DIV/0!"},{"$error":"#DIV/0!"},{"$error":"#DIV/0!"}]
[null,null,49,79.898395656741172,{"$f":"Klimaatscenario!G56","v":64.663273194823233},{"$error":"#DIV/0!"},{"$error":"#DIV/0!"},{"$error":"#DIV/0!"},{"$error":"#DIV/0!"},{"$error":"#DIV/0!"},{"$error":"#DIV/0!"},{"$error":"#DIV/0!"},{"$error":"#DIV/0!"},{"$error":"#DIV/0!"},{"$error":"#DIV/0!"},{"$error":"#DIV/0!"},{"$error":"#DIV/0!"},{"$error":"#DIV/0!"},{"$error":"#DIV/0!"},{"$error":"#DIV/0!"},{"$error":"#DIV/0!"},{"$error":"#DIV/0!"},{"$error":"#DIV/0!"},{"$error":"#DIV/0!"},{"$error":"#DIV/0!"},null,49,100.6083540461494,{"$f":"Klimaatscenario!H56","v":78.202796078701397},{"$error":"#DIV/0!"},{"$error":"#DIV/0!"},{"$error":"#DIV/0!"},{"$error":"#DIV/0!"},{"$error":"#DIV/0!"},{"$error":"#DIV/0!"},{"$error":"#DIV/0!"},{"$error":"#DIV/0!"},{"$error":"#DIV/0!"},{"$error":"#DIV/0!"},{"$error":"#DIV/0!"},{"$error":"#DIV/0!"},{"$error":"#DIV/0!"},{"$error":"#DIV/0!"},{"$error":"#DIV/0!"},{"$error":"#DIV/0!"},{"$error":"#DIV/0!"},{"$error":"#DIV/0!"},{"$error":"#DIV/0!"},{"$error":"#DIV/0!"}]
[null,null,50,79.898395656743546,{"$f":"Klimaatscenario!G57","v":65.142663568763695},{"$error":"#DIV/0!"},{"$error":"#DIV/0!"},{"$error":"#DIV/0!"},{"$error":"#DIV/0!"},{"$error":"#DIV/0!"},{"$error":"#DIV/0!"},{"$error":"#DIV/0!"},{"$error":"#DIV/0!"},{"$error":"#DIV/0!"},{"$error":"#DIV/0!"},{"$error":"#DIV/0!"},{"$error":"#DIV/0!"},{"$error":"#DIV/0!"},{"$error":"#DIV/0!"},{"$error":"#DIV/0!"},{"$error":"#DIV/0!"},{"$error":"#DIV/0!"},{"$error":"#DIV/0!"},{"$error":"#DIV/0!"},{"$error":"#DIV/0!"},null,50,100.6083540461494,{"$f":"Klimaatscenario!H57","v":78.806446202978293},{"$error":"#DIV/0!"},{"$error":"#DIV/0!"},{"$error":"#DIV/0!"},{"$error":"#DIV/0!"},{"$error":"#DIV/0!"},{"$error":"#DIV/0!"},{"$error":"#DIV/0!"},{"$error":"#DIV/0!"},{"$error":"#DIV/0!"},{"$error":"#DIV/0!"},{"$error":"#DIV/0!"},{"$error":"#DIV/0!"},{"$error":"#DIV/0!"},{"$error":"#DIV/0!"},{"$error":"#DIV/0!"},{"$error":"#DIV/0!"},{"$error":"#DIV/0!"},{"$error":"#DIV/0!"},{"$error":"#DIV/0!"},{"$error":"#DIV/0!"}]
[null,null,51,79.898395656741172,{"$f":"Klimaatscenario!G58","v":65.622053942704142},{"$error":"#DIV/0!"},{"$error":"#DIV/0!"},{"$error":"#DIV/0!"},{"$error":"#DIV/0!"},{"$error":"#DIV/0!"},{"$error":"#DIV/0!"},{"$error":"#DIV/0!"},{"$error":"#DIV/0!"},{"$error":"#DIV/0!"},{"$error":"#DIV/0!"},{"$error":"#DIV/0!"},{"$error":"#DIV/0!"},{"$error":"#DIV/0!"},{"$error":"#DIV/0!"},{"$error":"#DIV/0!"},{"$error":"#DIV/0!"},{"$error":"#DIV/0!"},{"$error":"#DIV/0!"},{"$error":"#DIV/0!"},{"$error":"#DIV/0!"},null,51,100.60835404614703,{"$f":"Klimaatscenario!H58","v":79.410096327255175},{"$error":"#DIV/0!"},{"$error":"#DIV/0!"},{"$error":"#DIV/0!"},{"$error":"#DIV/0!"},{"$error":"#DIV/0!"},{"$error":"#DIV/0!"},{"$error":"#DIV/0!"},{"$error":"#DIV/0!"},{"$error":"#DIV/0!"},{"$error":"#DIV/0!"},{"$error":"#DIV/0!"},{"$error":"#DIV/0!"},{"$error":"#DIV/0!"},{"$error":"#DIV/0!"},{"$error":"#DIV/0!"},{"$error":"#DIV/0!"},{"$error":"#DIV/0!"},{"$error":"#DIV/0!"},{"$error":"#DIV/0!"},{"$error":"#DIV/0!"}]
[null,null,52,79.898395656743546,{"$f":"Klimaatscenario!G59","v":66.101444316644603},{"$error":"#DIV/0!"},{"$error":"#DIV/0!"},{"$error":"#DIV/0!"},{"$error":"#DIV/0!"},{"$error":"#DIV/0!"},{"$error":"#DIV/0!"},{"$error":"#DIV/0!"},{"$error":"#DIV/0!"},{"$error":"#DIV/0!"},{"$error":"#DIV/0!"},{"$error":"#DIV/0!"},{"$error":"#DIV/0!"},{"$error":"#DIV/0!"},{"$error":"#DIV/0!"},{"$error":"#DIV/0!"},{"$error":"#DIV/0!"},{"$error":"#DIV/0!"},{"$error":"#DIV/0!"},{"$error":"#DIV/0!"},{"$error":"#DIV/0!"},null,52,100.6083540461494,{"$f":"Klimaatscenario!H59","v":80.013746451532072},{"$error":"#DIV/0!"},{"$error":"#DIV/0!"},{"$error":"#DIV/0!"},{"$error":"#DIV/0!"},{"$error":"#DIV/0!"},{"$error":"#DIV/0!"},{"$error":"#DIV/0!"},{"$error":"#DIV/0!"},{"$error":"#DIV/0!"},{"$error":"#DIV/0!"},{"$error":"#DIV/0!"},{"$error":"#DIV/0!"},{"$error":"#DIV/0!"},{"$error":"#DIV/0!"},{"$error":"#DIV/0!"},{"$error":"#DIV/0!"},{"$error":"#DIV/0!"},{"$error":"#DIV/0!"},{"$error":"#DIV/0!"},{"$error":"#DIV/0!"}]
[null,null,53,79.898395656741172,{"$f":"Klimaatscenario!G60","v":66.58083469058505},{"$error":"#DIV/0!"},{"$error":"#DIV/0!"},{"$error":"#DIV/0!"},{"$error":"#DIV/0!"},{"$error":"#DIV/0!"},{"$error":"#DIV/0!"},{"$error":"#DIV/0!"},{"$error":"#DIV/0!"},{"$error":"#DIV/0!"},{"$error":"#DIV/0!"},{"$error":"#DIV/0!"},{"$error":"#DIV/0!"},{"$error":"#DIV/0!"},{"$error":"#DIV/0!"},{"$error":"#DIV/0!"},{"$error":"#DIV/0!"},{"$error":"#DIV/0!"},{"$error":"#DIV/0!"},{"$error":"#DIV/0!"},{"$error":"#DIV/0!"},null,53,100.60835404614703,{"$f":"Klimaatscenario!H60","v":80.617396575808954},{"$error":"#DIV/0!"},{"$error":"#DIV/0!"},{"$error":"#DIV/0!"},{"$error":"#DIV/0!"},{"$error":"#DIV/0!"},{"$error":"#DIV/0!"},{"$error":"#DIV/0!"},{"$error":"#DIV/0!"},{"$error":"#DIV/0!"},{"$error":"#DIV/0!"},{"$error":"#DIV/0!"},{"$error":"#DIV/0!"},{"$error":"#DIV/0!"},{"$error":"#DIV/0!"},{"$error":"#DIV/0!"},{"$error":"#DIV/0!"},{"$error":"#DIV/0!"},{"$error":"#DIV/0!"},{"$error":"#DIV/0!"},{"$error":"#DIV/0!"}]
[null,null,54,79.898395656741172,{"$f":"Klimaatscenario!G61","v":67.060225064525497},{"$error":"#DIV/0!"},{"$error":"#DIV/0!"},{"$error":"#DIV/0!"},{"$error":"#DIV/0!"},{"$error":"#DIV/0!"},{"$error":"#DIV/0!"},{"$error":"#DIV/0!"},{"$error":"#DIV/0!"},{"$error":"#DIV/0!"},{"$error":"#DIV/0!"},{"$error":"#DIV/0!"},{"$error":"#DIV/0!"},{"$error":"#DIV/0!"},{"$error":"#DIV/0!"},{"$error":"#DIV/0!"},{"$error":"#DIV/0!"},{"$error":"#DIV/0!"},{"$error":"#DIV/0!"},{"$error":"#DIV/0!"},{"$error":"#DIV/0!"},null,54,100.6083540461494,{"$f":"Klimaatscenario!H61","v":81.22104670008585},{"$error":"#DIV/0!"},{"$error":"#DIV/0!"},{"$error":"#DIV/0!"},{"$error":"#DIV/0!"},{"$error":"#DIV/0!"},{"$error":"#DIV/0!"},{"$error":"#DIV/0!"},{"$error":"#DIV/0!"},{"$error":"#DIV/0!"},{"$error":"#DIV/0!"},{"$error":"#DIV/0!"},{"$error":"#DIV/0!"},{"$error":"#DIV/0!"},{"$error":"#DIV/0!"},{"$error":"#DIV/0!"},{"$error":"#DIV/0!"},{"$error":"#DIV/0!"},{"$error":"#DIV/0!"},{"$error":"#DIV/0!"},{"$error":"#DIV/0!"}]
[null,null,55,79.898395656741172,{"$f":"Klimaatscenario!G62","v":67.539615438465944},{"$error":"#DIV/0!"},{"$error":"#DIV/0!"},{"$error":"#DIV/0!"},{"$error":"#DIV/0!"},{"$error":"#DIV/0!"},{"$error":"#DIV/0!"},{"$error":"#DIV/0!"},{"$error":"#DIV/0!"},{"$error":"#DIV/0!"},{"$error":"#DIV/0!"},{"$error":"#DIV/0!"},{"$error":"#DIV/0!"},{"$error":"#DIV/0!"},{"$error":"#DIV/0!"},{"$error":"#DIV/0!"},{"$error":"#DIV/0!"},{"$error":"#DIV/0!"},{"$error":"#DIV/0!"},{"$error":"#DIV/0!"},{"$error":"#DIV/0!"},null,55,100.6083540461494,{"$f":"Klimaatscenario!H62","v":81.824696824362746},{"$error":"#DIV/0!"},{"$error":"#DIV/0!"},{"$error":"#DIV/0!"},{"$error":"#DIV/0!"},{"$error":"#DIV/0!"},{"$error":"#DIV/0!"},{"$error":"#DIV/0!"},{"$error":"#DIV/0!"},{"$error":"#DIV/0!"},{"$error":"#DIV/0!"},{"$error":"#DIV/0!"},{"$error":"#DIV/0!"},{"$error":"#DIV/0!"},{"$error":"#DIV/0!"},{"$error":"#DIV/0!"},{"$error":"#DIV/0!"},{"$error":"#DIV/0!"},{"$error":"#DIV/0!"},{"$error":"#DIV/0!"},{"$error":"#DIV/0!"}]
[null,null,56,79.898395656743546,{"$f":"Klimaatscenario!G63","v":68.019005812406405},{"$error":"#DIV/0!"},{"$error":"#DIV/0!"},{"$error":"#DIV/0!"},{"$error":"#DIV/0!"},{"$error":"#DIV/0!"},{"$error":"#DIV/0!"},{"$error":"#DIV/0!"},{"$error":"#DIV/0!"},{"$error":"#DIV/0!"},{"$error":"#DIV/0!"},{"$error":"#DIV/0!"},{"$error":"#DIV/0!"},{"$error":"#DIV/0!"},{"$error":"#DIV/0!"},{"$error":"#DIV/0!"},{"$error":"#DIV/0!"},{"$error":"#DIV/0!"},{"$error":"#DIV/0!"},{"$error":"#DIV/0!"},{"$error":"#DIV/0!"},null,56,100.6083540461494,{"$f":"Klimaatscenario!H63","v":82.428346948639643},{"$error":"#DIV/0!"},{"$error":"#DIV/0!"},{"$error":"#DIV/0!"},{"$error":"#DIV/0!"},{"$error":"#DIV/0!"},{"$error":"#DIV/0!"},{"$error":"#DIV/0!"},{"$error":"#DIV/0!"},{"$error":"#DIV/0!"},{"$error":"#DIV/0!"},{"$error":"#DIV/0!"},{"$error":"#DIV/0!"},{"$error":"#DIV/0!"},{"$error":"#DIV/0!"},{"$error":"#DIV/0!"},{"$error":"#DIV/0!"},{"$error":"#DIV/0!"},{"$error":"#DIV/0!"},{"$error":"#DIV/0!"},{"$error":"#DIV/0!"}]
[null,null,57,79.898395656741172,{"$f":"Klimaatscenario!G64","v":68.498396186346852},{"$error":"#DIV/0!"},{"$error":"#DIV/0!"},{"$error":"#DIV/0!"},{"$error":"#DIV/0!"},{"$error":"#DIV/0!"},{"$error":"#DIV/0!"},{"$error":"#DIV/0!"},{"$error":"#DIV/0!"},{"$error":"#DIV/0!"},{"$error":"#DIV/0!"},{"$error":"#DIV/0!"},{"$error":"#DIV/0!"},{"$error":"#DIV/0!"},{"$error":"#DIV/0!"},{"$error":"#DIV/0!"},{"$error":"#DIV/0!"},{"$error":"#DIV/0!"},{"$error":"#DIV/0!"},{"$error":"#DIV/0!"},{"$error":"#DIV/0!"},null,57,100.60835404614703,{"$f":"Klimaatscenario!H64","v":83.031997072916525},{"$error":"#DIV/0!"},{"$error":"#DIV/0!"},{"$error":"#DIV/0!"},{"$error":"#DIV/0!"},{"$error":"#DIV/0!"},{"$error":"#DIV/0!"},{"$error":"#DIV/0!"},{"$error":"#DIV/0!"},{"$error":"#DIV/0!"},{"$error":"#DIV/0!"},{"$error":"#DIV/0!"},{"$error":"#DIV/0!"},{"$error":"#DIV/0!"},{"$error":"#DIV/0!"},{"$error":"#DIV/0!"},{"$error":"#DIV/0!"},{"$error":"#DIV/0!"},{"$error":"#DIV/0!"},{"$error":"#DIV/0!"},{"$error":"#DIV/0!"}]
[null,null,58,79.898395656741172,{"$f":"Klimaatscenario!G65","v":68.977786560287299},{"$error":"#DIV/0!"},{"$error":"#DIV/0!"},{"$error":"#DIV/0!"},{"$error":"#DIV/0!"},{"$error":"#DIV/0!"},{"$error":"#DIV/0!"},{"$error":"#DIV/0!"},{"$error":"#DIV/0!"},{"$error":"#DIV/0!"},{"$error":"#DIV/0!"},{"$error":"#DIV/0!"},{"$error":"#DIV/0!"},{"$error":"#DIV/0!"},{"$error":"#DIV/0!"},{"$error":"#DIV/0!"},{"$error":"#DIV/0!"},{"$error":"#DIV/0!"},{"$error":"#DIV/0!"},{"$error":"#DIV/0!"},{"$error":"#DIV/0!"},null,58,100.6083540461494,{"$f":"Klimaatscenario!H65","v":83.635647197193421},{"$error":"#DIV/0!"},{"$error":"#DIV/0!"},{"$error":"#DIV/0!"},{"$error":"#DIV/0!"},{"$error":"#DIV/0!"},{"$error":"#DIV/0!"},{"$error":"#DIV/0!"},{"$error":"#DIV/0!"},{"$error":"#DIV/0!"},{"$error":"#DIV/0!"},{"$error":"#DIV/0!"},{"$error":"#DIV/0!"},{"$error":"#DIV/0!"},{"$error":"#DIV/0!"},{"$error":"#DIV/0!"},{"$error":"#DIV/0!"},{"$error":"#DIV/0!"},{"$error":"#DIV/0!"},{"$error":"#DIV/0!"},{"$error":"#DIV/0!"}]
[null,null,59,79.898395656743546,{"$f":"Klimaatscenario!G66","v":69.457176934227761},{"$error":"#DIV/0!"},{"$error":"#DIV/0!"},{"$error":"#DIV/0!"},{"$error":"#DIV/0!"},{"$error":"#DIV/0!"},{"$error":"#DIV/0!"},{"$error":"#DIV/0!"},{"$error":"#DIV/0!"},{"$error":"#DIV/0!"},{"$error":"#DIV/0!"},{"$error":"#DIV/0!"},{"$error":"#DIV/0!"},{"$error":"#DIV/0!"},{"$error":"#DIV/0!"},{"$error":"#DIV/0!"},{"$error":"#DIV/0!"},{"$error":"#DIV/0!"},{"$error":"#DIV/0!"},{"$error":"#DIV/0!"},{"$error":"#DIV/0!"},null,59,100.60835404614703,{"$f":"Klimaatscenario!H66","v":84.239297321470303},{"$error":"#DIV/0!"},{"$error":"#DIV/0!"},{"$error":"#DIV/0!"},{"$error":"#DIV/0!"},{"$error":"#DIV/0!"},{"$error":"#DIV/0!"},{"$error":"#DIV/0!"},{"$error":"#DIV/0!"},{"$error":"#DIV/0!"},{"$error":"#DIV/0!"},{"$error":"#DIV/0!"},{"$error":"#DIV/0!"},{"$error":"#DIV/0!"},{"$error":"#DIV/0!"},{"$error":"#DIV/0!"},{"$error":"#DIV/0!"},{"$error":"#DIV/0!"},{"$error":"#DIV/0!"},{"$error":"#DIV/0!"},{"$error":"#DIV/0!"}]
[null,null,60,79.898395656741172,{"$f":"Klimaatscenario!G67","v":69.936567308168208},{"$error":"#DIV/0!"},{"$error":"#DIV/0!"},{"$error":"#DIV/0!"},{"$error":"#DIV/0!"},{"$error":"#DIV/0!"},{"$error":"#DIV/0!"},{"$error":"#DIV/0!"},{"$error":"#DIV/0!"},{"$error":"#DIV/0!"},{"$error":"#DIV/0!"},{"$error":"#DIV/0!"},{"$error":"#DIV/0!"},{"$error":"#DIV/0!"},{"$error":"#DIV/0!"},{"$error":"#DIV/0!"},{"$error":"#DIV/0!"},{"$error":"#DIV/0!"},{"$error":"#DIV/0!"},{"$error":"#DIV/0!"},{"$error":"#DIV/0!"},null,60,100.6083540461494,{"$f":"Klimaatscenario!H67","v":84.8429474457472},{"$error":"#DIV/0!"},{"$error":"#DIV/0!"},{"$error":"#DIV/0!"},{"$error":"#DIV/0!"},{"$error":"#DIV/0!"},{"$error":"#DIV/0!"},{"$error":"#DIV/0!"},{"$error":"#DIV/0!"},{"$error":"#DIV/0!"},{"$error":"#DIV/0!"},{"$error":"#DIV/0!"},{"$error":"#DIV/0!"},{"$error":"#DIV/0!"},{"$error":"#DIV/0!"},{"$error":"#DIV/0!"},{"$error":"#DIV/0!"},{"$error":"#DIV/0!"},{"$error":"#DIV/0!"},{"$error":"#DIV/0!"},{"$error":"#DIV/0!"}]
[null,null,61,36.262431188177402,{"$f":"Klimaatscenario!G68","v":70.154141895297272},{"$error":"#DIV/0!"},{"$error":"#DIV/0!"},{"$error":"#DIV/0!"},{"$error":"#DIV/0!"},{"$error":"#DIV/0!"},{"$error":"#DIV/0!"},{"$error":"#DIV/0!"},{"$error":"#DIV/0!"},{"$error":"#DIV/0!"},{"$error":"#DIV/0!"},{"$error":"#DIV/0!"},{"$error":"#DIV/0!"},{"$error":"#DIV/0!"},{"$error":"#DIV/0!"},{"$error":"#DIV/0!"},{"$error":"#DIV/0!"},{"$error":"#DIV/0!"},{"$error":"#DIV/0!"},{"$error":"#DIV/0!"},{"$error":"#DIV/0!"},null,61,38.275776105853275,{"$f":"Klimaatscenario!H68","v":85.072602102382319},{"$error":"#DIV/0!"},{"$error":"#DIV/0!"},{"$error":"#DIV/0!"},{"$error":"#DIV/0!"},{"$error":"#DIV/0!"},{"$error":"#DIV/0!"},{"$error":"#DIV/0!"},{"$error":"#DIV/0!"},{"$error":"#DIV/0!"},{"$error":"#DIV/0!"},{"$error":"#DIV/0!"},{"$error":"#DIV/0!"},{"$error":"#DIV/0!"},{"$error":"#DIV/0!"},{"$error":"#DIV/0!"},{"$error":"#DIV/0!"},{"$error":"#DIV/0!"},{"$error":"#DIV/0!"},{"$error":"#DIV/0!"},{"$error":"#DIV/0!"}]
[null,null,62,36.262431188175036,{"$f":"Klimaatscenario!G69","v":70.371716482426322},{"$error":"#DIV/0!"},{"$error":"#DIV/0!"},{"$error":"#DIV/0!"},{"$error":"#DIV/0!"},{"$error":"#DIV/0!"},{"$error":"#DIV/0!"},{"$error":"#DIV/0!"},{"$error":"#DIV/0!"},{"$error":"#DIV/0!"},{"$error":"#DIV/0!"},{"$error":"#DIV/0!"},{"$error":"#DIV/0!"},{"$error":"#DIV/0!"},{"$error":"#DIV/0!"},{"$error":"#DIV/0!"},{"$error":"#DIV/0!"},{"$error":"#DIV/0!"},{"$error":"#DIV/0!"},{"$error":"#DIV/0!"},{"$error":"#DIV/0!"},null,62,38.275776105850902,{"$f":"Klimaatscenario!H69","v":85.302256759017425},{"$error":"#DIV/0!"},{"$error":"#DIV/0!"},{"$error":"#DIV/0!"},{"$error":"#DIV/0!"},{"$error":"#DIV/0!"},{"$error":"#DIV/0!"},{"$error":"#DIV/0!"},{"$error":"#DIV/0!"},{"$error":"#DIV/0!"},{"$error":"#DIV/0!"},{"$error":"#DIV/0!"},{"$error":"#DIV/0!"},{"$error":"#DIV/0!"},{"$error":"#DIV/0!"},{"$error":"#DIV/0!"},{"$error":"#DIV/0!"},{"$error":"#DIV/0!"},{"$error":"#DIV/0!"},{"$error":"#DIV/0!"},{"$error":"#DIV/0!"}]
[null,null,63,36.262431188177402,{"$f":"Klimaatscenario!G70","v":70.589291069555387},{"$error":"#DIV/0!"},{"$error":"#DIV/0!"},{"$error":"#DIV/0!"},{"$error":"#DIV/0!"},{"$error":"#DIV/0!"},{"$error":"#DIV/0!"},{"$error":"#DIV/0!"},{"$error":"#DIV/0!"},{"$error":"#DIV/0!"},{"$error":"#DIV/0!"},{"$error":"#DIV/0!"},{"$error":"#DIV/0!"},{"$error":"#DIV/0!"},{"$error":"#DIV/0!"},{"$error":"#DIV/0!"},{"$error":"#DIV/0!"},{"$error":"#DIV/0!"},{"$error":"#DIV/0!"},{"$error":"#DIV/0!"},{"$error":"#DIV/0!"},null,63,38.275776105853275,{"$f":"Klimaatscenario!H70","v":85.531911415652544},{"$error":"#DIV/0!"},{"$error":"#DIV/0!"},{"$error":"#DIV/0!"},{"$error":"#DIV/0!"},{"$error":"#DIV/0!"},{"$error":"#DIV/0!"},{"$error":"#DIV/0!"},{"$error":"#DIV/0!"},{"$error":"#DIV/0!"},{"$error":"#DIV/0!"},{"$error":"#DIV/0!"},{"$error":"#DIV/0!"},{"$error":"#DIV/0!"},{"$error":"#DIV/0!"},{"$error":"#DIV/0!"},{"$error":"#DIV/0!"},{"$error":"#DIV/0!"},{"$error":"#DIV/0!"},{"$error":"#DIV/0!"},{"$error":"#DIV/0!"}]
[null,null,64,36.262431188177402,{"$f":"Klimaatscenario!G71","v":70.806865656684451},{"$error":"#DIV/0!"},{"$error":"#DIV/0!"},{"$error":"#DIV/0!"},{"$f":"($J$510/60)*$C494","v":{"$error":"#DIV/0!"}},{"$f":"$E494-F494-G494-H494-I494","v":{"$error":"#DIV/0!"}},{"$error":"#DIV/0!"},{"$f":"($O$512/60)*($C494)","v":{"$error":"#DIV/0!"}},{"$error":"#DIV/0!"},{"$f":"($O$510/60)*$C494","v":{"$error":"#DIV/0!"}},{"$f":"$E494-K494-L494-M494-N494","v":{"$error":"#DIV/0!"}},{"$error":"#DIV/0!"},{"$error":"#DIV/0!"},{"$error":"#DIV/0!"},{"$f":"($T$510/60)*$C494","v":{"$error":"#DIV/0!"}},{"$f":"$E494-P494-Q494-R494-S494","v":{"$error":"#DIV/0!"}},{"$error":"#DIV/0!"},{"$error":"#DIV/0!"},{"$error":"#DIV/0!"},{"$f":"($Y$510/60)*$C494","v":{"$error":"#DIV/0!"}},{"$f":"$E494-U494-V494-W494-X494","v":{"$error":"#DIV/0!"}},null,64,38.275776105853275,{"$f":"Klimaatscenario!H71","v":85.761566072287664},{"$error":"#DIV/0!"},{"$error":"#DIV/0!"},{"$error":"#DIV/0!"},{"$f":"($AH$510/60)*$AA494","v":{"$error":"#DIV/0!"}},{"$f":"$AC494-AD494-AE494-AF494-AG494","v":{"$error":"#DIV/0!"}},{"$error":"#DIV/0!"},{"$f":"($AM$512/60)*($AA494)","v":{"$error":"#DIV/0!"}},{"$error":"#DIV/0!"},{"$f":"($AM$510/60)*$AA494","v":{"$error":"#DIV/0!"}},{"$f":"$AC494-AI494-AJ494-AK494-AL494","v":{"$error":"#DIV/0!"}},{"$error":"#DIV/0!"},{"$error":"#DIV/0!"},{"$error":"#DIV/0!"},{"$f":"($AR$510/60)*$AA494","v":{"$error":"#DIV/0!"}},{"$f":"$AC494-AN494-AO494-AP494-AQ494","v":{"$error":"#DIV/0!"}},{"$error":"#DIV/0!"},{"$f":"($AW$512/60)*($AA494)","v":{"$error":"#DIV/0!"}},{"$error":"#DIV/0!"},{"$f":"($AW$510/60)*$AA494","v":{"$error":"#DIV/0!"}},{"$f":"$AC494-AS494-AT494-AU494-AV494","v":{"$error":"#DIV/0!"}}]
[null,null,65,36.262431188175036,{"$f":"Klimaatscenario!G72","v":71.024440243813501},{"$f":"((J$509*60)/10000)+F494","v":{"$error":"#DIV/0!"}},{"$f":"($J$512/60)*($C495)","v":{"$error":"#DIV/0!"}},{"$error":"#DIV/0!"},{"$error":"#DIV/0!"},{"$error":"#DIV/0!"},{"$f":"((O$509*60)/10000)+K494","v":{"$error":"#DIV/0!"}},{"$error":"#DIV/0!"},{"$f":"O$508","v":{"$error":"#DIV/0!"}},{"$error":"#DIV/0!"},{"$error":"#DIV/0!"},{"$f":"((T$509*60)/10000)+P494","v":{"$error":"#DIV/0!"}},{"$f":"($T$512/60)*($C495)","v":{"$error":"#DIV/0!"}},{"$error":"#DIV/0!"},{"$error":"#DIV/0!"},{"$error":"#DIV/0!"},{"$f":"((Y$509*60)/10000)+U494","v":{"$error":"#DIV/0!"}},{"$f":"($Y$512/60)*($C495)","v":{"$error":"#DIV/0!"}},{"$f":"Y$508","v":{"$error":"#DIV/0!"}},{"$error":"#DIV/0!"},{"$error":"#DIV/0!"},null,65,38.275776105850902,{"$f":"Klimaatscenario!H72","v":85.991220728922769},{"$f":"((AH$509*60)/10000)+AD494","v":{"$error":"#DIV/0!"}},{"$f":"($AH$512/60)*($AA495)","v":{"$error":"#DIV/0!"}},{"$error":"#DIV/0!"},{"$error":"#DIV/0!"},{"$error":"#DIV/0!"},{"$f":"((AM$509*60)/10000)+AI494","v":{"$error":"#DIV/0!"}},{"$error":"#DIV/0!"},{"$error":"#DIV/0!"},{"$error":"#DIV/0!"},{"$error":"#DIV/0!"},{"$f":"((AR$509*60)/10000)+AN494","v":{"$error":"#DIV/0!"}},{"$f":"($AR$512/60)*($AA495)","v":{"$error":"#DIV/0!"}},{"$error":"#DIV/0!"},{"$error":"#DIV/0!"},{"$error":"#DIV/0!"},{"$f":"((AW$509*60)/10000)+AS494","v":{"$error":"#DIV/0!"}},{"$error":"#DIV/0!"},{"$error":"#DIV/0!"},{"$error":"#DIV/0!"},{"$error":"#DIV/0!"}]
[null,null,66,36.262431188177402,{"$f":"Klimaatscenario!G73","v":71.242014830942566},{"$error":"#DIV/0!"},{"$error":"#DIV/0!"},{"$f":"J$508","v":{"$error":"#DIV/0!"}},{"$error":"#DIV/0!"},{"$error":"#DIV/0!"},{"$error":"#DIV/0!"},{"$error":"#DIV/0!"},{"$error":"#DIV/0!"},{"$error":"#DIV/0!"},{"$error":"#DIV/0!"},{"$error":"#DIV/0!"},{"$error":"#DIV/0!"},{"$f":"T$508","v":{"$error":"#DIV/0!"}},{"$error":"#DIV/0!"},{"$error":"#DIV/0!"},{"$error":"#DIV/0!"},{"$error":"#DIV/0!"},{"$error":"#DIV/0!"},{"$error":"#DIV/0!"},{"$error":"#DIV/0!"},null,66,38.275776105853275,{"$f":"Klimaatscenario!H73","v":86.220875385557889},{"$error":"#DIV/0!"},{"$error":"#DIV/0!"},{"$f":"AH$508","v":{"$error":"#DIV/0!"}},{"$error":"#DIV/0!"},{"$error":"#DIV/0!"},{"$error":"#DIV/0!"},{"$error":"#DIV/0!"},{"$f":"AM$508","v":{"$error":"#DIV/0!"}},{"$error":"#DIV/0!"},{"$error":"#DIV/0!"},{"$error":"#DIV/0!"},{"$error":"#DIV/0!"},{"$f":"AR$508","v":{"$error":"#DIV/0!"}},{"$error":"#DIV/0!"},{"$error":"#DIV/0!"},{"$error":"#DIV/0!"},{"$error":"#DIV/0!"},{"$f":"AW$508","v":{"$error":"#DIV/0!"}},{"$error":"#DIV/0!"},{"$error":"#DIV/0!"}]
[null,null,67,36.262431188177402,{"$f":"Klimaatscenario!G74","v":71.45958941807163},{"$error":"#DIV/0!"},{"$error":"#DIV/0!"},{"$error":"#DIV/0!"},{"$error":"#DIV/0!"},{"$error":"#DIV/0!"},{"$error":"#DIV/0!"},{"$error":"#DIV/0!"},{"$error":"#DIV/0!"},{"$error":"#DIV/0!"},{"$error":"#DIV/0!"},{"$error":"#DIV/0!"},{"$error":"#DIV/0!"},{"$error":"#DIV/0!"},{"$error":"#DIV/0!"},{"$error":"#DIV/0!"},{"$error":"#DIV/0!"},{"$error":"#DIV/0!"},{"$error":"#DIV/0!"},{"$error":"#DIV/0!"},{"$error":"#DIV/0!"},null,67,38.275776105853275,{"$f":"Klimaatscenario!H74","v":86.450530042193009},{"$error":"#DIV/0!"},{"$error":"#DIV/0!"},{"$error":"#DIV/0!"},{"$error":"#DIV/0!"},{"$error":"#DIV/0!"},{"$error":"#DIV/0!"},{"$error":"#DIV/0!"},{"$error":"#DIV/0!"},{"$error":"#DIV/0!"},{"$error":"#DIV/0!"},{"$error":"#DIV/0!"},{"$error":"#DIV/0!"},{"$error":"#DIV/0!"},{"$error":"#DIV/0!"},{"$error":"#DIV/0!"},{"$error":"#DIV/0!"},{"$error":"#DIV/0!"},{"$error":"#DIV/0!"},{"$error":"#DIV/0!"},{"$error":"#DIV/0!"}]
[null,null,68,36.262431188175036,{"$f":"Klimaatscenario!G75","v":71.67716400520068},{"$error":"#DIV/0!"},{"$error":"#DIV/0!"},{"$error":"#DIV/0!"},{"$error":"#DIV/0!"},{"$error":"#DIV/0!"},{"$error":"#DIV/0!"},{"$error":"#DIV/0!"},{"$error":"#DIV/0!"},{"$error":"#DIV/0!"},{"$error":"#DIV/0!"},{"$error":"#DIV/0!"},{"$error":"#DIV/0!"},{"$error":"#DIV/0!"},{"$error":"#DIV/0!"},{"$error":"#DIV/0!"},{"$error":"#DIV/0!"},{"$error":"#DIV/0!"},{"$error":"#DIV/0!"},{"$error":"#DIV/0!"},{"$error":"#DIV/0!"},null,68,38.275776105850902,{"$f":"Klimaatscenario!H75","v":86.680184698828114},{"$error":"#DIV/0!"},{"$error":"#DIV/0!"},{"$error":"#DIV/0!"},{"$error":"#DIV/0!"},{"$error":"#DIV/0!"},{"$error":"#DIV/0!"},{"$error":"#DIV/0!"},{"$error":"#DIV/0!"},{"$error":"#DIV/0!"},{"$error":"#DIV/0!"},{"$error":"#DIV/0!"},{"$error":"#DIV/0!"},{"$error":"#DIV/0!"},{"$error":"#DIV/0!"},{"$error":"#DIV/0!"},{"$error":"#DIV/0!"},{"$error":"#DIV/0!"},{"$error":"#DIV/0!"},{"$error":"#DIV/0!"},{"$error":"#DIV/0!"}]
[null,null,69,{"$f":"((((((E499-E498)/(C499-C498))/60)/1000)*10000)*1000)","v":36.262431188177402},{"$f":"Klimaatscenario!G76","v":71.894738592329745},{"$error":"#DIV/0!"},{"$error":"#DIV/0!"},{"$error":"#DIV/0!"},{"$error":"#DIV/0!"},{"$error":"#DIV/0!"},{"$error":"#DIV/0!"},{"$error":"#DIV/0!"},{"$error":"#DIV/0!"},{"$error":"#DIV/0!"},{"$error":"#DIV/0!"},{"$error":"#DIV/0!"},{"$error":"#DIV/0!"},{"$error":"#DIV/0!"},{"$error":"#DIV/0!"},{"$error":"#DIV/0!"},{"$error":"#DIV/0!"},{"$error":"#DIV/0!"},{"$error":"#DIV/0!"},{"$error":"#DIV/0!"},{"$error":"#DIV/0!"},null,69,{"$f":"((((((AC499-AC498)/(AA499-AA498))/60)/1000)*10000)*1000)","v":38.275776105853275},{"$f":"Klimaatscenario!H76","v":86.909839355463234},{"$error":"#DIV/0!"},{"$error":"#DIV/0!"},{"$error":"#DIV/0!"},{"$error":"#DIV/0!"},{"$error":"#DIV/0!"},{"$error":"#DIV/0!"},{"$error":"#DIV/0!"},{"$error":"#DIV/0!"},{"$error":"#DIV/0!"},{"$error":"#DIV/0!"},{"$error":"#DIV/0!"},{"$error":"#DIV/0!"},{"$error":"#DIV/0!"},{"$error":"#DIV/0!"},{"$error":"#DIV/0!"},{"$error":"#DIV/0!"},{"$error":"#DIV/0!"},{"$error":"#DIV/0!"},{"$error":"#DIV/0!"},{"$error":"#DIV/0!"}]
[null,null,70,36.262431188177402,{"$f":"Klimaatscenario!G77","v":72.112313179458809},{"$error":"#DIV/0!"},{"$error":"#DIV/0!"},{"$error":"#DIV/0!"},{"$error":"#DIV/0!"},{"$error":"#DIV/0!"},{"$error":"#DIV/0!"},{"$error":"#DIV/0!"},{"$error":"#DIV/0!"},{"$error":"#DIV/0!"},{"$error":"#DIV/0!"},{"$error":"#DIV/0!"},{"$error":"#DIV/0!"},{"$error":"#DIV/0!"},{"$error":"#DIV/0!"},{"$error":"#DIV/0!"},{"$error":"#DIV/0!"},{"$error":"#DIV/0!"},{"$error":"#DIV/0!"},{"$error":"#DIV/0!"},{"$error":"#DIV/0!"},null,70,38.275776105853275,{"$f":"Klimaatscenario!H77","v":87.139494012098353},{"$error":"#DIV/0!"},{"$error":"#DIV/0!"},{"$error":"#DIV/0!"},{"$error":"#DIV/0!"},{"$error":"#DIV/0!"},{"$error":"#DIV/0!"},{"$error":"#DIV/0!"},{"$error":"#DIV/0!"},{"$error":"#DIV/0!"},{"$error":"#DIV/0!"},{"$error":"#DIV/0!"},{"$error":"#DIV/0!"},{"$error":"#DIV/0!"},{"$error":"#DIV/0!"},{"$error":"#DIV/0!"},{"$error":"#DIV/0!"},{"$error":"#DIV/0!"},{"$error":"#DIV/0!"},{"$error":"#DIV/0!"},{"$error":"#DIV/0!"}]
[null,null,71,36.262431188175036,{"$f":"Klimaatscenario!G78","v":72.329887766587859},{"$error":"#DIV/0!"},{"$error":"#DIV/0!"},{"$error":"#DIV/0!"},{"$error":"#DIV/0!"},{"$error":"#DIV/0!"},{"$error":"#DIV/0!"},{"$error":"#DIV/0!"},{"$error":"#DIV/0!"},{"$error":"#DIV/0!"},{"$error":"#DIV/0!"},{"$error":"#DIV/0!"},{"$error":"#DIV/0!"},{"$error":"#DIV/0!"},{"$error":"#DIV/0!"},{"$error":"#DIV/0!"},{"$error":"#DIV/0!"},{"$error":"#DIV/0!"},{"$error":"#DIV/0!"},{"$error":"#DIV/0!"},{"$error":"#DIV/0!"},null,71,38.275776105850902,{"$f":"Klimaatscenario!H78","v":87.369148668733459},{"$error":"#DIV/0!"},{"$error":"#DIV/0!"},{"$error":"#DIV/0!"},{"$error":"#DIV/0!"},{"$error":"#DIV/0!"},{"$error":"#DIV/0!"},{"$error":"#DIV/0!"},{"$error":"#DIV/0!"},{"$error":"#DIV/0!"},{"$error":"#DIV/0!"},{"$error":"#DIV/0!"},{"$error":"#DIV/0!"},{"$error":"#DIV/0!"},{"$error":"#DIV/0!"},{"$error":"#DIV/0!"},{"$error":"#DIV/0!"},{"$error":"#DIV/0!"},{"$error":"#DIV/0!"},{"$error":"#DIV/0!"},{"$error":"#DIV/0!"}]
[null,null,72,36.262431188177402,{"$f":"Klimaatscenario!G79","v":72.547462353716924},{"$error":"#DIV/0!"},{"$error":"#DIV/0!"},{"$error":"#DIV/0!"},{"$error":"#DIV/0!"},{"$error":"#DIV/0!"},{"$error":"#DIV/0!"},{"$error":"#DIV/0!"},{"$error":"#DIV/0!"},{"$error":"#DIV/0!"},{"$error":"#DIV/0!"},{"$error":"#DIV/0!"},{"$error":"#DIV/0!"},{"$error":"#DIV/0!"},{"$error":"#DIV/0!"},{"$error":"#DIV/0!"},{"$error":"#DIV/0!"},{"$error":"#DIV/0!"},{"$error":"#DIV/0!"},{"$error":"#DIV/0!"},{"$error":"#DIV/0!"},null,72,38.275776105853275,{"$f":"Klimaatscenario!H79","v":87.598803325368578},{"$error":"#DIV/0!"},{"$error":"#DIV/0!"},{"$error":"#DIV/0!"},{"$error":"#DIV/0!"},{"$error":"#DIV/0!"},{"$error":"#DIV/0!"},{"$error":"#DIV/0!"},{"$error":"#DIV/0!"},{"$error":"#DIV/0!"},{"$error":"#DIV/0!"},{"$error":"#DIV/0!"},{"$error":"#DIV/0!"},{"$error":"#DIV/0!"},{"$error":"#DIV/0!"},{"$error":"#DIV/0!"},{"$error":"#DIV/0!"},{"$error":"#DIV/0!"},{"$error":"#DIV/0!"},{"$error":"#DIV/0!"},{"$error":"#DIV/0!"}]
[null,null,73,36.262431188177402,{"$f":"Klimaatscenario!G80","v":72.765036940845988},{"$error":"#DIV/0!"},{"$error":"#DIV/0!"},{"$error":"#DIV/0!"},{"$error":"#DIV/0!"},{"$error":"#DIV/0!"},{"$error":"#DIV/0!"},{"$error":"#DIV/0!"},{"$error":"#DIV/0!"},{"$error":"#DIV/0!"},{"$error":"#DIV/0!"},{"$error":"#DIV/0!"},{"$error":"#DIV/0!"},{"$error":"#DIV/0!"},{"$error":"#DIV/0!"},{"$error":"#DIV/0!"},{"$error":"#DIV/0!"},{"$error":"#DIV/0!"},{"$error":"#DIV/0!"},{"$error":"#DIV/0!"},{"$error":"#DIV/0!"},null,73,38.275776105853275,{"$f":"Klimaatscenario!H80","v":87.828457982003698},{"$error":"#DIV/0!"},{"$error":"#DIV/0!"},{"$error":"#DIV/0!"},{"$error":"#DIV/0!"},{"$error":"#DIV/0!"},{"$error":"#DIV/0!"},{"$error":"#DIV/0!"},{"$error":"#DIV/0!"},{"$error":"#DIV/0!"},{"$error":"#DIV/0!"},{"$error":"#DIV/0!"},{"$error":"#DIV/0!"},{"$error":"#DIV/0!"},{"$error":"#DIV/0!"},{"$error":"#DIV/0!"},{"$error":"#DIV/0!"},{"$error":"#DIV/0!"},{"$error":"#DIV/0!"},{"$error":"#DIV/0!"},{"$error":"#DIV/0!"}]
[null,null,74,36.262431188175036,{"$f":"Klimaatscenario!G81","v":72.982611527975038},{"$error":"#DIV/0!"},{"$error":"#DIV/0!"},{"$error":"#DIV/0!"},{"$error":"#DIV/0!"},{"$error":"#DIV/0!"},{"$error":"#DIV/0!"},{"$error":"#DIV/0!"},{"$error":"#DIV/0!"},{"$error":"#DIV/0!"},{"$error":"#DIV/0!"},{"$error":"#DIV/0!"},{"$error":"#DIV/0!"},{"$error":"#DIV/0!"},{"$error":"#DIV/0!"},{"$error":"#DIV/0!"},{"$error":"#DIV/0!"},{"$error":"#DIV/0!"},{"$error":"#DIV/0!"},{"$error":"#DIV/0!"},{"$error":"#DIV/0!"},null,74,38.275776105850902,{"$f":"Klimaatscenario!H81","v":88.058112638638804},{"$error":"#DIV/0!"},{"$error":"#DIV/0!"},{"$error":"#DIV/0!"},{"$error":"#DIV/0!"},{"$error":"#DIV/0!"},{"$error":"#DIV/0!"},{"$error":"#DIV/0!"},{"$error":"#DIV/0!"},{"$error":"#DIV/0!"},{"$error":"#DIV/0!"},{"$error":"#DIV/0!"},{"$error":"#DIV/0!"},{"$error":"#DIV/0!"},{"$error":"#DIV/0!"},{"$error":"#DIV/0!"},{"$error":"#DIV/0!"},{"$error":"#DIV/0!"},{"$error":"#DIV/0!"},{"$error":"#DIV/0!"},{"$error":"#DIV/0!"}]
[null,null,75,36.262431188177402,{"$f":"Klimaatscenario!G82","v":73.200186115104103},{"$error":"#DIV/0!"},{"$f":"($J$512/60)*($C505)","v":{"$error":"#DIV/0!"}},{"$error":"#DIV/0!"},{"$error":"#DIV/0!"},{"$error":"#DIV/0!"},{"$error":"#DIV/0!"},{"$f":"($O$512/60)*($C505)","v":{"$error":"#DIV/0!"}},{"$error":"#DIV/0!"},{"$error":"#DIV/0!"},{"$error":"#DIV/0!"},{"$error":"#DIV/0!"},{"$f":"($T$512/60)*($C505)","v":{"$error":"#DIV/0!"}},{"$error":"#DIV/0!"},{"$error":"#DIV/0!"},{"$error":"#DIV/0!"},{"$error":"#DIV/0!"},{"$f":"($Y$512/60)*($C505)","v":{"$error":"#DIV/0!"}},{"$error":"#DIV/0!"},{"$error":"#DIV/0!"},{"$error":"#DIV/0!"},null,75,38.275776105853275,{"$f":"Klimaatscenario!H82","v":88.287767295273923},{"$error":"#DIV/0!"},{"$f":"($AH$512/60)*($AA505)","v":{"$error":"#DIV/0!"}},{"$error":"#DIV/0!"},{"$error":"#DIV/0!"},{"$error":"#DIV/0!"},{"$error":"#DIV/0!"},{"$f":"($AM$512/60)*($AA505)","v":{"$error":"#DIV/0!"}},{"$error":"#DIV/0!"},{"$error":"#DIV/0!"},{"$error":"#DIV/0!"},{"$error":"#DIV/0!"},{"$f":"($AR$512/60)*($AA505)","v":{"$error":"#DIV/0!"}},{"$error":"#DIV/0!"},{"$error":"#DIV/0!"},{"$error":"#DIV/0!"},{"$error":"#DIV/0!"},{"$f":"($AW$512/60)*($AA505)","v":{"$error":"#DIV/0!"}},{"$error":"#DIV/0!"},{"$error":"#DIV/0!"},{"$error":"#DIV/0!"}]
[]
[null,null,"Berging blokmethode, maximale waterstand op straat [mm]",null,null,null,null,null,null,{"$f":"MAX(J430:J505)","v":{"$error":"#DIV/0!"}},null,null,null,null,{"$f":"MAX(O430:O505)","v":{"$error":"#DIV/0!"}},null,null,null,null,{"$f":"MAX(T430:T505)","v":{"$error":"#DIV/0!"}},null,null,null,null,{"$f":"MAX(Y430:Y505)","v":{"$error":"#DIV/0!"}},null,"Berging blokmethode, maximale waterstand op straat [mm]",null,null,null,null,null,null,{"$f":"MAX(AH430:AH505)","v":{"$error":"#DIV/0!"}},null,null,null,null,{"$f":"MAX(AM430:AM505)","v":{"$error":"#DIV/0!"}},null,null,null,null,{"$f":"MAX(AR430:AR505)","v":{"$error":"#DIV/0!"}},null,null,null,null,{"$f":"MAX(AW430:AW505)","v":{"$error":"#DIV/0!"}}]
[null,null,"Berging in de voorziening [mm neerslagoppervlak]",null,null,null,null,null,null,{"$f":"(Invoer!$D$14*Invoer!$D$21)/Invoer!Neerslag_oppervlak","v":{"$error":"#DIV/0!"}},null,null,null,null,{"$f":"(Invoer!$E$14*Invoer!$E$21)/Invoer!Neerslag_oppervlak","v":{"$error":"#DIV/0!"}},null,null,null,null,{"$f":"(Invoer!$F$14*Invoer!$F$21)/Invoer!Neerslag_oppervlak","v":{"$error":"#DIV/0!"}},null,null,null,null,{"$f":"(Invoer!$G$14*Invoer!$G$21)/Invoer!Neerslag_oppervlak","v":{"$error":"#DIV/0!"}},null,"Berging in de voorziening [mm neerslagoppervlak]",null,null,null,null,null,null,{"$f":"(Invoer!$D$14*Invoer!$D$21)/Invoer!Neerslag_oppervlak","v":{"$error":"#DIV/0!"}},null,null,null,null,{"$f":"(Invoer!$E$14*Invoer!$E$21)/Invoer!Neerslag_oppervlak","v":{"$error":"#DIV/0!"}},null,null,null,null,{"$f":"(Invoer!$F$14*Invoer!$F$21)/Invoer!Neerslag_oppervlak","v":{"$error":"#DIV/0!"}},null,null,null,null,{"$f":"(Invoer!$G$14*Invoer!$G$21)/Invoer!Neerslag_oppervlak","v":{"$error":"#DIV/0!"}}]
[null,null,"Afvoercapaciteit riool [l/s/ha neerslagoppervlak]",null,null,null,null,null,null,{"$f":"((Invoer!$D$11*Invoer!$D$21)/Invoer!Neerslag_oppervlak)*10000/60/60","v":{"$error":"#DIV/0!"}},null,null,null,null,{"$f":"((Invoer!$E$11*Invoer!$E$21)/Invoer!Neerslag_oppervlak)*10000/60/60","v":{"$error":"#DIV/0!"}},null,null,null,null,{"$f":"((Invoer!$F$11*Invoer!$F$21)/Invoer!Neerslag_oppervlak)*10000/60/60","v":{"$error":"#DIV/0!"}},null,null,null,null,{"$f":"((Invoer!$G$11*Invoer!$G$21)/Invoer!Neerslag_oppervlak)*10000/60/60","v":{"$error":"#DIV/0!"}},null,"Afvoercapaciteit riool [l/s/ha neerslagoppervlak]",null,null,null,null,null,null,{"$f":"((Invoer!$D$11*Invoer!$D$21)/Invoer!Neerslag_oppervlak)*10000/60/60","v":{"$error":"#DIV/0!"}},null,null,null,null,{"$f":"((Invoer!$E$11*Invoer!$E$21)/Invoer!Neerslag_oppervlak)*10000/60/60","v":{"$error":"#DIV/0!"}},null,null,null,null,{"$f":"((Invoer!$F$11*Invoer!$F$21)/Invoer!Neerslag_oppervlak)*10000/60/60","v":{"$error":"#DIV/0!"}},null,null,null,null,{"$f":"((Invoer!$G$11*Invoer!$G$21)/Invoer!Neerslag_oppervlak)*10000/60/60","v":{"$error":"#DIV/0!"}}]
[null,null,"Infiltratiecapaciteit onverhard [mm/uur neerslagoppervlak]",null,null,null,null,null,null,{"$f":"(Invoer!$D$16*Invoer!$D$23)/Invoer!Neerslag_oppervlak","v":{"$error":"#DIV/0!"}},null,null,null,null,{"$f":"(Invoer!$E$16*Invoer!$E$23)/Invoer!Neerslag_oppervlak","v":{"$error":"#DIV/0!"}},null,null,null,null,{"$f":"(Invoer!$F$16*Invoer!$F$23)/Invoer!Neerslag_oppervlak","v":{"$error":"#DIV/0!"}},null,null,null,null,{"$f":"(Invoer!$G$16*Invoer!$G$23)/Invoer!Neerslag_oppervlak","v":{"$error":"#DIV/0!"}},null,"Infiltratiecapaciteit onverhard [mm/uur neerslagoppervlak]",null,null,null,null,null,null,{"$f":"(Invoer!$D$16*Invoer!$D$23)/Invoer!Neerslag_oppervlak","v":{"$error":"#DIV/0!"}},null,null,null,null,{"$f":"(Invoer!$E$16*Invoer!$E$23)/Invoer!Neerslag_oppervlak","v":{"$error":"#DIV/0!"}},null,null,null,null,{"$f":"(Invoer!$F$16*Invoer!$F$23)/Invoer!Neerslag_oppervlak","v":{"$error":"#DIV/0!"}},null,null,null,null,{"$f":"(Invoer!$G$16*Invoer!$G$23)/Invoer!Neerslag_oppervlak","v":{"$error":"#DIV/0!"}}]
[null,null,"Toename/Afname laatste kwartier",null,null,null,null,null,null,{"$f":"J505-J491","v":{"$error":"#DIV/0!"}},null,null,null,null,{"$f":"O505-O491","v":{"$error":"#DIV/0!"}},null,null,null,null,{"$f":"T505-T491","v":{"$error":"#DIV/0!"}},null,null,null,null,{"$f":"Y505-Y491","v":{"$error":"#DIV/0!"}},null,"Toename/Afname laatste kwartier",null,null,null,null,null,null,{"$f":"AH505-AH491","v":{"$error":"#DIV/0!"}},null,null,null,null,{"$f":"AM505-AM491","v":{"$error":"#DIV/0!"}},null,null,null,null,{"$f":"AR505-AR491","v":{"$error":"#DIV/0!"}},null,null,null,null,{"$f":"AW505-AW491","v":{"$error":"#DIV/0!"}}]
[null,null,"Infiltratiecapaciteit en afvoer vanuit berging voorziening [mm/uur neerslagoppervlak]",null,null,null,null,null,null,{"$f":"(Invoer!$D$12*Invoer!$D$21)/Invoer!Neerslag_oppervlak","v":{"$error":"#DIV/0!"}},null,null,null,null,{"$f":"(Invoer!$E$12*Invoer!$E$21)/Invoer!Neerslag_oppervlak","v":{"$error":"#DIV/0!"}},null,null,null,null,{"$f":"(Invoer!$F$12*Invoer!$F$21)/Invoer!Neerslag_oppervlak","v":{"$error":"#DIV/0!"}},null,null,null,null,{"$f":"(Invoer!$G$12*Invoer!$G$21)/Invoer!Neerslag_oppervlak","v":{"$error":"#DIV/0!"}},null,"Infiltratiecapaciteit en afvoer vanuit berging voorziening [mm/uur neerslagoppervlak]",null,null,null,null,null,null,{"$f":"(Invoer!$D$12*Invoer!$D$21)/Invoer!Neerslag_oppervlak","v":{"$error":"#DIV/0!"}},null,null,null,null,{"$f":"(Invoer!$E$12*Invoer!$E$21)/Invoer!Neerslag_oppervlak","v":{"$error":"#DIV/0!"}},null,null,null,null,{"$f":"(Invoer!$F$12*Invoer!$F$21)/Invoer!Neerslag_oppervlak","v":{"$error":"#DIV/0!"}},null,null,null,null,{"$f":"(Invoer!$G$12*Invoer!$G$21)/Invoer!Neerslag_oppervlak","v":{"$error":"#DIV/0!"}}]
[]
[null,null,"Herhalingkans T=250",null,null,null,null,null,null,null,null,null,null,null,null,null,null,null,null,null,null,null,null,null,null,null,"Herhalingkans T=500"]
[null,null,"Duur [min]","Aanvoer bui T=250 [l/s/ha]","Neerslag bui T=250 [mm]","Afvoercapaciteit riolering V0 [mm]","Afvoercapaciteit V0 voorzieningen [mm]","Bergingscapaciteit V0 voorzieningen [mm]","Infiltratiecapaciteit onverhard [mm]","Aanvoer-Afvoer","Afvoercapaciteit riolering V1 [mm]","Afvoercapaciteit V1 voorzieningen [mm]","Bergingscapaciteit V1 voorzieningen [mm]","Infiltratiecapaciteit onverhard [mm]","Aanvoer-Afvoer","Afvoercapaciteit riolering V2 [mm]","Afvoercapaciteit V2 voorzieningen [mm]","Bergingscapaciteit V2 voorzieningen [mm]","Infiltratiecapaciteit onverhard [mm]","Aanvoer-Afvoer","Afvoercapaciteit riolering V3 [mm]","Afvoercapaciteit V3 voorzieningen [mm]","Bergingscapaciteit V3 voorzieningen [mm]","Infiltratiecapaciteit onverhard [mm]","Aanvoer-Afvoer",null,"Duur [min]","Aanvoer bui T=500 [l/s/ha]","Neerslag bui T=500 [mm]","Afvoercapaciteit riolering V0 [mm]","Afvoercapaciteit V0 voorzieningen [mm]","Bergingscapaciteit V0 voorzieningen [mm]","Infiltratiecapaciteit onverhard [mm]","Aanvoer-Afvoer","Afvoercapaciteit riolering V1 [mm]","Afvoercapaciteit V1 voorzieningen [mm]","Bergingscapaciteit V1 voorzieningen [mm]","Infiltratiecapaciteit onverhard [mm]","Aanvoer-Afvoer","Afvoercapaciteit riolering V2 [mm]","Afvoercapaciteit V2 voorzieningen [mm]","Bergingscapaciteit V2 voorzieningen [mm]","Infiltratiecapaciteit onverhard [mm]","Aanvoer-Afvoer","Afvoercapaciteit riolering V3 [mm]","Afvoercapaciteit V3 voorzieningen [mm]","Bergingscapaciteit V3 voorzieningen [mm]","Infiltratiecapaciteit onverhard [mm]","Aanvoer-Afvoer"]
[null,null,0,0,0,0,0,{"$f":"J$594/60*$C516","v":{"$error":"#DIV/0!"}},{"$f":"($J$596/60)*$C516","v":{"$error":"#DIV/0!"}},null,0,0,{"$f":"O$594/60*$C516","v":{"$error":"#DIV/0!"}},{"$f":"($O$596/60)*$C516","v":{"$error":"#DIV/0!"}},null,0,{"$f":"($T$598/60)*($C516)","v":{"$error":"#DIV/0!"}},{"$f":"T$594/60*$C516","v":{"$error":"#DIV/0!"}},{"$f":"($T$596/60)*$C516","v":{"$error":"#DIV/0!"}},null,0,0,{"$f":"Y$594/60*$C516","v":{"$error":"#DIV/0!"}},{"$f":"($Y$596/60)*$C516","v":{"$error":"#DIV/0!"}},null,null,0,0,0,0,0,{"$f":"AH$594/60*$AA516","v":{"$error":"#DIV/0!"}},{"$f":"($AH$596/60)*$AA516","v":{"$error":"#DIV/0!"}},null,0,0,{"$f":"AM$594/60*$AA516","v":{"$error":"#DIV/0!"}},{"$f":"($AM$596/60)*$AA516","v":{"$error":"#DIV/0!"}},null,0,{"$f":"($AR$598/60)*($AA516)","v":{"$error":"#DIV/0!"}},{"$f":"AR$594/60*$AA516","v":{"$error":"#DIV/0!"}},{"$f":"($AR$596/60)*$AA516","v":{"$error":"#DIV/0!"}},null,0,{"$f":"($AW$598/60)*($AA516)","v":{"$error":"#DIV/0!"}},{"$f":"AW$594/60*$AA516","v":{"$error":"#DIV/0!"}},{"$f":"($AW$596/60)*$AA516","v":{"$error":"#DIV/0!"}}]
[null,null,1,{"$f":"((((((E517-E516)/(C517-C516)/60)/1000)*10000)*1000))","v":708.20830333897754},{"$f":"Klimaatscenario!I8","v":4.2492498200338655},{"$f":"((J$595*60)/10000)+F516","v":{"$error":"#DIV/0!"}},{"$f":"($J$598/60)*($C517)","v":{"$error":"#DIV/0!"}},{"$f":"J$594","v":{"$error":"#DIV/0!"}},{"$error":"#DIV/0!"},{"$f":"$E517-F517-G517-H517-I517","v":{"$error":"#DIV/0!"}},{"$f":"((O$595*60)/10000)+K516","v":{"$error":"#DIV/0!"}},{"$f":"($O$598/60)*($C517)","v":{"$error":"#DIV/0!"}},{"$f":"O$594","v":{"$error":"#DIV/0!"}},{"$error":"#DIV/0!"},{"$f":"$E517-K517-L517-M517-N517","v":{"$error":"#DIV/0!"}},{"$f":"((T$595*60)/10000)+P516","v":{"$error":"#DIV/0!"}},{"$error":"#DIV/0!"},{"$f":"T$594","v":{"$error":"#DIV/0!"}},{"$error":"#DIV/0!"},{"$f":"$E517-P517-Q517-R517-S517","v":{"$error":"#DIV/0!"}},{"$f":"((Y$595*60)/10000)+U516","v":{"$error":"#DIV/0!"}},{"$f":"($Y$598/60)*($C517)","v":{"$error":"#DIV/0!"}},{"$f":"Y$594","v":{"$error":"#DIV/0!"}},{"$error":"#DIV/0!"},{"$f":"$E517-U517-V517-W517-X517","v":{"$error":"#DIV/0!"}},null,1,{"$f":"((((((AC517-AC516)/(AA517-AA516)/60)/1000)*10000)*1000))","v":825.15226823423302},{"$f":"Klimaatscenario!J8","v":4.950913609405398},{"$f":"((AH$595*60)/10000)+AD516","v":{"$error":"#DIV/0!"}},{"$f":"($AH$598/60)*($AA517)","v":{"$error":"#DIV/0!"}},{"$f":"AH$594","v":{"$error":"#DIV/0!"}},{"$error":"#DIV/0!"},{"$f":"$AC517-AD517-AE517-AF517-AG517","v":{"$error":"#DIV/0!"}},{"$f":"((AM$595*60)/10000)+AI516","v":{"$error":"#DIV/0!"}},{"$f":"($AM$598/60)*($AA517)","v":{"$error":"#DIV/0!"}},{"$f":"AM$594","v":{"$error":"#DIV/0!"}},{"$error":"#DIV/0!"},{"$f":"$AC517-AI517-AJ517-AK517-AL517","v":{"$error":"#DIV/0!"}},{"$f":"((AR$595*60)/10000)+AN516","v":{"$error":"#DIV/0!"}},{"$error":"#DIV/0!"},{"$f":"AR$594","v":{"$error":"#DIV/0!"}},{"$error":"#DIV/0!"},{"$f":"$AC517-AN517-AO517-AP517-AQ517","v":{"$error":"#DIV/0!"}},{"$f":"((AW$595*60)/10000)+AS516","v":{"$error":"#DIV/0!"}},{"$error":"#DIV/0!"},{"$f":"AW$594","v":{"$error":"#DIV/0!"}},{"$error":"#DIV/0!"},{"$f":"$AC517-AS517-AT517-AU517-AV517","v":{"$error":"#DIV/0!"}}]
[null,null,2,{"$f":"((((((E518-E517)/(C518-C517)/60)/1000)*10000)*1000))","v":708.20830333897754},{"$f":"Klimaatscenario!I9","v":8.4984996400677311},{"$error":"#DIV/0!"},{"$error":"#DIV/0!"},{"$f":"J$594","v":{"$error":"#DIV/0!"}},{"$error":"#DIV/0!"},{"$error":"#DIV/0!"},{"$error":"#DIV/0!"},{"$error":"#DIV/0!"},{"$f":"O$594","v":{"$error":"#DIV/0!"}},{"$error":"#DIV/0!"},{"$error":"#DIV/0!"},{"$error":"#DIV/0!"},{"$error":"#DIV/0!"},{"$f":"T$594","v":{"$error":"#DIV/0!"}},{"$error":"#DIV/0!"},{"$error":"#DIV/0!"},{"$error":"#DIV/0!"},{"$error":"#DIV/0!"},{"$f":"Y$594","v":{"$error":"#DIV/0!"}},{"$error":"#DIV/0!"},{"$error":"#DIV/0!"},null,2,{"$f":"((((((AC518-AC517)/(AA518-AA517)/60)/1000)*10000)*1000))","v":825.15226823423302},{"$f":"Klimaatscenario!J9","v":9.9018272188107961},{"$error":"#DIV/0!"},{"$error":"#DIV/0!"},{"$f":"AH$594","v":{"$error":"#DIV/0!"}},{"$error":"#DIV/0!"},{"$error":"#DIV/0!"},{"$error":"#DIV/0!"},{"$error":"#DIV/0!"},{"$f":"AM$594","v":{"$error":"#DIV/0!"}},{"$error":"#DIV/0!"},{"$error":"#DIV/0!"},{"$error":"#DIV/0!"},{"$error":"#DIV/0!"},{"$f":"AR$594","v":{"$error":"#DIV/0!"}},{"$error":"#DIV/0!"},{"$error":"#DIV/0!"},{"$error":"#DIV/0!"},{"$error":"#DIV/0!"},{"$f":"AW$594","v":{"$error":"#DIV/0!"}},{"$error":"#DIV/0!"},{"$error":"#DIV/0!"}]
[null,null,3,{"$f":"((((((E519-E518)/(C519-C518)/60)/1000)*10000)*1000))","v":708.20830333897754},{"$f":"Klimaatscenario!I10","v":12.747749460101597},{"$error":"#DIV/0!"},{"$error":"#DIV/0!"},{"$error":"#DIV/0!"},{"$error":"#DIV/0!"},{"$error":"#DIV/0!"},{"$error":"#DIV/0!"},{"$error":"#DIV/0!"},{"$error":"#DIV/0!"},{"$error":"#DIV/0!"},{"$error":"#DIV/0!"},{"$error":"#DIV/0!"},{"$error":"#DIV/0!"},{"$error":"#DIV/0!"},{"$error":"#DIV/0!"},{"$error":"#DIV/0!"},{"$error":"#DIV/0!"},{"$error":"#DIV/0!"},{"$error":"#DIV/0!"},{"$error":"#DIV/0!"},{"$error":"#DIV/0!"},null,3,{"$f":"((((((AC519-AC518)/(AA519-AA518)/60)/1000)*10000)*1000))","v":825.15226823423313},{"$f":"Klimaatscenario!J10","v":14.852740828216195},{"$error":"#DIV/0!"},{"$error":"#DIV/0!"},{"$error":"#DIV/0!"},{"$error":"#DIV/0!"},{"$error":"#DIV/0!"},{"$error":"#DIV/0!"},{"$error":"#DIV/0!"},{"$error":"#DIV/0!"},{"$error":"#DIV/0!"},{"$error":"#DIV/0!"},{"$error":"#DIV/0!"},{"$error":"#DIV/0!"},{"$error":"#DIV/0!"},{"$error":"#DIV/0!"},{"$error":"#DIV/0!"},{"$error":"#DIV/0!"},{"$error":"#DIV/0!"},{"$error":"#DIV/0!"},{"$error":"#DIV/0!"},{"$error":"#DIV/0!"}]
[null,null,4,{"$f":"((((((E520-E519)/(C520-C519)/60)/1000)*10000)*1000))","v":708.20830333897754},{"$f":"Klimaatscenario!I11","v":16.996999280135462},{"$error":"#DIV/0!"},{"$error":"#DIV/0!"},{"$error":"#DIV/0!"},{"$error":"#DIV/0!"},{"$error":"#DIV/0!"},{"$error":"#DIV/0!"},{"$error":"#DIV/0!"},{"$error":"#DIV/0!"},{"$error":"#DIV/0!"},{"$error":"#DIV/0!"},{"$error":"#DIV/0!"},{"$error":"#DIV/0!"},{"$error":"#DIV/0!"},{"$error":"#DIV/0!"},{"$error":"#DIV/0!"},{"$error":"#DIV/0!"},{"$error":"#DIV/0!"},{"$error":"#DIV/0!"},{"$error":"#DIV/0!"},{"$error":"#DIV/0!"},null,4,{"$f":"((((((AC520-AC519)/(AA520-AA519)/60)/1000)*10000)*1000))","v":825.15226823423291},{"$f":"Klimaatscenario!J11","v":19.803654437621592},{"$error":"#DIV/0!"},{"$error":"#DIV/0!"},{"$error":"#DIV/0!"},{"$error":"#DIV/0!"},{"$error":"#DIV/0!"},{"$error":"#DIV/0!"},{"$error":"#DIV/0!"},{"$error":"#DIV/0!"},{"$error":"#DIV/0!"},{"$error":"#DIV/0!"},{"$error":"#DIV/0!"},{"$error":"#DIV/0!"},{"$error":"#DIV/0!"},{"$error":"#DIV/0!"},{"$error":"#DIV/0!"},{"$error":"#DIV/0!"},{"$error":"#DIV/0!"},{"$error":"#DIV/0!"},{"$error":"#DIV/0!"},{"$error":"#DIV/0!"}]
[null,null,5,{"$f":"((((((E521-E520)/(C521-C520))/60)/1000)*10000)*1000)","v":708.20830333897777},{"$f":"Klimaatscenario!I12","v":21.246249100169329},{"$error":"#DIV/0!"},{"$error":"#DIV/0!"},{"$error":"#DIV/0!"},{"$error":"#DIV/0!"},{"$error":"#DIV/0!"},{"$error":"#DIV/0!"},{"$error":"#DIV/0!"},{"$error":"#DIV/0!"},{"$error":"#DIV/0!"},{"$error":"#DIV/0!"},{"$error":"#DIV/0!"},{"$error":"#DIV/0!"},{"$error":"#DIV/0!"},{"$error":"#DIV/0!"},{"$error":"#DIV/0!"},{"$error":"#DIV/0!"},{"$error":"#DIV/0!"},{"$error":"#DIV/0!"},{"$error":"#DIV/0!"},{"$error":"#DIV/0!"},null,5,{"$f":"((((((AC521-AC520)/(AA521-AA520))/60)/1000)*10000)*1000)","v":825.15226823423291},{"$f":"Klimaatscenario!J12","v":24.754568047026989},{"$error":"#DIV/0!"},{"$error":"#DIV/0!"},{"$error":"#DIV/0!"},{"$error":"#DIV/0!"},{"$error":"#DIV/0!"},{"$error":"#DIV/0!"},{"$error":"#DIV/0!"},{"$error":"#DIV/0!"},{"$error":"#DIV/0!"},{"$error":"#DIV/0!"},{"$error":"#DIV/0!"},{"$error":"#DIV/0!"},{"$error":"#DIV/0!"},{"$error":"#DIV/0!"},{"$error":"#DIV/0!"},{"$error":"#DIV/0!"},{"$error":"#DIV/0!"},{"$error":"#DIV/0!"},{"$error":"#DIV/0!"},{"$error":"#DIV/0!"}]
[null,null,6,708.2083033389772,{"$f":"Klimaatscenario!I13","v":25.495498920203193},{"$error":"#DIV/0!"},{"$error":"#DIV/0!"},{"$error":"#DIV/0!"},{"$error":"#DIV/0!"},{"$error":"#DIV/0!"},{"$error":"#DIV/0!"},{"$error":"#DIV/0!"},{"$error":"#DIV/0!"},{"$error":"#DIV/0!"},{"$error":"#DIV/0!"},{"$error":"#DIV/0!"},{"$error":"#DIV/0!"},{"$error":"#DIV/0!"},{"$error":"#DIV/0!"},{"$error":"#DIV/0!"},{"$error":"#DIV/0!"},{"$error":"#DIV/0!"},{"$error":"#DIV/0!"},{"$error":"#DIV/0!"},{"$error":"#DIV/0!"},null,6,825.15226823423347,{"$f":"Klimaatscenario!J13","v":29.70548165643239},{"$error":"#DIV/0!"},{"$error":"#DIV/0!"},{"$error":"#DIV/0!"},{"$error":"#DIV/0!"},{"$error":"#DIV/0!"},{"$error":"#DIV/0!"},{"$error":"#DIV/0!"},{"$error":"#DIV/0!"},{"$error":"#DIV/0!"},{"$error":"#DIV/0!"},{"$error":"#DIV/0!"},{"$error":"#DIV/0!"},{"$error":"#DIV/0!"},{"$error":"#DIV/0!"},{"$error":"#DIV/0!"},{"$error":"#DIV/0!"},{"$error":"#DIV/0!"},{"$error":"#DIV/0!"},{"$error":"#DIV/0!"},{"$error":"#DIV/0!"}]
[null,null,7,708.2083033389772,{"$f":"Klimaatscenario!I14","v":29.744748740237057},{"$error":"#DIV/0!"},{"$error":"#DIV/0!"},{"$error":"#DIV/0!"},{"$error":"#DIV/0!"},{"$error":"#DIV/0!"},{"$error":"#DIV/0!"},{"$error":"#DIV/0!"},{"$error":"#DIV/0!"},{"$error":"#DIV/0!"},{"$error":"#DIV/0!"},{"$error":"#DIV/0!"},{"$error":"#DIV/0!"},{"$error":"#DIV/0!"},{"$error":"#DIV/0!"},{"$error":"#DIV/0!"},{"$error":"#DIV/0!"},{"$error":"#DIV/0!"},{"$error":"#DIV/0!"},{"$error":"#DIV/0!"},{"$error":"#DIV/0!"},null,7,825.15226823423291,{"$f":"Klimaatscenario!J14","v":34.656395265837787},{"$error":"#DIV/0!"},{"$error":"#DIV/0!"},{"$error":"#DIV/0!"},{"$error":"#DIV/0!"},{"$error":"#DIV/0!"},{"$error":"#DIV/0!"},{"$error":"#DIV/0!"},{"$error":"#DIV/0!"},{"$error":"#DIV/0!"},{"$error":"#DIV/0!"},{"$error":"#DIV/0!"},{"$error":"#DIV/0!"},{"$error":"#DIV/0!"},{"$error":"#DIV/0!"},{"$error":"#DIV/0!"},{"$error":"#DIV/0!"},{"$error":"#DIV/0!"},{"$error":"#DIV/0!"},{"$error":"#DIV/0!"},{"$error":"#DIV/0!"}]
[null,null,8,708.20830333897777,{"$f":"Klimaatscenario!I15","v":33.993998560270924},{"$error":"#DIV/0!"},{"$error":"#DIV/0!"},{"$error":"#DIV/0!"},{"$error":"#DIV/0!"},{"$error":"#DIV/0!"},{"$error":"#DIV/0!"},{"$error":"#DIV/0!"},{"$error":"#DIV/0!"},{"$error":"#DIV/0!"},{"$error":"#DIV/0!"},{"$error":"#DIV/0!"},{"$error":"#DIV/0!"},{"$error":"#DIV/0!"},{"$error":"#DIV/0!"},{"$error":"#DIV/0!"},{"$error":"#DIV/0!"},{"$error":"#DIV/0!"},{"$error":"#DIV/0!"},{"$error":"#DIV/0!"},{"$error":"#DIV/0!"},null,8,825.15226823423291,{"$f":"Klimaatscenario!J15","v":39.607308875243184},{"$error":"#DIV/0!"},{"$error":"#DIV/0!"},{"$error":"#DIV/0!"},{"$error":"#DIV/0!"},{"$error":"#DIV/0!"},{"$error":"#DIV/0!"},{"$error":"#DIV/0!"},{"$error":"#DIV/0!"},{"$error":"#DIV/0!"},{"$error":"#DIV/0!"},{"$error":"#DIV/0!"},{"$error":"#DIV/0!"},{"$error":"#DIV/0!"},{"$error":"#DIV/0!"},{"$error":"#DIV/0!"},{"$error":"#DIV/0!"},{"$error":"#DIV/0!"},{"$error":"#DIV/0!"},{"$error":"#DIV/0!"},{"$error":"#DIV/0!"}]
[null,null,9,708.20830333897777,{"$f":"Klimaatscenario!I16","v":38.243248380304792},{"$error":"#DIV/0!"},{"$error":"#DIV/0!"},{"$error":"#DIV/0!"},{"$error":"#DIV/0!"},{"$error":"#DIV/0!"},{"$error":"#DIV/0!"},{"$error":"#DIV/0!"},{"$error":"#DIV/0!"},{"$error":"#DIV/0!"},{"$error":"#DIV/0!"},{"$error":"#DIV/0!"},{"$error":"#DIV/0!"},{"$error":"#DIV/0!"},{"$error":"#DIV/0!"},{"$error":"#DIV/0!"},{"$error":"#DIV/0!"},{"$error":"#DIV/0!"},{"$error":"#DIV/0!"},{"$error":"#DIV/0!"},{"$error":"#DIV/0!"},null,9,825.15226823423291,{"$f":"Klimaatscenario!J16","v":44.558222484648581},{"$error":"#DIV/0!"},{"$error":"#DIV/0!"},{"$error":"#DIV/0!"},{"$error":"#DIV/0!"},{"$error":"#DIV/0!"},{"$error":"#DIV/0!"},{"$error":"#DIV/0!"},{"$error":"#DIV/0!"},{"$error":"#DIV/0!"},{"$error":"#DIV/0!"},{"$error":"#DIV/0!"},{"$error":"#DIV/0!"},{"$error":"#DIV/0!"},{"$error":"#DIV/0!"},{"$error":"#DIV/0!"},{"$error":"#DIV/0!"},{"$error":"#DIV/0!"},{"$error":"#DIV/0!"},{"$error":"#DIV/0!"},{"$error":"#DIV/0!"}]
[null,null,10,708.20830333897777,{"$f":"Klimaatscenario!I17","v":42.492498200338659},{"$error":"#DIV/0!"},{"$error":"#DIV/0!"},{"$error":"#DIV/0!"},{"$error":"#DIV/0!"},{"$error":"#DIV/0!"},{"$error":"#DIV/0!"},{"$error":"#DIV/0!"},{"$error":"#DIV/0!"},{"$error":"#DIV/0!"},{"$error":"#DIV/0!"},{"$error":"#DIV/0!"},{"$error":"#DIV/0!"},{"$error":"#DIV/0!"},{"$error":"#DIV/0!"},{"$error":"#DIV/0!"},{"$error":"#DIV/0!"},{"$error":"#DIV/0!"},{"$error":"#DIV/0!"},{"$error":"#DIV/0!"},{"$error":"#DIV/0!"},null,10,825.15226823423291,{"$f":"Klimaatscenario!J17","v":49.509136094053979},{"$error":"#DIV/0!"},{"$error":"#DIV/0!"},{"$error":"#DIV/0!"},{"$error":"#DIV/0!"},{"$error":"#DIV/0!"},{"$error":"#DIV/0!"},{"$error":"#DIV/0!"},{"$error":"#DIV/0!"},{"$error":"#DIV/0!"},{"$error":"#DIV/0!"},{"$error":"#DIV/0!"},{"$error":"#DIV/0!"},{"$error":"#DIV/0!"},{"$error":"#DIV/0!"},{"$error":"#DIV/0!"},{"$error":"#DIV/0!"},{"$error":"#DIV/0!"},{"$error":"#DIV/0!"},{"$error":"#DIV/0!"},{"$error":"#DIV/0!"}]
[null,null,11,236.09466188969463,{"$f":"Klimaatscenario!I18","v":43.909066171676827},{"$error":"#DIV/0!"},{"$error":"#DIV/0!"},{"$error":"#DIV/0!"},{"$error":"#DIV/0!"},{"$error":"#DIV/0!"},{"$error":"#DIV/0!"},{"$error":"#DIV/0!"},{"$error":"#DIV/0!"},{"$error":"#DIV/0!"},{"$error":"#DIV/0!"},{"$error":"#DIV/0!"},{"$error":"#DIV/0!"},{"$error":"#DIV/0!"},{"$error":"#DIV/0!"},{"$error":"#DIV/0!"},{"$error":"#DIV/0!"},{"$error":"#DIV/0!"},{"$error":"#DIV/0!"},{"$error":"#DIV/0!"},{"$error":"#DIV/0!"},null,11,298.36852769303709,{"$f":"Klimaatscenario!J18","v":51.299347260212201},{"$error":"#DIV/0!"},{"$error":"#DIV/0!"},{"$error":"#DIV/0!"},{"$error":"#DIV/0!"},{"$error":"#DIV/0!"},{"$error":"#DIV/0!"},{"$error":"#DIV/0!"},{"$error":"#DIV/0!"},{"$error":"#DIV/0!"},{"$error":"#DIV/0!"},{"$error":"#DIV/0!"},{"$error":"#DIV/0!"},{"$error":"#DIV/0!"},{"$error":"#DIV/0!"},{"$error":"#DIV/0!"},{"$error":"#DIV/0!"},{"$error":"#DIV/0!"},{"$error":"#DIV/0!"},{"$error":"#DIV/0!"},{"$error":"#DIV/0!"}]
[null,null,12,236.09466188969463,{"$f":"Klimaatscenario!I19","v":45.325634143014994},{"$error":"#DIV/0!"},{"$error":"#DIV/0!"},{"$error":"#DIV/0!"},{"$error":"#DIV/0!"},{"$error":"#DIV/0!"},{"$error":"#DIV/0!"},{"$error":"#DIV/0!"},{"$error":"#DIV/0!"},{"$error":"#DIV/0!"},{"$error":"#DIV/0!"},{"$error":"#DIV/0!"},{"$error":"#DIV/0!"},{"$error":"#DIV/0!"},{"$error":"#DIV/0!"},{"$error":"#DIV/0!"},{"$error":"#DIV/0!"},{"$error":"#DIV/0!"},{"$error":"#DIV/0!"},{"$error":"#DIV/0!"},{"$error":"#DIV/0!"},null,12,298.36852769303709,{"$f":"Klimaatscenario!J19","v":53.089558426370424},{"$error":"#DIV/0!"},{"$error":"#DIV/0!"},{"$error":"#DIV/0!"},{"$error":"#DIV/0!"},{"$error":"#DIV/0!"},{"$error":"#DIV/0!"},{"$error":"#DIV/0!"},{"$error":"#DIV/0!"},{"$error":"#DIV/0!"},{"$error":"#DIV/0!"},{"$error":"#DIV/0!"},{"$error":"#DIV/0!"},{"$error":"#DIV/0!"},{"$error":"#DIV/0!"},{"$error":"#DIV/0!"},{"$error":"#DIV/0!"},{"$error":"#DIV/0!"},{"$error":"#DIV/0!"},{"$error":"#DIV/0!"},{"$error":"#DIV/0!"}]
[null,null,13,236.09466188969463,{"$f":"Klimaatscenario!I20","v":46.742202114353162},{"$error":"#DIV/0!"},{"$error":"#DIV/0!"},{"$error":"#DIV/0!"},{"$error":"#DIV/0!"},{"$error":"#DIV/0!"},{"$error":"#DIV/0!"},{"$error":"#DIV/0!"},{"$error":"#DIV/0!"},{"$error":"#DIV/0!"},{"$error":"#DIV/0!"},{"$error":"#DIV/0!"},{"$error":"#DIV/0!"},{"$error":"#DIV/0!"},{"$error":"#DIV/0!"},{"$error":"#DIV/0!"},{"$error":"#DIV/0!"},{"$error":"#DIV/0!"},{"$error":"#DIV/0!"},{"$error":"#DIV/0!"},{"$error":"#DIV/0!"},null,13,298.36852769303709,{"$f":"Klimaatscenario!J20","v":54.879769592528646},{"$error":"#DIV/0!"},{"$error":"#DIV/0!"},{"$error":"#DIV/0!"},{"$error":"#DIV/0!"},{"$error":"#DIV/0!"},{"$error":"#DIV/0!"},{"$error":"#DIV/0!"},{"$error":"#DIV/0!"},{"$error":"#DIV/0!"},{"$error":"#DIV/0!"},{"$error":"#DIV/0!"},{"$error":"#DIV/0!"},{"$error":"#DIV/0!"},{"$error":"#DIV/0!"},{"$error":"#DIV/0!"},{"$error":"#DIV/0!"},{"$error":"#DIV/0!"},{"$error":"#DIV/0!"},{"$error":"#DIV/0!"},{"$error":"#DIV/0!"}]
[null,null,14,236.09466188969347,{"$f":"Klimaatscenario!I21","v":48.158770085691323},{"$error":"#DIV/0!"},{"$error":"#DIV/0!"},{"$error":"#DIV/0!"},{"$error":"#DIV/0!"},{"$error":"#DIV/0!"},{"$error":"#DIV/0!"},{"$error":"#DIV/0!"},{"$error":"#DIV/0!"},{"$error":"#DIV/0!"},{"$error":"#DIV/0!"},{"$error":"#DIV/0!"},{"$error":"#DIV/0!"},{"$error":"#DIV/0!"},{"$error":"#DIV/0!"},{"$error":"#DIV/0!"},{"$error":"#DIV/0!"},{"$error":"#DIV/0!"},{"$error":"#DIV/0!"},{"$error":"#DIV/0!"},{"$error":"#DIV/0!"},null,14,298.36852769303709,{"$f":"Klimaatscenario!J21","v":56.669980758686869},{"$error":"#DIV/0!"},{"$error":"#DIV/0!"},{"$error":"#DIV/0!"},{"$error":"#DIV/0!"},{"$error":"#DIV/0!"},{"$error":"#DIV/0!"},{"$error":"#DIV/0!"},{"$error":"#DIV/0!"},{"$error":"#DIV/0!"},{"$error":"#DIV/0!"},{"$error":"#DIV/0!"},{"$error":"#DIV/0!"},{"$error":"#DIV/0!"},{"$error":"#DIV/0!"},{"$error":"#DIV/0!"},{"$error":"#DIV/0!"},{"$error":"#DIV/0!"},{"$error":"#DIV/0!"},{"$error":"#DIV/0!"},{"$error":"#DIV/0!"}]
[null,null,15,236.09466188969463,{"$f":"Klimaatscenario!I22","v":49.575338057029491},{"$error":"#DIV/0!"},{"$error":"#DIV/0!"},{"$error":"#DIV/0!"},{"$error":"#DIV/0!"},{"$error":"#DIV/0!"},{"$error":"#DIV/0!"},{"$error":"#DIV/0!"},{"$error":"#DIV/0!"},{"$error":"#DIV/0!"},{"$error":"#DIV/0!"},{"$error":"#DIV/0!"},{"$error":"#DIV/0!"},{"$error":"#DIV/0!"},{"$error":"#DIV/0!"},{"$error":"#DIV/0!"},{"$error":"#DIV/0!"},{"$error":"#DIV/0!"},{"$error":"#DIV/0!"},{"$error":"#DIV/0!"},{"$error":"#DIV/0!"},null,15,298.36852769303709,{"$f":"Klimaatscenario!J22","v":58.460191924845091},{"$error":"#DIV/0!"},{"$error":"#DIV/0!"},{"$error":"#DIV/0!"},{"$error":"#DIV/0!"},{"$error":"#DIV/0!"},{"$error":"#DIV/0!"},{"$error":"#DIV/0!"},{"$error":"#DIV/0!"},{"$error":"#DIV/0!"},{"$error":"#DIV/0!"},{"$error":"#DIV/0!"},{"$error":"#DIV/0!"},{"$error":"#DIV/0!"},{"$error":"#DIV/0!"},{"$error":"#DIV/0!"},{"$error":"#DIV/0!"},{"$error":"#DIV/0!"},{"$error":"#DIV/0!"},{"$error":"#DIV/0!"},{"$error":"#DIV/0!"}]
[null,null,16,236.09466188969463,{"$f":"Klimaatscenario!I23","v":50.991906028367659},{"$error":"#DIV/0!"},{"$error":"#DIV/0!"},{"$error":"#DIV/0!"},{"$error":"#DIV/0!"},{"$error":"#DIV/0!"},{"$error":"#DIV/0!"},{"$error":"#DIV/0!"},{"$error":"#DIV/0!"},{"$error":"#DIV/0!"},{"$error":"#DIV/0!"},{"$error":"#DIV/0!"},{"$error":"#DIV/0!"},{"$error":"#DIV/0!"},{"$error":"#DIV/0!"},{"$error":"#DIV/0!"},{"$error":"#DIV/0!"},{"$error":"#DIV/0!"},{"$error":"#DIV/0!"},{"$error":"#DIV/0!"},{"$error":"#DIV/0!"},null,16,298.36852769303823,{"$f":"Klimaatscenario!J23","v":60.250403091003321},{"$error":"#DIV/0!"},{"$error":"#DIV/0!"},{"$error":"#DIV/0!"},{"$error":"#DIV/0!"},{"$error":"#DIV/0!"},{"$error":"#DIV/0!"},{"$error":"#DIV/0!"},{"$error":"#DIV/0!"},{"$error":"#DIV/0!"},{"$error":"#DIV/0!"},{"$error":"#DIV/0!"},{"$error":"#DIV/0!"},{"$error":"#DIV/0!"},{"$error":"#DIV/0!"},{"$error":"#DIV/0!"},{"$error":"#DIV/0!"},{"$error":"#DIV/0!"},{"$error":"#DIV/0!"},{"$error":"#DIV/0!"},{"$error":"#DIV/0!"}]
[null,null,17,236.09466188969463,{"$f":"Klimaatscenario!I24","v":52.408473999705826},{"$error":"#DIV/0!"},{"$error":"#DIV/0!"},{"$error":"#DIV/0!"},{"$error":"#DIV/0!"},{"$error":"#DIV/0!"},{"$error":"#DIV/0!"},{"$error":"#DIV/0!"},{"$error":"#DIV/0!"},{"$error":"#DIV/0!"},{"$error":"#DIV/0!"},{"$error":"#DIV/0!"},{"$error":"#DIV/0!"},{"$error":"#DIV/0!"},{"$error":"#DIV/0!"},{"$error":"#DIV/0!"},{"$error":"#DIV/0!"},{"$error":"#DIV/0!"},{"$error":"#DIV/0!"},{"$error":"#DIV/0!"},{"$error":"#DIV/0!"},null,17,298.3685276930359,{"$f":"Klimaatscenario!J24","v":62.040614257161536},{"$error":"#DIV/0!"},{"$error":"#DIV/0!"},{"$error":"#DIV/0!"},{"$error":"#DIV/0!"},{"$error":"#DIV/0!"},{"$error":"#DIV/0!"},{"$error":"#DIV/0!"},{"$error":"#DIV/0!"},{"$error":"#DIV/0!"},{"$error":"#DIV/0!"},{"$error":"#DIV/0!"},{"$error":"#DIV/0!"},{"$error":"#DIV/0!"},{"$error":"#DIV/0!"},{"$error":"#DIV/0!"},{"$error":"#DIV/0!"},{"$error":"#DIV/0!"},{"$error":"#DIV/0!"},{"$error":"#DIV/0!"},{"$error":"#DIV/0!"}]
[null,null,18,236.09466188969347,{"$f":"Klimaatscenario!I25","v":53.825041971043987},{"$error":"#DIV/0!"},{"$error":"#DIV/0!"},{"$error":"#DIV/0!"},{"$error":"#DIV/0!"},{"$error":"#DIV/0!"},{"$error":"#DIV/0!"},{"$error":"#DIV/0!"},{"$error":"#DIV/0!"},{"$error":"#DIV/0!"},{"$error":"#DIV/0!"},{"$error":"#DIV/0!"},{"$error":"#DIV/0!"},{"$error":"#DIV/0!"},{"$error":"#DIV/0!"},{"$error":"#DIV/0!"},{"$error":"#DIV/0!"},{"$error":"#DIV/0!"},{"$error":"#DIV/0!"},{"$error":"#DIV/0!"},{"$error":"#DIV/0!"},null,18,298.36852769303823,{"$f":"Klimaatscenario!J25","v":63.830825423319766},{"$error":"#DIV/0!"},{"$error":"#DIV/0!"},{"$error":"#DIV/0!"},{"$error":"#DIV/0!"},{"$error":"#DIV/0!"},{"$error":"#DIV/0!"},{"$error":"#DIV/0!"},{"$error":"#DIV/0!"},{"$error":"#DIV/0!"},{"$error":"#DIV/0!"},{"$error":"#DIV/0!"},{"$error":"#DIV/0!"},{"$error":"#DIV/0!"},{"$error":"#DIV/0!"},{"$error":"#DIV/0!"},{"$error":"#DIV/0!"},{"$error":"#DIV/0!"},{"$error":"#DIV/0!"},{"$error":"#DIV/0!"},{"$error":"#DIV/0!"}]
[null,null,19,236.09466188969463,{"$f":"Klimaatscenario!I26","v":55.241609942382155},{"$error":"#DIV/0!"},{"$error":"#DIV/0!"},{"$error":"#DIV/0!"},{"$error":"#DIV/0!"},{"$error":"#DIV/0!"},{"$error":"#DIV/0!"},{"$error":"#DIV/0!"},{"$error":"#DIV/0!"},{"$error":"#DIV/0!"},{"$error":"#DIV/0!"},{"$error":"#DIV/0!"},{"$error":"#DIV/0!"},{"$error":"#DIV/0!"},{"$error":"#DIV/0!"},{"$error":"#DIV/0!"},{"$error":"#DIV/0!"},{"$error":"#DIV/0!"},{"$error":"#DIV/0!"},{"$error":"#DIV/0!"},{"$error":"#DIV/0!"},null,19,298.3685276930359,{"$f":"Klimaatscenario!J26","v":65.621036589477981},{"$error":"#DIV/0!"},{"$error":"#DIV/0!"},{"$error":"#DIV/0!"},{"$error":"#DIV/0!"},{"$error":"#DIV/0!"},{"$error":"#DIV/0!"},{"$error":"#DIV/0!"},{"$error":"#DIV/0!"},{"$error":"#DIV/0!"},{"$error":"#DIV/0!"},{"$error":"#DIV/0!"},{"$error":"#DIV/0!"},{"$error":"#DIV/0!"},{"$error":"#DIV/0!"},{"$error":"#DIV/0!"},{"$error":"#DIV/0!"},{"$error":"#DIV/0!"},{"$error":"#DIV/0!"},{"$error":"#DIV/0!"},{"$error":"#DIV/0!"}]
[null,null,20,236.09466188969463,{"$f":"Klimaatscenario!I27","v":56.658177913720323},{"$error":"#DIV/0!"},{"$error":"#DIV/0!"},{"$error":"#DIV/0!"},{"$error":"#DIV/0!"},{"$error":"#DIV/0!"},{"$error":"#DIV/0!"},{"$error":"#DIV/0!"},{"$error":"#DIV/0!"},{"$error":"#DIV/0!"},{"$error":"#DIV/0!"},{"$error":"#DIV/0!"},{"$error":"#DIV/0!"},{"$error":"#DIV/0!"},{"$error":"#DIV/0!"},{"$error":"#DIV/0!"},{"$error":"#DIV/0!"},{"$error":"#DIV/0!"},{"$error":"#DIV/0!"},{"$error":"#DIV/0!"},{"$error":"#DIV/0!"},null,20,298.36852769303823,{"$f":"Klimaatscenario!J27","v":67.411247755636211},{"$error":"#DIV/0!"},{"$error":"#DIV/0!"},{"$error":"#DIV/0!"},{"$error":"#DIV/0!"},{"$error":"#DIV/0!"},{"$error":"#DIV/0!"},{"$error":"#DIV/0!"},{"$error":"#DIV/0!"},{"$error":"#DIV/0!"},{"$error":"#DIV/0!"},{"$error":"#DIV/0!"},{"$error":"#DIV/0!"},{"$error":"#DIV/0!"},{"$error":"#DIV/0!"},{"$error":"#DIV/0!"},{"$error":"#DIV/0!"},{"$error":"#DIV/0!"},{"$error":"#DIV/0!"},{"$error":"#DIV/0!"},{"$error":"#DIV/0!"}]
[null,null,21,236.09466188969463,{"$f":"Klimaatscenario!I28","v":58.074745885058491},{"$error":"#DIV/0!"},{"$error":"#DIV/0!"},{"$error":"#DIV/0!"},{"$error":"#DIV/0!"},{"$error":"#DIV/0!"},{"$error":"#DIV/0!"},{"$error":"#DIV/0!"},{"$error":"#DIV/0!"},{"$error":"#DIV/0!"},{"$error":"#DIV/0!"},{"$error":"#DIV/0!"},{"$error":"#DIV/0!"},{"$error":"#DIV/0!"},{"$error":"#DIV/0!"},{"$error":"#DIV/0!"},{"$error":"#DIV/0!"},{"$error":"#DIV/0!"},{"$error":"#DIV/0!"},{"$error":"#DIV/0!"},{"$error":"#DIV/0!"},null,21,298.3685276930359,{"$f":"Klimaatscenario!J28","v":69.201458921794426},{"$error":"#DIV/0!"},{"$error":"#DIV/0!"},{"$error":"#DIV/0!"},{"$error":"#DIV/0!"},{"$error":"#DIV/0!"},{"$error":"#DIV/0!"},{"$error":"#DIV/0!"},{"$error":"#DIV/0!"},{"$error":"#DIV/0!"},{"$error":"#DIV/0!"},{"$error":"#DIV/0!"},{"$error":"#DIV/0!"},{"$error":"#DIV/0!"},{"$error":"#DIV/0!"},{"$error":"#DIV/0!"},{"$error":"#DIV/0!"},{"$error":"#DIV/0!"},{"$error":"#DIV/0!"},{"$error":"#DIV/0!"},{"$error":"#DIV/0!"}]
[null,null,22,236.09466188969463,{"$f":"Klimaatscenario!I29","v":59.491313856396658},{"$error":"#DIV/0!"},{"$error":"#DIV/0!"},{"$error":"#DIV/0!"},{"$error":"#DIV/0!"},{"$error":"#DIV/0!"},{"$error":"#DIV/0!"},{"$error":"#DIV/0!"},{"$error":"#DIV/0!"},{"$error":"#DIV/0!"},{"$error":"#DIV/0!"},{"$error":"#DIV/0!"},{"$error":"#DIV/0!"},{"$error":"#DIV/0!"},{"$error":"#DIV/0!"},{"$error":"#DIV/0!"},{"$error":"#DIV/0!"},{"$error":"#DIV/0!"},{"$error":"#DIV/0!"},{"$error":"#DIV/0!"},{"$error":"#DIV/0!"},null,22,298.36852769303823,{"$f":"Klimaatscenario!J29","v":70.991670087952656},{"$error":"#DIV/0!"},{"$error":"#DIV/0!"},{"$error":"#DIV/0!"},{"$error":"#DIV/0!"},{"$error":"#DIV/0!"},{"$error":"#DIV/0!"},{"$error":"#DIV/0!"},{"$error":"#DIV/0!"},{"$error":"#DIV/0!"},{"$error":"#DIV/0!"},{"$error":"#DIV/0!"},{"$error":"#DIV/0!"},{"$error":"#DIV/0!"},{"$error":"#DIV/0!"},{"$error":"#DIV/0!"},{"$error":"#DIV/0!"},{"$error":"#DIV/0!"},{"$error":"#DIV/0!"},{"$error":"#DIV/0!"},{"$error":"#DIV/0!"}]
[null,null,23,236.09466188969463,{"$f":"Klimaatscenario!I30","v":60.907881827734826},{"$error":"#DIV/0!"},{"$error":"#DIV/0!"},{"$error":"#DIV/0!"},{"$error":"#DIV/0!"},{"$error":"#DIV/0!"},{"$error":"#DIV/0!"},{"$error":"#DIV/0!"},{"$error":"#DIV/0!"},{"$error":"#DIV/0!"},{"$error":"#DIV/0!"},{"$error":"#DIV/0!"},{"$error":"#DIV/0!"},{"$error":"#DIV/0!"},{"$error":"#DIV/0!"},{"$error":"#DIV/0!"},{"$error":"#DIV/0!"},{"$error":"#DIV/0!"},{"$error":"#DIV/0!"},{"$error":"#DIV/0!"},{"$error":"#DIV/0!"},null,23,298.36852769303823,{"$f":"Klimaatscenario!J30","v":72.781881254110885},{"$error":"#DIV/0!"},{"$error":"#DIV/0!"},{"$error":"#DIV/0!"},{"$error":"#DIV/0!"},{"$error":"#DIV/0!"},{"$error":"#DIV/0!"},{"$error":"#DIV/0!"},{"$error":"#DIV/0!"},{"$error":"#DIV/0!"},{"$error":"#DIV/0!"},{"$error":"#DIV/0!"},{"$error":"#DIV/0!"},{"$error":"#DIV/0!"},{"$error":"#DIV/0!"},{"$error":"#DIV/0!"},{"$error":"#DIV/0!"},{"$error":"#DIV/0!"},{"$error":"#DIV/0!"},{"$error":"#DIV/0!"},{"$error":"#DIV/0!"}]
[null,null,24,236.09466188969463,{"$f":"Klimaatscenario!I31","v":62.324449799072994},{"$error":"#DIV/0!"},{"$error":"#DIV/0!"},{"$error":"#DIV/0!"},{"$error":"#DIV/0!"},{"$error":"#DIV/0!"},{"$error":"#DIV/0!"},{"$error":"#DIV/0!"},{"$error":"#DIV/0!"},{"$error":"#DIV/0!"},{"$error":"#DIV/0!"},{"$error":"#DIV/0!"},{"$error":"#DIV/0!"},{"$error":"#DIV/0!"},{"$error":"#DIV/0!"},{"$error":"#DIV/0!"},{"$error":"#DIV/0!"},{"$error":"#DIV/0!"},{"$error":"#DIV/0!"},{"$error":"#DIV/0!"},{"$error":"#DIV/0!"},null,24,298.3685276930359,{"$f":"Klimaatscenario!J31","v":74.572092420269101},{"$error":"#DIV/0!"},{"$error":"#DIV/0!"},{"$error":"#DIV/0!"},{"$error":"#DIV/0!"},{"$error":"#DIV/0!"},{"$error":"#DIV/0!"},{"$error":"#DIV/0!"},{"$error":"#DIV/0!"},{"$error":"#DIV/0!"},{"$error":"#DIV/0!"},{"$error":"#DIV/0!"},{"$error":"#DIV/0!"},{"$error":"#DIV/0!"},{"$error":"#DIV/0!"},{"$error":"#DIV/0!"},{"$error":"#DIV/0!"},{"$error":"#DIV/0!"},{"$error":"#DIV/0!"},{"$error":"#DIV/0!"},{"$error":"#DIV/0!"}]
[null,null,25,236.09466188969347,{"$f":"Klimaatscenario!I32","v":63.741017770411155},{"$error":"#DIV/0!"},{"$error":"#DIV/0!"},{"$error":"#DIV/0!"},{"$error":"#DIV/0!"},{"$error":"#DIV/0!"},{"$error":"#DIV/0!"},{"$error":"#DIV/0!"},{"$error":"#DIV/0!"},{"$error":"#DIV/0!"},{"$error":"#DIV/0!"},{"$error":"#DIV/0!"},{"$error":"#DIV/0!"},{"$error":"#DIV/0!"},{"$error":"#DIV/0!"},{"$error":"#DIV/0!"},{"$error":"#DIV/0!"},{"$error":"#DIV/0!"},{"$error":"#DIV/0!"},{"$error":"#DIV/0!"},{"$error":"#DIV/0!"},null,25,298.3685276930359,{"$f":"Klimaatscenario!J32","v":76.362303586427316},{"$error":"#DIV/0!"},{"$error":"#DIV/0!"},{"$error":"#DIV/0!"},{"$error":"#DIV/0!"},{"$error":"#DIV/0!"},{"$error":"#DIV/0!"},{"$error":"#DIV/0!"},{"$error":"#DIV/0!"},{"$error":"#DIV/0!"},{"$error":"#DIV/0!"},{"$error":"#DIV/0!"},{"$error":"#DIV/0!"},{"$error":"#DIV/0!"},{"$error":"#DIV/0!"},{"$error":"#DIV/0!"},{"$error":"#DIV/0!"},{"$error":"#DIV/0!"},{"$error":"#DIV/0!"},{"$error":"#DIV/0!"},{"$error":"#DIV/0!"}]
[null,null,26,236.09466188969583,{"$f":"Klimaatscenario!I33","v":65.15758574174933},{"$error":"#DIV/0!"},{"$error":"#DIV/0!"},{"$error":"#DIV/0!"},{"$error":"#DIV/0!"},{"$error":"#DIV/0!"},{"$error":"#DIV/0!"},{"$error":"#DIV/0!"},{"$error":"#DIV/0!"},{"$error":"#DIV/0!"},{"$error":"#DIV/0!"},{"$error":"#DIV/0!"},{"$error":"#DIV/0!"},{"$error":"#DIV/0!"},{"$error":"#DIV/0!"},{"$error":"#DIV/0!"},{"$error":"#DIV/0!"},{"$error":"#DIV/0!"},{"$error":"#DIV/0!"},{"$error":"#DIV/0!"},{"$error":"#DIV/0!"},null,26,298.36852769303823,{"$f":"Klimaatscenario!J33","v":78.152514752585546},{"$error":"#DIV/0!"},{"$error":"#DIV/0!"},{"$error":"#DIV/0!"},{"$error":"#DIV/0!"},{"$error":"#DIV/0!"},{"$error":"#DIV/0!"},{"$error":"#DIV/0!"},{"$error":"#DIV/0!"},{"$error":"#DIV/0!"},{"$error":"#DIV/0!"},{"$error":"#DIV/0!"},{"$error":"#DIV/0!"},{"$error":"#DIV/0!"},{"$error":"#DIV/0!"},{"$error":"#DIV/0!"},{"$error":"#DIV/0!"},{"$error":"#DIV/0!"},{"$error":"#DIV/0!"},{"$error":"#DIV/0!"},{"$error":"#DIV/0!"}]
[null,null,27,236.09466188969463,{"$f":"Klimaatscenario!I34","v":66.574153713087497},{"$error":"#DIV/0!"},{"$error":"#DIV/0!"},{"$error":"#DIV/0!"},{"$error":"#DIV/0!"},{"$error":"#DIV/0!"},{"$error":"#DIV/0!"},{"$error":"#DIV/0!"},{"$error":"#DIV/0!"},{"$error":"#DIV/0!"},{"$error":"#DIV/0!"},{"$error":"#DIV/0!"},{"$error":"#DIV/0!"},{"$error":"#DIV/0!"},{"$error":"#DIV/0!"},{"$error":"#DIV/0!"},{"$error":"#DIV/0!"},{"$error":"#DIV/0!"},{"$error":"#DIV/0!"},{"$error":"#DIV/0!"},{"$error":"#DIV/0!"},null,27,298.36852769303823,{"$f":"Klimaatscenario!J34","v":79.942725918743776},{"$error":"#DIV/0!"},{"$error":"#DIV/0!"},{"$error":"#DIV/0!"},{"$error":"#DIV/0!"},{"$error":"#DIV/0!"},{"$error":"#DIV/0!"},{"$error":"#DIV/0!"},{"$error":"#DIV/0!"},{"$error":"#DIV/0!"},{"$error":"#DIV/0!"},{"$error":"#DIV/0!"},{"$error":"#DIV/0!"},{"$error":"#DIV/0!"},{"$error":"#DIV/0!"},{"$error":"#DIV/0!"},{"$error":"#DIV/0!"},{"$error":"#DIV/0!"},{"$error":"#DIV/0!"},{"$error":"#DIV/0!"},{"$error":"#DIV/0!"}]
[null,null,28,236.09466188969228,{"$f":"Klimaatscenario!I35","v":67.990721684425651},{"$error":"#DIV/0!"},{"$error":"#DIV/0!"},{"$error":"#DIV/0!"},{"$error":"#DIV/0!"},{"$error":"#DIV/0!"},{"$error":"#DIV/0!"},{"$error":"#DIV/0!"},{"$error":"#DIV/0!"},{"$error":"#DIV/0!"},{"$error":"#DIV/0!"},{"$error":"#DIV/0!"},{"$error":"#DIV/0!"},{"$error":"#DIV/0!"},{"$error":"#DIV/0!"},{"$error":"#DIV/0!"},{"$error":"#DIV/0!"},{"$error":"#DIV/0!"},{"$error":"#DIV/0!"},{"$error":"#DIV/0!"},{"$error":"#DIV/0!"},null,28,298.3685276930359,{"$f":"Klimaatscenario!J35","v":81.732937084901991},{"$error":"#DIV/0!"},{"$error":"#DIV/0!"},{"$error":"#DIV/0!"},{"$error":"#DIV/0!"},{"$error":"#DIV/0!"},{"$error":"#DIV/0!"},{"$error":"#DIV/0!"},{"$error":"#DIV/0!"},{"$error":"#DIV/0!"},{"$error":"#DIV/0!"},{"$error":"#DIV/0!"},{"$error":"#DIV/0!"},{"$error":"#DIV/0!"},{"$error":"#DIV/0!"},{"$error":"#DIV/0!"},{"$error":"#DIV/0!"},{"$error":"#DIV/0!"},{"$error":"#DIV/0!"},{"$error":"#DIV/0!"},{"$error":"#DIV/0!"}]
[null,null,29,236.09466188969463,{"$f":"Klimaatscenario!I36","v":69.407289655763819},{"$error":"#DIV/0!"},{"$error":"#DIV/0!"},{"$error":"#DIV/0!"},{"$error":"#DIV/0!"},{"$error":"#DIV/0!"},{"$error":"#DIV/0!"},{"$error":"#DIV/0!"},{"$error":"#DIV/0!"},{"$error":"#DIV/0!"},{"$error":"#DIV/0!"},{"$error":"#DIV/0!"},{"$error":"#DIV/0!"},{"$error":"#DIV/0!"},{"$error":"#DIV/0!"},{"$error":"#DIV/0!"},{"$error":"#DIV/0!"},{"$error":"#DIV/0!"},{"$error":"#DIV/0!"},{"$error":"#DIV/0!"},{"$error":"#DIV/0!"},null,29,298.3685276930359,{"$f":"Klimaatscenario!J36","v":83.523148251060206},{"$error":"#DIV/0!"},{"$error":"#DIV/0!"},{"$error":"#DIV/0!"},{"$error":"#DIV/0!"},{"$error":"#DIV/0!"},{"$error":"#DIV/0!"},{"$error":"#DIV/0!"},{"$error":"#DIV/0!"},{"$error":"#DIV/0!"},{"$error":"#DIV/0!"},{"$error":"#DIV/0!"},{"$error":"#DIV/0!"},{"$error":"#DIV/0!"},{"$error":"#DIV/0!"},{"$error":"#DIV/0!"},{"$error":"#DIV/0!"},{"$error":"#DIV/0!"},{"$error":"#DIV/0!"},{"$error":"#DIV/0!"},{"$error":"#DIV/0!"}]
[null,null,30,236.09466188969463,{"$f":"Klimaatscenario!I37","v":70.823857627101987},{"$error":"#DIV/0!"},{"$error":"#DIV/0!"},{"$error":"#DIV/0!"},{"$error":"#DIV/0!"},{"$error":"#DIV/0!"},{"$error":"#DIV/0!"},{"$error":"#DIV/0!"},{"$error":"#DIV/0!"},{"$error":"#DIV/0!"},{"$error":"#DIV/0!"},{"$error":"#DIV/0!"},{"$error":"#DIV/0!"},{"$error":"#DIV/0!"},{"$error":"#DIV/0!"},{"$error":"#DIV/0!"},{"$error":"#DIV/0!"},{"$error":"#DIV/0!"},{"$error":"#DIV/0!"},{"$error":"#DIV/0!"},{"$error":"#DIV/0!"},null,30,298.36852769303823,{"$f":"Klimaatscenario!J37","v":85.313359417218436},{"$error":"#DIV/0!"},{"$error":"#DIV/0!"},{"$error":"#DIV/0!"},{"$error":"#DIV/0!"},{"$error":"#DIV/0!"},{"$error":"#DIV/0!"},{"$error":"#DIV/0!"},{"$error":"#DIV/0!"},{"$error":"#DIV/0!"},{"$error":"#DIV/0!"},{"$error":"#DIV/0!"},{"$error":"#DIV/0!"},{"$error":"#DIV/0!"},{"$error":"#DIV/0!"},{"$error":"#DIV/0!"},{"$error":"#DIV/0!"},{"$error":"#DIV/0!"},{"$error":"#DIV/0!"},{"$error":"#DIV/0!"},{"$error":"#DIV/0!"}]
[null,null,31,108.4206801180656,{"$f":"Klimaatscenario!I38","v":71.47438170781038},{"$error":"#DIV/0!"},{"$error":"#DIV/0!"},{"$error":"#DIV/0!"},{"$error":"#DIV/0!"},{"$error":"#DIV/0!"},{"$error":"#DIV/0!"},{"$error":"#DIV/0!"},{"$error":"#DIV/0!"},{"$error":"#DIV/0!"},{"$error":"#DIV/0!"},{"$error":"#DIV/0!"},{"$error":"#DIV/0!"},{"$error":"#DIV/0!"},{"$error":"#DIV/0!"},{"$error":"#DIV/0!"},{"$error":"#DIV/0!"},{"$error":"#DIV/0!"},{"$error":"#DIV/0!"},{"$error":"#DIV/0!"},{"$error":"#DIV/0!"},null,31,136.96863511449445,{"$f":"Klimaatscenario!J38","v":86.135171227905403},{"$error":"#DIV/0!"},{"$error":"#DIV/0!"},{"$error":"#DIV/0!"},{"$error":"#DIV/0!"},{"$error":"#DIV/0!"},{"$error":"#DIV/0!"},{"$error":"#DIV/0!"},{"$error":"#DIV/0!"},{"$error":"#DIV/0!"},{"$error":"#DIV/0!"},{"$error":"#DIV/0!"},{"$error":"#DIV/0!"},{"$error":"#DIV/0!"},{"$error":"#DIV/0!"},{"$error":"#DIV/0!"},{"$error":"#DIV/0!"},{"$error":"#DIV/0!"},{"$error":"#DIV/0!"},{"$error":"#DIV/0!"},{"$error":"#DIV/0!"}]
[null,null,32,108.4206801180656,{"$f":"Klimaatscenario!I39","v":72.124905788518774},{"$error":"#DIV/0!"},{"$error":"#DIV/0!"},{"$error":"#DIV/0!"},{"$f":"($J$596/60)*$C548","v":{"$error":"#DIV/0!"}},{"$f":"$E548-F548-G548-H548-I548","v":{"$error":"#DIV/0!"}},{"$error":"#DIV/0!"},{"$error":"#DIV/0!"},{"$error":"#DIV/0!"},{"$f":"($O$596/60)*$C548","v":{"$error":"#DIV/0!"}},{"$f":"$E548-K548-L548-M548-N548","v":{"$error":"#DIV/0!"}},{"$error":"#DIV/0!"},{"$error":"#DIV/0!"},{"$error":"#DIV/0!"},{"$f":"($T$596/60)*$C548","v":{"$error":"#DIV/0!"}},{"$f":"$E548-P548-Q548-R548-S548","v":{"$error":"#DIV/0!"}},{"$error":"#DIV/0!"},{"$error":"#DIV/0!"},{"$error":"#DIV/0!"},{"$f":"($Y$596/60)*$C548","v":{"$error":"#DIV/0!"}},{"$f":"$E548-U548-V548-W548-X548","v":{"$error":"#DIV/0!"}},null,32,136.96863511449209,{"$f":"Klimaatscenario!J39","v":86.956983038592355},{"$error":"#DIV/0!"},{"$error":"#DIV/0!"},{"$error":"#DIV/0!"},{"$f":"($AH$596/60)*$AA548","v":{"$error":"#DIV/0!"}},{"$f":"$AC548-AD548-AE548-AF548-AG548","v":{"$error":"#DIV/0!"}},{"$error":"#DIV/0!"},{"$error":"#DIV/0!"},{"$error":"#DIV/0!"},{"$f":"($AM$596/60)*$AA548","v":{"$error":"#DIV/0!"}},{"$f":"$AC548-AI548-AJ548-AK548-AL548","v":{"$error":"#DIV/0!"}},{"$error":"#DIV/0!"},{"$error":"#DIV/0!"},{"$error":"#DIV/0!"},{"$f":"($AR$596/60)*$AA548","v":{"$error":"#DIV/0!"}},{"$f":"$AC548-AN548-AO548-AP548-AQ548","v":{"$error":"#DIV/0!"}},{"$error":"#DIV/0!"},{"$error":"#DIV/0!"},{"$error":"#DIV/0!"},{"$f":"($AW$596/60)*$AA548","v":{"$error":"#DIV/0!"}},{"$f":"$AC548-AS548-AT548-AU548-AV548","v":{"$error":"#DIV/0!"}}]
[null,null,33,108.4206801180656,{"$f":"Klimaatscenario!I40","v":72.775429869227168},{"$f":"((J$595*60)/10000)+F548","v":{"$error":"#DIV/0!"}},{"$error":"#DIV/0!"},{"$error":"#DIV/0!"},{"$error":"#DIV/0!"},{"$error":"#DIV/0!"},{"$f":"((O$595*60)/10000)+K548","v":{"$error":"#DIV/0!"}},{"$error":"#DIV/0!"},{"$error":"#DIV/0!"},{"$error":"#DIV/0!"},{"$error":"#DIV/0!"},{"$f":"((T$595*60)/10000)+P548","v":{"$error":"#DIV/0!"}},{"$error":"#DIV/0!"},{"$error":"#DIV/0!"},{"$error":"#DIV/0!"},{"$error":"#DIV/0!"},{"$f":"((Y$595*60)/10000)+U548","v":{"$error":"#DIV/0!"}},{"$error":"#DIV/0!"},{"$error":"#DIV/0!"},{"$error":"#DIV/0!"},{"$error":"#DIV/0!"},null,33,136.96863511449445,{"$f":"Klimaatscenario!J40","v":87.778794849279322},{"$f":"((AH$595*60)/10000)+AD548","v":{"$error":"#DIV/0!"}},{"$error":"#DIV/0!"},{"$error":"#DIV/0!"},{"$error":"#DIV/0!"},{"$error":"#DIV/0!"},{"$f":"((AM$595*60)/10000)+AI548","v":{"$error":"#DIV/0!"}},{"$error":"#DIV/0!"},{"$error":"#DIV/0!"},{"$error":"#DIV/0!"},{"$error":"#DIV/0!"},{"$f":"((AR$595*60)/10000)+AN548","v":{"$error":"#DIV/0!"}},{"$error":"#DIV/0!"},{"$error":"#DIV/0!"},{"$error":"#DIV/0!"},{"$error":"#DIV/0!"},{"$f":"((AW$595*60)/10000)+AS548","v":{"$error":"#DIV/0!"}},{"$error":"#DIV/0!"},{"$error":"#DIV/0!"},{"$error":"#DIV/0!"},{"$error":"#DIV/0!"}]
[null,null,34,108.4206801180656,{"$f":"Klimaatscenario!I41","v":73.425953949935561},{"$error":"#DIV/0!"},{"$error":"#DIV/0!"},{"$error":"#DIV/0!"},{"$error":"#DIV/0!"},{"$error":"#DIV/0!"},{"$error":"#DIV/0!"},{"$error":"#DIV/0!"},{"$error":"#DIV/0!"},{"$error":"#DIV/0!"},{"$error":"#DIV/0!"},{"$error":"#DIV/0!"},{"$error":"#DIV/0!"},{"$error":"#DIV/0!"},{"$error":"#DIV/0!"},{"$error":"#DIV/0!"},{"$error":"#DIV/0!"},{"$error":"#DIV/0!"},{"$error":"#DIV/0!"},{"$error":"#DIV/0!"},{"$error":"#DIV/0!"},null,34,136.96863511449445,{"$f":"Klimaatscenario!J41","v":88.600606659966289},{"$error":"#DIV/0!"},{"$error":"#DIV/0!"},{"$error":"#DIV/0!"},{"$error":"#DIV/0!"},{"$error":"#DIV/0!"},{"$error":"#DIV/0!"},{"$error":"#DIV/0!"},{"$error":"#DIV/0!"},{"$error":"#DIV/0!"},{"$error":"#DIV/0!"},{"$error":"#DIV/0!"},{"$error":"#DIV/0!"},{"$error":"#DIV/0!"},{"$error":"#DIV/0!"},{"$error":"#DIV/0!"},{"$error":"#DIV/0!"},{"$error":"#DIV/0!"},{"$error":"#DIV/0!"},{"$error":"#DIV/0!"},{"$error":"#DIV/0!"}]
[null,null,35,108.4206801180656,{"$f":"Klimaatscenario!I42","v":74.076478030643955},{"$error":"#DIV/0!"},{"$error":"#DIV/0!"},{"$error":"#DIV/0!"},{"$error":"#DIV/0!"},{"$error":"#DIV/0!"},{"$error":"#DIV/0!"},{"$error":"#DIV/0!"},{"$error":"#DIV/0!"},{"$error":"#DIV/0!"},{"$error":"#DIV/0!"},{"$error":"#DIV/0!"},{"$error":"#DIV/0!"},{"$error":"#DIV/0!"},{"$error":"#DIV/0!"},{"$error":"#DIV/0!"},{"$error":"#DIV/0!"},{"$error":"#DIV/0!"},{"$error":"#DIV/0!"},{"$error":"#DIV/0!"},{"$error":"#DIV/0!"},null,35,136.96863511449209,{"$f":"Klimaatscenario!J42","v":89.422418470653241},{"$error":"#DIV/0!"},{"$error":"#DIV/0!"},{"$error":"#DIV/0!"},{"$error":"#DIV/0!"},{"$error":"#DIV/0!"},{"$error":"#DIV/0!"},{"$error":"#DIV/0!"},{"$error":"#DIV/0!"},{"$error":"#DIV/0!"},{"$error":"#DIV/0!"},{"$error":"#DIV/0!"},{"$error":"#DIV/0!"},{"$error":"#DIV/0!"},{"$error":"#DIV/0!"},{"$error":"#DIV/0!"},{"$error":"#DIV/0!"},{"$error":"#DIV/0!"},{"$error":"#DIV/0!"},{"$error":"#DIV/0!"},{"$error":"#DIV/0!"}]
[null,null,36,108.42068011806798,{"$f":"Klimaatscenario!I43","v":74.727002111352363},{"$error":"#DIV/0!"},{"$error":"#DIV/0!"},{"$error":"#DIV/0!"},{"$error":"#DIV/0!"},{"$error":"#DIV/0!"},{"$error":"#DIV/0!"},{"$error":"#DIV/0!"},{"$error":"#DIV/0!"},{"$error":"#DIV/0!"},{"$error":"#DIV/0!"},{"$error":"#DIV/0!"},{"$error":"#DIV/0!"},{"$error":"#DIV/0!"},{"$error":"#DIV/0!"},{"$error":"#DIV/0!"},{"$error":"#DIV/0!"},{"$error":"#DIV/0!"},{"$error":"#DIV/0!"},{"$error":"#DIV/0!"},{"$error":"#DIV/0!"},null,36,136.96863511449445,{"$f":"Klimaatscenario!J43","v":90.244230281340208},{"$error":"#DIV/0!"},{"$error":"#DIV/0!"},{"$error":"#DIV/0!"},{"$error":"#DIV/0!"},{"$error":"#DIV/0!"},{"$error":"#DIV/0!"},{"$error":"#DIV/0!"},{"$error":"#DIV/0!"},{"$error":"#DIV/0!"},{"$error":"#DIV/0!"},{"$error":"#DIV/0!"},{"$error":"#DIV/0!"},{"$error":"#DIV/0!"},{"$error":"#DIV/0!"},{"$error":"#DIV/0!"},{"$error":"#DIV/0!"},{"$error":"#DIV/0!"},{"$error":"#DIV/0!"},{"$error":"#DIV/0!"},{"$error":"#DIV/0!"}]
[null,null,37,{"$f":"((((((E553-E552)/(C553-C552))/60)/1000)*10000)*1000)","v":108.4206801180656},{"$f":"Klimaatscenario!I44","v":75.377526192060756},{"$error":"#DIV/0!"},{"$error":"#DIV/0!"},{"$error":"#DIV/0!"},{"$error":"#DIV/0!"},{"$error":"#DIV/0!"},{"$error":"#DIV/0!"},{"$error":"#DIV/0!"},{"$error":"#DIV/0!"},{"$error":"#DIV/0!"},{"$error":"#DIV/0!"},{"$error":"#DIV/0!"},{"$error":"#DIV/0!"},{"$error":"#DIV/0!"},{"$error":"#DIV/0!"},{"$error":"#DIV/0!"},{"$error":"#DIV/0!"},{"$error":"#DIV/0!"},{"$error":"#DIV/0!"},{"$error":"#DIV/0!"},{"$error":"#DIV/0!"},null,37,{"$f":"((((((AC553-AC552)/(AA553-AA552))/60)/1000)*10000)*1000)","v":136.96863511449445},{"$f":"Klimaatscenario!J44","v":91.066042092027175},{"$error":"#DIV/0!"},{"$error":"#DIV/0!"},{"$error":"#DIV/0!"},{"$error":"#DIV/0!"},{"$error":"#DIV/0!"},{"$error":"#DIV/0!"},{"$error":"#DIV/0!"},{"$error":"#DIV/0!"},{"$error":"#DIV/0!"},{"$error":"#DIV/0!"},{"$error":"#DIV/0!"},{"$error":"#DIV/0!"},{"$error":"#DIV/0!"},{"$error":"#DIV/0!"},{"$error":"#DIV/0!"},{"$error":"#DIV/0!"},{"$error":"#DIV/0!"},{"$error":"#DIV/0!"},{"$error":"#DIV/0!"},{"$error":"#DIV/0!"}]
[null,null,38,108.4206801180656,{"$f":"Klimaatscenario!I45","v":76.02805027276915},{"$error":"#DIV/0!"},{"$error":"#DIV/0!"},{"$error":"#DIV/0!"},{"$error":"#DIV/0!"},{"$error":"#DIV/0!"},{"$error":"#DIV/0!"},{"$error":"#DIV/0!"},{"$error":"#DIV/0!"},{"$error":"#DIV/0!"},{"$error":"#DIV/0!"},{"$error":"#DIV/0!"},{"$error":"#DIV/0!"},{"$error":"#DIV/0!"},{"$error":"#DIV/0!"},{"$error":"#DIV/0!"},{"$error":"#DIV/0!"},{"$error":"#DIV/0!"},{"$error":"#DIV/0!"},{"$error":"#DIV/0!"},{"$error":"#DIV/0!"},null,38,136.96863511449445,{"$f":"Klimaatscenario!J45","v":91.887853902714141},{"$error":"#DIV/0!"},{"$error":"#DIV/0!"},{"$error":"#DIV/0!"},{"$error":"#DIV/0!"},{"$error":"#DIV/0!"},{"$error":"#DIV/0!"},{"$error":"#DIV/0!"},{"$error":"#DIV/0!"},{"$error":"#DIV/0!"},{"$error":"#DIV/0!"},{"$error":"#DIV/0!"},{"$error":"#DIV/0!"},{"$error":"#DIV/0!"},{"$error":"#DIV/0!"},{"$error":"#DIV/0!"},{"$error":"#DIV/0!"},{"$error":"#DIV/0!"},{"$error":"#DIV/0!"},{"$error":"#DIV/0!"},{"$error":"#DIV/0!"}]
[null,null,39,108.4206801180656,{"$f":"Klimaatscenario!I46","v":76.678574353477543},{"$error":"#DIV/0!"},{"$error":"#DIV/0!"},{"$error":"#DIV/0!"},{"$error":"#DIV/0!"},{"$error":"#DIV/0!"},{"$error":"#DIV/0!"},{"$error":"#DIV/0!"},{"$error":"#DIV/0!"},{"$error":"#DIV/0!"},{"$error":"#DIV/0!"},{"$error":"#DIV/0!"},{"$error":"#DIV/0!"},{"$error":"#DIV/0!"},{"$error":"#DIV/0!"},{"$error":"#DIV/0!"},{"$error":"#DIV/0!"},{"$error":"#DIV/0!"},{"$error":"#DIV/0!"},{"$error":"#DIV/0!"},{"$error":"#DIV/0!"},null,39,136.96863511449209,{"$f":"Klimaatscenario!J46","v":92.709665713401094},{"$error":"#DIV/0!"},{"$error":"#DIV/0!"},{"$error":"#DIV/0!"},{"$error":"#DIV/0!"},{"$error":"#DIV/0!"},{"$error":"#DIV/0!"},{"$error":"#DIV/0!"},{"$error":"#DIV/0!"},{"$error":"#DIV/0!"},{"$error":"#DIV/0!"},{"$error":"#DIV/0!"},{"$error":"#DIV/0!"},{"$error":"#DIV/0!"},{"$error":"#DIV/0!"},{"$error":"#DIV/0!"},{"$error":"#DIV/0!"},{"$error":"#DIV/0!"},{"$error":"#DIV/0!"},{"$error":"#DIV/0!"},{"$error":"#DIV/0!"}]
[null,null,40,108.4206801180656,{"$f":"Klimaatscenario!I47","v":77.329098434185937},{"$error":"#DIV/0!"},{"$error":"#DIV/0!"},{"$error":"#DIV/0!"},{"$error":"#DIV/0!"},{"$error":"#DIV/0!"},{"$error":"#DIV/0!"},{"$error":"#DIV/0!"},{"$error":"#DIV/0!"},{"$error":"#DIV/0!"},{"$error":"#DIV/0!"},{"$error":"#DIV/0!"},{"$error":"#DIV/0!"},{"$error":"#DIV/0!"},{"$error":"#DIV/0!"},{"$error":"#DIV/0!"},{"$error":"#DIV/0!"},{"$error":"#DIV/0!"},{"$error":"#DIV/0!"},{"$error":"#DIV/0!"},{"$error":"#DIV/0!"},null,40,136.96863511449445,{"$f":"Klimaatscenario!J47","v":93.531477524088061},{"$error":"#DIV/0!"},{"$error":"#DIV/0!"},{"$error":"#DIV/0!"},{"$error":"#DIV/0!"},{"$error":"#DIV/0!"},{"$error":"#DIV/0!"},{"$error":"#DIV/0!"},{"$error":"#DIV/0!"},{"$error":"#DIV/0!"},{"$error":"#DIV/0!"},{"$error":"#DIV/0!"},{"$error":"#DIV/0!"},{"$error":"#DIV/0!"},{"$error":"#DIV/0!"},{"$error":"#DIV/0!"},{"$error":"#DIV/0!"},{"$error":"#DIV/0!"},{"$error":"#DIV/0!"},{"$error":"#DIV/0!"},{"$error":"#DIV/0!"}]
[null,null,41,108.4206801180656,{"$f":"Klimaatscenario!I48","v":77.979622514894331},{"$error":"#DIV/0!"},{"$error":"#DIV/0!"},{"$error":"#DIV/0!"},{"$error":"#DIV/0!"},{"$error":"#DIV/0!"},{"$error":"#DIV/0!"},{"$error":"#DIV/0!"},{"$error":"#DIV/0!"},{"$error":"#DIV/0!"},{"$error":"#DIV/0!"},{"$error":"#DIV/0!"},{"$error":"#DIV/0!"},{"$error":"#DIV/0!"},{"$error":"#DIV/0!"},{"$error":"#DIV/0!"},{"$error":"#DIV/0!"},{"$error":"#DIV/0!"},{"$error":"#DIV/0!"},{"$error":"#DIV/0!"},{"$error":"#DIV/0!"},null,41,136.96863511449445,{"$f":"Klimaatscenario!J48","v":94.353289334775027},{"$error":"#DIV/0!"},{"$error":"#DIV/0!"},{"$error":"#DIV/0!"},{"$error":"#DIV/0!"},{"$error":"#DIV/0!"},{"$error":"#DIV/0!"},{"$error":"#DIV/0!"},{"$error":"#DIV/0!"},{"$error":"#DIV/0!"},{"$error":"#DIV/0!"},{"$error":"#DIV/0!"},{"$error":"#DIV/0!"},{"$error":"#DIV/0!"},{"$error":"#DIV/0!"},{"$error":"#DIV/0!"},{"$error":"#DIV/0!"},{"$error":"#DIV/0!"},{"$error":"#DIV/0!"},{"$error":"#DIV/0!"},{"$error":"#DIV/0!"}]
[null,null,42,108.4206801180656,{"$f":"Klimaatscenario!I49","v":78.630146595602724},{"$error":"#DIV/0!"},{"$error":"#DIV/0!"},{"$error":"#DIV/0!"},{"$error":"#DIV/0!"},{"$error":"#DIV/0!"},{"$error":"#DIV/0!"},{"$error":"#DIV/0!"},{"$error":"#DIV/0!"},{"$error":"#DIV/0!"},{"$error":"#DIV/0!"},{"$error":"#DIV/0!"},{"$error":"#DIV/0!"},{"$error":"#DIV/0!"},{"$error":"#DIV/0!"},{"$error":"#DIV/0!"},{"$error":"#DIV/0!"},{"$error":"#DIV/0!"},{"$error":"#DIV/0!"},{"$error":"#DIV/0!"},{"$error":"#DIV/0!"},null,42,136.96863511449209,{"$f":"Klimaatscenario!J49","v":95.17510114546198},{"$error":"#DIV/0!"},{"$error":"#DIV/0!"},{"$error":"#DIV/0!"},{"$error":"#DIV/0!"},{"$error":"#DIV/0!"},{"$error":"#DIV/0!"},{"$error":"#DIV/0!"},{"$error":"#DIV/0!"},{"$error":"#DIV/0!"},{"$error":"#DIV/0!"},{"$error":"#DIV/0!"},{"$error":"#DIV/0!"},{"$error":"#DIV/0!"},{"$error":"#DIV/0!"},{"$error":"#DIV/0!"},{"$error":"#DIV/0!"},{"$error":"#DIV/0!"},{"$error":"#DIV/0!"},{"$error":"#DIV/0!"},{"$error":"#DIV/0!"}]
[null,null,43,108.4206801180656,{"$f":"Klimaatscenario!I50","v":79.280670676311118},{"$error":"#DIV/0!"},{"$error":"#DIV/0!"},{"$error":"#DIV/0!"},{"$error":"#DIV/0!"},{"$error":"#DIV/0!"},{"$error":"#DIV/0!"},{"$error":"#DIV/0!"},{"$error":"#DIV/0!"},{"$error":"#DIV/0!"},{"$error":"#DIV/0!"},{"$error":"#DIV/0!"},{"$error":"#DIV/0!"},{"$error":"#DIV/0!"},{"$error":"#DIV/0!"},{"$error":"#DIV/0!"},{"$error":"#DIV/0!"},{"$error":"#DIV/0!"},{"$error":"#DIV/0!"},{"$error":"#DIV/0!"},{"$error":"#DIV/0!"},null,43,136.96863511449445,{"$f":"Klimaatscenario!J50","v":95.996912956148947},{"$error":"#DIV/0!"},{"$error":"#DIV/0!"},{"$error":"#DIV/0!"},{"$error":"#DIV/0!"},{"$error":"#DIV/0!"},{"$error":"#DIV/0!"},{"$error":"#DIV/0!"},{"$error":"#DIV/0!"},{"$error":"#DIV/0!"},{"$error":"#DIV/0!"},{"$error":"#DIV/0!"},{"$error":"#DIV/0!"},{"$error":"#DIV/0!"},{"$error":"#DIV/0!"},{"$error":"#DIV/0!"},{"$error":"#DIV/0!"},{"$error":"#DIV/0!"},{"$error":"#DIV/0!"},{"$error":"#DIV/0!"},{"$error":"#DIV/0!"}]
[null,null,44,108.4206801180656,{"$f":"Klimaatscenario!I51","v":79.931194757019512},{"$error":"#DIV/0!"},{"$error":"#DIV/0!"},{"$error":"#DIV/0!"},{"$error":"#DIV/0!"},{"$error":"#DIV/0!"},{"$error":"#DIV/0!"},{"$error":"#DIV/0!"},{"$error":"#DIV/0!"},{"$error":"#DIV/0!"},{"$error":"#DIV/0!"},{"$error":"#DIV/0!"},{"$error":"#DIV/0!"},{"$error":"#DIV/0!"},{"$error":"#DIV/0!"},{"$error":"#DIV/0!"},{"$error":"#DIV/0!"},{"$error":"#DIV/0!"},{"$error":"#DIV/0!"},{"$error":"#DIV/0!"},{"$error":"#DIV/0!"},null,44,136.96863511449445,{"$f":"Klimaatscenario!J51","v":96.818724766835913},{"$error":"#DIV/0!"},{"$error":"#DIV/0!"},{"$error":"#DIV/0!"},{"$error":"#DIV/0!"},{"$error":"#DIV/0!"},{"$error":"#DIV/0!"},{"$error":"#DIV/0!"},{"$error":"#DIV/0!"},{"$error":"#DIV/0!"},{"$error":"#DIV/0!"},{"$error":"#DIV/0!"},{"$error":"#DIV/0!"},{"$error":"#DIV/0!"},{"$error":"#DIV/0!"},{"$error":"#DIV/0!"},{"$error":"#DIV/0!"},{"$error":"#DIV/0!"},{"$error":"#DIV/0!"},{"$error":"#DIV/0!"},{"$error":"#DIV/0!"}]
[null,null,45,108.42068011806798,{"$f":"Klimaatscenario!I52","v":80.581718837727919},{"$error":"#DIV/0!"},{"$error":"#DIV/0!"},{"$error":"#DIV/0!"},{"$error":"#DIV/0!"},{"$error":"#DIV/0!"},{"$error":"#DIV/0!"},{"$error":"#DIV/0!"},{"$error":"#DIV/0!"},{"$error":"#DIV/0!"},{"$error":"#DIV/0!"},{"$error":"#DIV/0!"},{"$error":"#DIV/0!"},{"$error":"#DIV/0!"},{"$error":"#DIV/0!"},{"$error":"#DIV/0!"},{"$error":"#DIV/0!"},{"$error":"#DIV/0!"},{"$error":"#DIV/0!"},{"$error":"#DIV/0!"},{"$error":"#DIV/0!"},null,45,136.96863511449445,{"$f":"Klimaatscenario!J52","v":97.64053657752288},{"$error":"#DIV/0!"},{"$error":"#DIV/0!"},{"$error":"#DIV/0!"},{"$error":"#DIV/0!"},{"$error":"#DIV/0!"},{"$error":"#DIV/0!"},{"$error":"#DIV/0!"},{"$error":"#DIV/0!"},{"$error":"#DIV/0!"},{"$error":"#DIV/0!"},{"$error":"#DIV/0!"},{"$error":"#DIV/0!"},{"$error":"#DIV/0!"},{"$error":"#DIV/0!"},{"$error":"#DIV/0!"},{"$error":"#DIV/0!"},{"$error":"#DIV/0!"},{"$error":"#DIV/0!"},{"$error":"#DIV/0!"},{"$error":"#DIV/0!"}]
[null,null,46,108.4206801180656,{"$f":"Klimaatscenario!I53","v":81.232242918436313},{"$error":"#DIV/0!"},{"$error":"#DIV/0!"},{"$error":"#DIV/0!"},{"$error":"#DIV/0!"},{"$error":"#DIV/0!"},{"$error":"#DIV/0!"},{"$error":"#DIV/0!"},{"$error":"#DIV/0!"},{"$error":"#DIV/0!"},{"$error":"#DIV/0!"},{"$error":"#DIV/0!"},{"$error":"#DIV/0!"},{"$error":"#DIV/0!"},{"$error":"#DIV/0!"},{"$error":"#DIV/0!"},{"$error":"#DIV/0!"},{"$error":"#DIV/0!"},{"$error":"#DIV/0!"},{"$error":"#DIV/0!"},{"$error":"#DIV/0!"},null,46,136.96863511449209,{"$f":"Klimaatscenario!J53","v":98.462348388209833},{"$error":"#DIV/0!"},{"$error":"#DIV/0!"},{"$error":"#DIV/0!"},{"$error":"#DIV/0!"},{"$error":"#DIV/0!"},{"$error":"#DIV/0!"},{"$error":"#DIV/0!"},{"$error":"#DIV/0!"},{"$error":"#DIV/0!"},{"$error":"#DIV/0!"},{"$error":"#DIV/0!"},{"$error":"#DIV/0!"},{"$error":"#DIV/0!"},{"$error":"#DIV/0!"},{"$error":"#DIV/0!"},{"$error":"#DIV/0!"},{"$error":"#DIV/0!"},{"$error":"#DIV/0!"},{"$error":"#DIV/0!"},{"$error":"#DIV/0!"}]
[null,null,47,108.4206801180656,{"$f":"Klimaatscenario!I54","v":81.882766999144707},{"$error":"#DIV/0!"},{"$error":"#DIV/0!"},{"$error":"#DIV/0!"},{"$error":"#DIV/0!"},{"$error":"#DIV/0!"},{"$error":"#DIV/0!"},{"$error":"#DIV/0!"},{"$error":"#DIV/0!"},{"$error":"#DIV/0!"},{"$error":"#DIV/0!"},{"$error":"#DIV/0!"},{"$error":"#DIV/0!"},{"$error":"#DIV/0!"},{"$error":"#DIV/0!"},{"$error":"#DIV/0!"},{"$error":"#DIV/0!"},{"$error":"#DIV/0!"},{"$error":"#DIV/0!"},{"$error":"#DIV/0!"},{"$error":"#DIV/0!"},null,47,136.96863511449445,{"$f":"Klimaatscenario!J54","v":99.284160198896799},{"$error":"#DIV/0!"},{"$error":"#DIV/0!"},{"$error":"#DIV/0!"},{"$error":"#DIV/0!"},{"$error":"#DIV/0!"},{"$error":"#DIV/0!"},{"$error":"#DIV/0!"},{"$error":"#DIV/0!"},{"$error":"#DIV/0!"},{"$error":"#DIV/0!"},{"$error":"#DIV/0!"},{"$error":"#DIV/0!"},{"$error":"#DIV/0!"},{"$error":"#DIV/0!"},{"$error":"#DIV/0!"},{"$error":"#DIV/0!"},{"$error":"#DIV/0!"},{"$error":"#DIV/0!"},{"$error":"#DIV/0!"},{"$error":"#DIV/0!"}]
[null,null,48,108.4206801180656,{"$f":"Klimaatscenario!I55","v":82.5332910798531},{"$error":"#DIV/0!"},{"$error":"#DIV/0!"},{"$error":"#DIV/0!"},{"$error":"#DIV/0!"},{"$error":"#DIV/0!"},{"$error":"#DIV/0!"},{"$error":"#DIV/0!"},{"$error":"#DIV/0!"},{"$error":"#DIV/0!"},{"$error":"#DIV/0!"},{"$error":"#DIV/0!"},{"$error":"#DIV/0!"},{"$error":"#DIV/0!"},{"$error":"#DIV/0!"},{"$error":"#DIV/0!"},{"$error":"#DIV/0!"},{"$error":"#DIV/0!"},{"$error":"#DIV/0!"},{"$error":"#DIV/0!"},{"$error":"#DIV/0!"},null,48,136.96863511449445,{"$f":"Klimaatscenario!J55","v":100.10597200958377},{"$error":"#DIV/0!"},{"$error":"#DIV/0!"},{"$error":"#DIV/0!"},{"$error":"#DIV/0!"},{"$error":"#DIV/0!"},{"$error":"#DIV/0!"},{"$error":"#DIV/0!"},{"$error":"#DIV/0!"},{"$error":"#DIV/0!"},{"$error":"#DIV/0!"},{"$error":"#DIV/0!"},{"$error":"#DIV/0!"},{"$error":"#DIV/0!"},{"$error":"#DIV/0!"},{"$error":"#DIV/0!"},{"$error":"#DIV/0!"},{"$error":"#DIV/0!"},{"$error":"#DIV/0!"},{"$error":"#DIV/0!"},{"$error":"#DIV/0!"}]
[null,null,49,108.4206801180656,{"$f":"Klimaatscenario!I56","v":83.183815160561494},{"$error":"#DIV/0!"},{"$error":"#DIV/0!"},{"$error":"#DIV/0!"},{"$error":"#DIV/0!"},{"$error":"#DIV/0!"},{"$error":"#DIV/0!"},{"$error":"#DIV/0!"},{"$error":"#DIV/0!"},{"$error":"#DIV/0!"},{"$error":"#DIV/0!"},{"$error":"#DIV/0!"},{"$error":"#DIV/0!"},{"$error":"#DIV/0!"},{"$error":"#DIV/0!"},{"$error":"#DIV/0!"},{"$error":"#DIV/0!"},{"$error":"#DIV/0!"},{"$error":"#DIV/0!"},{"$error":"#DIV/0!"},{"$error":"#DIV/0!"},null,49,136.96863511449209,{"$f":"Klimaatscenario!J56","v":100.92778382027072},{"$error":"#DIV/0!"},{"$error":"#DIV/0!"},{"$error":"#DIV/0!"},{"$error":"#DIV/0!"},{"$error":"#DIV/0!"},{"$error":"#DIV/0!"},{"$error":"#DIV/0!"},{"$error":"#DIV/0!"},{"$error":"#DIV/0!"},{"$error":"#DIV/0!"},{"$error":"#DIV/0!"},{"$error":"#DIV/0!"},{"$error":"#DIV/0!"},{"$error":"#DIV/0!"},{"$error":"#DIV/0!"},{"$error":"#DIV/0!"},{"$error":"#DIV/0!"},{"$error":"#DIV/0!"},{"$error":"#DIV/0!"},{"$error":"#DIV/0!"}]
[null,null,50,108.4206801180656,{"$f":"Klimaatscenario!I57","v":83.834339241269888},{"$error":"#DIV/0!"},{"$error":"#DIV/0!"},{"$error":"#DIV/0!"},{"$error":"#DIV/0!"},{"$error":"#DIV/0!"},{"$error":"#DIV/0!"},{"$error":"#DIV/0!"},{"$error":"#DIV/0!"},{"$error":"#DIV/0!"},{"$error":"#DIV/0!"},{"$error":"#DIV/0!"},{"$error":"#DIV/0!"},{"$error":"#DIV/0!"},{"$error":"#DIV/0!"},{"$error":"#DIV/0!"},{"$error":"#DIV/0!"},{"$error":"#DIV/0!"},{"$error":"#DIV/0!"},{"$error":"#DIV/0!"},{"$error":"#DIV/0!"},null,50,136.96863511449445,{"$f":"Klimaatscenario!J57","v":101.74959563095769},{"$error":"#DIV/0!"},{"$error":"#DIV/0!"},{"$error":"#DIV/0!"},{"$error":"#DIV/0!"},{"$error":"#DIV/0!"},{"$error":"#DIV/0!"},{"$error":"#DIV/0!"},{"$error":"#DIV/0!"},{"$error":"#DIV/0!"},{"$error":"#DIV/0!"},{"$error":"#DIV/0!"},{"$error":"#DIV/0!"},{"$error":"#DIV/0!"},{"$error":"#DIV/0!"},{"$error":"#DIV/0!"},{"$error":"#DIV/0!"},{"$error":"#DIV/0!"},{"$error":"#DIV/0!"},{"$error":"#DIV/0!"},{"$error":"#DIV/0!"}]
[null,null,51,108.4206801180656,{"$f":"Klimaatscenario!I58","v":84.484863321978281},{"$error":"#DIV/0!"},{"$error":"#DIV/0!"},{"$error":"#DIV/0!"},{"$error":"#DIV/0!"},{"$error":"#DIV/0!"},{"$error":"#DIV/0!"},{"$error":"#DIV/0!"},{"$error":"#DIV/0!"},{"$error":"#DIV/0!"},{"$error":"#DIV/0!"},{"$error":"#DIV/0!"},{"$error":"#DIV/0!"},{"$error":"#DIV/0!"},{"$error":"#DIV/0!"},{"$error":"#DIV/0!"},{"$error":"#DIV/0!"},{"$error":"#DIV/0!"},{"$error":"#DIV/0!"},{"$error":"#DIV/0!"},{"$error":"#DIV/0!"},null,51,136.96863511449445,{"$f":"Klimaatscenario!J58","v":102.57140744164465},{"$error":"#DIV/0!"},{"$error":"#DIV/0!"},{"$error":"#DIV/0!"},{"$error":"#DIV/0!"},{"$error":"#DIV/0!"},{"$error":"#DIV/0!"},{"$error":"#DIV/0!"},{"$error":"#DIV/0!"},{"$error":"#DIV/0!"},{"$error":"#DIV/0!"},{"$error":"#DIV/0!"},{"$error":"#DIV/0!"},{"$error":"#DIV/0!"},{"$error":"#DIV/0!"},{"$error":"#DIV/0!"},{"$error":"#DIV/0!"},{"$error":"#DIV/0!"},{"$error":"#DIV/0!"},{"$error":"#DIV/0!"},{"$error":"#DIV/0!"}]
[null,null,52,108.4206801180656,{"$f":"Klimaatscenario!I59","v":85.135387402686675},{"$error":"#DIV/0!"},{"$error":"#DIV/0!"},{"$error":"#DIV/0!"},{"$error":"#DIV/0!"},{"$error":"#DIV/0!"},{"$error":"#DIV/0!"},{"$error":"#DIV/0!"},{"$error":"#DIV/0!"},{"$error":"#DIV/0!"},{"$error":"#DIV/0!"},{"$error":"#DIV/0!"},{"$error":"#DIV/0!"},{"$error":"#DIV/0!"},{"$error":"#DIV/0!"},{"$error":"#DIV/0!"},{"$error":"#DIV/0!"},{"$error":"#DIV/0!"},{"$error":"#DIV/0!"},{"$error":"#DIV/0!"},{"$error":"#DIV/0!"},null,52,136.96863511449445,{"$f":"Klimaatscenario!J59","v":103.39321925233162},{"$error":"#DIV/0!"},{"$error":"#DIV/0!"},{"$error":"#DIV/0!"},{"$error":"#DIV/0!"},{"$error":"#DIV/0!"},{"$error":"#DIV/0!"},{"$error":"#DIV/0!"},{"$error":"#DIV/0!"},{"$error":"#DIV/0!"},{"$error":"#DIV/0!"},{"$error":"#DIV/0!"},{"$error":"#DIV/0!"},{"$error":"#DIV/0!"},{"$error":"#DIV/0!"},{"$error":"#DIV/0!"},{"$error":"#DIV/0!"},{"$error":"#DIV/0!"},{"$error":"#DIV/0!"},{"$error":"#DIV/0!"},{"$error":"#DIV/0!"}]
[null,null,53,108.4206801180656,{"$f":"Klimaatscenario!I60","v":85.785911483395068},{"$error":"#DIV/0!"},{"$error":"#DIV/0!"},{"$error":"#DIV/0!"},{"$error":"#DIV/0!"},{"$error":"#DIV/0!"},{"$error":"#DIV/0!"},{"$error":"#DIV/0!"},{"$error":"#DIV/0!"},{"$error":"#DIV/0!"},{"$error":"#DIV/0!"},{"$error":"#DIV/0!"},{"$error":"#DIV/0!"},{"$error":"#DIV/0!"},{"$error":"#DIV/0!"},{"$error":"#DIV/0!"},{"$error":"#DIV/0!"},{"$error":"#DIV/0!"},{"$error":"#DIV/0!"},{"$error":"#DIV/0!"},{"$error":"#DIV/0!"},null,53,136.96863511449209,{"$f":"Klimaatscenario!J60","v":104.21503106301857},{"$error":"#DIV/0!"},{"$error":"#DIV/0!"},{"$error":"#DIV/0!"},{"$error":"#DIV/0!"},{"$error":"#DIV/0!"},{"$error":"#DIV/0!"},{"$error":"#DIV/0!"},{"$error":"#DIV/0!"},{"$error":"#DIV/0!"},{"$error":"#DIV/0!"},{"$error":"#DIV/0!"},{"$error":"#DIV/0!"},{"$error":"#DIV/0!"},{"$error":"#DIV/0!"},{"$error":"#DIV/0!"},{"$error":"#DIV/0!"},{"$error":"#DIV/0!"},{"$error":"#DIV/0!"},{"$error":"#DIV/0!"},{"$error":"#DIV/0!"}]
[null,null,54,108.42068011806798,{"$f":"Klimaatscenario!I61","v":86.436435564103476},{"$error":"#DIV/0!"},{"$error":"#DIV/0!"},{"$error":"#DIV/0!"},{"$error":"#DIV/0!"},{"$error":"#DIV/0!"},{"$error":"#DIV/0!"},{"$error":"#DIV/0!"},{"$error":"#DIV/0!"},{"$error":"#DIV/0!"},{"$error":"#DIV/0!"},{"$error":"#DIV/0!"},{"$error":"#DIV/0!"},{"$error":"#DIV/0!"},{"$error":"#DIV/0!"},{"$error":"#DIV/0!"},{"$error":"#DIV/0!"},{"$error":"#DIV/0!"},{"$error":"#DIV/0!"},{"$error":"#DIV/0!"},{"$error":"#DIV/0!"},null,54,136.96863511449445,{"$f":"Klimaatscenario!J61","v":105.03684287370554},{"$error":"#DIV/0!"},{"$error":"#DIV/0!"},{"$error":"#DIV/0!"},{"$error":"#DIV/0!"},{"$error":"#DIV/0!"},{"$error":"#DIV/0!"},{"$error":"#DIV/0!"},{"$error":"#DIV/0!"},{"$error":"#DIV/0!"},{"$error":"#DIV/0!"},{"$error":"#DIV/0!"},{"$error":"#DIV/0!"},{"$error":"#DIV/0!"},{"$error":"#DIV/0!"},{"$error":"#DIV/0!"},{"$error":"#DIV/0!"},{"$error":"#DIV/0!"},{"$error":"#DIV/0!"},{"$error":"#DIV/0!"},{"$error":"#DIV/0!"}]
[null,null,55,108.42068011806323,{"$f":"Klimaatscenario!I62","v":87.086959644811856},{"$error":"#DIV/0!"},{"$error":"#DIV/0!"},{"$error":"#DIV/0!"},{"$error":"#DIV/0!"},{"$error":"#DIV/0!"},{"$error":"#DIV/0!"},{"$error":"#DIV/0!"},{"$error":"#DIV/0!"},{"$error":"#DIV/0!"},{"$error":"#DIV/0!"},{"$error":"#DIV/0!"},{"$error":"#DIV/0!"},{"$error":"#DIV/0!"},{"$error":"#DIV/0!"},{"$error":"#DIV/0!"},{"$error":"#DIV/0!"},{"$error":"#DIV/0!"},{"$error":"#DIV/0!"},{"$error":"#DIV/0!"},{"$error":"#DIV/0!"},null,55,136.96863511449209,{"$f":"Klimaatscenario!J62","v":105.85865468439249},{"$error":"#DIV/0!"},{"$error":"#DIV/0!"},{"$error":"#DIV/0!"},{"$error":"#DIV/0!"},{"$error":"#DIV/0!"},{"$error":"#DIV/0!"},{"$error":"#DIV/0!"},{"$error":"#DIV/0!"},{"$error":"#DIV/0!"},{"$error":"#DIV/0!"},{"$error":"#DIV/0!"},{"$error":"#DIV/0!"},{"$error":"#DIV/0!"},{"$error":"#DIV/0!"},{"$error":"#DIV/0!"},{"$error":"#DIV/0!"},{"$error":"#DIV/0!"},{"$error":"#DIV/0!"},{"$error":"#DIV/0!"},{"$error":"#DIV/0!"}]
[null,null,56,108.42068011806798,{"$f":"Klimaatscenario!I63","v":87.737483725520264},{"$error":"#DIV/0!"},{"$error":"#DIV/0!"},{"$error":"#DIV/0!"},{"$error":"#DIV/0!"},{"$error":"#DIV/0!"},{"$error":"#DIV/0!"},{"$error":"#DIV/0!"},{"$error":"#DIV/0!"},{"$error":"#DIV/0!"},{"$error":"#DIV/0!"},{"$error":"#DIV/0!"},{"$error":"#DIV/0!"},{"$error":"#DIV/0!"},{"$error":"#DIV/0!"},{"$error":"#DIV/0!"},{"$error":"#DIV/0!"},{"$error":"#DIV/0!"},{"$error":"#DIV/0!"},{"$error":"#DIV/0!"},{"$error":"#DIV/0!"},null,56,136.96863511449445,{"$f":"Klimaatscenario!J63","v":106.68046649507946},{"$error":"#DIV/0!"},{"$error":"#DIV/0!"},{"$error":"#DIV/0!"},{"$error":"#DIV/0!"},{"$error":"#DIV/0!"},{"$error":"#DIV/0!"},{"$error":"#DIV/0!"},{"$error":"#DIV/0!"},{"$error":"#DIV/0!"},{"$error":"#DIV/0!"},{"$error":"#DIV/0!"},{"$error":"#DIV/0!"},{"$error":"#DIV/0!"},{"$error":"#DIV/0!"},{"$error":"#DIV/0!"},{"$error":"#DIV/0!"},{"$error":"#DIV/0!"},{"$error":"#DIV/0!"},{"$error":"#DIV/0!"},{"$error":"#DIV/0!"}]
[null,null,57,108.4206801180656,{"$f":"Klimaatscenario!I64","v":88.388007806228657},{"$error":"#DIV/0!"},{"$error":"#DIV/0!"},{"$error":"#DIV/0!"},{"$error":"#DIV/0!"},{"$error":"#DIV/0!"},{"$error":"#DIV/0!"},{"$error":"#DIV/0!"},{"$error":"#DIV/0!"},{"$error":"#DIV/0!"},{"$error":"#DIV/0!"},{"$error":"#DIV/0!"},{"$error":"#DIV/0!"},{"$error":"#DIV/0!"},{"$error":"#DIV/0!"},{"$error":"#DIV/0!"},{"$error":"#DIV/0!"},{"$error":"#DIV/0!"},{"$error":"#DIV/0!"},{"$error":"#DIV/0!"},{"$error":"#DIV/0!"},null,57,136.96863511449445,{"$f":"Klimaatscenario!J64","v":107.50227830576642},{"$error":"#DIV/0!"},{"$error":"#DIV/0!"},{"$error":"#DIV/0!"},{"$error":"#DIV/0!"},{"$error":"#DIV/0!"},{"$error":"#DIV/0!"},{"$error":"#DIV/0!"},{"$error":"#DIV/0!"},{"$error":"#DIV/0!"},{"$error":"#DIV/0!"},{"$error":"#DIV/0!"},{"$error":"#DIV/0!"},{"$error":"#DIV/0!"},{"$error":"#DIV/0!"},{"$error":"#DIV/0!"},{"$error":"#DIV/0!"},{"$error":"#DIV/0!"},{"$error":"#DIV/0!"},{"$error":"#DIV/0!"},{"$error":"#DIV/0!"}]
[null,null,58,108.4206801180656,{"$f":"Klimaatscenario!I65","v":89.038531886937051},{"$error":"#DIV/0!"},{"$error":"#DIV/0!"},{"$error":"#DIV/0!"},{"$error":"#DIV/0!"},{"$error":"#DIV/0!"},{"$error":"#DIV/0!"},{"$error":"#DIV/0!"},{"$error":"#DIV/0!"},{"$error":"#DIV/0!"},{"$error":"#DIV/0!"},{"$error":"#DIV/0!"},{"$error":"#DIV/0!"},{"$error":"#DIV/0!"},{"$error":"#DIV/0!"},{"$error":"#DIV/0!"},{"$error":"#DIV/0!"},{"$error":"#DIV/0!"},{"$error":"#DIV/0!"},{"$error":"#DIV/0!"},{"$error":"#DIV/0!"},null,58,136.96863511449445,{"$f":"Klimaatscenario!J65","v":108.32409011645339},{"$error":"#DIV/0!"},{"$error":"#DIV/0!"},{"$error":"#DIV/0!"},{"$error":"#DIV/0!"},{"$error":"#DIV/0!"},{"$error":"#DIV/0!"},{"$error":"#DIV/0!"},{"$error":"#DIV/0!"},{"$error":"#DIV/0!"},{"$error":"#DIV/0!"},{"$error":"#DIV/0!"},{"$error":"#DIV/0!"},{"$error":"#DIV/0!"},{"$error":"#DIV/0!"},{"$error":"#DIV/0!"},{"$error":"#DIV/0!"},{"$error":"#DIV/0!"},{"$error":"#DIV/0!"},{"$error":"#DIV/0!"},{"$error":"#DIV/0!"}]
[null,null,59,108.4206801180656,{"$f":"Klimaatscenario!I66","v":89.689055967645444},{"$error":"#DIV/0!"},{"$error":"#DIV/0!"},{"$error":"#DIV/0!"},{"$error":"#DIV/0!"},{"$error":"#DIV/0!"},{"$error":"#DIV/0!"},{"$error":"#DIV/0!"},{"$error":"#DIV/0!"},{"$error":"#DIV/0!"},{"$error":"#DIV/0!"},{"$error":"#DIV/0!"},{"$error":"#DIV/0!"},{"$error":"#DIV/0!"},{"$error":"#DIV/0!"},{"$error":"#DIV/0!"},{"$error":"#DIV/0!"},{"$error":"#DIV/0!"},{"$error":"#DIV/0!"},{"$error":"#DIV/0!"},{"$error":"#DIV/0!"},null,59,136.96863511449445,{"$f":"Klimaatscenario!J66","v":109.14590192714036},{"$error":"#DIV/0!"},{"$error":"#DIV/0!"},{"$error":"#DIV/0!"},{"$error":"#DIV/0!"},{"$error":"#DIV/0!"},{"$error":"#DIV/0!"},{"$error":"#DIV/0!"},{"$error":"#DIV/0!"},{"$error":"#DIV/0!"},{"$error":"#DIV/0!"},{"$error":"#DIV/0!"},{"$error":"#DIV/0!"},{"$error":"#DIV/0!"},{"$error":"#DIV/0!"},{"$error":"#DIV/0!"},{"$error":"#DIV/0!"},{"$error":"#DIV/0!"},{"$error":"#DIV/0!"},{"$error":"#DIV/0!"},{"$error":"#DIV/0!"}]
[null,null,60,108.4206801180656,{"$f":"Klimaatscenario!I67","v":90.339580048353838},{"$error":"#DIV/0!"},{"$error":"#DIV/0!"},{"$error":"#DIV/0!"},{"$error":"#DIV/0!"},{"$error":"#DIV/0!"},{"$error":"#DIV/0!"},{"$error":"#DIV/0!"},{"$error":"#DIV/0!"},{"$error":"#DIV/0!"},{"$error":"#DIV/0!"},{"$error":"#DIV/0!"},{"$error":"#DIV/0!"},{"$error":"#DIV/0!"},{"$error":"#DIV/0!"},{"$error":"#DIV/0!"},{"$error":"#DIV/0!"},{"$error":"#DIV/0!"},{"$error":"#DIV/0!"},{"$error":"#DIV/0!"},{"$error":"#DIV/0!"},null,60,136.96863511449209,{"$f":"Klimaatscenario!J67","v":109.96771373782731},{"$error":"#DIV/0!"},{"$error":"#DIV/0!"},{"$error":"#DIV/0!"},{"$error":"#DIV/0!"},{"$error":"#DIV/0!"},{"$error":"#DIV/0!"},{"$error":"#DIV/0!"},{"$error":"#DIV/0!"},{"$error":"#DIV/0!"},{"$error":"#DIV/0!"},{"$error":"#DIV/0!"},{"$error":"#DIV/0!"},{"$error":"#DIV/0!"},{"$error":"#DIV/0!"},{"$error":"#DIV/0!"},{"$error":"#DIV/0!"},{"$error":"#DIV/0!"},{"$error":"#DIV/0!"},{"$error":"#DIV/0!"},{"$error":"#DIV/0!"}]
[null,null,61,40.435144912824697,{"$f":"Klimaatscenario!I68","v":90.582190917830786},{"$error":"#DIV/0!"},{"$error":"#DIV/0!"},{"$error":"#DIV/0!"},{"$error":"#DIV/0!"},{"$error":"#DIV/0!"},{"$error":"#DIV/0!"},{"$error":"#DIV/0!"},{"$error":"#DIV/0!"},{"$error":"#DIV/0!"},{"$error":"#DIV/0!"},{"$error":"#DIV/0!"},{"$error":"#DIV/0!"},{"$error":"#DIV/0!"},{"$error":"#DIV/0!"},{"$error":"#DIV/0!"},{"$error":"#DIV/0!"},{"$error":"#DIV/0!"},{"$error":"#DIV/0!"},{"$error":"#DIV/0!"},{"$error":"#DIV/0!"},null,61,48.048713448255377,{"$f":"Klimaatscenario!J68","v":110.25600601851684},{"$error":"#DIV/0!"},{"$error":"#DIV/0!"},{"$error":"#DIV/0!"},{"$error":"#DIV/0!"},{"$error":"#DIV/0!"},{"$error":"#DIV/0!"},{"$error":"#DIV/0!"},{"$error":"#DIV/0!"},{"$error":"#DIV/0!"},{"$error":"#DIV/0!"},{"$error":"#DIV/0!"},{"$error":"#DIV/0!"},{"$error":"#DIV/0!"},{"$error":"#DIV/0!"},{"$error":"#DIV/0!"},{"$error":"#DIV/0!"},{"$error":"#DIV/0!"},{"$error":"#DIV/0!"},{"$error":"#DIV/0!"},{"$error":"#DIV/0!"}]
[null,null,62,40.435144912822338,{"$f":"Klimaatscenario!I69","v":90.82480178730772},{"$error":"#DIV/0!"},{"$error":"#DIV/0!"},{"$error":"#DIV/0!"},{"$error":"#DIV/0!"},{"$error":"#DIV/0!"},{"$error":"#DIV/0!"},{"$error":"#DIV/0!"},{"$error":"#DIV/0!"},{"$error":"#DIV/0!"},{"$error":"#DIV/0!"},{"$error":"#DIV/0!"},{"$error":"#DIV/0!"},{"$error":"#DIV/0!"},{"$error":"#DIV/0!"},{"$error":"#DIV/0!"},{"$error":"#DIV/0!"},{"$error":"#DIV/0!"},{"$error":"#DIV/0!"},{"$error":"#DIV/0!"},{"$error":"#DIV/0!"},null,62,48.048713448253004,{"$f":"Klimaatscenario!J69","v":110.54429829920636},{"$error":"#DIV/0!"},{"$error":"#DIV/0!"},{"$error":"#DIV/0!"},{"$error":"#DIV/0!"},{"$error":"#DIV/0!"},{"$error":"#DIV/0!"},{"$error":"#DIV/0!"},{"$error":"#DIV/0!"},{"$error":"#DIV/0!"},{"$error":"#DIV/0!"},{"$error":"#DIV/0!"},{"$error":"#DIV/0!"},{"$error":"#DIV/0!"},{"$error":"#DIV/0!"},{"$error":"#DIV/0!"},{"$error":"#DIV/0!"},{"$error":"#DIV/0!"},{"$error":"#DIV/0!"},{"$error":"#DIV/0!"},{"$error":"#DIV/0!"}]
[null,null,63,40.435144912824697,{"$f":"Klimaatscenario!I70","v":91.067412656784668},{"$error":"#DIV/0!"},{"$error":"#DIV/0!"},{"$error":"#DIV/0!"},{"$error":"#DIV/0!"},{"$error":"#DIV/0!"},{"$error":"#DIV/0!"},{"$error":"#DIV/0!"},{"$error":"#DIV/0!"},{"$error":"#DIV/0!"},{"$error":"#DIV/0!"},{"$error":"#DIV/0!"},{"$error":"#DIV/0!"},{"$error":"#DIV/0!"},{"$error":"#DIV/0!"},{"$error":"#DIV/0!"},{"$error":"#DIV/0!"},{"$error":"#DIV/0!"},{"$error":"#DIV/0!"},{"$error":"#DIV/0!"},{"$error":"#DIV/0!"},null,63,48.048713448255377,{"$f":"Klimaatscenario!J70","v":110.83259057989589},{"$error":"#DIV/0!"},{"$error":"#DIV/0!"},{"$error":"#DIV/0!"},{"$error":"#DIV/0!"},{"$error":"#DIV/0!"},{"$error":"#DIV/0!"},{"$error":"#DIV/0!"},{"$error":"#DIV/0!"},{"$error":"#DIV/0!"},{"$error":"#DIV/0!"},{"$error":"#DIV/0!"},{"$error":"#DIV/0!"},{"$error":"#DIV/0!"},{"$error":"#DIV/0!"},{"$error":"#DIV/0!"},{"$error":"#DIV/0!"},{"$error":"#DIV/0!"},{"$error":"#DIV/0!"},{"$error":"#DIV/0!"},{"$error":"#DIV/0!"}]
[null,null,64,40.435144912822338,{"$f":"Klimaatscenario!I71","v":91.310023526261602},{"$error":"#DIV/0!"},{"$error":"#DIV/0!"},{"$error":"#DIV/0!"},{"$f":"($J$596/60)*$C580","v":{"$error":"#DIV/0!"}},{"$f":"$E580-F580-G580-H580-I580","v":{"$error":"#DIV/0!"}},{"$error":"#DIV/0!"},{"$error":"#DIV/0!"},{"$error":"#DIV/0!"},{"$f":"($O$596/60)*$C580","v":{"$error":"#DIV/0!"}},{"$f":"$E580-K580-L580-M580-N580","v":{"$error":"#DIV/0!"}},{"$error":"#DIV/0!"},{"$f":"($T$598/60)*($C580)","v":{"$error":"#DIV/0!"}},{"$error":"#DIV/0!"},{"$f":"($T$596/60)*$C580","v":{"$error":"#DIV/0!"}},{"$f":"$E580-P580-Q580-R580-S580","v":{"$error":"#DIV/0!"}},{"$error":"#DIV/0!"},{"$error":"#DIV/0!"},{"$error":"#DIV/0!"},{"$f":"($Y$596/60)*$C580","v":{"$error":"#DIV/0!"}},{"$f":"$E580-U580-V580-W580-X580","v":{"$error":"#DIV/0!"}},null,64,48.048713448255377,{"$f":"Klimaatscenario!J71","v":111.12088286058543},{"$error":"#DIV/0!"},{"$error":"#DIV/0!"},{"$error":"#DIV/0!"},{"$f":"($AH$596/60)*$AA580","v":{"$error":"#DIV/0!"}},{"$f":"$AC580-AD580-AE580-AF580-AG580","v":{"$error":"#DIV/0!"}},{"$error":"#DIV/0!"},{"$error":"#DIV/0!"},{"$error":"#DIV/0!"},{"$f":"($AM$596/60)*$AA580","v":{"$error":"#DIV/0!"}},{"$f":"$AC580-AI580-AJ580-AK580-AL580","v":{"$error":"#DIV/0!"}},{"$error":"#DIV/0!"},{"$error":"#DIV/0!"},{"$error":"#DIV/0!"},{"$f":"($AR$596/60)*$AA580","v":{"$error":"#DIV/0!"}},{"$f":"$AC580-AN580-AO580-AP580-AQ580","v":{"$error":"#DIV/0!"}},{"$error":"#DIV/0!"},{"$f":"($AW$598/60)*($AA580)","v":{"$error":"#DIV/0!"}},{"$error":"#DIV/0!"},{"$f":"($AW$596/60)*$AA580","v":{"$error":"#DIV/0!"}},{"$f":"$AC580-AS580-AT580-AU580-AV580","v":{"$error":"#DIV/0!"}}]
[null,null,65,40.435144912824697,{"$f":"Klimaatscenario!I72","v":91.552634395738551},{"$f":"((J$595*60)/10000)+F580","v":{"$error":"#DIV/0!"}},{"$f":"($J$598/60)*($C581)","v":{"$error":"#DIV/0!"}},{"$error":"#DIV/0!"},{"$error":"#DIV/0!"},{"$error":"#DIV/0!"},{"$f":"((O$595*60)/10000)+K580","v":{"$error":"#DIV/0!"}},{"$f":"($O$598/60)*($C581)","v":{"$error":"#DIV/0!"}},{"$error":"#DIV/0!"},{"$error":"#DIV/0!"},{"$error":"#DIV/0!"},{"$f":"((T$595*60)/10000)+P580","v":{"$error":"#DIV/0!"}},{"$error":"#DIV/0!"},{"$error":"#DIV/0!"},{"$error":"#DIV/0!"},{"$error":"#DIV/0!"},{"$f":"((Y$595*60)/10000)+U580","v":{"$error":"#DIV/0!"}},{"$f":"($Y$598/60)*($C581)","v":{"$error":"#DIV/0!"}},{"$error":"#DIV/0!"},{"$error":"#DIV/0!"},{"$error":"#DIV/0!"},null,65,48.048713448253004,{"$f":"Klimaatscenario!J72","v":111.40917514127494},{"$f":"((AH$595*60)/10000)+AD580","v":{"$error":"#DIV/0!"}},{"$f":"($AH$598/60)*($AA581)","v":{"$error":"#DIV/0!"}},{"$error":"#DIV/0!"},{"$error":"#DIV/0!"},{"$error":"#DIV/0!"},{"$f":"((AM$595*60)/10000)+AI580","v":{"$error":"#DIV/0!"}},{"$f":"($AM$598/60)*($AA581)","v":{"$error":"#DIV/0!"}},{"$error":"#DIV/0!"},{"$error":"#DIV/0!"},{"$error":"#DIV/0!"},{"$f":"((AR$595*60)/10000)+AN580","v":{"$error":"#DIV/0!"}},{"$f":"($AR$598/60)*($AA581)","v":{"$error":"#DIV/0!"}},{"$error":"#DIV/0!"},{"$error":"#DIV/0!"},{"$error":"#DIV/0!"},{"$f":"((AW$595*60)/10000)+AS580","v":{"$error":"#DIV/0!"}},{"$error":"#DIV/0!"},{"$error":"#DIV/0!"},{"$error":"#DIV/0!"},{"$error":"#DIV/0!"}]
[null,null,66,40.435144912824697,{"$f":"Klimaatscenario!I73","v":91.795245265215499},{"$error":"#DIV/0!"},{"$error":"#DIV/0!"},{"$f":"J$594","v":{"$error":"#DIV/0!"}},{"$error":"#DIV/0!"},{"$error":"#DIV/0!"},{"$error":"#DIV/0!"},{"$error":"#DIV/0!"},{"$f":"O$594","v":{"$error":"#DIV/0!"}},{"$error":"#DIV/0!"},{"$error":"#DIV/0!"},{"$error":"#DIV/0!"},{"$error":"#DIV/0!"},{"$f":"T$594","v":{"$error":"#DIV/0!"}},{"$error":"#DIV/0!"},{"$error":"#DIV/0!"},{"$error":"#DIV/0!"},{"$error":"#DIV/0!"},{"$f":"Y$594","v":{"$error":"#DIV/0!"}},{"$error":"#DIV/0!"},{"$error":"#DIV/0!"},null,66,48.048713448255377,{"$f":"Klimaatscenario!J73","v":111.69746742196448},{"$error":"#DIV/0!"},{"$error":"#DIV/0!"},{"$f":"AH$594","v":{"$error":"#DIV/0!"}},{"$error":"#DIV/0!"},{"$error":"#DIV/0!"},{"$error":"#DIV/0!"},{"$error":"#DIV/0!"},{"$f":"AM$594","v":{"$error":"#DIV/0!"}},{"$error":"#DIV/0!"},{"$error":"#DIV/0!"},{"$error":"#DIV/0!"},{"$error":"#DIV/0!"},{"$f":"AR$594","v":{"$error":"#DIV/0!"}},{"$error":"#DIV/0!"},{"$error":"#DIV/0!"},{"$error":"#DIV/0!"},{"$error":"#DIV/0!"},{"$f":"AW$594","v":{"$error":"#DIV/0!"}},{"$error":"#DIV/0!"},{"$error":"#DIV/0!"}]
[null,null,67,40.435144912822338,{"$f":"Klimaatscenario!I74","v":92.037856134692433},{"$error":"#DIV/0!"},{"$error":"#DIV/0!"},{"$error":"#DIV/0!"},{"$error":"#DIV/0!"},{"$error":"#DIV/0!"},{"$error":"#DIV/0!"},{"$error":"#DIV/0!"},{"$error":"#DIV/0!"},{"$error":"#DIV/0!"},{"$error":"#DIV/0!"},{"$error":"#DIV/0!"},{"$error":"#DIV/0!"},{"$error":"#DIV/0!"},{"$error":"#DIV/0!"},{"$error":"#DIV/0!"},{"$error":"#DIV/0!"},{"$error":"#DIV/0!"},{"$error":"#DIV/0!"},{"$error":"#DIV/0!"},{"$error":"#DIV/0!"},null,67,48.048713448255377,{"$f":"Klimaatscenario!J74","v":111.98575970265401},{"$error":"#DIV/0!"},{"$error":"#DIV/0!"},{"$error":"#DIV/0!"},{"$error":"#DIV/0!"},{"$error":"#DIV/0!"},{"$error":"#DIV/0!"},{"$error":"#DIV/0!"},{"$error":"#DIV/0!"},{"$error":"#DIV/0!"},{"$error":"#DIV/0!"},{"$error":"#DIV/0!"},{"$error":"#DIV/0!"},{"$error":"#DIV/0!"},{"$error":"#DIV/0!"},{"$error":"#DIV/0!"},{"$error":"#DIV/0!"},{"$error":"#DIV/0!"},{"$error":"#DIV/0!"},{"$error":"#DIV/0!"},{"$error":"#DIV/0!"}]
[null,null,68,40.435144912824697,{"$f":"Klimaatscenario!I75","v":92.280467004169381},{"$error":"#DIV/0!"},{"$error":"#DIV/0!"},{"$error":"#DIV/0!"},{"$error":"#DIV/0!"},{"$error":"#DIV/0!"},{"$error":"#DIV/0!"},{"$error":"#DIV/0!"},{"$error":"#DIV/0!"},{"$error":"#DIV/0!"},{"$error":"#DIV/0!"},{"$error":"#DIV/0!"},{"$error":"#DIV/0!"},{"$error":"#DIV/0!"},{"$error":"#DIV/0!"},{"$error":"#DIV/0!"},{"$error":"#DIV/0!"},{"$error":"#DIV/0!"},{"$error":"#DIV/0!"},{"$error":"#DIV/0!"},{"$error":"#DIV/0!"},null,68,48.048713448253004,{"$f":"Klimaatscenario!J75","v":112.27405198334353},{"$error":"#DIV/0!"},{"$error":"#DIV/0!"},{"$error":"#DIV/0!"},{"$error":"#DIV/0!"},{"$error":"#DIV/0!"},{"$error":"#DIV/0!"},{"$error":"#DIV/0!"},{"$error":"#DIV/0!"},{"$error":"#DIV/0!"},{"$error":"#DIV/0!"},{"$error":"#DIV/0!"},{"$error":"#DIV/0!"},{"$error":"#DIV/0!"},{"$error":"#DIV/0!"},{"$error":"#DIV/0!"},{"$error":"#DIV/0!"},{"$error":"#DIV/0!"},{"$error":"#DIV/0!"},{"$error":"#DIV/0!"},{"$error":"#DIV/0!"}]
[null,null,69,{"$f":"((((((E585-E584)/(C585-C584))/60)/1000)*10000)*1000)","v":40.435144912822338},{"$f":"Klimaatscenario!I76","v":92.523077873646315},{"$error":"#DIV/0!"},{"$error":"#DIV/0!"},{"$error":"#DIV/0!"},{"$error":"#DIV/0!"},{"$error":"#DIV/0!"},{"$error":"#DIV/0!"},{"$error":"#DIV/0!"},{"$error":"#DIV/0!"},{"$error":"#DIV/0!"},{"$error":"#DIV/0!"},{"$error":"#DIV/0!"},{"$error":"#DIV/0!"},{"$error":"#DIV/0!"},{"$error":"#DIV/0!"},{"$error":"#DIV/0!"},{"$error":"#DIV/0!"},{"$error":"#DIV/0!"},{"$error":"#DIV/0!"},{"$error":"#DIV/0!"},{"$error":"#DIV/0!"},null,69,{"$f":"((((((AC585-AC584)/(AA585-AA584))/60)/1000)*10000)*1000)","v":48.048713448255377},{"$f":"Klimaatscenario!J76","v":112.56234426403306},{"$error":"#DIV/0!"},{"$error":"#DIV/0!"},{"$error":"#DIV/0!"},{"$error":"#DIV/0!"},{"$error":"#DIV/0!"},{"$error":"#DIV/0!"},{"$error":"#DIV/0!"},{"$error":"#DIV/0!"},{"$error":"#DIV/0!"},{"$error":"#DIV/0!"},{"$error":"#DIV/0!"},{"$error":"#DIV/0!"},{"$error":"#DIV/0!"},{"$error":"#DIV/0!"},{"$error":"#DIV/0!"},{"$error":"#DIV/0!"},{"$error":"#DIV/0!"},{"$error":"#DIV/0!"},{"$error":"#DIV/0!"},{"$error":"#DIV/0!"}]
[null,null,70,40.435144912824697,{"$f":"Klimaatscenario!I77","v":92.765688743123263},{"$error":"#DIV/0!"},{"$error":"#DIV/0!"},{"$error":"#DIV/0!"},{"$error":"#DIV/0!"},{"$error":"#DIV/0!"},{"$error":"#DIV/0!"},{"$error":"#DIV/0!"},{"$error":"#DIV/0!"},{"$error":"#DIV/0!"},{"$error":"#DIV/0!"},{"$error":"#DIV/0!"},{"$error":"#DIV/0!"},{"$error":"#DIV/0!"},{"$error":"#DIV/0!"},{"$error":"#DIV/0!"},{"$error":"#DIV/0!"},{"$error":"#DIV/0!"},{"$error":"#DIV/0!"},{"$error":"#DIV/0!"},{"$error":"#DIV/0!"},null,70,48.048713448255377,{"$f":"Klimaatscenario!J77","v":112.85063654472259},{"$error":"#DIV/0!"},{"$error":"#DIV/0!"},{"$error":"#DIV/0!"},{"$error":"#DIV/0!"},{"$error":"#DIV/0!"},{"$error":"#DIV/0!"},{"$error":"#DIV/0!"},{"$error":"#DIV/0!"},{"$error":"#DIV/0!"},{"$error":"#DIV/0!"},{"$error":"#DIV/0!"},{"$error":"#DIV/0!"},{"$error":"#DIV/0!"},{"$error":"#DIV/0!"},{"$error":"#DIV/0!"},{"$error":"#DIV/0!"},{"$error":"#DIV/0!"},{"$error":"#DIV/0!"},{"$error":"#DIV/0!"},{"$error":"#DIV/0!"}]
[null,null,71,40.435144912824697,{"$f":"Klimaatscenario!I78","v":93.008299612600212},{"$error":"#DIV/0!"},{"$error":"#DIV/0!"},{"$error":"#DIV/0!"},{"$error":"#DIV/0!"},{"$error":"#DIV/0!"},{"$error":"#DIV/0!"},{"$error":"#DIV/0!"},{"$error":"#DIV/0!"},{"$error":"#DIV/0!"},{"$error":"#DIV/0!"},{"$error":"#DIV/0!"},{"$error":"#DIV/0!"},{"$error":"#DIV/0!"},{"$error":"#DIV/0!"},{"$error":"#DIV/0!"},{"$error":"#DIV/0!"},{"$error":"#DIV/0!"},{"$error":"#DIV/0!"},{"$error":"#DIV/0!"},{"$error":"#DIV/0!"},null,71,48.048713448253004,{"$f":"Klimaatscenario!J78","v":113.13892882541211},{"$error":"#DIV/0!"},{"$error":"#DIV/0!"},{"$error":"#DIV/0!"},{"$error":"#DIV/0!"},{"$error":"#DIV/0!"},{"$error":"#DIV/0!"},{"$error":"#DIV/0!"},{"$error":"#DIV/0!"},{"$error":"#DIV/0!"},{"$error":"#DIV/0!"},{"$error":"#DIV/0!"},{"$error":"#DIV/0!"},{"$error":"#DIV/0!"},{"$error":"#DIV/0!"},{"$error":"#DIV/0!"},{"$error":"#DIV/0!"},{"$error":"#DIV/0!"},{"$error":"#DIV/0!"},{"$error":"#DIV/0!"},{"$error":"#DIV/0!"}]
[null,null,72,40.435144912822338,{"$f":"Klimaatscenario!I79","v":93.250910482077146},{"$error":"#DIV/0!"},{"$error":"#DIV/0!"},{"$error":"#DIV/0!"},{"$error":"#DIV/0!"},{"$error":"#DIV/0!"},{"$error":"#DIV/0!"},{"$error":"#DIV/0!"},{"$error":"#DIV/0!"},{"$error":"#DIV/0!"},{"$error":"#DIV/0!"},{"$error":"#DIV/0!"},{"$error":"#DIV/0!"},{"$error":"#DIV/0!"},{"$error":"#DIV/0!"},{"$error":"#DIV/0!"},{"$error":"#DIV/0!"},{"$error":"#DIV/0!"},{"$error":"#DIV/0!"},{"$error":"#DIV/0!"},{"$error":"#DIV/0!"},null,72,48.048713448255377,{"$f":"Klimaatscenario!J79","v":113.42722110610164},{"$error":"#DIV/0!"},{"$error":"#DIV/0!"},{"$error":"#DIV/0!"},{"$error":"#DIV/0!"},{"$error":"#DIV/0!"},{"$error":"#DIV/0!"},{"$error":"#DIV/0!"},{"$error":"#DIV/0!"},{"$error":"#DIV/0!"},{"$error":"#DIV/0!"},{"$error":"#DIV/0!"},{"$error":"#DIV/0!"},{"$error":"#DIV/0!"},{"$error":"#DIV/0!"},{"$error":"#DIV/0!"},{"$error":"#DIV/0!"},{"$error":"#DIV/0!"},{"$error":"#DIV/0!"},{"$error":"#DIV/0!"},{"$error":"#DIV/0!"}]
[null,null,73,40.435144912824697,{"$f":"Klimaatscenario!I80","v":93.493521351554094},{"$error":"#DIV/0!"},{"$error":"#DIV/0!"},{"$error":"#DIV/0!"},{"$error":"#DIV/0!"},{"$error":"#DIV/0!"},{"$error":"#DIV/0!"},{"$error":"#DIV/0!"},{"$error":"#DIV/0!"},{"$error":"#DIV/0!"},{"$error":"#DIV/0!"},{"$error":"#DIV/0!"},{"$error":"#DIV/0!"},{"$error":"#DIV/0!"},{"$error":"#DIV/0!"},{"$error":"#DIV/0!"},{"$error":"#DIV/0!"},{"$error":"#DIV/0!"},{"$error":"#DIV/0!"},{"$error":"#DIV/0!"},{"$error":"#DIV/0!"},null,73,48.048713448255377,{"$f":"Klimaatscenario!J80","v":113.71551338679117},{"$error":"#DIV/0!"},{"$error":"#DIV/0!"},{"$error":"#DIV/0!"},{"$error":"#DIV/0!"},{"$error":"#DIV/0!"},{"$error":"#DIV/0!"},{"$error":"#DIV/0!"},{"$error":"#DIV/0!"},{"$error":"#DIV/0!"},{"$error":"#DIV/0!"},{"$error":"#DIV/0!"},{"$error":"#DIV/0!"},{"$error":"#DIV/0!"},{"$error":"#DIV/0!"},{"$error":"#DIV/0!"},{"$error":"#DIV/0!"},{"$error":"#DIV/0!"},{"$error":"#DIV/0!"},{"$error":"#DIV/0!"},{"$error":"#DIV/0!"}]
[null,null,74,40.435144912822338,{"$f":"Klimaatscenario!I81","v":93.736132221031028},{"$error":"#DIV/0!"},{"$error":"#DIV/0!"},{"$error":"#DIV/0!"},{"$error":"#DIV/0!"},{"$error":"#DIV/0!"},{"$error":"#DIV/0!"},{"$error":"#DIV/0!"},{"$error":"#DIV/0!"},{"$error":"#DIV/0!"},{"$error":"#DIV/0!"},{"$error":"#DIV/0!"},{"$error":"#DIV/0!"},{"$error":"#DIV/0!"},{"$error":"#DIV/0!"},{"$error":"#DIV/0!"},{"$error":"#DIV/0!"},{"$error":"#DIV/0!"},{"$error":"#DIV/0!"},{"$error":"#DIV/0!"},{"$error":"#DIV/0!"},null,74,48.048713448253004,{"$f":"Klimaatscenario!J81","v":114.00380566748069},{"$error":"#DIV/0!"},{"$error":"#DIV/0!"},{"$error":"#DIV/0!"},{"$error":"#DIV/0!"},{"$error":"#DIV/0!"},{"$error":"#DIV/0!"},{"$error":"#DIV/0!"},{"$error":"#DIV/0!"},{"$error":"#DIV/0!"},{"$error":"#DIV/0!"},{"$error":"#DIV/0!"},{"$error":"#DIV/0!"},{"$error":"#DIV/0!"},{"$error":"#DIV/0!"},{"$error":"#DIV/0!"},{"$error":"#DIV/0!"},{"$error":"#DIV/0!"},{"$error":"#DIV/0!"},{"$error":"#DIV/0!"},{"$error":"#DIV/0!"}]
[null,null,75,40.435144912824697,{"$f":"Klimaatscenario!I82","v":93.978743090507976},{"$error":"#DIV/0!"},{"$f":"($J$598/60)*($C591)","v":{"$error":"#DIV/0!"}},{"$error":"#DIV/0!"},{"$error":"#DIV/0!"},{"$error":"#DIV/0!"},{"$error":"#DIV/0!"},{"$f":"($O$598/60)*($C591)","v":{"$error":"#DIV/0!"}},{"$error":"#DIV/0!"},{"$error":"#DIV/0!"},{"$error":"#DIV/0!"},{"$error":"#DIV/0!"},{"$f":"($T$598/60)*($C591)","v":{"$error":"#DIV/0!"}},{"$error":"#DIV/0!"},{"$error":"#DIV/0!"},{"$error":"#DIV/0!"},{"$error":"#DIV/0!"},{"$f":"($Y$598/60)*($C591)","v":{"$error":"#DIV/0!"}},{"$error":"#DIV/0!"},{"$error":"#DIV/0!"},{"$error":"#DIV/0!"},null,75,48.048713448255377,{"$f":"Klimaatscenario!J82","v":114.29209794817022},{"$error":"#DIV/0!"},{"$f":"($AH$598/60)*($AA591)","v":{"$error":"#DIV/0!"}},{"$error":"#DIV/0!"},{"$error":"#DIV/0!"},{"$error":"#DIV/0!"},{"$error":"#DIV/0!"},{"$f":"($AM$598/60)*($AA591)","v":{"$error":"#DIV/0!"}},{"$error":"#DIV/0!"},{"$error":"#DIV/0!"},{"$error":"#DIV/0!"},{"$error":"#DIV/0!"},{"$f":"($AR$598/60)*($AA591)","v":{"$error":"#DIV/0!"}},{"$error":"#DIV/0!"},{"$error":"#DIV/0!"},{"$error":"#DIV/0!"},{"$error":"#DIV/0!"},{"$f":"($AW$598/60)*($AA591)","v":{"$error":"#DIV/0!"}},{"$error":"#DIV/0!"},{"$error":"#DIV/0!"},{"$error":"#DIV/0!"}]
[]
[null,null,"Berging blokmethode, maximale waterstand op straat [mm]",null,null,null,null,null,null,{"$f":"MAX(J516:J591)","v":{"$error":"#DIV/0!"}},null,null,null,null,{"$f":"MAX(O516:O591)","v":{"$error":"#DIV/0!"}},null,null,null,null,{"$f":"MAX(T516:T591)","v":{"$error":"#DIV/0!"}},null,null,null,null,{"$f":"MAX(Y516:Y591)","v":{"$error":"#DIV/0!"}},null,"Berging blokmethode, maximale waterstand op straat [mm]",null,null,null,null,null,null,{"$f":"MAX(AH516:AH591)","v":{"$error":"#DIV/0!"}},null,null,null,null,{"$f":"MAX(AM516:AM591)","v":{"$error":"#DIV/0!"}},null,null,null,null,{"$f":"MAX(AR516:AR591)","v":{"$error":"#DIV/0!"}},null,null,null,null,{"$f":"MAX(AW516:AW591)","v":{"$error":"#DIV/0!"}}]
[null,null,"Berging in de voorziening [mm neerslagoppervlak]",null,null,null,null,null,null,{"$f":"(Invoer!$D$14*Invoer!$D$21)/Invoer!Neerslag_oppervlak","v":{"$error":"#DIV/0!"}},null,null,null,null,{"$f":"(Invoer!$E$14*Invoer!$E$21)/Invoer!Neerslag_oppervlak","v":{"$error":"#DIV/0!"}},null,null,null,null,{"$f":"(Invoer!$F$14*Invoer!$F$21)/Invoer!Neerslag_oppervlak","v":{"$error":"#DIV/0!"}},null,null,null,null,{"$f":"(Invoer!$G$14*Invoer!$G$21)/Invoer!Neerslag_oppervlak","v":{"$error":"#DIV/0!"}},null,"Berging in de voorziening [mm neerslagoppervlak]",null,null,null,null,null,null,{"$f":"(Invoer!$D$14*Invoer!$D$21)/Invoer!Neerslag_oppervlak","v":{"$error":"#DIV/0!"}},null,null,null,null,{"$f":"(Invoer!$E$14*Invoer!$E$21)/Invoer!Neerslag_oppervlak","v":{"$error":"#DIV/0!"}},null,null,null,null,{"$f":"(Invoer!$F$14*Invoer!$F$21)/Invoer!Neerslag_oppervlak","v":{"$error":"#DIV/0!"}},null,null,null,null,{"$f":"(Invoer!$G$14*Invoer!$G$21)/Invoer!Neerslag_oppervlak","v":{"$error":"#DIV/0!"}}]
[null,null,"Afvoercapaciteit riool [l/s/ha neerslagoppervlak]",null,null,null,null,null,null,{"$f":"((Invoer!$D$11*Invoer!$D$21)/Invoer!Neerslag_oppervlak)*10000/60/60","v":{"$error":"#DIV/0!"}},null,null,null,null,{"$f":"((Invoer!$E$11*Invoer!$E$21)/Invoer!Neerslag_oppervlak)*10000/60/60","v":{"$error":"#DIV/0!"}},null,null,null,null,{"$f":"((Invoer!$F$11*Invoer!$F$21)/Invoer!Neerslag_oppervlak)*10000/60/60","v":{"$error":"#DIV/0!"}},null,null,null,null,{"$f":"((Invoer!$G$11*Invoer!$G$21)/Invoer!Neerslag_oppervlak)*10000/60/60","v":{"$error":"#DIV/0!"}},null,"Afvoercapaciteit riool [l/s/ha neerslagoppervlak]",null,null,null,null,null,null,{"$f":"((Invoer!$D$11*Invoer!$D$21)/Invoer!Neerslag_oppervlak)*10000/60/60","v":{"$error":"#DIV/0!"}},null,null,null,null,{"$f":"((Invoer!$E$11*Invoer!$E$21)/Invoer!Neerslag_oppervlak)*10000/60/60","v":{"$error":"#DIV/0!"}},null,null,null,null,{"$f":"((Invoer!$F$11*Invoer!$F$21)/Invoer!Neerslag_oppervlak)*10000/60/60","v":{"$error":"#DIV/0!"}},null,null,null,null,{"$f":"((Invoer!$G$11*Invoer!$G$21)/Invoer!Neerslag_oppervlak)*10000/60/60","v":{"$error":"#DIV/0!"}}]
[null,null,"Infiltratiecapaciteit onverhard [mm/uur neerslagoppervlak]",null,null,null,null,null,null,{"$f":"(Invoer!$D$16*Invoer!$D$23)/Invoer!Neerslag_oppervlak","v":{"$error":"#DIV/0!"}},null,null,null,null,{"$f":"(Invoer!$E$16*Invoer!$E$23)/Invoer!Neerslag_oppervlak","v":{"$error":"#DIV/0!"}},null,null,null,null,{"$f":"(Invoer!$F$16*Invoer!$F$23)/Invoer!Neerslag_oppervlak","v":{"$error":"#DIV/0!"}},null,null,null,null,{"$f":"(Invoer!$G$16*Invoer!$G$23)/Invoer!Neerslag_oppervlak","v":{"$error":"#DIV/0!"}},null,"Infiltratiecapaciteit onverhard [mm/uur neerslagoppervlak]",null,null,null,null,null,null,{"$f":"(Invoer!$D$16*Invoer!$D$23)/Invoer!Neerslag_oppervlak","v":{"$error":"#DIV/0!"}},null,null,null,null,{"$f":"(Invoer!$E$16*Invoer!$E$23)/Invoer!Neerslag_oppervlak","v":{"$error":"#DIV/0!"}},null,null,null,null,{"$f":"(Invoer!$F$16*Invoer!$F$23)/Invoer!Neerslag_oppervlak","v":{"$error":"#DIV/0!"}},null,null,null,null,{"$f":"(Invoer!$G$16*Invoer!$G$23)/Invoer!Neerslag_oppervlak","v":{"$error":"#DIV/0!"}}]
[null,null,"Toename/Afname laatste kwartier",null,null,null,null,null,null,{"$f":"J591-J577","v":{"$error":"#DIV/0!"}},null,null,null,null,{"$f":"O591-O577","v":{"$error":"#DIV/0!"}},null,null,null,null,{"$f":"T591-T577","v":{"$error":"#DIV/0!"}},null,null,null,null,{"$f":"Y591-Y577","v":{"$error":"#DIV/0!"}},null,"Toename/Afname laatste kwartier",null,null,null,null,null,null,{"$f":"AH591-AH577","v":{"$error":"#DIV/0!"}},null,null,null,null,{"$f":"AM591-AM577","v":{"$error":"#DIV/0!"}},null,null,null,null,{"$f":"AR591-AR577","v":{"$error":"#DIV/0!"}},null,null,null,null,{"$f":"AW591-AW577","v":{"$error":"#DIV/0!"}}]
[null,null,"Infiltratiecapaciteit en afvoer vanuit berging voorziening [mm/uur neerslagoppervlak]",null,null,null,null,null,null,{"$f":"(Invoer!$D$12*Invoer!$D$21)/Invoer!Neerslag_oppervlak","v":{"$error":"#DIV/0!"}},null,null,null,null,{"$f":"(Invoer!$E$12*Invoer!$E$21)/Invoer!Neerslag_oppervlak","v":{"$error":"#DIV/0!"}},null,null,null,null,{"$f":"(Invoer!$F$12*Invoer!$F$21)/Invoer!Neerslag_oppervlak","v":{"$error":"#DIV/0!"}},null,null,null,null,{"$f":"(Invoer!$G$12*Invoer!$G$21)/Invoer!Neerslag_oppervlak","v":{"$error":"#DIV/0!"}},null,"Infiltratiecapaciteit en afvoer vanuit berging voorziening [mm/uur neerslagoppervlak]",null,null,null,null,null,null,{"$f":"(Invoer!$D$12*Invoer!$D$21)/Invoer!Neerslag_oppervlak","v":{"$error":"#DIV/0!"}},null,null,null,null,{"$f":"(Invoer!$E$12*Invoer!$E$21)/Invoer!Neerslag_oppervlak","v":{"$error":"#DIV/0!"}},null,null,null,null,{"$f":"(Invoer!$F$12*Invoer!$F$21)/Invoer!Neerslag_oppervlak","v":{"$error":"#DIV/0!"}},null,null,null,null,{"$f":"(Invoer!$G$12*Invoer!$G$21)/Invoer!Neerslag_oppervlak","v":{"$error":"#DIV/0!"}}]
[]
[null,null,"Herhalingkans T=1000",null,null,null,null,null,null,null,null,null,null,null,null,null,null,null,null,null,null,null,null,null,null,null,"Herhalingkans T=2000 (Geschat)"]
[null,null,"Duur [min]","Aanvoer bui T=1000 [l/s/ha]","Neerslag bui T=1000 [mm]","Afvoercapaciteit riolering V0 [mm]","Afvoercapaciteit V0 voorzieningen [mm]","Bergingscapaciteit V0 voorzieningen [mm]","Infiltratiecapaciteit onverhard [mm]","Aanvoer-Afvoer","Afvoercapaciteit riolering V1 [mm]","Afvoercapaciteit V1 voorzieningen [mm]","Bergingscapaciteit V1 voorzieningen [mm]","Infiltratiecapaciteit onverhard [mm]","Aanvoer-Afvoer","Afvoercapaciteit riolering V2 [mm]","Afvoercapaciteit V2 voorzieningen [mm]","Bergingscapaciteit V2 voorzieningen [mm]","Infiltratiecapaciteit onverhard [mm]","Aanvoer-Afvoer","Afvoercapaciteit riolering V3 [mm]","Afvoercapaciteit V3 voorzieningen [mm]","Bergingscapaciteit V3 voorzieningen [mm]","Infiltratiecapaciteit onverhard [mm]","Aanvoer-Afvoer",null,0,"Aanvoer bui T=2000 [l/s/ha]","Neerslag bui T=2000 [mm]","Afvoercapaciteit riolering V0 [mm]","Afvoercapaciteit V0 voorzieningen [mm]","Bergingscapaciteit V0 voorzieningen [mm]","Infiltratiecapaciteit onverhard [mm]","Aanvoer-Afvoer","Afvoercapaciteit riolering V1 [mm]","Afvoercapaciteit V1 voorzieningen [mm]","Bergingscapaciteit V1 voorzieningen [mm]","Infiltratiecapaciteit onverhard [mm]","Aanvoer-Afvoer","Afvoercapaciteit riolering V2 [mm]","Afvoercapaciteit V2 voorzieningen [mm]","Bergingscapaciteit V2 voorzieningen [mm]","Infiltratiecapaciteit onverhard [mm]","Aanvoer-Afvoer","Afvoercapaciteit riolering V3 [mm]","Afvoercapaciteit V3 voorzieningen [mm]","Bergingscapaciteit V3 voorzieningen [mm]","Infiltratiecapaciteit onverhard [mm]","Aanvoer-Afvoer"]
[null,null,0,0,0,0,{"$f":"($J$684/60)*($C602)","v":{"$error":"#DIV/0!"}},{"$f":"J$680/60*$C602","v":{"$error":"#DIV/0!"}},{"$f":"($J$682/60)*$C602","v":{"$error":"#DIV/0!"}},null,0,{"$f":"($O$684/60)*($C602)","v":{"$error":"#DIV/0!"}},{"$f":"O$680/60*$C602","v":{"$error":"#DIV/0!"}},{"$f":"($O$682/60)*$C602","v":{"$error":"#DIV/0!"}},null,0,{"$f":"($T$684/60)*($C602)","v":{"$error":"#DIV/0!"}},{"$f":"T$680/60*$C602","v":{"$error":"#DIV/0!"}},{"$f":"($T$682/60)*$C602","v":{"$error":"#DIV/0!"}},null,0,0,{"$f":"Y$680/60*$C602","v":{"$error":"#DIV/0!"}},{"$f":"($Y$682/60)*$C602","v":{"$error":"#DIV/0!"}},null,null,0,0,0,0,0,{"$f":"AH$680/60*$AA602","v":{"$error":"#DIV/0!"}},{"$f":"($AH$682/60)*$AA602","v":{"$error":"#DIV/0!"}},null,0,0,{"$f":"AM$680/60*$AA602","v":{"$error":"#DIV/0!"}},{"$f":"($AM$682/60)*$AA602","v":{"$error":"#DIV/0!"}},null,0,0,{"$f":"AR$680/60*$AA602","v":{"$error":"#DIV/0!"}},{"$f":"($AR$682/60)*$AA602","v":{"$error":"#DIV/0!"}},null,0,0,{"$f":"AW$680/60*$AA602","v":{"$error":"#DIV/0!"}},{"$f":"($AW$682/60)*$AA602","v":{"$error":"#DIV/0!"}}]
[null,null,1,{"$f":"((((((E603-E602)/(C603-C602)/60)/1000)*10000)*1000))","v":962.61381379293925},{"$f":"Klimaatscenario!K8","v":5.7756828827576348},{"$f":"((J$681*60)/10000)+F602","v":{"$error":"#DIV/0!"}},{"$error":"#DIV/0!"},{"$f":"J$680","v":{"$error":"#DIV/0!"}},{"$error":"#DIV/0!"},{"$f":"$E603-F603-G603-H603-I603","v":{"$error":"#DIV/0!"}},{"$f":"((O$681*60)/10000)+K602","v":{"$error":"#DIV/0!"}},{"$error":"#DIV/0!"},{"$f":"O$680","v":{"$error":"#DIV/0!"}},{"$error":"#DIV/0!"},{"$f":"$E603-K603-L603-M603-N603","v":{"$error":"#DIV/0!"}},{"$f":"((T$681*60)/10000)+P602","v":{"$error":"#DIV/0!"}},{"$error":"#DIV/0!"},{"$f":"T$680","v":{"$error":"#DIV/0!"}},{"$error":"#DIV/0!"},{"$f":"$E603-P603-Q603-R603-S603","v":{"$error":"#DIV/0!"}},{"$f":"((Y$681*60)/10000)+U602","v":{"$error":"#DIV/0!"}},{"$f":"($Y$684/60)*($C603)","v":{"$error":"#DIV/0!"}},{"$f":"Y$680","v":{"$error":"#DIV/0!"}},{"$error":"#DIV/0!"},{"$f":"$E603-U603-V603-W603-X603","v":{"$error":"#DIV/0!"}},null,1,{"$f":"((((((AC603-AC602)/(AA603-AA602)/60)/1000)*10000)*1000))","v":1086.4089497002979},{"$f":"Klimaatscenario!L8","v":6.5184536982017862},{"$f":"((AH$681*60)/10000)+AD602","v":{"$error":"#DIV/0!"}},{"$f":"($AH$684/60)*($AA603)","v":{"$error":"#DIV/0!"}},{"$f":"AH$680","v":{"$error":"#DIV/0!"}},{"$error":"#DIV/0!"},{"$f":"$AC603-AD603-AE603-AF603-AG603","v":{"$error":"#DIV/0!"}},{"$f":"((AM$681*60)/10000)+AI602","v":{"$error":"#DIV/0!"}},{"$f":"($AM$684/60)*($AA603)","v":{"$error":"#DIV/0!"}},{"$f":"AM$680","v":{"$error":"#DIV/0!"}},{"$error":"#DIV/0!"},{"$f":"$AC603-AI603-AJ603-AK603-AL603","v":{"$error":"#DIV/0!"}},{"$f":"((AR$681*60)/10000)+AN602","v":{"$error":"#DIV/0!"}},{"$f":"($AR$684/60)*($AA603)","v":{"$error":"#DIV/0!"}},{"$f":"AR$680","v":{"$error":"#DIV/0!"}},{"$error":"#DIV/0!"},{"$f":"$AC603-AN603-AO603-AP603-AQ603","v":{"$error":"#DIV/0!"}},{"$f":"((AW$681*60)/10000)+AS602","v":{"$error":"#DIV/0!"}},{"$f":"($AW$684/60)*($AA603)","v":{"$error":"#DIV/0!"}},{"$f":"AW$680","v":{"$error":"#DIV/0!"}},{"$error":"#DIV/0!"},{"$f":"$AC603-AS603-AT603-AU603-AV603","v":{"$error":"#DIV/0!"}}]
[null,null,2,{"$f":"((((((E604-E603)/(C604-C603)/60)/1000)*10000)*1000))","v":962.61381379293925},{"$f":"Klimaatscenario!K9","v":11.55136576551527},{"$error":"#DIV/0!"},{"$error":"#DIV/0!"},{"$f":"J$680","v":{"$error":"#DIV/0!"}},{"$error":"#DIV/0!"},{"$error":"#DIV/0!"},{"$error":"#DIV/0!"},{"$error":"#DIV/0!"},{"$f":"O$680","v":{"$error":"#DIV/0!"}},{"$error":"#DIV/0!"},{"$error":"#DIV/0!"},{"$error":"#DIV/0!"},{"$error":"#DIV/0!"},{"$f":"T$680","v":{"$error":"#DIV/0!"}},{"$error":"#DIV/0!"},{"$error":"#DIV/0!"},{"$error":"#DIV/0!"},{"$error":"#DIV/0!"},{"$f":"Y$680","v":{"$error":"#DIV/0!"}},{"$error":"#DIV/0!"},{"$error":"#DIV/0!"},null,2,{"$f":"((((((AC604-AC603)/(AA604-AA603)/60)/1000)*10000)*1000))","v":1086.4089497002979},{"$f":"Klimaatscenario!L9","v":13.036907396403572},{"$error":"#DIV/0!"},{"$error":"#DIV/0!"},{"$f":"AH$680","v":{"$error":"#DIV/0!"}},{"$error":"#DIV/0!"},{"$error":"#DIV/0!"},{"$error":"#DIV/0!"},{"$error":"#DIV/0!"},{"$f":"AM$680","v":{"$error":"#DIV/0!"}},{"$error":"#DIV/0!"},{"$error":"#DIV/0!"},{"$error":"#DIV/0!"},{"$error":"#DIV/0!"},{"$f":"AR$680","v":{"$error":"#DIV/0!"}},{"$error":"#DIV/0!"},{"$error":"#DIV/0!"},{"$error":"#DIV/0!"},{"$error":"#DIV/0!"},{"$f":"AW$680","v":{"$error":"#DIV/0!"}},{"$error":"#DIV/0!"},{"$error":"#DIV/0!"}]
[null,null,3,{"$f":"((((((E605-E604)/(C605-C604)/60)/1000)*10000)*1000))","v":962.61381379293903},{"$f":"Klimaatscenario!K10","v":17.327048648272903},{"$error":"#DIV/0!"},{"$error":"#DIV/0!"},{"$error":"#DIV/0!"},{"$error":"#DIV/0!"},{"$error":"#DIV/0!"},{"$error":"#DIV/0!"},{"$error":"#DIV/0!"},{"$error":"#DIV/0!"},{"$error":"#DIV/0!"},{"$error":"#DIV/0!"},{"$error":"#DIV/0!"},{"$error":"#DIV/0!"},{"$error":"#DIV/0!"},{"$error":"#DIV/0!"},{"$error":"#DIV/0!"},{"$error":"#DIV/0!"},{"$error":"#DIV/0!"},{"$error":"#DIV/0!"},{"$error":"#DIV/0!"},{"$error":"#DIV/0!"},null,3,{"$f":"((((((AC605-AC604)/(AA605-AA604)/60)/1000)*10000)*1000))","v":1086.4089497002979},{"$f":"Klimaatscenario!L10","v":19.55536109460536},{"$error":"#DIV/0!"},{"$error":"#DIV/0!"},{"$error":"#DIV/0!"},{"$error":"#DIV/0!"},{"$error":"#DIV/0!"},{"$error":"#DIV/0!"},{"$error":"#DIV/0!"},{"$error":"#DIV/0!"},{"$error":"#DIV/0!"},{"$error":"#DIV/0!"},{"$error":"#DIV/0!"},{"$error":"#DIV/0!"},{"$error":"#DIV/0!"},{"$error":"#DIV/0!"},{"$error":"#DIV/0!"},{"$error":"#DIV/0!"},{"$error":"#DIV/0!"},{"$error":"#DIV/0!"},{"$error":"#DIV/0!"},{"$error":"#DIV/0!"}]
[null,null,4,{"$f":"((((((E606-E605)/(C606-C605)/60)/1000)*10000)*1000))","v":962.61381379293925},{"$f":"Klimaatscenario!K11","v":23.102731531030539},{"$error":"#DIV/0!"},{"$error":"#DIV/0!"},{"$error":"#DIV/0!"},{"$error":"#DIV/0!"},{"$error":"#DIV/0!"},{"$error":"#DIV/0!"},{"$error":"#DIV/0!"},{"$error":"#DIV/0!"},{"$error":"#DIV/0!"},{"$error":"#DIV/0!"},{"$error":"#DIV/0!"},{"$error":"#DIV/0!"},{"$error":"#DIV/0!"},{"$error":"#DIV/0!"},{"$error":"#DIV/0!"},{"$error":"#DIV/0!"},{"$error":"#DIV/0!"},{"$error":"#DIV/0!"},{"$error":"#DIV/0!"},{"$error":"#DIV/0!"},null,4,{"$f":"((((((AC606-AC605)/(AA606-AA605)/60)/1000)*10000)*1000))","v":1086.4089497002976},{"$f":"Klimaatscenario!L11","v":26.073814792807145},{"$error":"#DIV/0!"},{"$error":"#DIV/0!"},{"$error":"#DIV/0!"},{"$error":"#DIV/0!"},{"$error":"#DIV/0!"},{"$error":"#DIV/0!"},{"$error":"#DIV/0!"},{"$error":"#DIV/0!"},{"$error":"#DIV/0!"},{"$error":"#DIV/0!"},{"$error":"#DIV/0!"},{"$error":"#DIV/0!"},{"$error":"#DIV/0!"},{"$error":"#DIV/0!"},{"$error":"#DIV/0!"},{"$error":"#DIV/0!"},{"$error":"#DIV/0!"},{"$error":"#DIV/0!"},{"$error":"#DIV/0!"},{"$error":"#DIV/0!"}]
[null,null,5,{"$f":"((((((E607-E606)/(C607-C606))/60)/1000)*10000)*1000)","v":962.61381379293925},{"$f":"Klimaatscenario!K12","v":28.878414413788175},{"$error":"#DIV/0!"},{"$error":"#DIV/0!"},{"$error":"#DIV/0!"},{"$error":"#DIV/0!"},{"$error":"#DIV/0!"},{"$error":"#DIV/0!"},{"$error":"#DIV/0!"},{"$error":"#DIV/0!"},{"$error":"#DIV/0!"},{"$error":"#DIV/0!"},{"$error":"#DIV/0!"},{"$error":"#DIV/0!"},{"$error":"#DIV/0!"},{"$error":"#DIV/0!"},{"$error":"#DIV/0!"},{"$error":"#DIV/0!"},{"$error":"#DIV/0!"},{"$error":"#DIV/0!"},{"$error":"#DIV/0!"},{"$error":"#DIV/0!"},null,5,{"$f":"((((((AC607-AC606)/(AA607-AA606))/60)/1000)*10000)*1000)","v":1086.4089497002976},{"$f":"Klimaatscenario!L12","v":32.59226849100893},{"$error":"#DIV/0!"},{"$error":"#DIV/0!"},{"$error":"#DIV/0!"},{"$error":"#DIV/0!"},{"$error":"#DIV/0!"},{"$error":"#DIV/0!"},{"$error":"#DIV/0!"},{"$error":"#DIV/0!"},{"$error":"#DIV/0!"},{"$error":"#DIV/0!"},{"$error":"#DIV/0!"},{"$error":"#DIV/0!"},{"$error":"#DIV/0!"},{"$error":"#DIV/0!"},{"$error":"#DIV/0!"},{"$error":"#DIV/0!"},{"$error":"#DIV/0!"},{"$error":"#DIV/0!"},{"$error":"#DIV/0!"},{"$error":"#DIV/0!"}]
[null,null,6,962.6138137929388,{"$f":"Klimaatscenario!K13","v":34.654097296545807},{"$error":"#DIV/0!"},{"$error":"#DIV/0!"},{"$error":"#DIV/0!"},{"$error":"#DIV/0!"},{"$error":"#DIV/0!"},{"$error":"#DIV/0!"},{"$error":"#DIV/0!"},{"$error":"#DIV/0!"},{"$error":"#DIV/0!"},{"$error":"#DIV/0!"},{"$error":"#DIV/0!"},{"$error":"#DIV/0!"},{"$error":"#DIV/0!"},{"$error":"#DIV/0!"},{"$error":"#DIV/0!"},{"$error":"#DIV/0!"},{"$error":"#DIV/0!"},{"$error":"#DIV/0!"},{"$error":"#DIV/0!"},{"$error":"#DIV/0!"},null,6,1086.4089497002981,{"$f":"Klimaatscenario!L13","v":39.110722189210719},{"$error":"#DIV/0!"},{"$error":"#DIV/0!"},{"$error":"#DIV/0!"},{"$error":"#DIV/0!"},{"$error":"#DIV/0!"},{"$error":"#DIV/0!"},{"$error":"#DIV/0!"},{"$error":"#DIV/0!"},{"$error":"#DIV/0!"},{"$error":"#DIV/0!"},{"$error":"#DIV/0!"},{"$error":"#DIV/0!"},{"$error":"#DIV/0!"},{"$error":"#DIV/0!"},{"$error":"#DIV/0!"},{"$error":"#DIV/0!"},{"$error":"#DIV/0!"},{"$error":"#DIV/0!"},{"$error":"#DIV/0!"},{"$error":"#DIV/0!"}]
[null,null,7,962.61381379293925,{"$f":"Klimaatscenario!K14","v":40.429780179303442},{"$error":"#DIV/0!"},{"$error":"#DIV/0!"},{"$error":"#DIV/0!"},{"$error":"#DIV/0!"},{"$error":"#DIV/0!"},{"$error":"#DIV/0!"},{"$error":"#DIV/0!"},{"$error":"#DIV/0!"},{"$error":"#DIV/0!"},{"$error":"#DIV/0!"},{"$error":"#DIV/0!"},{"$error":"#DIV/0!"},{"$error":"#DIV/0!"},{"$error":"#DIV/0!"},{"$error":"#DIV/0!"},{"$error":"#DIV/0!"},{"$error":"#DIV/0!"},{"$error":"#DIV/0!"},{"$error":"#DIV/0!"},{"$error":"#DIV/0!"},null,7,1086.4089497002972,{"$f":"Klimaatscenario!L14","v":45.629175887412501},{"$error":"#DIV/0!"},{"$error":"#DIV/0!"},{"$error":"#DIV/0!"},{"$error":"#DIV/0!"},{"$error":"#DIV/0!"},{"$error":"#DIV/0!"},{"$error":"#DIV/0!"},{"$error":"#DIV/0!"},{"$error":"#DIV/0!"},{"$error":"#DIV/0!"},{"$error":"#DIV/0!"},{"$error":"#DIV/0!"},{"$error":"#DIV/0!"},{"$error":"#DIV/0!"},{"$error":"#DIV/0!"},{"$error":"#DIV/0!"},{"$error":"#DIV/0!"},{"$error":"#DIV/0!"},{"$error":"#DIV/0!"},{"$error":"#DIV/0!"}]
[null,null,8,962.61381379293925,{"$f":"Klimaatscenario!K15","v":46.205463062061078},{"$error":"#DIV/0!"},{"$error":"#DIV/0!"},{"$error":"#DIV/0!"},{"$error":"#DIV/0!"},{"$error":"#DIV/0!"},{"$error":"#DIV/0!"},{"$error":"#DIV/0!"},{"$error":"#DIV/0!"},{"$error":"#DIV/0!"},{"$error":"#DIV/0!"},{"$error":"#DIV/0!"},{"$error":"#DIV/0!"},{"$error":"#DIV/0!"},{"$error":"#DIV/0!"},{"$error":"#DIV/0!"},{"$error":"#DIV/0!"},{"$error":"#DIV/0!"},{"$error":"#DIV/0!"},{"$error":"#DIV/0!"},{"$error":"#DIV/0!"},null,8,1086.4089497002981,{"$f":"Klimaatscenario!L15","v":52.14762958561429},{"$error":"#DIV/0!"},{"$error":"#DIV/0!"},{"$error":"#DIV/0!"},{"$error":"#DIV/0!"},{"$error":"#DIV/0!"},{"$error":"#DIV/0!"},{"$error":"#DIV/0!"},{"$error":"#DIV/0!"},{"$error":"#DIV/0!"},{"$error":"#DIV/0!"},{"$error":"#DIV/0!"},{"$error":"#DIV/0!"},{"$error":"#DIV/0!"},{"$error":"#DIV/0!"},{"$error":"#DIV/0!"},{"$error":"#DIV/0!"},{"$error":"#DIV/0!"},{"$error":"#DIV/0!"},{"$error":"#DIV/0!"},{"$error":"#DIV/0!"}]
[null,null,9,962.61381379293925,{"$f":"Klimaatscenario!K16","v":51.981145944818714},{"$error":"#DIV/0!"},{"$error":"#DIV/0!"},{"$error":"#DIV/0!"},{"$error":"#DIV/0!"},{"$error":"#DIV/0!"},{"$error":"#DIV/0!"},{"$error":"#DIV/0!"},{"$error":"#DIV/0!"},{"$error":"#DIV/0!"},{"$error":"#DIV/0!"},{"$error":"#DIV/0!"},{"$error":"#DIV/0!"},{"$error":"#DIV/0!"},{"$error":"#DIV/0!"},{"$error":"#DIV/0!"},{"$error":"#DIV/0!"},{"$error":"#DIV/0!"},{"$error":"#DIV/0!"},{"$error":"#DIV/0!"},{"$error":"#DIV/0!"},null,9,1086.4089497002981,{"$f":"Klimaatscenario!L16","v":58.666083283816079},{"$error":"#DIV/0!"},{"$error":"#DIV/0!"},{"$error":"#DIV/0!"},{"$error":"#DIV/0!"},{"$error":"#DIV/0!"},{"$error":"#DIV/0!"},{"$error":"#DIV/0!"},{"$error":"#DIV/0!"},{"$error":"#DIV/0!"},{"$error":"#DIV/0!"},{"$error":"#DIV/0!"},{"$error":"#DIV/0!"},{"$error":"#DIV/0!"},{"$error":"#DIV/0!"},{"$error":"#DIV/0!"},{"$error":"#DIV/0!"},{"$error":"#DIV/0!"},{"$error":"#DIV/0!"},{"$error":"#DIV/0!"},{"$error":"#DIV/0!"}]
[null,null,10,962.61381379293925,{"$f":"Klimaatscenario!K17","v":57.756828827576349},{"$error":"#DIV/0!"},{"$error":"#DIV/0!"},{"$error":"#DIV/0!"},{"$error":"#DIV/0!"},{"$error":"#DIV/0!"},{"$error":"#DIV/0!"},{"$error":"#DIV/0!"},{"$error":"#DIV/0!"},{"$error":"#DIV/0!"},{"$error":"#DIV/0!"},{"$error":"#DIV/0!"},{"$error":"#DIV/0!"},{"$error":"#DIV/0!"},{"$error":"#DIV/0!"},{"$error":"#DIV/0!"},{"$error":"#DIV/0!"},{"$error":"#DIV/0!"},{"$error":"#DIV/0!"},{"$error":"#DIV/0!"},{"$error":"#DIV/0!"},null,10,1086.4089497002972,{"$f":"Klimaatscenario!L17","v":65.18453698201786},{"$error":"#DIV/0!"},{"$error":"#DIV/0!"},{"$error":"#DIV/0!"},{"$error":"#DIV/0!"},{"$error":"#DIV/0!"},{"$error":"#DIV/0!"},{"$error":"#DIV/0!"},{"$error":"#DIV/0!"},{"$error":"#DIV/0!"},{"$error":"#DIV/0!"},{"$error":"#DIV/0!"},{"$error":"#DIV/0!"},{"$error":"#DIV/0!"},{"$error":"#DIV/0!"},{"$error":"#DIV/0!"},{"$error":"#DIV/0!"},{"$error":"#DIV/0!"},{"$error":"#DIV/0!"},{"$error":"#DIV/0!"},{"$error":"#DIV/0!"}]
[null,null,11,376.65955862395958,{"$f":"Klimaatscenario!K18","v":60.016786179320107},{"$error":"#DIV/0!"},{"$error":"#DIV/0!"},{"$error":"#DIV/0!"},{"$error":"#DIV/0!"},{"$error":"#DIV/0!"},{"$error":"#DIV/0!"},{"$error":"#DIV/0!"},{"$error":"#DIV/0!"},{"$error":"#DIV/0!"},{"$error":"#DIV/0!"},{"$error":"#DIV/0!"},{"$error":"#DIV/0!"},{"$error":"#DIV/0!"},{"$error":"#DIV/0!"},{"$error":"#DIV/0!"},{"$error":"#DIV/0!"},{"$error":"#DIV/0!"},{"$error":"#DIV/0!"},{"$error":"#DIV/0!"},{"$error":"#DIV/0!"},null,11,444.24316854373791,{"$f":"Klimaatscenario!L18","v":67.849995993280288},{"$error":"#DIV/0!"},{"$error":"#DIV/0!"},{"$error":"#DIV/0!"},{"$error":"#DIV/0!"},{"$error":"#DIV/0!"},{"$error":"#DIV/0!"},{"$error":"#DIV/0!"},{"$error":"#DIV/0!"},{"$error":"#DIV/0!"},{"$error":"#DIV/0!"},{"$error":"#DIV/0!"},{"$error":"#DIV/0!"},{"$error":"#DIV/0!"},{"$error":"#DIV/0!"},{"$error":"#DIV/0!"},{"$error":"#DIV/0!"},{"$error":"#DIV/0!"},{"$error":"#DIV/0!"},{"$error":"#DIV/0!"},{"$error":"#DIV/0!"}]
[null,null,12,376.65955862395958,{"$f":"Klimaatscenario!K19","v":62.276743531063865},{"$error":"#DIV/0!"},{"$error":"#DIV/0!"},{"$error":"#DIV/0!"},{"$error":"#DIV/0!"},{"$error":"#DIV/0!"},{"$error":"#DIV/0!"},{"$error":"#DIV/0!"},{"$error":"#DIV/0!"},{"$error":"#DIV/0!"},{"$error":"#DIV/0!"},{"$error":"#DIV/0!"},{"$error":"#DIV/0!"},{"$error":"#DIV/0!"},{"$error":"#DIV/0!"},{"$error":"#DIV/0!"},{"$error":"#DIV/0!"},{"$error":"#DIV/0!"},{"$error":"#DIV/0!"},{"$error":"#DIV/0!"},{"$error":"#DIV/0!"},null,12,444.24316854373791,{"$f":"Klimaatscenario!L19","v":70.515455004542716},{"$error":"#DIV/0!"},{"$error":"#DIV/0!"},{"$error":"#DIV/0!"},{"$error":"#DIV/0!"},{"$error":"#DIV/0!"},{"$error":"#DIV/0!"},{"$error":"#DIV/0!"},{"$error":"#DIV/0!"},{"$error":"#DIV/0!"},{"$error":"#DIV/0!"},{"$error":"#DIV/0!"},{"$error":"#DIV/0!"},{"$error":"#DIV/0!"},{"$error":"#DIV/0!"},{"$error":"#DIV/0!"},{"$error":"#DIV/0!"},{"$error":"#DIV/0!"},{"$error":"#DIV/0!"},{"$error":"#DIV/0!"},{"$error":"#DIV/0!"}]
[null,null,13,376.65955862395958,{"$f":"Klimaatscenario!K20","v":64.536700882807622},{"$error":"#DIV/0!"},{"$error":"#DIV/0!"},{"$error":"#DIV/0!"},{"$error":"#DIV/0!"},{"$error":"#DIV/0!"},{"$error":"#DIV/0!"},{"$error":"#DIV/0!"},{"$error":"#DIV/0!"},{"$error":"#DIV/0!"},{"$error":"#DIV/0!"},{"$error":"#DIV/0!"},{"$error":"#DIV/0!"},{"$error":"#DIV/0!"},{"$error":"#DIV/0!"},{"$error":"#DIV/0!"},{"$error":"#DIV/0!"},{"$error":"#DIV/0!"},{"$error":"#DIV/0!"},{"$error":"#DIV/0!"},{"$error":"#DIV/0!"},null,13,444.24316854373791,{"$f":"Klimaatscenario!L20","v":73.180914015805143},{"$error":"#DIV/0!"},{"$error":"#DIV/0!"},{"$error":"#DIV/0!"},{"$error":"#DIV/0!"},{"$error":"#DIV/0!"},{"$error":"#DIV/0!"},{"$error":"#DIV/0!"},{"$error":"#DIV/0!"},{"$error":"#DIV/0!"},{"$error":"#DIV/0!"},{"$error":"#DIV/0!"},{"$error":"#DIV/0!"},{"$error":"#DIV/0!"},{"$error":"#DIV/0!"},{"$error":"#DIV/0!"},{"$error":"#DIV/0!"},{"$error":"#DIV/0!"},{"$error":"#DIV/0!"},{"$error":"#DIV/0!"},{"$error":"#DIV/0!"}]
[null,null,14,376.65955862396078,{"$f":"Klimaatscenario!K21","v":66.796658234551387},{"$error":"#DIV/0!"},{"$error":"#DIV/0!"},{"$error":"#DIV/0!"},{"$error":"#DIV/0!"},{"$error":"#DIV/0!"},{"$error":"#DIV/0!"},{"$error":"#DIV/0!"},{"$error":"#DIV/0!"},{"$error":"#DIV/0!"},{"$error":"#DIV/0!"},{"$error":"#DIV/0!"},{"$error":"#DIV/0!"},{"$error":"#DIV/0!"},{"$error":"#DIV/0!"},{"$error":"#DIV/0!"},{"$error":"#DIV/0!"},{"$error":"#DIV/0!"},{"$error":"#DIV/0!"},{"$error":"#DIV/0!"},{"$error":"#DIV/0!"},null,14,444.24316854373558,{"$f":"Klimaatscenario!L21","v":75.846373027067557},{"$error":"#DIV/0!"},{"$error":"#DIV/0!"},{"$error":"#DIV/0!"},{"$error":"#DIV/0!"},{"$error":"#DIV/0!"},{"$error":"#DIV/0!"},{"$error":"#DIV/0!"},{"$error":"#DIV/0!"},{"$error":"#DIV/0!"},{"$error":"#DIV/0!"},{"$error":"#DIV/0!"},{"$error":"#DIV/0!"},{"$error":"#DIV/0!"},{"$error":"#DIV/0!"},{"$error":"#DIV/0!"},{"$error":"#DIV/0!"},{"$error":"#DIV/0!"},{"$error":"#DIV/0!"},{"$error":"#DIV/0!"},{"$error":"#DIV/0!"}]
[null,null,15,376.65955862395845,{"$f":"Klimaatscenario!K22","v":69.056615586295138},{"$error":"#DIV/0!"},{"$error":"#DIV/0!"},{"$error":"#DIV/0!"},{"$error":"#DIV/0!"},{"$error":"#DIV/0!"},{"$error":"#DIV/0!"},{"$error":"#DIV/0!"},{"$error":"#DIV/0!"},{"$error":"#DIV/0!"},{"$error":"#DIV/0!"},{"$error":"#DIV/0!"},{"$error":"#DIV/0!"},{"$error":"#DIV/0!"},{"$error":"#DIV/0!"},{"$error":"#DIV/0!"},{"$error":"#DIV/0!"},{"$error":"#DIV/0!"},{"$error":"#DIV/0!"},{"$error":"#DIV/0!"},{"$error":"#DIV/0!"},null,15,444.24316854373791,{"$f":"Klimaatscenario!L22","v":78.511832038329985},{"$error":"#DIV/0!"},{"$error":"#DIV/0!"},{"$error":"#DIV/0!"},{"$error":"#DIV/0!"},{"$error":"#DIV/0!"},{"$error":"#DIV/0!"},{"$error":"#DIV/0!"},{"$error":"#DIV/0!"},{"$error":"#DIV/0!"},{"$error":"#DIV/0!"},{"$error":"#DIV/0!"},{"$error":"#DIV/0!"},{"$error":"#DIV/0!"},{"$error":"#DIV/0!"},{"$error":"#DIV/0!"},{"$error":"#DIV/0!"},{"$error":"#DIV/0!"},{"$error":"#DIV/0!"},{"$error":"#DIV/0!"},{"$error":"#DIV/0!"}]
[null,null,16,376.65955862396078,{"$f":"Klimaatscenario!K23","v":71.316572938038902},{"$error":"#DIV/0!"},{"$error":"#DIV/0!"},{"$error":"#DIV/0!"},{"$error":"#DIV/0!"},{"$error":"#DIV/0!"},{"$error":"#DIV/0!"},{"$error":"#DIV/0!"},{"$error":"#DIV/0!"},{"$error":"#DIV/0!"},{"$error":"#DIV/0!"},{"$error":"#DIV/0!"},{"$error":"#DIV/0!"},{"$error":"#DIV/0!"},{"$error":"#DIV/0!"},{"$error":"#DIV/0!"},{"$error":"#DIV/0!"},{"$error":"#DIV/0!"},{"$error":"#DIV/0!"},{"$error":"#DIV/0!"},{"$error":"#DIV/0!"},null,16,444.24316854373791,{"$f":"Klimaatscenario!L23","v":81.177291049592412},{"$error":"#DIV/0!"},{"$error":"#DIV/0!"},{"$error":"#DIV/0!"},{"$error":"#DIV/0!"},{"$error":"#DIV/0!"},{"$error":"#DIV/0!"},{"$error":"#DIV/0!"},{"$error":"#DIV/0!"},{"$error":"#DIV/0!"},{"$error":"#DIV/0!"},{"$error":"#DIV/0!"},{"$error":"#DIV/0!"},{"$error":"#DIV/0!"},{"$error":"#DIV/0!"},{"$error":"#DIV/0!"},{"$error":"#DIV/0!"},{"$error":"#DIV/0!"},{"$error":"#DIV/0!"},{"$error":"#DIV/0!"},{"$error":"#DIV/0!"}]
[null,null,17,376.65955862395845,{"$f":"Klimaatscenario!K24","v":73.576530289782653},{"$error":"#DIV/0!"},{"$error":"#DIV/0!"},{"$error":"#DIV/0!"},{"$error":"#DIV/0!"},{"$error":"#DIV/0!"},{"$error":"#DIV/0!"},{"$error":"#DIV/0!"},{"$error":"#DIV/0!"},{"$error":"#DIV/0!"},{"$error":"#DIV/0!"},{"$error":"#DIV/0!"},{"$error":"#DIV/0!"},{"$error":"#DIV/0!"},{"$error":"#DIV/0!"},{"$error":"#DIV/0!"},{"$error":"#DIV/0!"},{"$error":"#DIV/0!"},{"$error":"#DIV/0!"},{"$error":"#DIV/0!"},{"$error":"#DIV/0!"},null,17,444.24316854373791,{"$f":"Klimaatscenario!L24","v":83.84275006085484},{"$error":"#DIV/0!"},{"$error":"#DIV/0!"},{"$error":"#DIV/0!"},{"$error":"#DIV/0!"},{"$error":"#DIV/0!"},{"$error":"#DIV/0!"},{"$error":"#DIV/0!"},{"$error":"#DIV/0!"},{"$error":"#DIV/0!"},{"$error":"#DIV/0!"},{"$error":"#DIV/0!"},{"$error":"#DIV/0!"},{"$error":"#DIV/0!"},{"$error":"#DIV/0!"},{"$error":"#DIV/0!"},{"$error":"#DIV/0!"},{"$error":"#DIV/0!"},{"$error":"#DIV/0!"},{"$error":"#DIV/0!"},{"$error":"#DIV/0!"}]
[null,null,18,376.65955862396078,{"$f":"Klimaatscenario!K25","v":75.836487641526418},{"$error":"#DIV/0!"},{"$error":"#DIV/0!"},{"$error":"#DIV/0!"},{"$error":"#DIV/0!"},{"$error":"#DIV/0!"},{"$error":"#DIV/0!"},{"$error":"#DIV/0!"},{"$error":"#DIV/0!"},{"$error":"#DIV/0!"},{"$error":"#DIV/0!"},{"$error":"#DIV/0!"},{"$error":"#DIV/0!"},{"$error":"#DIV/0!"},{"$error":"#DIV/0!"},{"$error":"#DIV/0!"},{"$error":"#DIV/0!"},{"$error":"#DIV/0!"},{"$error":"#DIV/0!"},{"$error":"#DIV/0!"},{"$error":"#DIV/0!"},null,18,444.24316854373791,{"$f":"Klimaatscenario!L25","v":86.508209072117268},{"$error":"#DIV/0!"},{"$error":"#DIV/0!"},{"$error":"#DIV/0!"},{"$error":"#DIV/0!"},{"$error":"#DIV/0!"},{"$error":"#DIV/0!"},{"$error":"#DIV/0!"},{"$error":"#DIV/0!"},{"$error":"#DIV/0!"},{"$error":"#DIV/0!"},{"$error":"#DIV/0!"},{"$error":"#DIV/0!"},{"$error":"#DIV/0!"},{"$error":"#DIV/0!"},{"$error":"#DIV/0!"},{"$error":"#DIV/0!"},{"$error":"#DIV/0!"},{"$error":"#DIV/0!"},{"$error":"#DIV/0!"},{"$error":"#DIV/0!"}]
[null,null,19,376.65955862396078,{"$f":"Klimaatscenario!K26","v":78.096444993270183},{"$error":"#DIV/0!"},{"$error":"#DIV/0!"},{"$error":"#DIV/0!"},{"$error":"#DIV/0!"},{"$error":"#DIV/0!"},{"$error":"#DIV/0!"},{"$error":"#DIV/0!"},{"$error":"#DIV/0!"},{"$error":"#DIV/0!"},{"$error":"#DIV/0!"},{"$error":"#DIV/0!"},{"$error":"#DIV/0!"},{"$error":"#DIV/0!"},{"$error":"#DIV/0!"},{"$error":"#DIV/0!"},{"$error":"#DIV/0!"},{"$error":"#DIV/0!"},{"$error":"#DIV/0!"},{"$error":"#DIV/0!"},{"$error":"#DIV/0!"},null,19,444.24316854373558,{"$f":"Klimaatscenario!L26","v":89.173668083379681},{"$error":"#DIV/0!"},{"$error":"#DIV/0!"},{"$error":"#DIV/0!"},{"$error":"#DIV/0!"},{"$error":"#DIV/0!"},{"$error":"#DIV/0!"},{"$error":"#DIV/0!"},{"$error":"#DIV/0!"},{"$error":"#DIV/0!"},{"$error":"#DIV/0!"},{"$error":"#DIV/0!"},{"$error":"#DIV/0!"},{"$error":"#DIV/0!"},{"$error":"#DIV/0!"},{"$error":"#DIV/0!"},{"$error":"#DIV/0!"},{"$error":"#DIV/0!"},{"$error":"#DIV/0!"},{"$error":"#DIV/0!"},{"$error":"#DIV/0!"}]
[null,null,20,376.65955862395845,{"$f":"Klimaatscenario!K27","v":80.356402345013933},{"$error":"#DIV/0!"},{"$error":"#DIV/0!"},{"$error":"#DIV/0!"},{"$error":"#DIV/0!"},{"$error":"#DIV/0!"},{"$error":"#DIV/0!"},{"$error":"#DIV/0!"},{"$error":"#DIV/0!"},{"$error":"#DIV/0!"},{"$error":"#DIV/0!"},{"$error":"#DIV/0!"},{"$error":"#DIV/0!"},{"$error":"#DIV/0!"},{"$error":"#DIV/0!"},{"$error":"#DIV/0!"},{"$error":"#DIV/0!"},{"$error":"#DIV/0!"},{"$error":"#DIV/0!"},{"$error":"#DIV/0!"},{"$error":"#DIV/0!"},null,20,444.2431685437403,{"$f":"Klimaatscenario!L27","v":91.839127094642123},{"$error":"#DIV/0!"},{"$error":"#DIV/0!"},{"$error":"#DIV/0!"},{"$error":"#DIV/0!"},{"$error":"#DIV/0!"},{"$error":"#DIV/0!"},{"$error":"#DIV/0!"},{"$error":"#DIV/0!"},{"$error":"#DIV/0!"},{"$error":"#DIV/0!"},{"$error":"#DIV/0!"},{"$error":"#DIV/0!"},{"$error":"#DIV/0!"},{"$error":"#DIV/0!"},{"$error":"#DIV/0!"},{"$error":"#DIV/0!"},{"$error":"#DIV/0!"},{"$error":"#DIV/0!"},{"$error":"#DIV/0!"},{"$error":"#DIV/0!"}]
[null,null,21,376.65955862396078,{"$f":"Klimaatscenario!K28","v":82.616359696757698},{"$error":"#DIV/0!"},{"$error":"#DIV/0!"},{"$error":"#DIV/0!"},{"$error":"#DIV/0!"},{"$error":"#DIV/0!"},{"$error":"#DIV/0!"},{"$error":"#DIV/0!"},{"$error":"#DIV/0!"},{"$error":"#DIV/0!"},{"$error":"#DIV/0!"},{"$error":"#DIV/0!"},{"$error":"#DIV/0!"},{"$error":"#DIV/0!"},{"$error":"#DIV/0!"},{"$error":"#DIV/0!"},{"$error":"#DIV/0!"},{"$error":"#DIV/0!"},{"$error":"#DIV/0!"},{"$error":"#DIV/0!"},{"$error":"#DIV/0!"},null,21,444.24316854373558,{"$f":"Klimaatscenario!L28","v":94.504586105904536},{"$error":"#DIV/0!"},{"$error":"#DIV/0!"},{"$error":"#DIV/0!"},{"$error":"#DIV/0!"},{"$error":"#DIV/0!"},{"$error":"#DIV/0!"},{"$error":"#DIV/0!"},{"$error":"#DIV/0!"},{"$error":"#DIV/0!"},{"$error":"#DIV/0!"},{"$error":"#DIV/0!"},{"$error":"#DIV/0!"},{"$error":"#DIV/0!"},{"$error":"#DIV/0!"},{"$error":"#DIV/0!"},{"$error":"#DIV/0!"},{"$error":"#DIV/0!"},{"$error":"#DIV/0!"},{"$error":"#DIV/0!"},{"$error":"#DIV/0!"}]
[null,null,22,376.65955862395845,{"$f":"Klimaatscenario!K29","v":84.876317048501448},{"$error":"#DIV/0!"},{"$error":"#DIV/0!"},{"$error":"#DIV/0!"},{"$error":"#DIV/0!"},{"$error":"#DIV/0!"},{"$error":"#DIV/0!"},{"$error":"#DIV/0!"},{"$error":"#DIV/0!"},{"$error":"#DIV/0!"},{"$error":"#DIV/0!"},{"$error":"#DIV/0!"},{"$error":"#DIV/0!"},{"$error":"#DIV/0!"},{"$error":"#DIV/0!"},{"$error":"#DIV/0!"},{"$error":"#DIV/0!"},{"$error":"#DIV/0!"},{"$error":"#DIV/0!"},{"$error":"#DIV/0!"},{"$error":"#DIV/0!"},null,22,444.24316854373791,{"$f":"Klimaatscenario!L29","v":97.170045117166964},{"$error":"#DIV/0!"},{"$error":"#DIV/0!"},{"$error":"#DIV/0!"},{"$error":"#DIV/0!"},{"$error":"#DIV/0!"},{"$error":"#DIV/0!"},{"$error":"#DIV/0!"},{"$error":"#DIV/0!"},{"$error":"#DIV/0!"},{"$error":"#DIV/0!"},{"$error":"#DIV/0!"},{"$error":"#DIV/0!"},{"$error":"#DIV/0!"},{"$error":"#DIV/0!"},{"$error":"#DIV/0!"},{"$error":"#DIV/0!"},{"$error":"#DIV/0!"},{"$error":"#DIV/0!"},{"$error":"#DIV/0!"},{"$error":"#DIV/0!"}]
[null,null,23,376.65955862396078,{"$f":"Klimaatscenario!K30","v":87.136274400245213},{"$error":"#DIV/0!"},{"$error":"#DIV/0!"},{"$error":"#DIV/0!"},{"$error":"#DIV/0!"},{"$error":"#DIV/0!"},{"$error":"#DIV/0!"},{"$error":"#DIV/0!"},{"$error":"#DIV/0!"},{"$error":"#DIV/0!"},{"$error":"#DIV/0!"},{"$error":"#DIV/0!"},{"$error":"#DIV/0!"},{"$error":"#DIV/0!"},{"$error":"#DIV/0!"},{"$error":"#DIV/0!"},{"$error":"#DIV/0!"},{"$error":"#DIV/0!"},{"$error":"#DIV/0!"},{"$error":"#DIV/0!"},{"$error":"#DIV/0!"},null,23,444.24316854373791,{"$f":"Klimaatscenario!L30","v":99.835504128429392},{"$error":"#DIV/0!"},{"$error":"#DIV/0!"},{"$error":"#DIV/0!"},{"$error":"#DIV/0!"},{"$error":"#DIV/0!"},{"$error":"#DIV/0!"},{"$error":"#DIV/0!"},{"$error":"#DIV/0!"},{"$error":"#DIV/0!"},{"$error":"#DIV/0!"},{"$error":"#DIV/0!"},{"$error":"#DIV/0!"},{"$error":"#DIV/0!"},{"$error":"#DIV/0!"},{"$error":"#DIV/0!"},{"$error":"#DIV/0!"},{"$error":"#DIV/0!"},{"$error":"#DIV/0!"},{"$error":"#DIV/0!"},{"$error":"#DIV/0!"}]
[null,null,24,376.65955862396078,{"$f":"Klimaatscenario!K31","v":89.396231751988978},{"$error":"#DIV/0!"},{"$error":"#DIV/0!"},{"$error":"#DIV/0!"},{"$error":"#DIV/0!"},{"$error":"#DIV/0!"},{"$error":"#DIV/0!"},{"$error":"#DIV/0!"},{"$error":"#DIV/0!"},{"$error":"#DIV/0!"},{"$error":"#DIV/0!"},{"$error":"#DIV/0!"},{"$error":"#DIV/0!"},{"$error":"#DIV/0!"},{"$error":"#DIV/0!"},{"$error":"#DIV/0!"},{"$error":"#DIV/0!"},{"$error":"#DIV/0!"},{"$error":"#DIV/0!"},{"$error":"#DIV/0!"},{"$error":"#DIV/0!"},null,24,444.24316854373791,{"$f":"Klimaatscenario!L31","v":102.50096313969182},{"$error":"#DIV/0!"},{"$error":"#DIV/0!"},{"$error":"#DIV/0!"},{"$error":"#DIV/0!"},{"$error":"#DIV/0!"},{"$error":"#DIV/0!"},{"$error":"#DIV/0!"},{"$error":"#DIV/0!"},{"$error":"#DIV/0!"},{"$error":"#DIV/0!"},{"$error":"#DIV/0!"},{"$error":"#DIV/0!"},{"$error":"#DIV/0!"},{"$error":"#DIV/0!"},{"$error":"#DIV/0!"},{"$error":"#DIV/0!"},{"$error":"#DIV/0!"},{"$error":"#DIV/0!"},{"$error":"#DIV/0!"},{"$error":"#DIV/0!"}]
[null,null,25,376.65955862395845,{"$f":"Klimaatscenario!K32","v":91.656189103732729},{"$error":"#DIV/0!"},{"$error":"#DIV/0!"},{"$error":"#DIV/0!"},{"$error":"#DIV/0!"},{"$error":"#DIV/0!"},{"$error":"#DIV/0!"},{"$error":"#DIV/0!"},{"$error":"#DIV/0!"},{"$error":"#DIV/0!"},{"$error":"#DIV/0!"},{"$error":"#DIV/0!"},{"$error":"#DIV/0!"},{"$error":"#DIV/0!"},{"$error":"#DIV/0!"},{"$error":"#DIV/0!"},{"$error":"#DIV/0!"},{"$error":"#DIV/0!"},{"$error":"#DIV/0!"},{"$error":"#DIV/0!"},{"$error":"#DIV/0!"},null,25,444.24316854373791,{"$f":"Klimaatscenario!L32","v":105.16642215095425},{"$error":"#DIV/0!"},{"$error":"#DIV/0!"},{"$error":"#DIV/0!"},{"$error":"#DIV/0!"},{"$error":"#DIV/0!"},{"$error":"#DIV/0!"},{"$error":"#DIV/0!"},{"$error":"#DIV/0!"},{"$error":"#DIV/0!"},{"$error":"#DIV/0!"},{"$error":"#DIV/0!"},{"$error":"#DIV/0!"},{"$error":"#DIV/0!"},{"$error":"#DIV/0!"},{"$error":"#DIV/0!"},{"$error":"#DIV/0!"},{"$error":"#DIV/0!"},{"$error":"#DIV/0!"},{"$error":"#DIV/0!"},{"$error":"#DIV/0!"}]
[null,null,26,376.65955862395845,{"$f":"Klimaatscenario!K33","v":93.916146455476479},{"$error":"#DIV/0!"},{"$error":"#DIV/0!"},{"$error":"#DIV/0!"},{"$error":"#DIV/0!"},{"$error":"#DIV/0!"},{"$error":"#DIV/0!"},{"$error":"#DIV/0!"},{"$error":"#DIV/0!"},{"$error":"#DIV/0!"},{"$error":"#DIV/0!"},{"$error":"#DIV/0!"},{"$error":"#DIV/0!"},{"$error":"#DIV/0!"},{"$error":"#DIV/0!"},{"$error":"#DIV/0!"},{"$error":"#DIV/0!"},{"$error":"#DIV/0!"},{"$error":"#DIV/0!"},{"$error":"#DIV/0!"},{"$error":"#DIV/0!"},null,26,444.24316854373558,{"$f":"Klimaatscenario!L33","v":107.83188116221666},{"$error":"#DIV/0!"},{"$error":"#DIV/0!"},{"$error":"#DIV/0!"},{"$error":"#DIV/0!"},{"$error":"#DIV/0!"},{"$error":"#DIV/0!"},{"$error":"#DIV/0!"},{"$error":"#DIV/0!"},{"$error":"#DIV/0!"},{"$error":"#DIV/0!"},{"$error":"#DIV/0!"},{"$error":"#DIV/0!"},{"$error":"#DIV/0!"},{"$error":"#DIV/0!"},{"$error":"#DIV/0!"},{"$error":"#DIV/0!"},{"$error":"#DIV/0!"},{"$error":"#DIV/0!"},{"$error":"#DIV/0!"},{"$error":"#DIV/0!"}]
[null,null,27,376.65955862396078,{"$f":"Klimaatscenario!K34","v":96.176103807220244},{"$error":"#DIV/0!"},{"$error":"#DIV/0!"},{"$error":"#DIV/0!"},{"$error":"#DIV/0!"},{"$error":"#DIV/0!"},{"$error":"#DIV/0!"},{"$error":"#DIV/0!"},{"$error":"#DIV/0!"},{"$error":"#DIV/0!"},{"$error":"#DIV/0!"},{"$error":"#DIV/0!"},{"$error":"#DIV/0!"},{"$error":"#DIV/0!"},{"$error":"#DIV/0!"},{"$error":"#DIV/0!"},{"$error":"#DIV/0!"},{"$error":"#DIV/0!"},{"$error":"#DIV/0!"},{"$error":"#DIV/0!"},{"$error":"#DIV/0!"},null,27,444.2431685437403,{"$f":"Klimaatscenario!L34","v":110.4973401734791},{"$error":"#DIV/0!"},{"$error":"#DIV/0!"},{"$error":"#DIV/0!"},{"$error":"#DIV/0!"},{"$error":"#DIV/0!"},{"$error":"#DIV/0!"},{"$error":"#DIV/0!"},{"$error":"#DIV/0!"},{"$error":"#DIV/0!"},{"$error":"#DIV/0!"},{"$error":"#DIV/0!"},{"$error":"#DIV/0!"},{"$error":"#DIV/0!"},{"$error":"#DIV/0!"},{"$error":"#DIV/0!"},{"$error":"#DIV/0!"},{"$error":"#DIV/0!"},{"$error":"#DIV/0!"},{"$error":"#DIV/0!"},{"$error":"#DIV/0!"}]
[null,null,28,376.65955862396078,{"$f":"Klimaatscenario!K35","v":98.436061158964009},{"$error":"#DIV/0!"},{"$error":"#DIV/0!"},{"$error":"#DIV/0!"},{"$error":"#DIV/0!"},{"$error":"#DIV/0!"},{"$error":"#DIV/0!"},{"$error":"#DIV/0!"},{"$error":"#DIV/0!"},{"$error":"#DIV/0!"},{"$error":"#DIV/0!"},{"$error":"#DIV/0!"},{"$error":"#DIV/0!"},{"$error":"#DIV/0!"},{"$error":"#DIV/0!"},{"$error":"#DIV/0!"},{"$error":"#DIV/0!"},{"$error":"#DIV/0!"},{"$error":"#DIV/0!"},{"$error":"#DIV/0!"},{"$error":"#DIV/0!"},null,28,444.24316854373558,{"$f":"Klimaatscenario!L35","v":113.16279918474152},{"$error":"#DIV/0!"},{"$error":"#DIV/0!"},{"$error":"#DIV/0!"},{"$error":"#DIV/0!"},{"$error":"#DIV/0!"},{"$error":"#DIV/0!"},{"$error":"#DIV/0!"},{"$error":"#DIV/0!"},{"$error":"#DIV/0!"},{"$error":"#DIV/0!"},{"$error":"#DIV/0!"},{"$error":"#DIV/0!"},{"$error":"#DIV/0!"},{"$error":"#DIV/0!"},{"$error":"#DIV/0!"},{"$error":"#DIV/0!"},{"$error":"#DIV/0!"},{"$error":"#DIV/0!"},{"$error":"#DIV/0!"},{"$error":"#DIV/0!"}]
[null,null,29,376.65955862395845,{"$f":"Klimaatscenario!K36","v":100.69601851070776},{"$error":"#DIV/0!"},{"$error":"#DIV/0!"},{"$error":"#DIV/0!"},{"$error":"#DIV/0!"},{"$error":"#DIV/0!"},{"$error":"#DIV/0!"},{"$error":"#DIV/0!"},{"$error":"#DIV/0!"},{"$error":"#DIV/0!"},{"$error":"#DIV/0!"},{"$error":"#DIV/0!"},{"$error":"#DIV/0!"},{"$error":"#DIV/0!"},{"$error":"#DIV/0!"},{"$error":"#DIV/0!"},{"$error":"#DIV/0!"},{"$error":"#DIV/0!"},{"$error":"#DIV/0!"},{"$error":"#DIV/0!"},{"$error":"#DIV/0!"},null,29,444.24316854373791,{"$f":"Klimaatscenario!L36","v":115.82825819600394},{"$error":"#DIV/0!"},{"$error":"#DIV/0!"},{"$error":"#DIV/0!"},{"$error":"#DIV/0!"},{"$error":"#DIV/0!"},{"$error":"#DIV/0!"},{"$error":"#DIV/0!"},{"$error":"#DIV/0!"},{"$error":"#DIV/0!"},{"$error":"#DIV/0!"},{"$error":"#DIV/0!"},{"$error":"#DIV/0!"},{"$error":"#DIV/0!"},{"$error":"#DIV/0!"},{"$error":"#DIV/0!"},{"$error":"#DIV/0!"},{"$error":"#DIV/0!"},{"$error":"#DIV/0!"},{"$error":"#DIV/0!"},{"$error":"#DIV/0!"}]
[null,null,30,376.65955862396078,{"$f":"Klimaatscenario!K37","v":102.95597586245152},{"$error":"#DIV/0!"},{"$error":"#DIV/0!"},{"$error":"#DIV/0!"},{"$error":"#DIV/0!"},{"$error":"#DIV/0!"},{"$error":"#DIV/0!"},{"$error":"#DIV/0!"},{"$error":"#DIV/0!"},{"$error":"#DIV/0!"},{"$error":"#DIV/0!"},{"$error":"#DIV/0!"},{"$error":"#DIV/0!"},{"$error":"#DIV/0!"},{"$error":"#DIV/0!"},{"$error":"#DIV/0!"},{"$error":"#DIV/0!"},{"$error":"#DIV/0!"},{"$error":"#DIV/0!"},{"$error":"#DIV/0!"},{"$error":"#DIV/0!"},null,30,444.24316854373791,{"$f":"Klimaatscenario!L37","v":118.49371720726637},{"$error":"#DIV/0!"},{"$error":"#DIV/0!"},{"$error":"#DIV/0!"},{"$error":"#DIV/0!"},{"$error":"#DIV/0!"},{"$error":"#DIV/0!"},{"$error":"#DIV/0!"},{"$error":"#DIV/0!"},{"$error":"#DIV/0!"},{"$error":"#DIV/0!"},{"$error":"#DIV/0!"},{"$error":"#DIV/0!"},{"$error":"#DIV/0!"},{"$error":"#DIV/0!"},{"$error":"#DIV/0!"},{"$error":"#DIV/0!"},{"$error":"#DIV/0!"},{"$error":"#DIV/0!"},{"$error":"#DIV/0!"},{"$error":"#DIV/0!"}]
[null,null,31,173.318304700049,{"$f":"Klimaatscenario!K38","v":103.99588569065182},{"$error":"#DIV/0!"},{"$error":"#DIV/0!"},{"$error":"#DIV/0!"},{"$error":"#DIV/0!"},{"$error":"#DIV/0!"},{"$error":"#DIV/0!"},{"$error":"#DIV/0!"},{"$error":"#DIV/0!"},{"$error":"#DIV/0!"},{"$error":"#DIV/0!"},{"$error":"#DIV/0!"},{"$error":"#DIV/0!"},{"$error":"#DIV/0!"},{"$error":"#DIV/0!"},{"$error":"#DIV/0!"},{"$error":"#DIV/0!"},{"$error":"#DIV/0!"},{"$error":"#DIV/0!"},{"$error":"#DIV/0!"},{"$error":"#DIV/0!"},null,31,204.48780570311698,{"$f":"Klimaatscenario!L38","v":119.72064404148507},{"$error":"#DIV/0!"},{"$error":"#DIV/0!"},{"$error":"#DIV/0!"},{"$error":"#DIV/0!"},{"$error":"#DIV/0!"},{"$error":"#DIV/0!"},{"$error":"#DIV/0!"},{"$error":"#DIV/0!"},{"$error":"#DIV/0!"},{"$error":"#DIV/0!"},{"$error":"#DIV/0!"},{"$error":"#DIV/0!"},{"$error":"#DIV/0!"},{"$error":"#DIV/0!"},{"$error":"#DIV/0!"},{"$error":"#DIV/0!"},{"$error":"#DIV/0!"},{"$error":"#DIV/0!"},{"$error":"#DIV/0!"},{"$error":"#DIV/0!"}]
[null,null,32,173.31830470004658,{"$f":"Klimaatscenario!K39","v":105.0357955188521},{"$error":"#DIV/0!"},{"$error":"#DIV/0!"},{"$error":"#DIV/0!"},{"$f":"($J$682/60)*$C634","v":{"$error":"#DIV/0!"}},{"$f":"$E634-F634-G634-H634-I634","v":{"$error":"#DIV/0!"}},{"$error":"#DIV/0!"},{"$error":"#DIV/0!"},{"$error":"#DIV/0!"},{"$f":"($O$682/60)*$C634","v":{"$error":"#DIV/0!"}},{"$f":"$E634-K634-L634-M634-N634","v":{"$error":"#DIV/0!"}},{"$error":"#DIV/0!"},{"$error":"#DIV/0!"},{"$error":"#DIV/0!"},{"$f":"($T$682/60)*$C634","v":{"$error":"#DIV/0!"}},{"$f":"$E634-P634-Q634-R634-S634","v":{"$error":"#DIV/0!"}},{"$error":"#DIV/0!"},{"$error":"#DIV/0!"},{"$error":"#DIV/0!"},{"$f":"($Y$682/60)*$C634","v":{"$error":"#DIV/0!"}},{"$f":"$E634-U634-V634-W634-X634","v":{"$error":"#DIV/0!"}},null,32,204.48780570311934,{"$f":"Klimaatscenario!L39","v":120.94757087570379},{"$error":"#DIV/0!"},{"$error":"#DIV/0!"},{"$error":"#DIV/0!"},{"$f":"($AH$682/60)*$AA634","v":{"$error":"#DIV/0!"}},{"$f":"$AC634-AD634-AE634-AF634-AG634","v":{"$error":"#DIV/0!"}},{"$error":"#DIV/0!"},{"$error":"#DIV/0!"},{"$error":"#DIV/0!"},{"$f":"($AM$682/60)*$AA634","v":{"$error":"#DIV/0!"}},{"$f":"$AC634-AI634-AJ634-AK634-AL634","v":{"$error":"#DIV/0!"}},{"$error":"#DIV/0!"},{"$error":"#DIV/0!"},{"$error":"#DIV/0!"},{"$f":"($AR$682/60)*$AA634","v":{"$error":"#DIV/0!"}},{"$f":"$AC634-AN634-AO634-AP634-AQ634","v":{"$error":"#DIV/0!"}},{"$error":"#DIV/0!"},{"$error":"#DIV/0!"},{"$error":"#DIV/0!"},{"$f":"($AW$682/60)*$AA634","v":{"$error":"#DIV/0!"}},{"$f":"$AC634-AS634-AT634-AU634-AV634","v":{"$error":"#DIV/0!"}}]
[null,null,33,173.318304700049,{"$f":"Klimaatscenario!K40","v":106.07570534705239},{"$f":"((J$681*60)/10000)+F634","v":{"$error":"#DIV/0!"}},{"$error":"#DIV/0!"},{"$error":"#DIV/0!"},{"$error":"#DIV/0!"},{"$error":"#DIV/0!"},{"$f":"((O$681*60)/10000)+K634","v":{"$error":"#DIV/0!"}},{"$error":"#DIV/0!"},{"$error":"#DIV/0!"},{"$error":"#DIV/0!"},{"$error":"#DIV/0!"},{"$f":"((T$681*60)/10000)+P634","v":{"$error":"#DIV/0!"}},{"$error":"#DIV/0!"},{"$error":"#DIV/0!"},{"$error":"#DIV/0!"},{"$error":"#DIV/0!"},{"$f":"((Y$681*60)/10000)+U634","v":{"$error":"#DIV/0!"}},{"$error":"#DIV/0!"},{"$error":"#DIV/0!"},{"$error":"#DIV/0!"},{"$error":"#DIV/0!"},null,33,204.48780570311698,{"$f":"Klimaatscenario!L40","v":122.17449770992249},{"$f":"((AH$681*60)/10000)+AD634","v":{"$error":"#DIV/0!"}},{"$error":"#DIV/0!"},{"$error":"#DIV/0!"},{"$error":"#DIV/0!"},{"$error":"#DIV/0!"},{"$f":"((AM$681*60)/10000)+AI634","v":{"$error":"#DIV/0!"}},{"$error":"#DIV/0!"},{"$error":"#DIV/0!"},{"$error":"#DIV/0!"},{"$error":"#DIV/0!"},{"$f":"((AR$681*60)/10000)+AN634","v":{"$error":"#DIV/0!"}},{"$error":"#DIV/0!"},{"$error":"#DIV/0!"},{"$error":"#DIV/0!"},{"$error":"#DIV/0!"},{"$f":"((AW$681*60)/10000)+AS634","v":{"$error":"#DIV/0!"}},{"$error":"#DIV/0!"},{"$error":"#DIV/0!"},{"$error":"#DIV/0!"},{"$error":"#DIV/0!"}]
[null,null,34,173.318304700049,{"$f":"Klimaatscenario!K41","v":107.11561517525269},{"$error":"#DIV/0!"},{"$error":"#DIV/0!"},{"$error":"#DIV/0!"},{"$error":"#DIV/0!"},{"$error":"#DIV/0!"},{"$error":"#DIV/0!"},{"$error":"#DIV/0!"},{"$error":"#DIV/0!"},{"$error":"#DIV/0!"},{"$error":"#DIV/0!"},{"$error":"#DIV/0!"},{"$error":"#DIV/0!"},{"$error":"#DIV/0!"},{"$error":"#DIV/0!"},{"$error":"#DIV/0!"},{"$error":"#DIV/0!"},{"$error":"#DIV/0!"},{"$error":"#DIV/0!"},{"$error":"#DIV/0!"},{"$error":"#DIV/0!"},null,34,204.48780570311698,{"$f":"Klimaatscenario!L41","v":123.40142454414119},{"$error":"#DIV/0!"},{"$error":"#DIV/0!"},{"$error":"#DIV/0!"},{"$error":"#DIV/0!"},{"$error":"#DIV/0!"},{"$error":"#DIV/0!"},{"$error":"#DIV/0!"},{"$error":"#DIV/0!"},{"$error":"#DIV/0!"},{"$error":"#DIV/0!"},{"$error":"#DIV/0!"},{"$error":"#DIV/0!"},{"$error":"#DIV/0!"},{"$error":"#DIV/0!"},{"$error":"#DIV/0!"},{"$error":"#DIV/0!"},{"$error":"#DIV/0!"},{"$error":"#DIV/0!"},{"$error":"#DIV/0!"},{"$error":"#DIV/0!"}]
[null,null,35,173.31830470004658,{"$f":"Klimaatscenario!K42","v":108.15552500345296},{"$error":"#DIV/0!"},{"$error":"#DIV/0!"},{"$error":"#DIV/0!"},{"$error":"#DIV/0!"},{"$error":"#DIV/0!"},{"$error":"#DIV/0!"},{"$error":"#DIV/0!"},{"$error":"#DIV/0!"},{"$error":"#DIV/0!"},{"$error":"#DIV/0!"},{"$error":"#DIV/0!"},{"$error":"#DIV/0!"},{"$error":"#DIV/0!"},{"$error":"#DIV/0!"},{"$error":"#DIV/0!"},{"$error":"#DIV/0!"},{"$error":"#DIV/0!"},{"$error":"#DIV/0!"},{"$error":"#DIV/0!"},{"$error":"#DIV/0!"},null,35,204.48780570311698,{"$f":"Klimaatscenario!L42","v":124.62835137835989},{"$error":"#DIV/0!"},{"$error":"#DIV/0!"},{"$error":"#DIV/0!"},{"$error":"#DIV/0!"},{"$error":"#DIV/0!"},{"$error":"#DIV/0!"},{"$error":"#DIV/0!"},{"$error":"#DIV/0!"},{"$error":"#DIV/0!"},{"$error":"#DIV/0!"},{"$error":"#DIV/0!"},{"$error":"#DIV/0!"},{"$error":"#DIV/0!"},{"$error":"#DIV/0!"},{"$error":"#DIV/0!"},{"$error":"#DIV/0!"},{"$error":"#DIV/0!"},{"$error":"#DIV/0!"},{"$error":"#DIV/0!"},{"$error":"#DIV/0!"}]
[null,null,36,173.318304700049,{"$f":"Klimaatscenario!K43","v":109.19543483165326},{"$error":"#DIV/0!"},{"$error":"#DIV/0!"},{"$error":"#DIV/0!"},{"$error":"#DIV/0!"},{"$error":"#DIV/0!"},{"$error":"#DIV/0!"},{"$error":"#DIV/0!"},{"$error":"#DIV/0!"},{"$error":"#DIV/0!"},{"$error":"#DIV/0!"},{"$error":"#DIV/0!"},{"$error":"#DIV/0!"},{"$error":"#DIV/0!"},{"$error":"#DIV/0!"},{"$error":"#DIV/0!"},{"$error":"#DIV/0!"},{"$error":"#DIV/0!"},{"$error":"#DIV/0!"},{"$error":"#DIV/0!"},{"$error":"#DIV/0!"},null,36,204.48780570311934,{"$f":"Klimaatscenario!L43","v":125.85527821257861},{"$error":"#DIV/0!"},{"$error":"#DIV/0!"},{"$error":"#DIV/0!"},{"$error":"#DIV/0!"},{"$error":"#DIV/0!"},{"$error":"#DIV/0!"},{"$error":"#DIV/0!"},{"$error":"#DIV/0!"},{"$error":"#DIV/0!"},{"$error":"#DIV/0!"},{"$error":"#DIV/0!"},{"$error":"#DIV/0!"},{"$error":"#DIV/0!"},{"$error":"#DIV/0!"},{"$error":"#DIV/0!"},{"$error":"#DIV/0!"},{"$error":"#DIV/0!"},{"$error":"#DIV/0!"},{"$error":"#DIV/0!"},{"$error":"#DIV/0!"}]
[null,null,37,{"$f":"((((((E639-E638)/(C639-C638))/60)/1000)*10000)*1000)","v":173.318304700049},{"$f":"Klimaatscenario!K44","v":110.23534465985355},{"$error":"#DIV/0!"},{"$error":"#DIV/0!"},{"$error":"#DIV/0!"},{"$error":"#DIV/0!"},{"$error":"#DIV/0!"},{"$error":"#DIV/0!"},{"$error":"#DIV/0!"},{"$error":"#DIV/0!"},{"$error":"#DIV/0!"},{"$error":"#DIV/0!"},{"$error":"#DIV/0!"},{"$error":"#DIV/0!"},{"$error":"#DIV/0!"},{"$error":"#DIV/0!"},{"$error":"#DIV/0!"},{"$error":"#DIV/0!"},{"$error":"#DIV/0!"},{"$error":"#DIV/0!"},{"$error":"#DIV/0!"},{"$error":"#DIV/0!"},null,37,{"$f":"((((((AC639-AC638)/(AA639-AA638))/60)/1000)*10000)*1000)","v":204.48780570311698},{"$f":"Klimaatscenario!L44","v":127.08220504679731},{"$error":"#DIV/0!"},{"$error":"#DIV/0!"},{"$error":"#DIV/0!"},{"$error":"#DIV/0!"},{"$error":"#DIV/0!"},{"$error":"#DIV/0!"},{"$error":"#DIV/0!"},{"$error":"#DIV/0!"},{"$error":"#DIV/0!"},{"$error":"#DIV/0!"},{"$error":"#DIV/0!"},{"$error":"#DIV/0!"},{"$error":"#DIV/0!"},{"$error":"#DIV/0!"},{"$error":"#DIV/0!"},{"$error":"#DIV/0!"},{"$error":"#DIV/0!"},{"$error":"#DIV/0!"},{"$error":"#DIV/0!"},{"$error":"#DIV/0!"}]
[null,null,38,173.31830470004658,{"$f":"Klimaatscenario!K45","v":111.27525448805383},{"$error":"#DIV/0!"},{"$error":"#DIV/0!"},{"$error":"#DIV/0!"},{"$error":"#DIV/0!"},{"$error":"#DIV/0!"},{"$error":"#DIV/0!"},{"$error":"#DIV/0!"},{"$error":"#DIV/0!"},{"$error":"#DIV/0!"},{"$error":"#DIV/0!"},{"$error":"#DIV/0!"},{"$error":"#DIV/0!"},{"$error":"#DIV/0!"},{"$error":"#DIV/0!"},{"$error":"#DIV/0!"},{"$error":"#DIV/0!"},{"$error":"#DIV/0!"},{"$error":"#DIV/0!"},{"$error":"#DIV/0!"},{"$error":"#DIV/0!"},null,38,204.48780570311698,{"$f":"Klimaatscenario!L45","v":128.30913188101601},{"$error":"#DIV/0!"},{"$error":"#DIV/0!"},{"$error":"#DIV/0!"},{"$error":"#DIV/0!"},{"$error":"#DIV/0!"},{"$error":"#DIV/0!"},{"$error":"#DIV/0!"},{"$error":"#DIV/0!"},{"$error":"#DIV/0!"},{"$error":"#DIV/0!"},{"$error":"#DIV/0!"},{"$error":"#DIV/0!"},{"$error":"#DIV/0!"},{"$error":"#DIV/0!"},{"$error":"#DIV/0!"},{"$error":"#DIV/0!"},{"$error":"#DIV/0!"},{"$error":"#DIV/0!"},{"$error":"#DIV/0!"},{"$error":"#DIV/0!"}]
[null,null,39,173.318304700049,{"$f":"Klimaatscenario!K46","v":112.31516431625413},{"$error":"#DIV/0!"},{"$error":"#DIV/0!"},{"$error":"#DIV/0!"},{"$error":"#DIV/0!"},{"$error":"#DIV/0!"},{"$error":"#DIV/0!"},{"$error":"#DIV/0!"},{"$error":"#DIV/0!"},{"$error":"#DIV/0!"},{"$error":"#DIV/0!"},{"$error":"#DIV/0!"},{"$error":"#DIV/0!"},{"$error":"#DIV/0!"},{"$error":"#DIV/0!"},{"$error":"#DIV/0!"},{"$error":"#DIV/0!"},{"$error":"#DIV/0!"},{"$error":"#DIV/0!"},{"$error":"#DIV/0!"},{"$error":"#DIV/0!"},null,39,204.48780570311934,{"$f":"Klimaatscenario!L46","v":129.53605871523473},{"$error":"#DIV/0!"},{"$error":"#DIV/0!"},{"$error":"#DIV/0!"},{"$error":"#DIV/0!"},{"$error":"#DIV/0!"},{"$error":"#DIV/0!"},{"$error":"#DIV/0!"},{"$error":"#DIV/0!"},{"$error":"#DIV/0!"},{"$error":"#DIV/0!"},{"$error":"#DIV/0!"},{"$error":"#DIV/0!"},{"$error":"#DIV/0!"},{"$error":"#DIV/0!"},{"$error":"#DIV/0!"},{"$error":"#DIV/0!"},{"$error":"#DIV/0!"},{"$error":"#DIV/0!"},{"$error":"#DIV/0!"},{"$error":"#DIV/0!"}]
[null,null,40,173.31830470004658,{"$f":"Klimaatscenario!K47","v":113.35507414445441},{"$error":"#DIV/0!"},{"$error":"#DIV/0!"},{"$error":"#DIV/0!"},{"$error":"#DIV/0!"},{"$error":"#DIV/0!"},{"$error":"#DIV/0!"},{"$error":"#DIV/0!"},{"$error":"#DIV/0!"},{"$error":"#DIV/0!"},{"$error":"#DIV/0!"},{"$error":"#DIV/0!"},{"$error":"#DIV/0!"},{"$error":"#DIV/0!"},{"$error":"#DIV/0!"},{"$error":"#DIV/0!"},{"$error":"#DIV/0!"},{"$error":"#DIV/0!"},{"$error":"#DIV/0!"},{"$error":"#DIV/0!"},{"$error":"#DIV/0!"},null,40,204.48780570311459,{"$f":"Klimaatscenario!L47","v":130.76298554945342},{"$error":"#DIV/0!"},{"$error":"#DIV/0!"},{"$error":"#DIV/0!"},{"$error":"#DIV/0!"},{"$error":"#DIV/0!"},{"$error":"#DIV/0!"},{"$error":"#DIV/0!"},{"$error":"#DIV/0!"},{"$error":"#DIV/0!"},{"$error":"#DIV/0!"},{"$error":"#DIV/0!"},{"$error":"#DIV/0!"},{"$error":"#DIV/0!"},{"$error":"#DIV/0!"},{"$error":"#DIV/0!"},{"$error":"#DIV/0!"},{"$error":"#DIV/0!"},{"$error":"#DIV/0!"},{"$error":"#DIV/0!"},{"$error":"#DIV/0!"}]
[null,null,41,173.318304700049,{"$f":"Klimaatscenario!K48","v":114.3949839726547},{"$error":"#DIV/0!"},{"$error":"#DIV/0!"},{"$error":"#DIV/0!"},{"$error":"#DIV/0!"},{"$error":"#DIV/0!"},{"$error":"#DIV/0!"},{"$error":"#DIV/0!"},{"$error":"#DIV/0!"},{"$error":"#DIV/0!"},{"$error":"#DIV/0!"},{"$error":"#DIV/0!"},{"$error":"#DIV/0!"},{"$error":"#DIV/0!"},{"$error":"#DIV/0!"},{"$error":"#DIV/0!"},{"$error":"#DIV/0!"},{"$error":"#DIV/0!"},{"$error":"#DIV/0!"},{"$error":"#DIV/0!"},{"$error":"#DIV/0!"},null,41,204.48780570311934,{"$f":"Klimaatscenario!L48","v":131.98991238367213},{"$error":"#DIV/0!"},{"$error":"#DIV/0!"},{"$error":"#DIV/0!"},{"$error":"#DIV/0!"},{"$error":"#DIV/0!"},{"$error":"#DIV/0!"},{"$error":"#DIV/0!"},{"$error":"#DIV/0!"},{"$error":"#DIV/0!"},{"$error":"#DIV/0!"},{"$error":"#DIV/0!"},{"$error":"#DIV/0!"},{"$error":"#DIV/0!"},{"$error":"#DIV/0!"},{"$error":"#DIV/0!"},{"$error":"#DIV/0!"},{"$error":"#DIV/0!"},{"$error":"#DIV/0!"},{"$error":"#DIV/0!"},{"$error":"#DIV/0!"}]
[null,null,42,173.318304700049,{"$f":"Klimaatscenario!K49","v":115.43489380085499},{"$error":"#DIV/0!"},{"$error":"#DIV/0!"},{"$error":"#DIV/0!"},{"$error":"#DIV/0!"},{"$error":"#DIV/0!"},{"$error":"#DIV/0!"},{"$error":"#DIV/0!"},{"$error":"#DIV/0!"},{"$error":"#DIV/0!"},{"$error":"#DIV/0!"},{"$error":"#DIV/0!"},{"$error":"#DIV/0!"},{"$error":"#DIV/0!"},{"$error":"#DIV/0!"},{"$error":"#DIV/0!"},{"$error":"#DIV/0!"},{"$error":"#DIV/0!"},{"$error":"#DIV/0!"},{"$error":"#DIV/0!"},{"$error":"#DIV/0!"},null,42,204.48780570311934,{"$f":"Klimaatscenario!L49","v":133.21683921789085},{"$error":"#DIV/0!"},{"$error":"#DIV/0!"},{"$error":"#DIV/0!"},{"$error":"#DIV/0!"},{"$error":"#DIV/0!"},{"$error":"#DIV/0!"},{"$error":"#DIV/0!"},{"$error":"#DIV/0!"},{"$error":"#DIV/0!"},{"$error":"#DIV/0!"},{"$error":"#DIV/0!"},{"$error":"#DIV/0!"},{"$error":"#DIV/0!"},{"$error":"#DIV/0!"},{"$error":"#DIV/0!"},{"$error":"#DIV/0!"},{"$error":"#DIV/0!"},{"$error":"#DIV/0!"},{"$error":"#DIV/0!"},{"$error":"#DIV/0!"}]
[null,null,43,173.31830470004658,{"$f":"Klimaatscenario!K50","v":116.47480362905527},{"$error":"#DIV/0!"},{"$error":"#DIV/0!"},{"$error":"#DIV/0!"},{"$error":"#DIV/0!"},{"$error":"#DIV/0!"},{"$error":"#DIV/0!"},{"$error":"#DIV/0!"},{"$error":"#DIV/0!"},{"$error":"#DIV/0!"},{"$error":"#DIV/0!"},{"$error":"#DIV/0!"},{"$error":"#DIV/0!"},{"$error":"#DIV/0!"},{"$error":"#DIV/0!"},{"$error":"#DIV/0!"},{"$error":"#DIV/0!"},{"$error":"#DIV/0!"},{"$error":"#DIV/0!"},{"$error":"#DIV/0!"},{"$error":"#DIV/0!"},null,43,204.48780570311459,{"$f":"Klimaatscenario!L50","v":134.44376605210954},{"$error":"#DIV/0!"},{"$error":"#DIV/0!"},{"$error":"#DIV/0!"},{"$error":"#DIV/0!"},{"$error":"#DIV/0!"},{"$error":"#DIV/0!"},{"$error":"#DIV/0!"},{"$error":"#DIV/0!"},{"$error":"#DIV/0!"},{"$error":"#DIV/0!"},{"$error":"#DIV/0!"},{"$error":"#DIV/0!"},{"$error":"#DIV/0!"},{"$error":"#DIV/0!"},{"$error":"#DIV/0!"},{"$error":"#DIV/0!"},{"$error":"#DIV/0!"},{"$error":"#DIV/0!"},{"$error":"#DIV/0!"},{"$error":"#DIV/0!"}]
[null,null,44,173.318304700049,{"$f":"Klimaatscenario!K51","v":117.51471345725557},{"$error":"#DIV/0!"},{"$error":"#DIV/0!"},{"$error":"#DIV/0!"},{"$error":"#DIV/0!"},{"$error":"#DIV/0!"},{"$error":"#DIV/0!"},{"$error":"#DIV/0!"},{"$error":"#DIV/0!"},{"$error":"#DIV/0!"},{"$error":"#DIV/0!"},{"$error":"#DIV/0!"},{"$error":"#DIV/0!"},{"$error":"#DIV/0!"},{"$error":"#DIV/0!"},{"$error":"#DIV/0!"},{"$error":"#DIV/0!"},{"$error":"#DIV/0!"},{"$error":"#DIV/0!"},{"$error":"#DIV/0!"},{"$error":"#DIV/0!"},null,44,204.48780570311934,{"$f":"Klimaatscenario!L51","v":135.67069288632825},{"$error":"#DIV/0!"},{"$error":"#DIV/0!"},{"$error":"#DIV/0!"},{"$error":"#DIV/0!"},{"$error":"#DIV/0!"},{"$error":"#DIV/0!"},{"$error":"#DIV/0!"},{"$error":"#DIV/0!"},{"$error":"#DIV/0!"},{"$error":"#DIV/0!"},{"$error":"#DIV/0!"},{"$error":"#DIV/0!"},{"$error":"#DIV/0!"},{"$error":"#DIV/0!"},{"$error":"#DIV/0!"},{"$error":"#DIV/0!"},{"$error":"#DIV/0!"},{"$error":"#DIV/0!"},{"$error":"#DIV/0!"},{"$error":"#DIV/0!"}]
[null,null,45,173.318304700049,{"$f":"Klimaatscenario!K52","v":118.55462328545586},{"$error":"#DIV/0!"},{"$error":"#DIV/0!"},{"$error":"#DIV/0!"},{"$error":"#DIV/0!"},{"$error":"#DIV/0!"},{"$error":"#DIV/0!"},{"$error":"#DIV/0!"},{"$error":"#DIV/0!"},{"$error":"#DIV/0!"},{"$error":"#DIV/0!"},{"$error":"#DIV/0!"},{"$error":"#DIV/0!"},{"$error":"#DIV/0!"},{"$error":"#DIV/0!"},{"$error":"#DIV/0!"},{"$error":"#DIV/0!"},{"$error":"#DIV/0!"},{"$error":"#DIV/0!"},{"$error":"#DIV/0!"},{"$error":"#DIV/0!"},null,45,204.48780570311934,{"$f":"Klimaatscenario!L52","v":136.89761972054697},{"$error":"#DIV/0!"},{"$error":"#DIV/0!"},{"$error":"#DIV/0!"},{"$error":"#DIV/0!"},{"$error":"#DIV/0!"},{"$error":"#DIV/0!"},{"$error":"#DIV/0!"},{"$error":"#DIV/0!"},{"$error":"#DIV/0!"},{"$error":"#DIV/0!"},{"$error":"#DIV/0!"},{"$error":"#DIV/0!"},{"$error":"#DIV/0!"},{"$error":"#DIV/0!"},{"$error":"#DIV/0!"},{"$error":"#DIV/0!"},{"$error":"#DIV/0!"},{"$error":"#DIV/0!"},{"$error":"#DIV/0!"},{"$error":"#DIV/0!"}]
[null,null,46,173.31830470004658,{"$f":"Klimaatscenario!K53","v":119.59453311365614},{"$error":"#DIV/0!"},{"$error":"#DIV/0!"},{"$error":"#DIV/0!"},{"$error":"#DIV/0!"},{"$error":"#DIV/0!"},{"$error":"#DIV/0!"},{"$error":"#DIV/0!"},{"$error":"#DIV/0!"},{"$error":"#DIV/0!"},{"$error":"#DIV/0!"},{"$error":"#DIV/0!"},{"$error":"#DIV/0!"},{"$error":"#DIV/0!"},{"$error":"#DIV/0!"},{"$error":"#DIV/0!"},{"$error":"#DIV/0!"},{"$error":"#DIV/0!"},{"$error":"#DIV/0!"},{"$error":"#DIV/0!"},{"$error":"#DIV/0!"},null,46,204.48780570311459,{"$f":"Klimaatscenario!L53","v":138.12454655476566},{"$error":"#DIV/0!"},{"$error":"#DIV/0!"},{"$error":"#DIV/0!"},{"$error":"#DIV/0!"},{"$error":"#DIV/0!"},{"$error":"#DIV/0!"},{"$error":"#DIV/0!"},{"$error":"#DIV/0!"},{"$error":"#DIV/0!"},{"$error":"#DIV/0!"},{"$error":"#DIV/0!"},{"$error":"#DIV/0!"},{"$error":"#DIV/0!"},{"$error":"#DIV/0!"},{"$error":"#DIV/0!"},{"$error":"#DIV/0!"},{"$error":"#DIV/0!"},{"$error":"#DIV/0!"},{"$error":"#DIV/0!"},{"$error":"#DIV/0!"}]
[null,null,47,173.318304700049,{"$f":"Klimaatscenario!K54","v":120.63444294185643},{"$error":"#DIV/0!"},{"$error":"#DIV/0!"},{"$error":"#DIV/0!"},{"$error":"#DIV/0!"},{"$error":"#DIV/0!"},{"$error":"#DIV/0!"},{"$error":"#DIV/0!"},{"$error":"#DIV/0!"},{"$error":"#DIV/0!"},{"$error":"#DIV/0!"},{"$error":"#DIV/0!"},{"$error":"#DIV/0!"},{"$error":"#DIV/0!"},{"$error":"#DIV/0!"},{"$error":"#DIV/0!"},{"$error":"#DIV/0!"},{"$error":"#DIV/0!"},{"$error":"#DIV/0!"},{"$error":"#DIV/0!"},{"$error":"#DIV/0!"},null,47,204.48780570311934,{"$f":"Klimaatscenario!L54","v":139.35147338898437},{"$error":"#DIV/0!"},{"$error":"#DIV/0!"},{"$error":"#DIV/0!"},{"$error":"#DIV/0!"},{"$error":"#DIV/0!"},{"$error":"#DIV/0!"},{"$error":"#DIV/0!"},{"$error":"#DIV/0!"},{"$error":"#DIV/0!"},{"$error":"#DIV/0!"},{"$error":"#DIV/0!"},{"$error":"#DIV/0!"},{"$error":"#DIV/0!"},{"$error":"#DIV/0!"},{"$error":"#DIV/0!"},{"$error":"#DIV/0!"},{"$error":"#DIV/0!"},{"$error":"#DIV/0!"},{"$error":"#DIV/0!"},{"$error":"#DIV/0!"}]
[null,null,48,173.31830470004658,{"$f":"Klimaatscenario!K55","v":121.67435277005671},{"$error":"#DIV/0!"},{"$error":"#DIV/0!"},{"$error":"#DIV/0!"},{"$error":"#DIV/0!"},{"$error":"#DIV/0!"},{"$error":"#DIV/0!"},{"$error":"#DIV/0!"},{"$error":"#DIV/0!"},{"$error":"#DIV/0!"},{"$error":"#DIV/0!"},{"$error":"#DIV/0!"},{"$error":"#DIV/0!"},{"$error":"#DIV/0!"},{"$error":"#DIV/0!"},{"$error":"#DIV/0!"},{"$error":"#DIV/0!"},{"$error":"#DIV/0!"},{"$error":"#DIV/0!"},{"$error":"#DIV/0!"},{"$error":"#DIV/0!"},null,48,204.48780570311459,{"$f":"Klimaatscenario!L55","v":140.57840022320306},{"$error":"#DIV/0!"},{"$error":"#DIV/0!"},{"$error":"#DIV/0!"},{"$error":"#DIV/0!"},{"$error":"#DIV/0!"},{"$error":"#DIV/0!"},{"$error":"#DIV/0!"},{"$error":"#DIV/0!"},{"$error":"#DIV/0!"},{"$error":"#DIV/0!"},{"$error":"#DIV/0!"},{"$error":"#DIV/0!"},{"$error":"#DIV/0!"},{"$error":"#DIV/0!"},{"$error":"#DIV/0!"},{"$error":"#DIV/0!"},{"$error":"#DIV/0!"},{"$error":"#DIV/0!"},{"$error":"#DIV/0!"},{"$error":"#DIV/0!"}]
[null,null,49,173.318304700049,{"$f":"Klimaatscenario!K56","v":122.71426259825701},{"$error":"#DIV/0!"},{"$error":"#DIV/0!"},{"$error":"#DIV/0!"},{"$error":"#DIV/0!"},{"$error":"#DIV/0!"},{"$error":"#DIV/0!"},{"$error":"#DIV/0!"},{"$error":"#DIV/0!"},{"$error":"#DIV/0!"},{"$error":"#DIV/0!"},{"$error":"#DIV/0!"},{"$error":"#DIV/0!"},{"$error":"#DIV/0!"},{"$error":"#DIV/0!"},{"$error":"#DIV/0!"},{"$error":"#DIV/0!"},{"$error":"#DIV/0!"},{"$error":"#DIV/0!"},{"$error":"#DIV/0!"},{"$error":"#DIV/0!"},null,49,204.48780570311934,{"$f":"Klimaatscenario!L56","v":141.80532705742178},{"$error":"#DIV/0!"},{"$error":"#DIV/0!"},{"$error":"#DIV/0!"},{"$error":"#DIV/0!"},{"$error":"#DIV/0!"},{"$error":"#DIV/0!"},{"$error":"#DIV/0!"},{"$error":"#DIV/0!"},{"$error":"#DIV/0!"},{"$error":"#DIV/0!"},{"$error":"#DIV/0!"},{"$error":"#DIV/0!"},{"$error":"#DIV/0!"},{"$error":"#DIV/0!"},{"$error":"#DIV/0!"},{"$error":"#DIV/0!"},{"$error":"#DIV/0!"},{"$error":"#DIV/0!"},{"$error":"#DIV/0!"},{"$error":"#DIV/0!"}]
[null,null,50,173.318304700049,{"$f":"Klimaatscenario!K57","v":123.7541724264573},{"$error":"#DIV/0!"},{"$error":"#DIV/0!"},{"$error":"#DIV/0!"},{"$error":"#DIV/0!"},{"$error":"#DIV/0!"},{"$error":"#DIV/0!"},{"$error":"#DIV/0!"},{"$error":"#DIV/0!"},{"$error":"#DIV/0!"},{"$error":"#DIV/0!"},{"$error":"#DIV/0!"},{"$error":"#DIV/0!"},{"$error":"#DIV/0!"},{"$error":"#DIV/0!"},{"$error":"#DIV/0!"},{"$error":"#DIV/0!"},{"$error":"#DIV/0!"},{"$error":"#DIV/0!"},{"$error":"#DIV/0!"},{"$error":"#DIV/0!"},null,50,204.48780570311934,{"$f":"Klimaatscenario!L57","v":143.03225389164049},{"$error":"#DIV/0!"},{"$error":"#DIV/0!"},{"$error":"#DIV/0!"},{"$error":"#DIV/0!"},{"$error":"#DIV/0!"},{"$error":"#DIV/0!"},{"$error":"#DIV/0!"},{"$error":"#DIV/0!"},{"$error":"#DIV/0!"},{"$error":"#DIV/0!"},{"$error":"#DIV/0!"},{"$error":"#DIV/0!"},{"$error":"#DIV/0!"},{"$error":"#DIV/0!"},{"$error":"#DIV/0!"},{"$error":"#DIV/0!"},{"$error":"#DIV/0!"},{"$error":"#DIV/0!"},{"$error":"#DIV/0!"},{"$error":"#DIV/0!"}]
[null,null,51,173.31830470004658,{"$f":"Klimaatscenario!K58","v":124.79408225465758},{"$error":"#DIV/0!"},{"$error":"#DIV/0!"},{"$error":"#DIV/0!"},{"$error":"#DIV/0!"},{"$error":"#DIV/0!"},{"$error":"#DIV/0!"},{"$error":"#DIV/0!"},{"$error":"#DIV/0!"},{"$error":"#DIV/0!"},{"$error":"#DIV/0!"},{"$error":"#DIV/0!"},{"$error":"#DIV/0!"},{"$error":"#DIV/0!"},{"$error":"#DIV/0!"},{"$error":"#DIV/0!"},{"$error":"#DIV/0!"},{"$error":"#DIV/0!"},{"$error":"#DIV/0!"},{"$error":"#DIV/0!"},{"$error":"#DIV/0!"},null,51,204.48780570311459,{"$f":"Klimaatscenario!L58","v":144.25918072585918},{"$error":"#DIV/0!"},{"$error":"#DIV/0!"},{"$error":"#DIV/0!"},{"$error":"#DIV/0!"},{"$error":"#DIV/0!"},{"$error":"#DIV/0!"},{"$error":"#DIV/0!"},{"$error":"#DIV/0!"},{"$error":"#DIV/0!"},{"$error":"#DIV/0!"},{"$error":"#DIV/0!"},{"$error":"#DIV/0!"},{"$error":"#DIV/0!"},{"$error":"#DIV/0!"},{"$error":"#DIV/0!"},{"$error":"#DIV/0!"},{"$error":"#DIV/0!"},{"$error":"#DIV/0!"},{"$error":"#DIV/0!"},{"$error":"#DIV/0!"}]
[null,null,52,173.318304700049,{"$f":"Klimaatscenario!K59","v":125.83399208285788},{"$error":"#DIV/0!"},{"$error":"#DIV/0!"},{"$error":"#DIV/0!"},{"$error":"#DIV/0!"},{"$error":"#DIV/0!"},{"$error":"#DIV/0!"},{"$error":"#DIV/0!"},{"$error":"#DIV/0!"},{"$error":"#DIV/0!"},{"$error":"#DIV/0!"},{"$error":"#DIV/0!"},{"$error":"#DIV/0!"},{"$error":"#DIV/0!"},{"$error":"#DIV/0!"},{"$error":"#DIV/0!"},{"$error":"#DIV/0!"},{"$error":"#DIV/0!"},{"$error":"#DIV/0!"},{"$error":"#DIV/0!"},{"$error":"#DIV/0!"},null,52,204.48780570311934,{"$f":"Klimaatscenario!L59","v":145.4861075600779},{"$error":"#DIV/0!"},{"$error":"#DIV/0!"},{"$error":"#DIV/0!"},{"$error":"#DIV/0!"},{"$error":"#DIV/0!"},{"$error":"#DIV/0!"},{"$error":"#DIV/0!"},{"$error":"#DIV/0!"},{"$error":"#DIV/0!"},{"$error":"#DIV/0!"},{"$error":"#DIV/0!"},{"$error":"#DIV/0!"},{"$error":"#DIV/0!"},{"$error":"#DIV/0!"},{"$error":"#DIV/0!"},{"$error":"#DIV/0!"},{"$error":"#DIV/0!"},{"$error":"#DIV/0!"},{"$error":"#DIV/0!"},{"$error":"#DIV/0!"}]
[null,null,53,173.318304700049,{"$f":"Klimaatscenario!K60","v":126.87390191105817},{"$error":"#DIV/0!"},{"$error":"#DIV/0!"},{"$error":"#DIV/0!"},{"$error":"#DIV/0!"},{"$error":"#DIV/0!"},{"$error":"#DIV/0!"},{"$error":"#DIV/0!"},{"$error":"#DIV/0!"},{"$error":"#DIV/0!"},{"$error":"#DIV/0!"},{"$error":"#DIV/0!"},{"$error":"#DIV/0!"},{"$error":"#DIV/0!"},{"$error":"#DIV/0!"},{"$error":"#DIV/0!"},{"$error":"#DIV/0!"},{"$error":"#DIV/0!"},{"$error":"#DIV/0!"},{"$error":"#DIV/0!"},{"$error":"#DIV/0!"},null,53,204.48780570311459,{"$f":"Klimaatscenario!L60","v":146.71303439429659},{"$error":"#DIV/0!"},{"$error":"#DIV/0!"},{"$error":"#DIV/0!"},{"$error":"#DIV/0!"},{"$error":"#DIV/0!"},{"$error":"#DIV/0!"},{"$error":"#DIV/0!"},{"$error":"#DIV/0!"},{"$error":"#DIV/0!"},{"$error":"#DIV/0!"},{"$error":"#DIV/0!"},{"$error":"#DIV/0!"},{"$error":"#DIV/0!"},{"$error":"#DIV/0!"},{"$error":"#DIV/0!"},{"$error":"#DIV/0!"},{"$error":"#DIV/0!"},{"$error":"#DIV/0!"},{"$error":"#DIV/0!"},{"$error":"#DIV/0!"}]
[null,null,54,173.31830470004658,{"$f":"Klimaatscenario!K61","v":127.91381173925845},{"$error":"#DIV/0!"},{"$error":"#DIV/0!"},{"$error":"#DIV/0!"},{"$error":"#DIV/0!"},{"$error":"#DIV/0!"},{"$error":"#DIV/0!"},{"$error":"#DIV/0!"},{"$error":"#DIV/0!"},{"$error":"#DIV/0!"},{"$error":"#DIV/0!"},{"$error":"#DIV/0!"},{"$error":"#DIV/0!"},{"$error":"#DIV/0!"},{"$error":"#DIV/0!"},{"$error":"#DIV/0!"},{"$error":"#DIV/0!"},{"$error":"#DIV/0!"},{"$error":"#DIV/0!"},{"$error":"#DIV/0!"},{"$error":"#DIV/0!"},null,54,204.48780570311934,{"$f":"Klimaatscenario!L61","v":147.9399612285153},{"$error":"#DIV/0!"},{"$error":"#DIV/0!"},{"$error":"#DIV/0!"},{"$error":"#DIV/0!"},{"$error":"#DIV/0!"},{"$error":"#DIV/0!"},{"$error":"#DIV/0!"},{"$error":"#DIV/0!"},{"$error":"#DIV/0!"},{"$error":"#DIV/0!"},{"$error":"#DIV/0!"},{"$error":"#DIV/0!"},{"$error":"#DIV/0!"},{"$error":"#DIV/0!"},{"$error":"#DIV/0!"},{"$error":"#DIV/0!"},{"$error":"#DIV/0!"},{"$error":"#DIV/0!"},{"$error":"#DIV/0!"},{"$error":"#DIV/0!"}]
[null,null,55,173.31830470004658,{"$f":"Klimaatscenario!K62","v":128.95372156745873},{"$error":"#DIV/0!"},{"$error":"#DIV/0!"},{"$error":"#DIV/0!"},{"$error":"#DIV/0!"},{"$error":"#DIV/0!"},{"$error":"#DIV/0!"},{"$error":"#DIV/0!"},{"$error":"#DIV/0!"},{"$error":"#DIV/0!"},{"$error":"#DIV/0!"},{"$error":"#DIV/0!"},{"$error":"#DIV/0!"},{"$error":"#DIV/0!"},{"$error":"#DIV/0!"},{"$error":"#DIV/0!"},{"$error":"#DIV/0!"},{"$error":"#DIV/0!"},{"$error":"#DIV/0!"},{"$error":"#DIV/0!"},{"$error":"#DIV/0!"},null,55,204.48780570311934,{"$f":"Klimaatscenario!L62","v":149.16688806273402},{"$error":"#DIV/0!"},{"$error":"#DIV/0!"},{"$error":"#DIV/0!"},{"$error":"#DIV/0!"},{"$error":"#DIV/0!"},{"$error":"#DIV/0!"},{"$error":"#DIV/0!"},{"$error":"#DIV/0!"},{"$error":"#DIV/0!"},{"$error":"#DIV/0!"},{"$error":"#DIV/0!"},{"$error":"#DIV/0!"},{"$error":"#DIV/0!"},{"$error":"#DIV/0!"},{"$error":"#DIV/0!"},{"$error":"#DIV/0!"},{"$error":"#DIV/0!"},{"$error":"#DIV/0!"},{"$error":"#DIV/0!"},{"$error":"#DIV/0!"}]
[null,null,56,173.31830470005136,{"$f":"Klimaatscenario!K63","v":129.99363139565904},{"$error":"#DIV/0!"},{"$error":"#DIV/0!"},{"$error":"#DIV/0!"},{"$error":"#DIV/0!"},{"$error":"#DIV/0!"},{"$error":"#DIV/0!"},{"$error":"#DIV/0!"},{"$error":"#DIV/0!"},{"$error":"#DIV/0!"},{"$error":"#DIV/0!"},{"$error":"#DIV/0!"},{"$error":"#DIV/0!"},{"$error":"#DIV/0!"},{"$error":"#DIV/0!"},{"$error":"#DIV/0!"},{"$error":"#DIV/0!"},{"$error":"#DIV/0!"},{"$error":"#DIV/0!"},{"$error":"#DIV/0!"},{"$error":"#DIV/0!"},null,56,204.48780570311934,{"$f":"Klimaatscenario!L63","v":150.39381489695273},{"$error":"#DIV/0!"},{"$error":"#DIV/0!"},{"$error":"#DIV/0!"},{"$error":"#DIV/0!"},{"$error":"#DIV/0!"},{"$error":"#DIV/0!"},{"$error":"#DIV/0!"},{"$error":"#DIV/0!"},{"$error":"#DIV/0!"},{"$error":"#DIV/0!"},{"$error":"#DIV/0!"},{"$error":"#DIV/0!"},{"$error":"#DIV/0!"},{"$error":"#DIV/0!"},{"$error":"#DIV/0!"},{"$error":"#DIV/0!"},{"$error":"#DIV/0!"},{"$error":"#DIV/0!"},{"$error":"#DIV/0!"},{"$error":"#DIV/0!"}]
[null,null,57,173.31830470004658,{"$f":"Klimaatscenario!K64","v":131.03354122385932},{"$error":"#DIV/0!"},{"$error":"#DIV/0!"},{"$error":"#DIV/0!"},{"$error":"#DIV/0!"},{"$error":"#DIV/0!"},{"$error":"#DIV/0!"},{"$error":"#DIV/0!"},{"$error":"#DIV/0!"},{"$error":"#DIV/0!"},{"$error":"#DIV/0!"},{"$error":"#DIV/0!"},{"$error":"#DIV/0!"},{"$error":"#DIV/0!"},{"$error":"#DIV/0!"},{"$error":"#DIV/0!"},{"$error":"#DIV/0!"},{"$error":"#DIV/0!"},{"$error":"#DIV/0!"},{"$error":"#DIV/0!"},{"$error":"#DIV/0!"},null,57,204.48780570311459,{"$f":"Klimaatscenario!L64","v":151.62074173117142},{"$error":"#DIV/0!"},{"$error":"#DIV/0!"},{"$error":"#DIV/0!"},{"$error":"#DIV/0!"},{"$error":"#DIV/0!"},{"$error":"#DIV/0!"},{"$error":"#DIV/0!"},{"$error":"#DIV/0!"},{"$error":"#DIV/0!"},{"$error":"#DIV/0!"},{"$error":"#DIV/0!"},{"$error":"#DIV/0!"},{"$error":"#DIV/0!"},{"$error":"#DIV/0!"},{"$error":"#DIV/0!"},{"$error":"#DIV/0!"},{"$error":"#DIV/0!"},{"$error":"#DIV/0!"},{"$error":"#DIV/0!"},{"$error":"#DIV/0!"}]
[null,null,58,173.31830470005136,{"$f":"Klimaatscenario!K65","v":132.07345105205962},{"$error":"#DIV/0!"},{"$error":"#DIV/0!"},{"$error":"#DIV/0!"},{"$error":"#DIV/0!"},{"$error":"#DIV/0!"},{"$error":"#DIV/0!"},{"$error":"#DIV/0!"},{"$error":"#DIV/0!"},{"$error":"#DIV/0!"},{"$error":"#DIV/0!"},{"$error":"#DIV/0!"},{"$error":"#DIV/0!"},{"$error":"#DIV/0!"},{"$error":"#DIV/0!"},{"$error":"#DIV/0!"},{"$error":"#DIV/0!"},{"$error":"#DIV/0!"},{"$error":"#DIV/0!"},{"$error":"#DIV/0!"},{"$error":"#DIV/0!"},null,58,204.48780570311934,{"$f":"Klimaatscenario!L65","v":152.84766856539014},{"$error":"#DIV/0!"},{"$error":"#DIV/0!"},{"$error":"#DIV/0!"},{"$error":"#DIV/0!"},{"$error":"#DIV/0!"},{"$error":"#DIV/0!"},{"$error":"#DIV/0!"},{"$error":"#DIV/0!"},{"$error":"#DIV/0!"},{"$error":"#DIV/0!"},{"$error":"#DIV/0!"},{"$error":"#DIV/0!"},{"$error":"#DIV/0!"},{"$error":"#DIV/0!"},{"$error":"#DIV/0!"},{"$error":"#DIV/0!"},{"$error":"#DIV/0!"},{"$error":"#DIV/0!"},{"$error":"#DIV/0!"},{"$error":"#DIV/0!"}]
[null,null,59,173.31830470004658,{"$f":"Klimaatscenario!K66","v":133.1133608802599},{"$error":"#DIV/0!"},{"$error":"#DIV/0!"},{"$error":"#DIV/0!"},{"$error":"#DIV/0!"},{"$error":"#DIV/0!"},{"$error":"#DIV/0!"},{"$error":"#DIV/0!"},{"$error":"#DIV/0!"},{"$error":"#DIV/0!"},{"$error":"#DIV/0!"},{"$error":"#DIV/0!"},{"$error":"#DIV/0!"},{"$error":"#DIV/0!"},{"$error":"#DIV/0!"},{"$error":"#DIV/0!"},{"$error":"#DIV/0!"},{"$error":"#DIV/0!"},{"$error":"#DIV/0!"},{"$error":"#DIV/0!"},{"$error":"#DIV/0!"},null,59,204.48780570311459,{"$f":"Klimaatscenario!L66","v":154.07459539960882},{"$error":"#DIV/0!"},{"$error":"#DIV/0!"},{"$error":"#DIV/0!"},{"$error":"#DIV/0!"},{"$error":"#DIV/0!"},{"$error":"#DIV/0!"},{"$error":"#DIV/0!"},{"$error":"#DIV/0!"},{"$error":"#DIV/0!"},{"$error":"#DIV/0!"},{"$error":"#DIV/0!"},{"$error":"#DIV/0!"},{"$error":"#DIV/0!"},{"$error":"#DIV/0!"},{"$error":"#DIV/0!"},{"$error":"#DIV/0!"},{"$error":"#DIV/0!"},{"$error":"#DIV/0!"},{"$error":"#DIV/0!"},{"$error":"#DIV/0!"}]
[null,null,60,173.31830470004658,{"$f":"Klimaatscenario!K67","v":134.15327070846018},{"$error":"#DIV/0!"},{"$error":"#DIV/0!"},{"$error":"#DIV/0!"},{"$error":"#DIV/0!"},{"$error":"#DIV/0!"},{"$error":"#DIV/0!"},{"$error":"#DIV/0!"},{"$error":"#DIV/0!"},{"$error":"#DIV/0!"},{"$error":"#DIV/0!"},{"$error":"#DIV/0!"},{"$error":"#DIV/0!"},{"$error":"#DIV/0!"},{"$error":"#DIV/0!"},{"$error":"#DIV/0!"},{"$error":"#DIV/0!"},{"$error":"#DIV/0!"},{"$error":"#DIV/0!"},{"$error":"#DIV/0!"},{"$error":"#DIV/0!"},null,60,204.48780570311934,{"$f":"Klimaatscenario!L67","v":155.30152223382754},{"$error":"#DIV/0!"},{"$error":"#DIV/0!"},{"$error":"#DIV/0!"},{"$error":"#DIV/0!"},{"$error":"#DIV/0!"},{"$error":"#DIV/0!"},{"$error":"#DIV/0!"},{"$error":"#DIV/0!"},{"$error":"#DIV/0!"},{"$error":"#DIV/0!"},{"$error":"#DIV/0!"},{"$error":"#DIV/0!"},{"$error":"#DIV/0!"},{"$error":"#DIV/0!"},{"$error":"#DIV/0!"},{"$error":"#DIV/0!"},{"$error":"#DIV/0!"},{"$error":"#DIV/0!"},{"$error":"#DIV/0!"},{"$error":"#DIV/0!"}]
[null,null,61,57.253101920773965,{"$f":"Klimaatscenario!K68","v":134.49678931998483},{"$error":"#DIV/0!"},{"$error":"#DIV/0!"},{"$error":"#DIV/0!"},{"$error":"#DIV/0!"},{"$error":"#DIV/0!"},{"$error":"#DIV/0!"},{"$error":"#DIV/0!"},{"$error":"#DIV/0!"},{"$error":"#DIV/0!"},{"$error":"#DIV/0!"},{"$error":"#DIV/0!"},{"$error":"#DIV/0!"},{"$error":"#DIV/0!"},{"$error":"#DIV/0!"},{"$error":"#DIV/0!"},{"$error":"#DIV/0!"},{"$error":"#DIV/0!"},{"$error":"#DIV/0!"},{"$error":"#DIV/0!"},{"$error":"#DIV/0!"},null,61,65.389280668943201,{"$f":"Klimaatscenario!L68","v":155.6938579178412},{"$error":"#DIV/0!"},{"$error":"#DIV/0!"},{"$error":"#DIV/0!"},{"$error":"#DIV/0!"},{"$error":"#DIV/0!"},{"$error":"#DIV/0!"},{"$error":"#DIV/0!"},{"$error":"#DIV/0!"},{"$error":"#DIV/0!"},{"$error":"#DIV/0!"},{"$error":"#DIV/0!"},{"$error":"#DIV/0!"},{"$error":"#DIV/0!"},{"$error":"#DIV/0!"},{"$error":"#DIV/0!"},{"$error":"#DIV/0!"},{"$error":"#DIV/0!"},{"$error":"#DIV/0!"},{"$error":"#DIV/0!"},{"$error":"#DIV/0!"}]
[null,null,62,57.253101920769232,{"$f":"Klimaatscenario!K69","v":134.84030793150944},{"$error":"#DIV/0!"},{"$error":"#DIV/0!"},{"$error":"#DIV/0!"},{"$error":"#DIV/0!"},{"$error":"#DIV/0!"},{"$error":"#DIV/0!"},{"$error":"#DIV/0!"},{"$error":"#DIV/0!"},{"$error":"#DIV/0!"},{"$error":"#DIV/0!"},{"$error":"#DIV/0!"},{"$error":"#DIV/0!"},{"$error":"#DIV/0!"},{"$error":"#DIV/0!"},{"$error":"#DIV/0!"},{"$error":"#DIV/0!"},{"$error":"#DIV/0!"},{"$error":"#DIV/0!"},{"$error":"#DIV/0!"},{"$error":"#DIV/0!"},null,62,65.389280668947933,{"$f":"Klimaatscenario!L69","v":156.08619360185489},{"$error":"#DIV/0!"},{"$error":"#DIV/0!"},{"$error":"#DIV/0!"},{"$error":"#DIV/0!"},{"$error":"#DIV/0!"},{"$error":"#DIV/0!"},{"$error":"#DIV/0!"},{"$error":"#DIV/0!"},{"$error":"#DIV/0!"},{"$error":"#DIV/0!"},{"$error":"#DIV/0!"},{"$error":"#DIV/0!"},{"$error":"#DIV/0!"},{"$error":"#DIV/0!"},{"$error":"#DIV/0!"},{"$error":"#DIV/0!"},{"$error":"#DIV/0!"},{"$error":"#DIV/0!"},{"$error":"#DIV/0!"},{"$error":"#DIV/0!"}]
[null,null,63,57.253101920773965,{"$f":"Klimaatscenario!K70","v":135.18382654303409},{"$error":"#DIV/0!"},{"$error":"#DIV/0!"},{"$error":"#DIV/0!"},{"$error":"#DIV/0!"},{"$error":"#DIV/0!"},{"$error":"#DIV/0!"},{"$error":"#DIV/0!"},{"$error":"#DIV/0!"},{"$error":"#DIV/0!"},{"$error":"#DIV/0!"},{"$error":"#DIV/0!"},{"$error":"#DIV/0!"},{"$error":"#DIV/0!"},{"$error":"#DIV/0!"},{"$error":"#DIV/0!"},{"$error":"#DIV/0!"},{"$error":"#DIV/0!"},{"$error":"#DIV/0!"},{"$error":"#DIV/0!"},{"$error":"#DIV/0!"},null,63,65.389280668943201,{"$f":"Klimaatscenario!L70","v":156.47852928586855},{"$error":"#DIV/0!"},{"$error":"#DIV/0!"},{"$error":"#DIV/0!"},{"$error":"#DIV/0!"},{"$error":"#DIV/0!"},{"$error":"#DIV/0!"},{"$error":"#DIV/0!"},{"$error":"#DIV/0!"},{"$error":"#DIV/0!"},{"$error":"#DIV/0!"},{"$error":"#DIV/0!"},{"$error":"#DIV/0!"},{"$error":"#DIV/0!"},{"$error":"#DIV/0!"},{"$error":"#DIV/0!"},{"$error":"#DIV/0!"},{"$error":"#DIV/0!"},{"$error":"#DIV/0!"},{"$error":"#DIV/0!"},{"$error":"#DIV/0!"}]
[null,null,64,57.253101920773965,{"$f":"Klimaatscenario!K71","v":135.52734515455873},{"$error":"#DIV/0!"},{"$f":"($J$684/60)*($C666)","v":{"$error":"#DIV/0!"}},{"$error":"#DIV/0!"},{"$f":"($J$682/60)*$C666","v":{"$error":"#DIV/0!"}},{"$f":"$E666-F666-G666-H666-I666","v":{"$error":"#DIV/0!"}},{"$error":"#DIV/0!"},{"$f":"($O$684/60)*($C666)","v":{"$error":"#DIV/0!"}},{"$error":"#DIV/0!"},{"$f":"($O$682/60)*$C666","v":{"$error":"#DIV/0!"}},{"$f":"$E666-K666-L666-M666-N666","v":{"$error":"#DIV/0!"}},{"$error":"#DIV/0!"},{"$f":"($T$684/60)*($C666)","v":{"$error":"#DIV/0!"}},{"$error":"#DIV/0!"},{"$f":"($T$682/60)*$C666","v":{"$error":"#DIV/0!"}},{"$f":"$E666-P666-Q666-R666-S666","v":{"$error":"#DIV/0!"}},{"$error":"#DIV/0!"},{"$error":"#DIV/0!"},{"$error":"#DIV/0!"},{"$f":"($Y$682/60)*$C666","v":{"$error":"#DIV/0!"}},{"$f":"$E666-U666-V666-W666-X666","v":{"$error":"#DIV/0!"}},null,64,65.389280668947933,{"$f":"Klimaatscenario!L71","v":156.87086496988223},{"$error":"#DIV/0!"},{"$error":"#DIV/0!"},{"$error":"#DIV/0!"},{"$f":"($AH$682/60)*$AA666","v":{"$error":"#DIV/0!"}},{"$f":"$AC666-AD666-AE666-AF666-AG666","v":{"$error":"#DIV/0!"}},{"$error":"#DIV/0!"},{"$error":"#DIV/0!"},{"$error":"#DIV/0!"},{"$f":"($AM$682/60)*$AA666","v":{"$error":"#DIV/0!"}},{"$f":"$AC666-AI666-AJ666-AK666-AL666","v":{"$error":"#DIV/0!"}},{"$error":"#DIV/0!"},{"$error":"#DIV/0!"},{"$error":"#DIV/0!"},{"$f":"($AR$682/60)*$AA666","v":{"$error":"#DIV/0!"}},{"$f":"$AC666-AN666-AO666-AP666-AQ666","v":{"$error":"#DIV/0!"}},{"$error":"#DIV/0!"},{"$error":"#DIV/0!"},{"$error":"#DIV/0!"},{"$f":"($AW$682/60)*$AA666","v":{"$error":"#DIV/0!"}},{"$f":"$AC666-AS666-AT666-AU666-AV666","v":{"$error":"#DIV/0!"}}]
[null,null,65,57.253101920769232,{"$f":"Klimaatscenario!K72","v":135.87086376608335},{"$f":"((J$681*60)/10000)+F666","v":{"$error":"#DIV/0!"}},{"$error":"#DIV/0!"},{"$error":"#DIV/0!"},{"$error":"#DIV/0!"},{"$error":"#DIV/0!"},{"$f":"((O$681*60)/10000)+K666","v":{"$error":"#DIV/0!"}},{"$error":"#DIV/0!"},{"$error":"#DIV/0!"},{"$error":"#DIV/0!"},{"$error":"#DIV/0!"},{"$f":"((T$681*60)/10000)+P666","v":{"$error":"#DIV/0!"}},{"$error":"#DIV/0!"},{"$error":"#DIV/0!"},{"$error":"#DIV/0!"},{"$error":"#DIV/0!"},{"$f":"((Y$681*60)/10000)+U666","v":{"$error":"#DIV/0!"}},{"$f":"($Y$684/60)*($C667)","v":{"$error":"#DIV/0!"}},{"$error":"#DIV/0!"},{"$error":"#DIV/0!"},{"$error":"#DIV/0!"},null,65,65.389280668943201,{"$f":"Klimaatscenario!L72","v":157.26320065389589},{"$f":"((AH$681*60)/10000)+AD666","v":{"$error":"#DIV/0!"}},{"$f":"($AH$684/60)*($AA667)","v":{"$error":"#DIV/0!"}},{"$error":"#DIV/0!"},{"$error":"#DIV/0!"},{"$error":"#DIV/0!"},{"$f":"((AM$681*60)/10000)+AI666","v":{"$error":"#DIV/0!"}},{"$f":"($AM$684/60)*($AA667)","v":{"$error":"#DIV/0!"}},{"$error":"#DIV/0!"},{"$error":"#DIV/0!"},{"$error":"#DIV/0!"},{"$f":"((AR$681*60)/10000)+AN666","v":{"$error":"#DIV/0!"}},{"$f":"($AR$684/60)*($AA667)","v":{"$error":"#DIV/0!"}},{"$error":"#DIV/0!"},{"$error":"#DIV/0!"},{"$error":"#DIV/0!"},{"$f":"((AW$681*60)/10000)+AS666","v":{"$error":"#DIV/0!"}},{"$f":"($AW$684/60)*($AA667)","v":{"$error":"#DIV/0!"}},{"$error":"#DIV/0!"},{"$error":"#DIV/0!"},{"$error":"#DIV/0!"}]
[null,null,66,57.253101920773965,{"$f":"Klimaatscenario!K73","v":136.21438237760799},{"$error":"#DIV/0!"},{"$error":"#DIV/0!"},{"$f":"J$680","v":{"$error":"#DIV/0!"}},{"$error":"#DIV/0!"},{"$error":"#DIV/0!"},{"$error":"#DIV/0!"},{"$error":"#DIV/0!"},{"$f":"O$680","v":{"$error":"#DIV/0!"}},{"$error":"#DIV/0!"},{"$error":"#DIV/0!"},{"$error":"#DIV/0!"},{"$error":"#DIV/0!"},{"$f":"T$680","v":{"$error":"#DIV/0!"}},{"$error":"#DIV/0!"},{"$error":"#DIV/0!"},{"$error":"#DIV/0!"},{"$error":"#DIV/0!"},{"$f":"Y$680","v":{"$error":"#DIV/0!"}},{"$error":"#DIV/0!"},{"$error":"#DIV/0!"},null,66,65.389280668943201,{"$f":"Klimaatscenario!L73","v":157.65553633790955},{"$error":"#DIV/0!"},{"$error":"#DIV/0!"},{"$f":"AH$680","v":{"$error":"#DIV/0!"}},{"$error":"#DIV/0!"},{"$error":"#DIV/0!"},{"$error":"#DIV/0!"},{"$error":"#DIV/0!"},{"$f":"AM$680","v":{"$error":"#DIV/0!"}},{"$error":"#DIV/0!"},{"$error":"#DIV/0!"},{"$error":"#DIV/0!"},{"$error":"#DIV/0!"},{"$f":"AR$680","v":{"$error":"#DIV/0!"}},{"$error":"#DIV/0!"},{"$error":"#DIV/0!"},{"$error":"#DIV/0!"},{"$error":"#DIV/0!"},{"$f":"AW$680","v":{"$error":"#DIV/0!"}},{"$error":"#DIV/0!"},{"$error":"#DIV/0!"}]
[null,null,67,57.253101920773965,{"$f":"Klimaatscenario!K74","v":136.55790098913263},{"$error":"#DIV/0!"},{"$error":"#DIV/0!"},{"$error":"#DIV/0!"},{"$error":"#DIV/0!"},{"$error":"#DIV/0!"},{"$error":"#DIV/0!"},{"$error":"#DIV/0!"},{"$error":"#DIV/0!"},{"$error":"#DIV/0!"},{"$error":"#DIV/0!"},{"$error":"#DIV/0!"},{"$error":"#DIV/0!"},{"$error":"#DIV/0!"},{"$error":"#DIV/0!"},{"$error":"#DIV/0!"},{"$error":"#DIV/0!"},{"$error":"#DIV/0!"},{"$error":"#DIV/0!"},{"$error":"#DIV/0!"},{"$error":"#DIV/0!"},null,67,65.389280668947933,{"$f":"Klimaatscenario!L74","v":158.04787202192324},{"$error":"#DIV/0!"},{"$error":"#DIV/0!"},{"$error":"#DIV/0!"},{"$error":"#DIV/0!"},{"$error":"#DIV/0!"},{"$error":"#DIV/0!"},{"$error":"#DIV/0!"},{"$error":"#DIV/0!"},{"$error":"#DIV/0!"},{"$error":"#DIV/0!"},{"$error":"#DIV/0!"},{"$error":"#DIV/0!"},{"$error":"#DIV/0!"},{"$error":"#DIV/0!"},{"$error":"#DIV/0!"},{"$error":"#DIV/0!"},{"$error":"#DIV/0!"},{"$error":"#DIV/0!"},{"$error":"#DIV/0!"},{"$error":"#DIV/0!"}]
[null,null,68,57.253101920769232,{"$f":"Klimaatscenario!K75","v":136.90141960065725},{"$error":"#DIV/0!"},{"$error":"#DIV/0!"},{"$error":"#DIV/0!"},{"$error":"#DIV/0!"},{"$error":"#DIV/0!"},{"$error":"#DIV/0!"},{"$error":"#DIV/0!"},{"$error":"#DIV/0!"},{"$error":"#DIV/0!"},{"$error":"#DIV/0!"},{"$error":"#DIV/0!"},{"$error":"#DIV/0!"},{"$error":"#DIV/0!"},{"$error":"#DIV/0!"},{"$error":"#DIV/0!"},{"$error":"#DIV/0!"},{"$error":"#DIV/0!"},{"$error":"#DIV/0!"},{"$error":"#DIV/0!"},{"$error":"#DIV/0!"},null,68,65.389280668943201,{"$f":"Klimaatscenario!L75","v":158.4402077059369},{"$error":"#DIV/0!"},{"$error":"#DIV/0!"},{"$error":"#DIV/0!"},{"$error":"#DIV/0!"},{"$error":"#DIV/0!"},{"$error":"#DIV/0!"},{"$error":"#DIV/0!"},{"$error":"#DIV/0!"},{"$error":"#DIV/0!"},{"$error":"#DIV/0!"},{"$error":"#DIV/0!"},{"$error":"#DIV/0!"},{"$error":"#DIV/0!"},{"$error":"#DIV/0!"},{"$error":"#DIV/0!"},{"$error":"#DIV/0!"},{"$error":"#DIV/0!"},{"$error":"#DIV/0!"},{"$error":"#DIV/0!"},{"$error":"#DIV/0!"}]
[null,null,69,{"$f":"((((((E671-E670)/(C671-C670))/60)/1000)*10000)*1000)","v":57.253101920773965},{"$f":"Klimaatscenario!K76","v":137.24493821218189},{"$error":"#DIV/0!"},{"$error":"#DIV/0!"},{"$error":"#DIV/0!"},{"$error":"#DIV/0!"},{"$error":"#DIV/0!"},{"$error":"#DIV/0!"},{"$error":"#DIV/0!"},{"$error":"#DIV/0!"},{"$error":"#DIV/0!"},{"$error":"#DIV/0!"},{"$error":"#DIV/0!"},{"$error":"#DIV/0!"},{"$error":"#DIV/0!"},{"$error":"#DIV/0!"},{"$error":"#DIV/0!"},{"$error":"#DIV/0!"},{"$error":"#DIV/0!"},{"$error":"#DIV/0!"},{"$error":"#DIV/0!"},{"$error":"#DIV/0!"},null,69,{"$f":"((((((AC671-AC670)/(AA671-AA670))/60)/1000)*10000)*1000)","v":65.389280668947933},{"$f":"Klimaatscenario!L76","v":158.83254338995059},{"$error":"#DIV/0!"},{"$error":"#DIV/0!"},{"$error":"#DIV/0!"},{"$error":"#DIV/0!"},{"$error":"#DIV/0!"},{"$error":"#DIV/0!"},{"$error":"#DIV/0!"},{"$error":"#DIV/0!"},{"$error":"#DIV/0!"},{"$error":"#DIV/0!"},{"$error":"#DIV/0!"},{"$error":"#DIV/0!"},{"$error":"#DIV/0!"},{"$error":"#DIV/0!"},{"$error":"#DIV/0!"},{"$error":"#DIV/0!"},{"$error":"#DIV/0!"},{"$error":"#DIV/0!"},{"$error":"#DIV/0!"},{"$error":"#DIV/0!"}]
[null,null,70,57.253101920769232,{"$f":"Klimaatscenario!K77","v":137.58845682370651},{"$error":"#DIV/0!"},{"$error":"#DIV/0!"},{"$error":"#DIV/0!"},{"$error":"#DIV/0!"},{"$error":"#DIV/0!"},{"$error":"#DIV/0!"},{"$error":"#DIV/0!"},{"$error":"#DIV/0!"},{"$error":"#DIV/0!"},{"$error":"#DIV/0!"},{"$error":"#DIV/0!"},{"$error":"#DIV/0!"},{"$error":"#DIV/0!"},{"$error":"#DIV/0!"},{"$error":"#DIV/0!"},{"$error":"#DIV/0!"},{"$error":"#DIV/0!"},{"$error":"#DIV/0!"},{"$error":"#DIV/0!"},{"$error":"#DIV/0!"},null,70,65.389280668943201,{"$f":"Klimaatscenario!L77","v":159.22487907396425},{"$error":"#DIV/0!"},{"$error":"#DIV/0!"},{"$error":"#DIV/0!"},{"$error":"#DIV/0!"},{"$error":"#DIV/0!"},{"$error":"#DIV/0!"},{"$error":"#DIV/0!"},{"$error":"#DIV/0!"},{"$error":"#DIV/0!"},{"$error":"#DIV/0!"},{"$error":"#DIV/0!"},{"$error":"#DIV/0!"},{"$error":"#DIV/0!"},{"$error":"#DIV/0!"},{"$error":"#DIV/0!"},{"$error":"#DIV/0!"},{"$error":"#DIV/0!"},{"$error":"#DIV/0!"},{"$error":"#DIV/0!"},{"$error":"#DIV/0!"}]
[null,null,71,57.253101920773965,{"$f":"Klimaatscenario!K78","v":137.93197543523115},{"$error":"#DIV/0!"},{"$error":"#DIV/0!"},{"$error":"#DIV/0!"},{"$error":"#DIV/0!"},{"$error":"#DIV/0!"},{"$error":"#DIV/0!"},{"$error":"#DIV/0!"},{"$error":"#DIV/0!"},{"$error":"#DIV/0!"},{"$error":"#DIV/0!"},{"$error":"#DIV/0!"},{"$error":"#DIV/0!"},{"$error":"#DIV/0!"},{"$error":"#DIV/0!"},{"$error":"#DIV/0!"},{"$error":"#DIV/0!"},{"$error":"#DIV/0!"},{"$error":"#DIV/0!"},{"$error":"#DIV/0!"},{"$error":"#DIV/0!"},null,71,65.389280668947933,{"$f":"Klimaatscenario!L78","v":159.61721475797793},{"$error":"#DIV/0!"},{"$error":"#DIV/0!"},{"$error":"#DIV/0!"},{"$error":"#DIV/0!"},{"$error":"#DIV/0!"},{"$error":"#DIV/0!"},{"$error":"#DIV/0!"},{"$error":"#DIV/0!"},{"$error":"#DIV/0!"},{"$error":"#DIV/0!"},{"$error":"#DIV/0!"},{"$error":"#DIV/0!"},{"$error":"#DIV/0!"},{"$error":"#DIV/0!"},{"$error":"#DIV/0!"},{"$error":"#DIV/0!"},{"$error":"#DIV/0!"},{"$error":"#DIV/0!"},{"$error":"#DIV/0!"},{"$error":"#DIV/0!"}]
[null,null,72,57.253101920773965,{"$f":"Klimaatscenario!K79","v":138.2754940467558},{"$error":"#DIV/0!"},{"$error":"#DIV/0!"},{"$error":"#DIV/0!"},{"$error":"#DIV/0!"},{"$error":"#DIV/0!"},{"$error":"#DIV/0!"},{"$error":"#DIV/0!"},{"$error":"#DIV/0!"},{"$error":"#DIV/0!"},{"$error":"#DIV/0!"},{"$error":"#DIV/0!"},{"$error":"#DIV/0!"},{"$error":"#DIV/0!"},{"$error":"#DIV/0!"},{"$error":"#DIV/0!"},{"$error":"#DIV/0!"},{"$error":"#DIV/0!"},{"$error":"#DIV/0!"},{"$error":"#DIV/0!"},{"$error":"#DIV/0!"},null,72,65.389280668943201,{"$f":"Klimaatscenario!L79","v":160.00955044199159},{"$error":"#DIV/0!"},{"$error":"#DIV/0!"},{"$error":"#DIV/0!"},{"$error":"#DIV/0!"},{"$error":"#DIV/0!"},{"$error":"#DIV/0!"},{"$error":"#DIV/0!"},{"$error":"#DIV/0!"},{"$error":"#DIV/0!"},{"$error":"#DIV/0!"},{"$error":"#DIV/0!"},{"$error":"#DIV/0!"},{"$error":"#DIV/0!"},{"$error":"#DIV/0!"},{"$error":"#DIV/0!"},{"$error":"#DIV/0!"},{"$error":"#DIV/0!"},{"$error":"#DIV/0!"},{"$error":"#DIV/0!"},{"$error":"#DIV/0!"}]
[null,null,73,57.253101920769232,{"$f":"Klimaatscenario!K80","v":138.61901265828041},{"$error":"#DIV/0!"},{"$error":"#DIV/0!"},{"$error":"#DIV/0!"},{"$error":"#DIV/0!"},{"$error":"#DIV/0!"},{"$error":"#DIV/0!"},{"$error":"#DIV/0!"},{"$error":"#DIV/0!"},{"$error":"#DIV/0!"},{"$error":"#DIV/0!"},{"$error":"#DIV/0!"},{"$error":"#DIV/0!"},{"$error":"#DIV/0!"},{"$error":"#DIV/0!"},{"$error":"#DIV/0!"},{"$error":"#DIV/0!"},{"$error":"#DIV/0!"},{"$error":"#DIV/0!"},{"$error":"#DIV/0!"},{"$error":"#DIV/0!"},null,73,65.389280668943201,{"$f":"Klimaatscenario!L80","v":160.40188612600525},{"$error":"#DIV/0!"},{"$error":"#DIV/0!"},{"$error":"#DIV/0!"},{"$error":"#DIV/0!"},{"$error":"#DIV/0!"},{"$error":"#DIV/0!"},{"$error":"#DIV/0!"},{"$error":"#DIV/0!"},{"$error":"#DIV/0!"},{"$error":"#DIV/0!"},{"$error":"#DIV/0!"},{"$error":"#DIV/0!"},{"$error":"#DIV/0!"},{"$error":"#DIV/0!"},{"$error":"#DIV/0!"},{"$error":"#DIV/0!"},{"$error":"#DIV/0!"},{"$error":"#DIV/0!"},{"$error":"#DIV/0!"},{"$error":"#DIV/0!"}]
[null,null,74,57.253101920773965,{"$f":"Klimaatscenario!K81","v":138.96253126980505},{"$error":"#DIV/0!"},{"$error":"#DIV/0!"},{"$error":"#DIV/0!"},{"$error":"#DIV/0!"},{"$error":"#DIV/0!"},{"$error":"#DIV/0!"},{"$error":"#DIV/0!"},{"$error":"#DIV/0!"},{"$error":"#DIV/0!"},{"$error":"#DIV/0!"},{"$error":"#DIV/0!"},{"$error":"#DIV/0!"},{"$error":"#DIV/0!"},{"$error":"#DIV/0!"},{"$error":"#DIV/0!"},{"$error":"#DIV/0!"},{"$error":"#DIV/0!"},{"$error":"#DIV/0!"},{"$error":"#DIV/0!"},{"$error":"#DIV/0!"},null,74,65.389280668947933,{"$f":"Klimaatscenario!L81","v":160.79422181001894},{"$error":"#DIV/0!"},{"$error":"#DIV/0!"},{"$error":"#DIV/0!"},{"$error":"#DIV/0!"},{"$error":"#DIV/0!"},{"$error":"#DIV/0!"},{"$error":"#DIV/0!"},{"$error":"#DIV/0!"},{"$error":"#DIV/0!"},{"$error":"#DIV/0!"},{"$error":"#DIV/0!"},{"$error":"#DIV/0!"},{"$error":"#DIV/0!"},{"$error":"#DIV/0!"},{"$error":"#DIV/0!"},{"$error":"#DIV/0!"},{"$error":"#DIV/0!"},{"$error":"#DIV/0!"},{"$error":"#DIV/0!"},{"$error":"#DIV/0!"}]
[null,null,75,57.253101920773965,{"$f":"Klimaatscenario!K82","v":139.3060498813297},{"$error":"#DIV/0!"},{"$f":"($J$684/60)*($C677)","v":{"$error":"#DIV/0!"}},{"$error":"#DIV/0!"},{"$error":"#DIV/0!"},{"$error":"#DIV/0!"},{"$error":"#DIV/0!"},{"$f":"($O$684/60)*($C677)","v":{"$error":"#DIV/0!"}},{"$error":"#DIV/0!"},{"$error":"#DIV/0!"},{"$error":"#DIV/0!"},{"$error":"#DIV/0!"},{"$f":"($T$684/60)*($C677)","v":{"$error":"#DIV/0!"}},{"$error":"#DIV/0!"},{"$error":"#DIV/0!"},{"$error":"#DIV/0!"},{"$error":"#DIV/0!"},{"$f":"($Y$684/60)*($C677)","v":{"$error":"#DIV/0!"}},{"$error":"#DIV/0!"},{"$error":"#DIV/0!"},{"$error":"#DIV/0!"},null,75,65.389280668943201,{"$f":"Klimaatscenario!L82","v":161.1865574940326},{"$error":"#DIV/0!"},{"$f":"($AH$684/60)*($AA677)","v":{"$error":"#DIV/0!"}},{"$error":"#DIV/0!"},{"$error":"#DIV/0!"},{"$error":"#DIV/0!"},{"$error":"#DIV/0!"},{"$f":"($AM$684/60)*($AA677)","v":{"$error":"#DIV/0!"}},{"$error":"#DIV/0!"},{"$error":"#DIV/0!"},{"$error":"#DIV/0!"},{"$error":"#DIV/0!"},{"$f":"($AR$684/60)*($AA677)","v":{"$error":"#DIV/0!"}},{"$error":"#DIV/0!"},{"$error":"#DIV/0!"},{"$error":"#DIV/0!"},{"$error":"#DIV/0!"},{"$f":"($AW$684/60)*($AA677)","v":{"$error":"#DIV/0!"}},{"$error":"#DIV/0!"},{"$error":"#DIV/0!"},{"$error":"#DIV/0!"}]
[]
[null,null,"Berging blokmethode, maximale waterstand op straat [mm]",null,null,null,null,null,null,{"$f":"MAX(J602:J677)","v":{"$error":"#DIV/0!"}},null,null,null,null,{"$f":"MAX(O602:O677)","v":{"$error":"#DIV/0!"}},null,null,null,null,{"$f":"MAX(T602:T677)","v":{"$error":"#DIV/0!"}},null,null,null,null,{"$f":"MAX(Y602:Y677)","v":{"$error":"#DIV/0!"}},null,"Berging blokmethode, maximale waterstand op straat [mm]",null,null,null,null,null,null,{"$f":"MAX(AH602:AH677)","v":{"$error":"#DIV/0!"}},null,null,null,null,{"$f":"MAX(AM602:AM677)","v":{"$error":"#DIV/0!"}},null,null,null,null,{"$f":"MAX(AR602:AR677)","v":{"$error":"#DIV/0!"}},null,null,null,null,{"$f":"MAX(AW602:AW677)","v":{"$error":"#DIV/0!"}}]
[null,null,"Berging in de voorziening [mm neerslagoppervlak]",null,null,null,null,null,null,{"$f":"(Invoer!$D$14*Invoer!$D$21)/Invoer!Neerslag_oppervlak","v":{"$error":"#DIV/0!"}},null,null,null,null,{"$f":"(Invoer!$E$14*Invoer!$E$21)/Invoer!Neerslag_oppervlak","v":{"$error":"#DIV/0!"}},null,null,null,null,{"$f":"(Invoer!$F$14*Invoer!$F$21)/Invoer!Neerslag_oppervlak","v":{"$error":"#DIV/0!"}},null,null,null,null,{"$f":"(Invoer!$G$14*Invoer!$G$21)/Invoer!Neerslag_oppervlak","v":{"$error":"#DIV/0!"}},null,"Berging in de voorziening [mm neerslagoppervlak]",null,null,null,null,null,null,{"$f":"(Invoer!$D$14*Invoer!$D$21)/Invoer!Neerslag_oppervlak","v":{"$error":"#DIV/0!"}},null,null,null,null,{"$f":"(Invoer!$E$14*Invoer!$E$21)/Invoer!Neerslag_oppervlak","v":{"$error":"#DIV/0!"}},null,null,null,null,{"$f":"(Invoer!$F$14*Invoer!$F$21)/Invoer!Neerslag_oppervlak","v":{"$error":"#DIV/0!"}},null,null,null,null,{"$f":"(Invoer!$G$14*Invoer!$G$21)/Invoer!Neerslag_oppervlak","v":{"$error":"#DIV/0!"}}]
[null,null,"Afvoercapaciteit riool [l/s/ha neerslagoppervlak]",null,null,null,null,null,null,{"$f":"((Invoer!$D$11*Invoer!$D$21)/Invoer!Neerslag_oppervlak)*10000/60/60","v":{"$error":"#DIV/0!"}},null,null,null,null,{"$f":"((Invoer!$E$11*Invoer!$E$21)/Invoer!Neerslag_oppervlak)*10000/60/60","v":{"$error":"#DIV/0!"}},null,null,null,null,{"$f":"((Invoer!$F$11*Invoer!$F$21)/Invoer!Neerslag_oppervlak)*10000/60/60","v":{"$error":"#DIV/0!"}},null,null,null,null,{"$f":"((Invoer!$G$11*Invoer!$G$21)/Invoer!Neerslag_oppervlak)*10000/60/60","v":{"$error":"#DIV/0!"}},null,"Afvoercapaciteit riool [l/s/ha neerslagoppervlak]",null,null,null,null,null,null,{"$f":"((Invoer!$D$11*Invoer!$D$21)/Invoer!Neerslag_oppervlak)*10000/60/60","v":{"$error":"#DIV/0!"}},null,null,null,null,{"$f":"((Invoer!$E$11*Invoer!$E$21)/Invoer!Neerslag_oppervlak)*10000/60/60","v":{"$error":"#DIV/0!"}},null,null,null,null,{"$f":"((Invoer!$F$11*Invoer!$F$21)/Invoer!Neerslag_oppervlak)*10000/60/60","v":{"$error":"#DIV/0!"}},null,null,null,null,{"$f":"((Invoer!$G$11*Invoer!$G$21)/Invoer!Neerslag_oppervlak)*10000/60/60","v":{"$error":"#DIV/0!"}}]
[null,null,"Infiltratiecapaciteit onverhard [mm/uur neerslagoppervlak]",null,null,null,null,null,null,{"$f":"(Invoer!$D$16*Invoer!$D$23)/Invoer!Neerslag_oppervlak","v":{"$error":"#DIV/0!"}},null,null,null,null,{"$f":"(Invoer!$E$16*Invoer!$E$23)/Invoer!Neerslag_oppervlak","v":{"$error":"#DIV/0!"}},null,null,null,null,{"$f":"(Invoer!$F$16*Invoer!$F$23)/Invoer!Neerslag_oppervlak","v":{"$error":"#DIV/0!"}},null,null,null,null,{"$f":"(Invoer!$G$16*Invoer!$G$23)/Invoer!Neerslag_oppervlak","v":{"$error":"#DIV/0!"}},null,"Infiltratiecapaciteit onverhard [mm/uur neerslagoppervlak]",null,null,null,null,null,null,{"$f":"(Invoer!$D$16*Invoer!$D$23)/Invoer!Neerslag_oppervlak","v":{"$error":"#DIV/0!"}},null,null,null,null,{"$f":"(Invoer!$E$16*Invoer!$E$23)/Invoer!Neerslag_oppervlak","v":{"$error":"#DIV/0!"}},null,null,null,null,{"$f":"(Invoer!$F$16*Invoer!$F$23)/Invoer!Neerslag_oppervlak","v":{"$error":"#DIV/0!"}},null,null,null,null,{"$f":"(Invoer!$G$16*Invoer!$G$23)/Invoer!Neerslag_oppervlak","v":{"$error":"#DIV/0!"}}]
[null,null,"Toename/Afname laatste kwartier",null,null,null,null,null,null,{"$f":"J677-J663","v":{"$error":"#DIV/0!"}},null,null,null,null,{"$f":"O677-O663","v":{"$error":"#DIV/0!"}},null,null,null,null,{"$f":"T677-T663","v":{"$error":"#DIV/0!"}},null,null,null,null,{"$f":"Y677-Y663","v":{"$error":"#DIV/0!"}},null,"Toename/Afname laatste kwartier",null,null,null,null,null,null,{"$f":"AH677-AH663","v":{"$error":"#DIV/0!"}},null,null,null,null,{"$f":"AM677-AM663","v":{"$error":"#DIV/0!"}},null,null,null,null,{"$f":"AR677-AR663","v":{"$error":"#DIV/0!"}},null,null,null,null,{"$f":"AW677-AW663","v":{"$error":"#DIV/0!"}}]
[null,null,"Infiltratiecapaciteit en afvoer vanuit berging voorziening [mm/uur neerslagoppervlak]",null,null,null,null,null,null,{"$f":"(Invoer!$D$12*Invoer!$D$21)/Invoer!Neerslag_oppervlak","v":{"$error":"#DIV/0!"}},null,null,null,null,{"$f":"(Invoer!$E$12*Invoer!$E$21)/Invoer!Neerslag_oppervlak","v":{"$error":"#DIV/0!"}},null,null,null,null,{"$f":"(Invoer!$F$12*Invoer!$F$21)/Invoer!Neerslag_oppervlak","v":{"$error":"#DIV/0!"}},null,null,null,null,{"$f":"(Invoer!$G$12*Invoer!$G$21)/Invoer!Neerslag_oppervlak","v":{"$error":"#DIV/0!"}},null,"Infiltratiecapaciteit en afvoer vanuit berging voorziening [mm/uur neerslagoppervlak]",null,null,null,null,null,null,{"$f":"(Invoer!$D$12*Invoer!$D$21)/Invoer!Neerslag_oppervlak","v":{"$error":"#DIV/0!"}},null,null,null,null,{"$f":"(Invoer!$E$12*Invoer!$E$21)/Invoer!Neerslag_oppervlak","v":{"$error":"#DIV/0!"}},null,null,null,null,{"$f":"(Invoer!$F$12*Invoer!$F$21)/Invoer!Neerslag_oppervlak","v":{"$error":"#DIV/0!"}},null,null,null,null,{"$f":"(Invoer!$G$12*Invoer!$G$21)/Invoer!Neerslag_oppervlak","v":{"$error":"#DIV/0!"}}]
[]
[null,null,"Herhalingkans T=4000 (Geschat)",null,null,null,null,null,null,null,null,null,null,null,null,null,null,null,null,null,null,null,null,null,null,null,"Herhalingkans T=10000 (Geschat)"]
[null,null,"Duur [min]","Aanvoer bui T=4000 [l/s/ha]","Neerslag bui T=4000 [mm]","Afvoercapaciteit riolering V0 [mm]","Afvoercapaciteit V0 voorzieningen [mm]","Bergingscapaciteit V0 voorzieningen [mm]","Infiltratiecapaciteit onverhard [mm]","Aanvoer-Afvoer","Afvoercapaciteit riolering V1 [mm]","Afvoercapaciteit V1 voorzieningen [mm]","Bergingscapaciteit V1 voorzieningen [mm]","Infiltratiecapaciteit onverhard [mm]","Aanvoer-Afvoer","Afvoercapaciteit riolering V2 [mm]","Afvoercapaciteit V2 voorzieningen [mm]","Bergingscapaciteit V2 voorzieningen [mm]","Infiltratiecapaciteit onverhard [mm]","Aanvoer-Afvoer","Afvoercapaciteit riolering V3 [mm]","Afvoercapaciteit V3 voorzieningen [mm]","Bergingscapaciteit V3 voorzieningen [mm]","Infiltratiecapaciteit onverhard [mm]","Aanvoer-Afvoer",null,"Duur [min]","Aanvoer bui T=10000 [l/s/ha]","Neerslag bui T=10000 [mm]","Afvoercapaciteit riolering V0 [mm]","Afvoercapaciteit V0 voorzieningen [mm]","Bergingscapaciteit V0 voorzieningen [mm]","Infiltratiecapaciteit onverhard [mm]","Aanvoer-Afvoer","Afvoercapaciteit riolering V1 [mm]","Afvoercapaciteit V1 voorzieningen [mm]","Bergingscapaciteit V1 voorzieningen [mm]","Infiltratiecapaciteit onverhard [mm]","Aanvoer-Afvoer","Afvoercapaciteit riolering V2 [mm]","Afvoercapaciteit V2 voorzieningen [mm]","Bergingscapaciteit V2 voorzieningen [mm]","Infiltratiecapaciteit onverhard [mm]","Aanvoer-Afvoer","Afvoercapaciteit riolering V3 [mm]","Afvoercapaciteit V3 voorzieningen [mm]","Bergingscapaciteit V3 voorzieningen [mm]","Infiltratiecapaciteit onverhard [mm]","Aanvoer-Afvoer"]
[null,null,0,0,0,0,0,{"$f":"J$766/60*$C688","v":{"$error":"#DIV/0!"}},{"$f":"($J$768/60)*$C688","v":{"$error":"#DIV/0!"}},null,0,0,{"$f":"O$766/60*$C688","v":{"$error":"#DIV/0!"}},{"$f":"($O$768/60)*$C688","v":{"$error":"#DIV/0!"}},null,0,0,{"$f":"T$766/60*$C688","v":{"$error":"#DIV/0!"}},{"$f":"($T$768/60)*$C688","v":{"$error":"#DIV/0!"}},null,0,0,{"$f":"Y$766/60*$C688","v":{"$error":"#DIV/0!"}},{"$f":"($Y$768/60)*$C688","v":{"$error":"#DIV/0!"}},null,null,0,0,0,0,0,{"$f":"AH$766/60*$AA688","v":{"$error":"#DIV/0!"}},{"$f":"($AH$768/60)*$AA688","v":{"$error":"#DIV/0!"}},null,0,0,{"$f":"AM$766/60*$AA688","v":{"$error":"#DIV/0!"}},{"$f":"($AM$768/60)*$AA688","v":{"$error":"#DIV/0!"}},null,0,0,{"$f":"AR$766/60*$AA688","v":{"$error":"#DIV/0!"}},{"$f":"($AR$768/60)*$AA688","v":{"$error":"#DIV/0!"}},null,0,{"$f":"($AW$770/60)*($AA688)","v":{"$error":"#DIV/0!"}},{"$f":"AW$766/60*$AA688","v":{"$error":"#DIV/0!"}},{"$f":"($AW$768/60)*$AA688","v":{"$error":"#DIV/0!"}}]
[null,null,1,{"$f":"((((((E689-E688)/(C689-C688)/60)/1000)*10000)*1000))","v":1213.6130097860571},{"$f":"Klimaatscenario!M8","v":7.2816780587163423},{"$f":"((J$767*60)/10000)+F688","v":{"$error":"#DIV/0!"}},{"$f":"($J$770/60)*($C689)","v":{"$error":"#DIV/0!"}},{"$f":"J$766","v":{"$error":"#DIV/0!"}},{"$error":"#DIV/0!"},{"$f":"$E689-F689-G689-H689-I689","v":{"$error":"#DIV/0!"}},{"$f":"((O$767*60)/10000)+K688","v":{"$error":"#DIV/0!"}},{"$f":"($O$770/60)*($C689)","v":{"$error":"#DIV/0!"}},{"$f":"O$766","v":{"$error":"#DIV/0!"}},{"$error":"#DIV/0!"},{"$f":"$E689-K689-L689-M689-N689","v":{"$error":"#DIV/0!"}},{"$f":"((T$767*60)/10000)+P688","v":{"$error":"#DIV/0!"}},{"$f":"($T$770/60)*($C689)","v":{"$error":"#DIV/0!"}},{"$f":"T$766","v":{"$error":"#DIV/0!"}},{"$error":"#DIV/0!"},{"$f":"$E689-P689-Q689-R689-S689","v":{"$error":"#DIV/0!"}},{"$f":"((Y$767*60)/10000)+U688","v":{"$error":"#DIV/0!"}},{"$f":"($Y$770/60)*($C689)","v":{"$error":"#DIV/0!"}},{"$f":"Y$766","v":{"$error":"#DIV/0!"}},{"$error":"#DIV/0!"},{"$f":"$E689-U689-V689-W689-X689","v":{"$error":"#DIV/0!"}},null,1,{"$f":"((((((AC689-AC688)/(AA689-AA688)/60)/1000)*10000)*1000))","v":1381.7676305971627},{"$f":"Klimaatscenario!N8","v":8.2906057835829756},{"$f":"((AH$767*60)/10000)+AD688","v":{"$error":"#DIV/0!"}},{"$f":"($AH$770/60)*($AA689)","v":{"$error":"#DIV/0!"}},{"$f":"AH$766","v":{"$error":"#DIV/0!"}},{"$error":"#DIV/0!"},{"$f":"$AC689-AD689-AE689-AF689-AG689","v":{"$error":"#DIV/0!"}},{"$f":"((AM$767*60)/10000)+AI688","v":{"$error":"#DIV/0!"}},{"$f":"($AM$770/60)*($AA689)","v":{"$error":"#DIV/0!"}},{"$f":"AM$766","v":{"$error":"#DIV/0!"}},{"$error":"#DIV/0!"},{"$f":"$AC689-AI689-AJ689-AK689-AL689","v":{"$error":"#DIV/0!"}},{"$f":"((AR$767*60)/10000)+AN688","v":{"$error":"#DIV/0!"}},{"$f":"($AR$770/60)*($AA689)","v":{"$error":"#DIV/0!"}},{"$f":"AR$766","v":{"$error":"#DIV/0!"}},{"$error":"#DIV/0!"},{"$f":"$AC689-AN689-AO689-AP689-AQ689","v":{"$error":"#DIV/0!"}},{"$f":"((AW$767*60)/10000)+AS688","v":{"$error":"#DIV/0!"}},{"$error":"#DIV/0!"},{"$f":"AW$766","v":{"$error":"#DIV/0!"}},{"$error":"#DIV/0!"},{"$f":"$AC689-AS689-AT689-AU689-AV689","v":{"$error":"#DIV/0!"}}]
[null,null,2,{"$f":"((((((E690-E689)/(C690-C689)/60)/1000)*10000)*1000))","v":1213.6130097860571},{"$f":"Klimaatscenario!M9","v":14.563356117432685},{"$error":"#DIV/0!"},{"$error":"#DIV/0!"},{"$f":"J$766","v":{"$error":"#DIV/0!"}},{"$error":"#DIV/0!"},{"$error":"#DIV/0!"},{"$error":"#DIV/0!"},{"$error":"#DIV/0!"},{"$f":"O$766","v":{"$error":"#DIV/0!"}},{"$error":"#DIV/0!"},{"$error":"#DIV/0!"},{"$error":"#DIV/0!"},{"$error":"#DIV/0!"},{"$f":"T$766","v":{"$error":"#DIV/0!"}},{"$error":"#DIV/0!"},{"$error":"#DIV/0!"},{"$error":"#DIV/0!"},{"$error":"#DIV/0!"},{"$f":"Y$766","v":{"$error":"#DIV/0!"}},{"$error":"#DIV/0!"},{"$error":"#DIV/0!"},null,2,{"$f":"((((((AC690-AC689)/(AA690-AA689)/60)/1000)*10000)*1000))","v":1381.7676305971627},{"$f":"Klimaatscenario!N9","v":16.581211567165951},{"$error":"#DIV/0!"},{"$error":"#DIV/0!"},{"$f":"AH$766","v":{"$error":"#DIV/0!"}},{"$error":"#DIV/0!"},{"$error":"#DIV/0!"},{"$error":"#DIV/0!"},{"$error":"#DIV/0!"},{"$f":"AM$766","v":{"$error":"#DIV/0!"}},{"$error":"#DIV/0!"},{"$error":"#DIV/0!"},{"$error":"#DIV/0!"},{"$error":"#DIV/0!"},{"$f":"AR$766","v":{"$error":"#DIV/0!"}},{"$error":"#DIV/0!"},{"$error":"#DIV/0!"},{"$error":"#DIV/0!"},{"$error":"#DIV/0!"},{"$f":"AW$766","v":{"$error":"#DIV/0!"}},{"$error":"#DIV/0!"},{"$error":"#DIV/0!"}]
[null,null,3,{"$f":"((((((E691-E690)/(C691-C690)/60)/1000)*10000)*1000))","v":1213.6130097860571},{"$f":"Klimaatscenario!M10","v":21.845034176149028},{"$error":"#DIV/0!"},{"$error":"#DIV/0!"},{"$error":"#DIV/0!"},{"$error":"#DIV/0!"},{"$error":"#DIV/0!"},{"$error":"#DIV/0!"},{"$error":"#DIV/0!"},{"$error":"#DIV/0!"},{"$error":"#DIV/0!"},{"$error":"#DIV/0!"},{"$error":"#DIV/0!"},{"$error":"#DIV/0!"},{"$error":"#DIV/0!"},{"$error":"#DIV/0!"},{"$error":"#DIV/0!"},{"$error":"#DIV/0!"},{"$error":"#DIV/0!"},{"$error":"#DIV/0!"},{"$error":"#DIV/0!"},{"$error":"#DIV/0!"},null,3,{"$f":"((((((AC691-AC690)/(AA691-AA690)/60)/1000)*10000)*1000))","v":1381.7676305971627},{"$f":"Klimaatscenario!N10","v":24.871817350748927},{"$error":"#DIV/0!"},{"$error":"#DIV/0!"},{"$error":"#DIV/0!"},{"$error":"#DIV/0!"},{"$error":"#DIV/0!"},{"$error":"#DIV/0!"},{"$error":"#DIV/0!"},{"$error":"#DIV/0!"},{"$error":"#DIV/0!"},{"$error":"#DIV/0!"},{"$error":"#DIV/0!"},{"$error":"#DIV/0!"},{"$error":"#DIV/0!"},{"$error":"#DIV/0!"},{"$error":"#DIV/0!"},{"$error":"#DIV/0!"},{"$error":"#DIV/0!"},{"$error":"#DIV/0!"},{"$error":"#DIV/0!"},{"$error":"#DIV/0!"}]
[null,null,4,{"$f":"((((((E692-E691)/(C692-C691)/60)/1000)*10000)*1000))","v":1213.6130097860569},{"$f":"Klimaatscenario!M11","v":29.126712234865369},{"$error":"#DIV/0!"},{"$error":"#DIV/0!"},{"$error":"#DIV/0!"},{"$error":"#DIV/0!"},{"$error":"#DIV/0!"},{"$error":"#DIV/0!"},{"$error":"#DIV/0!"},{"$error":"#DIV/0!"},{"$error":"#DIV/0!"},{"$error":"#DIV/0!"},{"$error":"#DIV/0!"},{"$error":"#DIV/0!"},{"$error":"#DIV/0!"},{"$error":"#DIV/0!"},{"$error":"#DIV/0!"},{"$error":"#DIV/0!"},{"$error":"#DIV/0!"},{"$error":"#DIV/0!"},{"$error":"#DIV/0!"},{"$error":"#DIV/0!"},null,4,{"$f":"((((((AC692-AC691)/(AA692-AA691)/60)/1000)*10000)*1000))","v":1381.7676305971627},{"$f":"Klimaatscenario!N11","v":33.162423134331902},{"$error":"#DIV/0!"},{"$error":"#DIV/0!"},{"$error":"#DIV/0!"},{"$error":"#DIV/0!"},{"$error":"#DIV/0!"},{"$error":"#DIV/0!"},{"$error":"#DIV/0!"},{"$error":"#DIV/0!"},{"$error":"#DIV/0!"},{"$error":"#DIV/0!"},{"$error":"#DIV/0!"},{"$error":"#DIV/0!"},{"$error":"#DIV/0!"},{"$error":"#DIV/0!"},{"$error":"#DIV/0!"},{"$error":"#DIV/0!"},{"$error":"#DIV/0!"},{"$error":"#DIV/0!"},{"$error":"#DIV/0!"},{"$error":"#DIV/0!"}]
[null,null,5,{"$f":"((((((E693-E692)/(C693-C692))/60)/1000)*10000)*1000)","v":1213.6130097860569},{"$f":"Klimaatscenario!M12","v":36.408390293581711},{"$error":"#DIV/0!"},{"$error":"#DIV/0!"},{"$error":"#DIV/0!"},{"$error":"#DIV/0!"},{"$error":"#DIV/0!"},{"$error":"#DIV/0!"},{"$error":"#DIV/0!"},{"$error":"#DIV/0!"},{"$error":"#DIV/0!"},{"$error":"#DIV/0!"},{"$error":"#DIV/0!"},{"$error":"#DIV/0!"},{"$error":"#DIV/0!"},{"$error":"#DIV/0!"},{"$error":"#DIV/0!"},{"$error":"#DIV/0!"},{"$error":"#DIV/0!"},{"$error":"#DIV/0!"},{"$error":"#DIV/0!"},{"$error":"#DIV/0!"},null,5,{"$f":"((((((AC693-AC692)/(AA693-AA692))/60)/1000)*10000)*1000)","v":1381.7676305971627},{"$f":"Klimaatscenario!N12","v":41.453028917914878},{"$error":"#DIV/0!"},{"$error":"#DIV/0!"},{"$error":"#DIV/0!"},{"$error":"#DIV/0!"},{"$error":"#DIV/0!"},{"$error":"#DIV/0!"},{"$error":"#DIV/0!"},{"$error":"#DIV/0!"},{"$error":"#DIV/0!"},{"$error":"#DIV/0!"},{"$error":"#DIV/0!"},{"$error":"#DIV/0!"},{"$error":"#DIV/0!"},{"$error":"#DIV/0!"},{"$error":"#DIV/0!"},{"$error":"#DIV/0!"},{"$error":"#DIV/0!"},{"$error":"#DIV/0!"},{"$error":"#DIV/0!"},{"$error":"#DIV/0!"}]
[null,null,6,1213.6130097860573,{"$f":"Klimaatscenario!M13","v":43.690068352298056},{"$error":"#DIV/0!"},{"$error":"#DIV/0!"},{"$error":"#DIV/0!"},{"$error":"#DIV/0!"},{"$error":"#DIV/0!"},{"$error":"#DIV/0!"},{"$error":"#DIV/0!"},{"$error":"#DIV/0!"},{"$error":"#DIV/0!"},{"$error":"#DIV/0!"},{"$error":"#DIV/0!"},{"$error":"#DIV/0!"},{"$error":"#DIV/0!"},{"$error":"#DIV/0!"},{"$error":"#DIV/0!"},{"$error":"#DIV/0!"},{"$error":"#DIV/0!"},{"$error":"#DIV/0!"},{"$error":"#DIV/0!"},{"$error":"#DIV/0!"},null,6,1381.7676305971627,{"$f":"Klimaatscenario!N13","v":49.743634701497854},{"$error":"#DIV/0!"},{"$error":"#DIV/0!"},{"$error":"#DIV/0!"},{"$error":"#DIV/0!"},{"$error":"#DIV/0!"},{"$error":"#DIV/0!"},{"$error":"#DIV/0!"},{"$error":"#DIV/0!"},{"$error":"#DIV/0!"},{"$error":"#DIV/0!"},{"$error":"#DIV/0!"},{"$error":"#DIV/0!"},{"$error":"#DIV/0!"},{"$error":"#DIV/0!"},{"$error":"#DIV/0!"},{"$error":"#DIV/0!"},{"$error":"#DIV/0!"},{"$error":"#DIV/0!"},{"$error":"#DIV/0!"},{"$error":"#DIV/0!"}]
[null,null,7,1213.6130097860564,{"$f":"Klimaatscenario!M14","v":50.971746411014394},{"$error":"#DIV/0!"},{"$error":"#DIV/0!"},{"$error":"#DIV/0!"},{"$error":"#DIV/0!"},{"$error":"#DIV/0!"},{"$error":"#DIV/0!"},{"$error":"#DIV/0!"},{"$error":"#DIV/0!"},{"$error":"#DIV/0!"},{"$error":"#DIV/0!"},{"$error":"#DIV/0!"},{"$error":"#DIV/0!"},{"$error":"#DIV/0!"},{"$error":"#DIV/0!"},{"$error":"#DIV/0!"},{"$error":"#DIV/0!"},{"$error":"#DIV/0!"},{"$error":"#DIV/0!"},{"$error":"#DIV/0!"},{"$error":"#DIV/0!"},null,7,1381.7676305971627,{"$f":"Klimaatscenario!N14","v":58.034240485080829},{"$error":"#DIV/0!"},{"$error":"#DIV/0!"},{"$error":"#DIV/0!"},{"$error":"#DIV/0!"},{"$error":"#DIV/0!"},{"$error":"#DIV/0!"},{"$error":"#DIV/0!"},{"$error":"#DIV/0!"},{"$error":"#DIV/0!"},{"$error":"#DIV/0!"},{"$error":"#DIV/0!"},{"$error":"#DIV/0!"},{"$error":"#DIV/0!"},{"$error":"#DIV/0!"},{"$error":"#DIV/0!"},{"$error":"#DIV/0!"},{"$error":"#DIV/0!"},{"$error":"#DIV/0!"},{"$error":"#DIV/0!"},{"$error":"#DIV/0!"}]
[null,null,8,1213.6130097860573,{"$f":"Klimaatscenario!M15","v":58.253424469730739},{"$error":"#DIV/0!"},{"$error":"#DIV/0!"},{"$error":"#DIV/0!"},{"$error":"#DIV/0!"},{"$error":"#DIV/0!"},{"$error":"#DIV/0!"},{"$error":"#DIV/0!"},{"$error":"#DIV/0!"},{"$error":"#DIV/0!"},{"$error":"#DIV/0!"},{"$error":"#DIV/0!"},{"$error":"#DIV/0!"},{"$error":"#DIV/0!"},{"$error":"#DIV/0!"},{"$error":"#DIV/0!"},{"$error":"#DIV/0!"},{"$error":"#DIV/0!"},{"$error":"#DIV/0!"},{"$error":"#DIV/0!"},{"$error":"#DIV/0!"},null,8,1381.7676305971627,{"$f":"Klimaatscenario!N15","v":66.324846268663805},{"$error":"#DIV/0!"},{"$error":"#DIV/0!"},{"$error":"#DIV/0!"},{"$error":"#DIV/0!"},{"$error":"#DIV/0!"},{"$error":"#DIV/0!"},{"$error":"#DIV/0!"},{"$error":"#DIV/0!"},{"$error":"#DIV/0!"},{"$error":"#DIV/0!"},{"$error":"#DIV/0!"},{"$error":"#DIV/0!"},{"$error":"#DIV/0!"},{"$error":"#DIV/0!"},{"$error":"#DIV/0!"},{"$error":"#DIV/0!"},{"$error":"#DIV/0!"},{"$error":"#DIV/0!"},{"$error":"#DIV/0!"},{"$error":"#DIV/0!"}]
[null,null,9,1213.6130097860573,{"$f":"Klimaatscenario!M16","v":65.535102528447084},{"$error":"#DIV/0!"},{"$error":"#DIV/0!"},{"$error":"#DIV/0!"},{"$error":"#DIV/0!"},{"$error":"#DIV/0!"},{"$error":"#DIV/0!"},{"$error":"#DIV/0!"},{"$error":"#DIV/0!"},{"$error":"#DIV/0!"},{"$error":"#DIV/0!"},{"$error":"#DIV/0!"},{"$error":"#DIV/0!"},{"$error":"#DIV/0!"},{"$error":"#DIV/0!"},{"$error":"#DIV/0!"},{"$error":"#DIV/0!"},{"$error":"#DIV/0!"},{"$error":"#DIV/0!"},{"$error":"#DIV/0!"},{"$error":"#DIV/0!"},null,9,1381.7676305971627,{"$f":"Klimaatscenario!N16","v":74.615452052246781},{"$error":"#DIV/0!"},{"$error":"#DIV/0!"},{"$error":"#DIV/0!"},{"$f":"($AH$768/60)*$AA697","v":{"$error":"#DIV/0!"}},{"$error":"#DIV/0!"},{"$error":"#DIV/0!"},{"$error":"#DIV/0!"},{"$error":"#DIV/0!"},{"$error":"#DIV/0!"},{"$error":"#DIV/0!"},{"$error":"#DIV/0!"},{"$error":"#DIV/0!"},{"$error":"#DIV/0!"},{"$error":"#DIV/0!"},{"$error":"#DIV/0!"},{"$error":"#DIV/0!"},{"$error":"#DIV/0!"},{"$error":"#DIV/0!"},{"$error":"#DIV/0!"},{"$error":"#DIV/0!"}]
[null,null,10,1213.6130097860564,{"$f":"Klimaatscenario!M17","v":72.816780587163422},{"$error":"#DIV/0!"},{"$error":"#DIV/0!"},{"$error":"#DIV/0!"},{"$error":"#DIV/0!"},{"$error":"#DIV/0!"},{"$error":"#DIV/0!"},{"$error":"#DIV/0!"},{"$error":"#DIV/0!"},{"$error":"#DIV/0!"},{"$error":"#DIV/0!"},{"$error":"#DIV/0!"},{"$error":"#DIV/0!"},{"$error":"#DIV/0!"},{"$error":"#DIV/0!"},{"$error":"#DIV/0!"},{"$error":"#DIV/0!"},{"$error":"#DIV/0!"},{"$error":"#DIV/0!"},{"$error":"#DIV/0!"},{"$error":"#DIV/0!"},null,10,1381.7676305971627,{"$f":"Klimaatscenario!N17","v":82.906057835829756},{"$error":"#DIV/0!"},{"$error":"#DIV/0!"},{"$error":"#DIV/0!"},{"$error":"#DIV/0!"},{"$error":"#DIV/0!"},{"$error":"#DIV/0!"},{"$error":"#DIV/0!"},{"$error":"#DIV/0!"},{"$error":"#DIV/0!"},{"$error":"#DIV/0!"},{"$error":"#DIV/0!"},{"$error":"#DIV/0!"},{"$error":"#DIV/0!"},{"$error":"#DIV/0!"},{"$error":"#DIV/0!"},{"$error":"#DIV/0!"},{"$error":"#DIV/0!"},{"$error":"#DIV/0!"},{"$error":"#DIV/0!"},{"$error":"#DIV/0!"}]
[null,null,11,514.52251642601254,{"$f":"Klimaatscenario!M18","v":75.903915685719497},{"$error":"#DIV/0!"},{"$error":"#DIV/0!"},{"$error":"#DIV/0!"},{"$error":"#DIV/0!"},{"$error":"#DIV/0!"},{"$error":"#DIV/0!"},{"$error":"#DIV/0!"},{"$error":"#DIV/0!"},{"$error":"#DIV/0!"},{"$error":"#DIV/0!"},{"$error":"#DIV/0!"},{"$error":"#DIV/0!"},{"$error":"#DIV/0!"},{"$error":"#DIV/0!"},{"$error":"#DIV/0!"},{"$error":"#DIV/0!"},{"$error":"#DIV/0!"},{"$error":"#DIV/0!"},{"$error":"#DIV/0!"},{"$error":"#DIV/0!"},null,11,607.42676088195208,{"$f":"Klimaatscenario!N18","v":86.550618401121469},{"$error":"#DIV/0!"},{"$error":"#DIV/0!"},{"$error":"#DIV/0!"},{"$error":"#DIV/0!"},{"$error":"#DIV/0!"},{"$error":"#DIV/0!"},{"$error":"#DIV/0!"},{"$error":"#DIV/0!"},{"$error":"#DIV/0!"},{"$error":"#DIV/0!"},{"$error":"#DIV/0!"},{"$error":"#DIV/0!"},{"$error":"#DIV/0!"},{"$error":"#DIV/0!"},{"$error":"#DIV/0!"},{"$error":"#DIV/0!"},{"$error":"#DIV/0!"},{"$error":"#DIV/0!"},{"$error":"#DIV/0!"},{"$error":"#DIV/0!"}]
[null,null,12,514.52251642601016,{"$f":"Klimaatscenario!M19","v":78.991050784275558},{"$error":"#DIV/0!"},{"$error":"#DIV/0!"},{"$error":"#DIV/0!"},{"$error":"#DIV/0!"},{"$error":"#DIV/0!"},{"$error":"#DIV/0!"},{"$error":"#DIV/0!"},{"$error":"#DIV/0!"},{"$error":"#DIV/0!"},{"$error":"#DIV/0!"},{"$error":"#DIV/0!"},{"$error":"#DIV/0!"},{"$error":"#DIV/0!"},{"$error":"#DIV/0!"},{"$error":"#DIV/0!"},{"$error":"#DIV/0!"},{"$error":"#DIV/0!"},{"$error":"#DIV/0!"},{"$error":"#DIV/0!"},{"$error":"#DIV/0!"},null,12,607.42676088195208,{"$f":"Klimaatscenario!N19","v":90.195178966413181},{"$error":"#DIV/0!"},{"$error":"#DIV/0!"},{"$error":"#DIV/0!"},{"$error":"#DIV/0!"},{"$error":"#DIV/0!"},{"$error":"#DIV/0!"},{"$error":"#DIV/0!"},{"$error":"#DIV/0!"},{"$error":"#DIV/0!"},{"$error":"#DIV/0!"},{"$error":"#DIV/0!"},{"$error":"#DIV/0!"},{"$error":"#DIV/0!"},{"$error":"#DIV/0!"},{"$error":"#DIV/0!"},{"$error":"#DIV/0!"},{"$error":"#DIV/0!"},{"$error":"#DIV/0!"},{"$error":"#DIV/0!"},{"$error":"#DIV/0!"}]
[null,null,13,514.52251642601254,{"$f":"Klimaatscenario!M20","v":82.078185882831633},{"$error":"#DIV/0!"},{"$error":"#DIV/0!"},{"$error":"#DIV/0!"},{"$error":"#DIV/0!"},{"$error":"#DIV/0!"},{"$error":"#DIV/0!"},{"$error":"#DIV/0!"},{"$error":"#DIV/0!"},{"$error":"#DIV/0!"},{"$error":"#DIV/0!"},{"$error":"#DIV/0!"},{"$error":"#DIV/0!"},{"$error":"#DIV/0!"},{"$error":"#DIV/0!"},{"$error":"#DIV/0!"},{"$error":"#DIV/0!"},{"$error":"#DIV/0!"},{"$error":"#DIV/0!"},{"$error":"#DIV/0!"},{"$error":"#DIV/0!"},null,13,607.42676088195208,{"$f":"Klimaatscenario!N20","v":93.839739531704893},{"$error":"#DIV/0!"},{"$error":"#DIV/0!"},{"$error":"#DIV/0!"},{"$error":"#DIV/0!"},{"$error":"#DIV/0!"},{"$error":"#DIV/0!"},{"$error":"#DIV/0!"},{"$error":"#DIV/0!"},{"$error":"#DIV/0!"},{"$error":"#DIV/0!"},{"$error":"#DIV/0!"},{"$error":"#DIV/0!"},{"$error":"#DIV/0!"},{"$error":"#DIV/0!"},{"$error":"#DIV/0!"},{"$error":"#DIV/0!"},{"$error":"#DIV/0!"},{"$error":"#DIV/0!"},{"$error":"#DIV/0!"},{"$error":"#DIV/0!"}]
[null,null,14,514.52251642601016,{"$f":"Klimaatscenario!M21","v":85.165320981387694},{"$error":"#DIV/0!"},{"$error":"#DIV/0!"},{"$error":"#DIV/0!"},{"$error":"#DIV/0!"},{"$error":"#DIV/0!"},{"$error":"#DIV/0!"},{"$error":"#DIV/0!"},{"$error":"#DIV/0!"},{"$error":"#DIV/0!"},{"$error":"#DIV/0!"},{"$error":"#DIV/0!"},{"$error":"#DIV/0!"},{"$error":"#DIV/0!"},{"$error":"#DIV/0!"},{"$error":"#DIV/0!"},{"$error":"#DIV/0!"},{"$error":"#DIV/0!"},{"$error":"#DIV/0!"},{"$error":"#DIV/0!"},{"$error":"#DIV/0!"},null,14,607.42676088195208,{"$f":"Klimaatscenario!N21","v":97.484300096996606},{"$error":"#DIV/0!"},{"$error":"#DIV/0!"},{"$error":"#DIV/0!"},{"$error":"#DIV/0!"},{"$error":"#DIV/0!"},{"$error":"#DIV/0!"},{"$error":"#DIV/0!"},{"$error":"#DIV/0!"},{"$error":"#DIV/0!"},{"$error":"#DIV/0!"},{"$error":"#DIV/0!"},{"$error":"#DIV/0!"},{"$error":"#DIV/0!"},{"$error":"#DIV/0!"},{"$error":"#DIV/0!"},{"$error":"#DIV/0!"},{"$error":"#DIV/0!"},{"$error":"#DIV/0!"},{"$error":"#DIV/0!"},{"$error":"#DIV/0!"}]
[null,null,15,514.52251642601254,{"$f":"Klimaatscenario!M22","v":88.252456079943769},{"$error":"#DIV/0!"},{"$error":"#DIV/0!"},{"$error":"#DIV/0!"},{"$error":"#DIV/0!"},{"$error":"#DIV/0!"},{"$error":"#DIV/0!"},{"$error":"#DIV/0!"},{"$error":"#DIV/0!"},{"$error":"#DIV/0!"},{"$error":"#DIV/0!"},{"$error":"#DIV/0!"},{"$error":"#DIV/0!"},{"$error":"#DIV/0!"},{"$error":"#DIV/0!"},{"$error":"#DIV/0!"},{"$error":"#DIV/0!"},{"$error":"#DIV/0!"},{"$error":"#DIV/0!"},{"$error":"#DIV/0!"},{"$error":"#DIV/0!"},null,15,607.42676088194969,{"$f":"Klimaatscenario!N22","v":101.1288606622883},{"$error":"#DIV/0!"},{"$error":"#DIV/0!"},{"$error":"#DIV/0!"},{"$error":"#DIV/0!"},{"$error":"#DIV/0!"},{"$error":"#DIV/0!"},{"$error":"#DIV/0!"},{"$error":"#DIV/0!"},{"$error":"#DIV/0!"},{"$error":"#DIV/0!"},{"$error":"#DIV/0!"},{"$error":"#DIV/0!"},{"$error":"#DIV/0!"},{"$error":"#DIV/0!"},{"$error":"#DIV/0!"},{"$error":"#DIV/0!"},{"$error":"#DIV/0!"},{"$error":"#DIV/0!"},{"$error":"#DIV/0!"},{"$error":"#DIV/0!"}]
[null,null,16,514.52251642601016,{"$f":"Klimaatscenario!M23","v":91.33959117849983},{"$error":"#DIV/0!"},{"$error":"#DIV/0!"},{"$error":"#DIV/0!"},{"$error":"#DIV/0!"},{"$error":"#DIV/0!"},{"$error":"#DIV/0!"},{"$error":"#DIV/0!"},{"$error":"#DIV/0!"},{"$error":"#DIV/0!"},{"$error":"#DIV/0!"},{"$error":"#DIV/0!"},{"$error":"#DIV/0!"},{"$error":"#DIV/0!"},{"$error":"#DIV/0!"},{"$error":"#DIV/0!"},{"$error":"#DIV/0!"},{"$error":"#DIV/0!"},{"$error":"#DIV/0!"},{"$error":"#DIV/0!"},{"$error":"#DIV/0!"},null,16,607.42676088195435,{"$f":"Klimaatscenario!N23","v":104.77342122758003},{"$error":"#DIV/0!"},{"$error":"#DIV/0!"},{"$error":"#DIV/0!"},{"$error":"#DIV/0!"},{"$error":"#DIV/0!"},{"$error":"#DIV/0!"},{"$error":"#DIV/0!"},{"$error":"#DIV/0!"},{"$error":"#DIV/0!"},{"$error":"#DIV/0!"},{"$error":"#DIV/0!"},{"$error":"#DIV/0!"},{"$error":"#DIV/0!"},{"$error":"#DIV/0!"},{"$error":"#DIV/0!"},{"$error":"#DIV/0!"},{"$error":"#DIV/0!"},{"$error":"#DIV/0!"},{"$error":"#DIV/0!"},{"$error":"#DIV/0!"}]
[null,null,17,514.52251642601254,{"$f":"Klimaatscenario!M24","v":94.426726277055906},{"$error":"#DIV/0!"},{"$error":"#DIV/0!"},{"$error":"#DIV/0!"},{"$error":"#DIV/0!"},{"$error":"#DIV/0!"},{"$error":"#DIV/0!"},{"$error":"#DIV/0!"},{"$error":"#DIV/0!"},{"$error":"#DIV/0!"},{"$error":"#DIV/0!"},{"$error":"#DIV/0!"},{"$error":"#DIV/0!"},{"$error":"#DIV/0!"},{"$error":"#DIV/0!"},{"$error":"#DIV/0!"},{"$error":"#DIV/0!"},{"$error":"#DIV/0!"},{"$error":"#DIV/0!"},{"$error":"#DIV/0!"},{"$error":"#DIV/0!"},null,17,607.42676088194969,{"$f":"Klimaatscenario!N24","v":108.41798179287173},{"$error":"#DIV/0!"},{"$error":"#DIV/0!"},{"$error":"#DIV/0!"},{"$error":"#DIV/0!"},{"$error":"#DIV/0!"},{"$error":"#DIV/0!"},{"$error":"#DIV/0!"},{"$error":"#DIV/0!"},{"$error":"#DIV/0!"},{"$error":"#DIV/0!"},{"$error":"#DIV/0!"},{"$error":"#DIV/0!"},{"$error":"#DIV/0!"},{"$error":"#DIV/0!"},{"$error":"#DIV/0!"},{"$error":"#DIV/0!"},{"$error":"#DIV/0!"},{"$error":"#DIV/0!"},{"$error":"#DIV/0!"},{"$error":"#DIV/0!"}]
[null,null,18,514.52251642601254,{"$f":"Klimaatscenario!M25","v":97.513861375611981},{"$error":"#DIV/0!"},{"$error":"#DIV/0!"},{"$error":"#DIV/0!"},{"$error":"#DIV/0!"},{"$error":"#DIV/0!"},{"$error":"#DIV/0!"},{"$error":"#DIV/0!"},{"$error":"#DIV/0!"},{"$error":"#DIV/0!"},{"$error":"#DIV/0!"},{"$error":"#DIV/0!"},{"$error":"#DIV/0!"},{"$error":"#DIV/0!"},{"$error":"#DIV/0!"},{"$error":"#DIV/0!"},{"$error":"#DIV/0!"},{"$error":"#DIV/0!"},{"$error":"#DIV/0!"},{"$error":"#DIV/0!"},{"$error":"#DIV/0!"},null,18,607.42676088195208,{"$f":"Klimaatscenario!N25","v":112.06254235816344},{"$error":"#DIV/0!"},{"$error":"#DIV/0!"},{"$error":"#DIV/0!"},{"$error":"#DIV/0!"},{"$error":"#DIV/0!"},{"$error":"#DIV/0!"},{"$error":"#DIV/0!"},{"$error":"#DIV/0!"},{"$error":"#DIV/0!"},{"$error":"#DIV/0!"},{"$error":"#DIV/0!"},{"$error":"#DIV/0!"},{"$error":"#DIV/0!"},{"$error":"#DIV/0!"},{"$error":"#DIV/0!"},{"$error":"#DIV/0!"},{"$error":"#DIV/0!"},{"$error":"#DIV/0!"},{"$error":"#DIV/0!"},{"$error":"#DIV/0!"}]
[null,null,19,514.52251642601016,{"$f":"Klimaatscenario!M26","v":100.60099647416804},{"$error":"#DIV/0!"},{"$error":"#DIV/0!"},{"$error":"#DIV/0!"},{"$error":"#DIV/0!"},{"$error":"#DIV/0!"},{"$error":"#DIV/0!"},{"$error":"#DIV/0!"},{"$error":"#DIV/0!"},{"$error":"#DIV/0!"},{"$error":"#DIV/0!"},{"$error":"#DIV/0!"},{"$error":"#DIV/0!"},{"$error":"#DIV/0!"},{"$error":"#DIV/0!"},{"$error":"#DIV/0!"},{"$error":"#DIV/0!"},{"$error":"#DIV/0!"},{"$error":"#DIV/0!"},{"$error":"#DIV/0!"},{"$error":"#DIV/0!"},null,19,607.42676088195208,{"$f":"Klimaatscenario!N26","v":115.70710292345515},{"$error":"#DIV/0!"},{"$error":"#DIV/0!"},{"$error":"#DIV/0!"},{"$error":"#DIV/0!"},{"$error":"#DIV/0!"},{"$error":"#DIV/0!"},{"$error":"#DIV/0!"},{"$error":"#DIV/0!"},{"$error":"#DIV/0!"},{"$error":"#DIV/0!"},{"$error":"#DIV/0!"},{"$error":"#DIV/0!"},{"$error":"#DIV/0!"},{"$error":"#DIV/0!"},{"$error":"#DIV/0!"},{"$error":"#DIV/0!"},{"$error":"#DIV/0!"},{"$error":"#DIV/0!"},{"$error":"#DIV/0!"},{"$error":"#DIV/0!"}]
[null,null,20,514.52251642601016,{"$f":"Klimaatscenario!M27","v":103.6881315727241},{"$error":"#DIV/0!"},{"$error":"#DIV/0!"},{"$error":"#DIV/0!"},{"$error":"#DIV/0!"},{"$error":"#DIV/0!"},{"$error":"#DIV/0!"},{"$error":"#DIV/0!"},{"$error":"#DIV/0!"},{"$error":"#DIV/0!"},{"$error":"#DIV/0!"},{"$error":"#DIV/0!"},{"$error":"#DIV/0!"},{"$error":"#DIV/0!"},{"$error":"#DIV/0!"},{"$error":"#DIV/0!"},{"$error":"#DIV/0!"},{"$error":"#DIV/0!"},{"$error":"#DIV/0!"},{"$error":"#DIV/0!"},{"$error":"#DIV/0!"},null,20,607.42676088195208,{"$f":"Klimaatscenario!N27","v":119.35166348874687},{"$error":"#DIV/0!"},{"$error":"#DIV/0!"},{"$error":"#DIV/0!"},{"$error":"#DIV/0!"},{"$error":"#DIV/0!"},{"$error":"#DIV/0!"},{"$error":"#DIV/0!"},{"$error":"#DIV/0!"},{"$error":"#DIV/0!"},{"$error":"#DIV/0!"},{"$error":"#DIV/0!"},{"$error":"#DIV/0!"},{"$error":"#DIV/0!"},{"$error":"#DIV/0!"},{"$error":"#DIV/0!"},{"$error":"#DIV/0!"},{"$error":"#DIV/0!"},{"$error":"#DIV/0!"},{"$error":"#DIV/0!"},{"$error":"#DIV/0!"}]
[null,null,21,514.52251642601254,{"$f":"Klimaatscenario!M28","v":106.77526667128018},{"$error":"#DIV/0!"},{"$error":"#DIV/0!"},{"$error":"#DIV/0!"},{"$error":"#DIV/0!"},{"$error":"#DIV/0!"},{"$error":"#DIV/0!"},{"$error":"#DIV/0!"},{"$error":"#DIV/0!"},{"$error":"#DIV/0!"},{"$error":"#DIV/0!"},{"$error":"#DIV/0!"},{"$error":"#DIV/0!"},{"$error":"#DIV/0!"},{"$error":"#DIV/0!"},{"$error":"#DIV/0!"},{"$error":"#DIV/0!"},{"$error":"#DIV/0!"},{"$error":"#DIV/0!"},{"$error":"#DIV/0!"},{"$error":"#DIV/0!"},null,21,607.42676088195208,{"$f":"Klimaatscenario!N28","v":122.99622405403858},{"$error":"#DIV/0!"},{"$error":"#DIV/0!"},{"$error":"#DIV/0!"},{"$error":"#DIV/0!"},{"$error":"#DIV/0!"},{"$error":"#DIV/0!"},{"$error":"#DIV/0!"},{"$error":"#DIV/0!"},{"$error":"#DIV/0!"},{"$error":"#DIV/0!"},{"$error":"#DIV/0!"},{"$error":"#DIV/0!"},{"$error":"#DIV/0!"},{"$error":"#DIV/0!"},{"$error":"#DIV/0!"},{"$error":"#DIV/0!"},{"$error":"#DIV/0!"},{"$error":"#DIV/0!"},{"$error":"#DIV/0!"},{"$error":"#DIV/0!"}]
[null,null,22,514.52251642601254,{"$f":"Klimaatscenario!M29","v":109.86240176983625},{"$error":"#DIV/0!"},{"$error":"#DIV/0!"},{"$error":"#DIV/0!"},{"$error":"#DIV/0!"},{"$error":"#DIV/0!"},{"$error":"#DIV/0!"},{"$error":"#DIV/0!"},{"$error":"#DIV/0!"},{"$error":"#DIV/0!"},{"$error":"#DIV/0!"},{"$error":"#DIV/0!"},{"$error":"#DIV/0!"},{"$error":"#DIV/0!"},{"$error":"#DIV/0!"},{"$error":"#DIV/0!"},{"$error":"#DIV/0!"},{"$error":"#DIV/0!"},{"$error":"#DIV/0!"},{"$error":"#DIV/0!"},{"$error":"#DIV/0!"},null,22,607.42676088195208,{"$f":"Klimaatscenario!N29","v":126.64078461933029},{"$error":"#DIV/0!"},{"$error":"#DIV/0!"},{"$error":"#DIV/0!"},{"$error":"#DIV/0!"},{"$error":"#DIV/0!"},{"$error":"#DIV/0!"},{"$error":"#DIV/0!"},{"$error":"#DIV/0!"},{"$error":"#DIV/0!"},{"$error":"#DIV/0!"},{"$error":"#DIV/0!"},{"$error":"#DIV/0!"},{"$error":"#DIV/0!"},{"$error":"#DIV/0!"},{"$error":"#DIV/0!"},{"$error":"#DIV/0!"},{"$error":"#DIV/0!"},{"$error":"#DIV/0!"},{"$error":"#DIV/0!"},{"$error":"#DIV/0!"}]
[null,null,23,514.52251642601254,{"$f":"Klimaatscenario!M30","v":112.94953686839233},{"$error":"#DIV/0!"},{"$error":"#DIV/0!"},{"$error":"#DIV/0!"},{"$error":"#DIV/0!"},{"$error":"#DIV/0!"},{"$error":"#DIV/0!"},{"$error":"#DIV/0!"},{"$error":"#DIV/0!"},{"$error":"#DIV/0!"},{"$error":"#DIV/0!"},{"$error":"#DIV/0!"},{"$error":"#DIV/0!"},{"$error":"#DIV/0!"},{"$error":"#DIV/0!"},{"$error":"#DIV/0!"},{"$error":"#DIV/0!"},{"$error":"#DIV/0!"},{"$error":"#DIV/0!"},{"$error":"#DIV/0!"},{"$error":"#DIV/0!"},null,23,607.42676088195208,{"$f":"Klimaatscenario!N30","v":130.285345184622},{"$error":"#DIV/0!"},{"$error":"#DIV/0!"},{"$error":"#DIV/0!"},{"$error":"#DIV/0!"},{"$error":"#DIV/0!"},{"$error":"#DIV/0!"},{"$error":"#DIV/0!"},{"$error":"#DIV/0!"},{"$error":"#DIV/0!"},{"$error":"#DIV/0!"},{"$error":"#DIV/0!"},{"$error":"#DIV/0!"},{"$error":"#DIV/0!"},{"$error":"#DIV/0!"},{"$error":"#DIV/0!"},{"$error":"#DIV/0!"},{"$error":"#DIV/0!"},{"$error":"#DIV/0!"},{"$error":"#DIV/0!"},{"$error":"#DIV/0!"}]
[null,null,24,514.52251642601016,{"$f":"Klimaatscenario!M31","v":116.03667196694839},{"$error":"#DIV/0!"},{"$error":"#DIV/0!"},{"$error":"#DIV/0!"},{"$error":"#DIV/0!"},{"$error":"#DIV/0!"},{"$error":"#DIV/0!"},{"$error":"#DIV/0!"},{"$error":"#DIV/0!"},{"$error":"#DIV/0!"},{"$error":"#DIV/0!"},{"$error":"#DIV/0!"},{"$error":"#DIV/0!"},{"$error":"#DIV/0!"},{"$error":"#DIV/0!"},{"$error":"#DIV/0!"},{"$error":"#DIV/0!"},{"$error":"#DIV/0!"},{"$error":"#DIV/0!"},{"$error":"#DIV/0!"},{"$error":"#DIV/0!"},null,24,607.42676088194969,{"$f":"Klimaatscenario!N31","v":133.9299057499137},{"$error":"#DIV/0!"},{"$error":"#DIV/0!"},{"$error":"#DIV/0!"},{"$error":"#DIV/0!"},{"$error":"#DIV/0!"},{"$error":"#DIV/0!"},{"$error":"#DIV/0!"},{"$error":"#DIV/0!"},{"$error":"#DIV/0!"},{"$error":"#DIV/0!"},{"$error":"#DIV/0!"},{"$error":"#DIV/0!"},{"$error":"#DIV/0!"},{"$error":"#DIV/0!"},{"$error":"#DIV/0!"},{"$error":"#DIV/0!"},{"$error":"#DIV/0!"},{"$error":"#DIV/0!"},{"$error":"#DIV/0!"},{"$error":"#DIV/0!"}]
[null,null,25,514.52251642601016,{"$f":"Klimaatscenario!M32","v":119.12380706550445},{"$error":"#DIV/0!"},{"$error":"#DIV/0!"},{"$error":"#DIV/0!"},{"$error":"#DIV/0!"},{"$error":"#DIV/0!"},{"$error":"#DIV/0!"},{"$error":"#DIV/0!"},{"$error":"#DIV/0!"},{"$error":"#DIV/0!"},{"$error":"#DIV/0!"},{"$error":"#DIV/0!"},{"$error":"#DIV/0!"},{"$error":"#DIV/0!"},{"$error":"#DIV/0!"},{"$error":"#DIV/0!"},{"$error":"#DIV/0!"},{"$error":"#DIV/0!"},{"$error":"#DIV/0!"},{"$error":"#DIV/0!"},{"$error":"#DIV/0!"},null,25,607.42676088195435,{"$f":"Klimaatscenario!N32","v":137.57446631520543},{"$error":"#DIV/0!"},{"$error":"#DIV/0!"},{"$error":"#DIV/0!"},{"$error":"#DIV/0!"},{"$error":"#DIV/0!"},{"$error":"#DIV/0!"},{"$error":"#DIV/0!"},{"$error":"#DIV/0!"},{"$error":"#DIV/0!"},{"$error":"#DIV/0!"},{"$error":"#DIV/0!"},{"$error":"#DIV/0!"},{"$error":"#DIV/0!"},{"$error":"#DIV/0!"},{"$error":"#DIV/0!"},{"$error":"#DIV/0!"},{"$error":"#DIV/0!"},{"$error":"#DIV/0!"},{"$error":"#DIV/0!"},{"$error":"#DIV/0!"}]
[null,null,26,514.52251642601254,{"$f":"Klimaatscenario!M33","v":122.21094216406053},{"$error":"#DIV/0!"},{"$error":"#DIV/0!"},{"$error":"#DIV/0!"},{"$error":"#DIV/0!"},{"$error":"#DIV/0!"},{"$error":"#DIV/0!"},{"$error":"#DIV/0!"},{"$error":"#DIV/0!"},{"$error":"#DIV/0!"},{"$error":"#DIV/0!"},{"$error":"#DIV/0!"},{"$error":"#DIV/0!"},{"$error":"#DIV/0!"},{"$error":"#DIV/0!"},{"$error":"#DIV/0!"},{"$error":"#DIV/0!"},{"$error":"#DIV/0!"},{"$error":"#DIV/0!"},{"$error":"#DIV/0!"},{"$error":"#DIV/0!"},null,26,607.42676088194969,{"$f":"Klimaatscenario!N33","v":141.21902688049713},{"$error":"#DIV/0!"},{"$error":"#DIV/0!"},{"$error":"#DIV/0!"},{"$error":"#DIV/0!"},{"$error":"#DIV/0!"},{"$error":"#DIV/0!"},{"$error":"#DIV/0!"},{"$error":"#DIV/0!"},{"$error":"#DIV/0!"},{"$error":"#DIV/0!"},{"$error":"#DIV/0!"},{"$error":"#DIV/0!"},{"$error":"#DIV/0!"},{"$error":"#DIV/0!"},{"$error":"#DIV/0!"},{"$error":"#DIV/0!"},{"$error":"#DIV/0!"},{"$error":"#DIV/0!"},{"$error":"#DIV/0!"},{"$error":"#DIV/0!"}]
[null,null,27,514.52251642601254,{"$f":"Klimaatscenario!M34","v":125.2980772626166},{"$error":"#DIV/0!"},{"$error":"#DIV/0!"},{"$error":"#DIV/0!"},{"$error":"#DIV/0!"},{"$error":"#DIV/0!"},{"$error":"#DIV/0!"},{"$error":"#DIV/0!"},{"$error":"#DIV/0!"},{"$error":"#DIV/0!"},{"$error":"#DIV/0!"},{"$error":"#DIV/0!"},{"$error":"#DIV/0!"},{"$error":"#DIV/0!"},{"$error":"#DIV/0!"},{"$error":"#DIV/0!"},{"$error":"#DIV/0!"},{"$error":"#DIV/0!"},{"$error":"#DIV/0!"},{"$error":"#DIV/0!"},{"$error":"#DIV/0!"},null,27,607.42676088195435,{"$f":"Klimaatscenario!N34","v":144.86358744578885},{"$error":"#DIV/0!"},{"$error":"#DIV/0!"},{"$error":"#DIV/0!"},{"$error":"#DIV/0!"},{"$error":"#DIV/0!"},{"$error":"#DIV/0!"},{"$error":"#DIV/0!"},{"$error":"#DIV/0!"},{"$error":"#DIV/0!"},{"$error":"#DIV/0!"},{"$error":"#DIV/0!"},{"$error":"#DIV/0!"},{"$error":"#DIV/0!"},{"$error":"#DIV/0!"},{"$error":"#DIV/0!"},{"$error":"#DIV/0!"},{"$error":"#DIV/0!"},{"$error":"#DIV/0!"},{"$error":"#DIV/0!"},{"$error":"#DIV/0!"}]
[null,null,28,514.52251642600777,{"$f":"Klimaatscenario!M35","v":128.38521236117265},{"$error":"#DIV/0!"},{"$error":"#DIV/0!"},{"$error":"#DIV/0!"},{"$error":"#DIV/0!"},{"$error":"#DIV/0!"},{"$error":"#DIV/0!"},{"$error":"#DIV/0!"},{"$error":"#DIV/0!"},{"$error":"#DIV/0!"},{"$error":"#DIV/0!"},{"$error":"#DIV/0!"},{"$error":"#DIV/0!"},{"$error":"#DIV/0!"},{"$error":"#DIV/0!"},{"$error":"#DIV/0!"},{"$error":"#DIV/0!"},{"$error":"#DIV/0!"},{"$error":"#DIV/0!"},{"$error":"#DIV/0!"},{"$error":"#DIV/0!"},null,28,607.42676088194969,{"$f":"Klimaatscenario!N35","v":148.50814801108055},{"$error":"#DIV/0!"},{"$error":"#DIV/0!"},{"$error":"#DIV/0!"},{"$error":"#DIV/0!"},{"$error":"#DIV/0!"},{"$error":"#DIV/0!"},{"$error":"#DIV/0!"},{"$error":"#DIV/0!"},{"$error":"#DIV/0!"},{"$error":"#DIV/0!"},{"$error":"#DIV/0!"},{"$error":"#DIV/0!"},{"$error":"#DIV/0!"},{"$error":"#DIV/0!"},{"$error":"#DIV/0!"},{"$error":"#DIV/0!"},{"$error":"#DIV/0!"},{"$error":"#DIV/0!"},{"$error":"#DIV/0!"},{"$error":"#DIV/0!"}]
[null,null,29,514.52251642601254,{"$f":"Klimaatscenario!M36","v":131.47234745972872},{"$error":"#DIV/0!"},{"$error":"#DIV/0!"},{"$error":"#DIV/0!"},{"$error":"#DIV/0!"},{"$error":"#DIV/0!"},{"$error":"#DIV/0!"},{"$error":"#DIV/0!"},{"$error":"#DIV/0!"},{"$error":"#DIV/0!"},{"$error":"#DIV/0!"},{"$error":"#DIV/0!"},{"$error":"#DIV/0!"},{"$error":"#DIV/0!"},{"$error":"#DIV/0!"},{"$error":"#DIV/0!"},{"$error":"#DIV/0!"},{"$error":"#DIV/0!"},{"$error":"#DIV/0!"},{"$error":"#DIV/0!"},{"$error":"#DIV/0!"},null,29,607.42676088195435,{"$f":"Klimaatscenario!N36","v":152.15270857637228},{"$error":"#DIV/0!"},{"$error":"#DIV/0!"},{"$error":"#DIV/0!"},{"$error":"#DIV/0!"},{"$error":"#DIV/0!"},{"$error":"#DIV/0!"},{"$error":"#DIV/0!"},{"$error":"#DIV/0!"},{"$error":"#DIV/0!"},{"$error":"#DIV/0!"},{"$error":"#DIV/0!"},{"$error":"#DIV/0!"},{"$error":"#DIV/0!"},{"$error":"#DIV/0!"},{"$error":"#DIV/0!"},{"$error":"#DIV/0!"},{"$error":"#DIV/0!"},{"$error":"#DIV/0!"},{"$error":"#DIV/0!"},{"$error":"#DIV/0!"}]
[null,null,30,514.52251642601254,{"$f":"Klimaatscenario!M37","v":134.5594825582848},{"$error":"#DIV/0!"},{"$error":"#DIV/0!"},{"$error":"#DIV/0!"},{"$error":"#DIV/0!"},{"$error":"#DIV/0!"},{"$error":"#DIV/0!"},{"$error":"#DIV/0!"},{"$error":"#DIV/0!"},{"$error":"#DIV/0!"},{"$error":"#DIV/0!"},{"$error":"#DIV/0!"},{"$error":"#DIV/0!"},{"$error":"#DIV/0!"},{"$error":"#DIV/0!"},{"$error":"#DIV/0!"},{"$error":"#DIV/0!"},{"$error":"#DIV/0!"},{"$error":"#DIV/0!"},{"$error":"#DIV/0!"},{"$error":"#DIV/0!"},null,30,607.42676088194969,{"$f":"Klimaatscenario!N37","v":155.79726914166397},{"$error":"#DIV/0!"},{"$error":"#DIV/0!"},{"$error":"#DIV/0!"},{"$error":"#DIV/0!"},{"$error":"#DIV/0!"},{"$error":"#DIV/0!"},{"$error":"#DIV/0!"},{"$error":"#DIV/0!"},{"$error":"#DIV/0!"},{"$error":"#DIV/0!"},{"$error":"#DIV/0!"},{"$error":"#DIV/0!"},{"$error":"#DIV/0!"},{"$error":"#DIV/0!"},{"$error":"#DIV/0!"},{"$error":"#DIV/0!"},{"$error":"#DIV/0!"},{"$error":"#DIV/0!"},{"$error":"#DIV/0!"},{"$error":"#DIV/0!"}]
[null,null,31,236.93864620633084,{"$f":"Klimaatscenario!M38","v":135.98111443552278},{"$error":"#DIV/0!"},{"$error":"#DIV/0!"},{"$error":"#DIV/0!"},{"$error":"#DIV/0!"},{"$error":"#DIV/0!"},{"$error":"#DIV/0!"},{"$error":"#DIV/0!"},{"$error":"#DIV/0!"},{"$error":"#DIV/0!"},{"$error":"#DIV/0!"},{"$error":"#DIV/0!"},{"$error":"#DIV/0!"},{"$error":"#DIV/0!"},{"$error":"#DIV/0!"},{"$error":"#DIV/0!"},{"$error":"#DIV/0!"},{"$error":"#DIV/0!"},{"$error":"#DIV/0!"},{"$error":"#DIV/0!"},{"$error":"#DIV/0!"},null,31,279.83632397023916,{"$f":"Klimaatscenario!N38","v":157.47628708548541},{"$error":"#DIV/0!"},{"$error":"#DIV/0!"},{"$error":"#DIV/0!"},{"$error":"#DIV/0!"},{"$error":"#DIV/0!"},{"$error":"#DIV/0!"},{"$error":"#DIV/0!"},{"$error":"#DIV/0!"},{"$error":"#DIV/0!"},{"$error":"#DIV/0!"},{"$error":"#DIV/0!"},{"$error":"#DIV/0!"},{"$error":"#DIV/0!"},{"$error":"#DIV/0!"},{"$error":"#DIV/0!"},{"$error":"#DIV/0!"},{"$error":"#DIV/0!"},{"$error":"#DIV/0!"},{"$error":"#DIV/0!"},{"$error":"#DIV/0!"}]
[null,null,32,236.93864620633559,{"$f":"Klimaatscenario!M39","v":137.4027463127608},{"$error":"#DIV/0!"},{"$error":"#DIV/0!"},{"$error":"#DIV/0!"},{"$f":"($J$768/60)*$C720","v":{"$error":"#DIV/0!"}},{"$f":"$E720-F720-G720-H720-I720","v":{"$error":"#DIV/0!"}},{"$error":"#DIV/0!"},{"$error":"#DIV/0!"},{"$error":"#DIV/0!"},{"$f":"($O$768/60)*$C720","v":{"$error":"#DIV/0!"}},{"$f":"$E720-K720-L720-M720-N720","v":{"$error":"#DIV/0!"}},{"$error":"#DIV/0!"},{"$error":"#DIV/0!"},{"$error":"#DIV/0!"},{"$f":"($T$768/60)*$C720","v":{"$error":"#DIV/0!"}},{"$f":"$E720-P720-Q720-R720-S720","v":{"$error":"#DIV/0!"}},{"$error":"#DIV/0!"},{"$error":"#DIV/0!"},{"$error":"#DIV/0!"},{"$f":"($Y$768/60)*$C720","v":{"$error":"#DIV/0!"}},{"$f":"$E720-U720-V720-W720-X720","v":{"$error":"#DIV/0!"}},null,32,279.83632397024394,{"$f":"Klimaatscenario!N39","v":159.15530502930687},{"$error":"#DIV/0!"},{"$error":"#DIV/0!"},{"$error":"#DIV/0!"},{"$f":"($AH$768/60)*$AA720","v":{"$error":"#DIV/0!"}},{"$f":"$AC720-AD720-AE720-AF720-AG720","v":{"$error":"#DIV/0!"}},{"$error":"#DIV/0!"},{"$error":"#DIV/0!"},{"$error":"#DIV/0!"},{"$f":"($AM$768/60)*$AA720","v":{"$error":"#DIV/0!"}},{"$f":"$AC720-AI720-AJ720-AK720-AL720","v":{"$error":"#DIV/0!"}},{"$error":"#DIV/0!"},{"$error":"#DIV/0!"},{"$error":"#DIV/0!"},{"$f":"($AR$768/60)*$AA720","v":{"$error":"#DIV/0!"}},{"$f":"$AC720-AN720-AO720-AP720-AQ720","v":{"$error":"#DIV/0!"}},{"$error":"#DIV/0!"},{"$error":"#DIV/0!"},{"$error":"#DIV/0!"},{"$f":"($AW$768/60)*$AA720","v":{"$error":"#DIV/0!"}},{"$f":"$AC720-AS720-AT720-AU720-AV720","v":{"$error":"#DIV/0!"}}]
[null,null,33,236.93864620633084,{"$f":"Klimaatscenario!M40","v":138.82437818999878},{"$f":"((J$767*60)/10000)+F720","v":{"$error":"#DIV/0!"}},{"$error":"#DIV/0!"},{"$error":"#DIV/0!"},{"$error":"#DIV/0!"},{"$error":"#DIV/0!"},{"$f":"((O$767*60)/10000)+K720","v":{"$error":"#DIV/0!"}},{"$error":"#DIV/0!"},{"$error":"#DIV/0!"},{"$error":"#DIV/0!"},{"$error":"#DIV/0!"},{"$f":"((T$767*60)/10000)+P720","v":{"$error":"#DIV/0!"}},{"$error":"#DIV/0!"},{"$error":"#DIV/0!"},{"$error":"#DIV/0!"},{"$error":"#DIV/0!"},{"$f":"((Y$767*60)/10000)+U720","v":{"$error":"#DIV/0!"}},{"$error":"#DIV/0!"},{"$error":"#DIV/0!"},{"$error":"#DIV/0!"},{"$error":"#DIV/0!"},null,33,279.83632397023916,{"$f":"Klimaatscenario!N40","v":160.83432297312831},{"$f":"((AH$767*60)/10000)+AD720","v":{"$error":"#DIV/0!"}},{"$error":"#DIV/0!"},{"$error":"#DIV/0!"},{"$error":"#DIV/0!"},{"$error":"#DIV/0!"},{"$f":"((AM$767*60)/10000)+AI720","v":{"$error":"#DIV/0!"}},{"$error":"#DIV/0!"},{"$error":"#DIV/0!"},{"$error":"#DIV/0!"},{"$error":"#DIV/0!"},{"$f":"((AR$767*60)/10000)+AN720","v":{"$error":"#DIV/0!"}},{"$error":"#DIV/0!"},{"$error":"#DIV/0!"},{"$error":"#DIV/0!"},{"$error":"#DIV/0!"},{"$f":"((AW$767*60)/10000)+AS720","v":{"$error":"#DIV/0!"}},{"$error":"#DIV/0!"},{"$error":"#DIV/0!"},{"$error":"#DIV/0!"},{"$error":"#DIV/0!"}]
[null,null,34,236.93864620633084,{"$f":"Klimaatscenario!M41","v":140.24601006723677},{"$error":"#DIV/0!"},{"$error":"#DIV/0!"},{"$error":"#DIV/0!"},{"$error":"#DIV/0!"},{"$error":"#DIV/0!"},{"$error":"#DIV/0!"},{"$error":"#DIV/0!"},{"$error":"#DIV/0!"},{"$error":"#DIV/0!"},{"$error":"#DIV/0!"},{"$error":"#DIV/0!"},{"$error":"#DIV/0!"},{"$error":"#DIV/0!"},{"$error":"#DIV/0!"},{"$error":"#DIV/0!"},{"$error":"#DIV/0!"},{"$error":"#DIV/0!"},{"$error":"#DIV/0!"},{"$error":"#DIV/0!"},{"$error":"#DIV/0!"},null,34,279.83632397023916,{"$f":"Klimaatscenario!N41","v":162.51334091694974},{"$error":"#DIV/0!"},{"$error":"#DIV/0!"},{"$error":"#DIV/0!"},{"$error":"#DIV/0!"},{"$error":"#DIV/0!"},{"$error":"#DIV/0!"},{"$error":"#DIV/0!"},{"$error":"#DIV/0!"},{"$error":"#DIV/0!"},{"$error":"#DIV/0!"},{"$error":"#DIV/0!"},{"$error":"#DIV/0!"},{"$error":"#DIV/0!"},{"$error":"#DIV/0!"},{"$error":"#DIV/0!"},{"$error":"#DIV/0!"},{"$error":"#DIV/0!"},{"$error":"#DIV/0!"},{"$error":"#DIV/0!"},{"$error":"#DIV/0!"}]
[null,null,35,236.93864620633084,{"$f":"Klimaatscenario!M42","v":141.66764194447475},{"$error":"#DIV/0!"},{"$error":"#DIV/0!"},{"$error":"#DIV/0!"},{"$error":"#DIV/0!"},{"$error":"#DIV/0!"},{"$error":"#DIV/0!"},{"$error":"#DIV/0!"},{"$error":"#DIV/0!"},{"$error":"#DIV/0!"},{"$error":"#DIV/0!"},{"$error":"#DIV/0!"},{"$error":"#DIV/0!"},{"$error":"#DIV/0!"},{"$error":"#DIV/0!"},{"$error":"#DIV/0!"},{"$error":"#DIV/0!"},{"$error":"#DIV/0!"},{"$error":"#DIV/0!"},{"$error":"#DIV/0!"},{"$error":"#DIV/0!"},null,35,279.83632397024394,{"$f":"Klimaatscenario!N42","v":164.19235886077121},{"$error":"#DIV/0!"},{"$error":"#DIV/0!"},{"$error":"#DIV/0!"},{"$error":"#DIV/0!"},{"$error":"#DIV/0!"},{"$error":"#DIV/0!"},{"$error":"#DIV/0!"},{"$error":"#DIV/0!"},{"$error":"#DIV/0!"},{"$error":"#DIV/0!"},{"$error":"#DIV/0!"},{"$error":"#DIV/0!"},{"$error":"#DIV/0!"},{"$error":"#DIV/0!"},{"$error":"#DIV/0!"},{"$error":"#DIV/0!"},{"$error":"#DIV/0!"},{"$error":"#DIV/0!"},{"$error":"#DIV/0!"},{"$error":"#DIV/0!"}]
[null,null,36,236.93864620633559,{"$f":"Klimaatscenario!M43","v":143.08927382171277},{"$error":"#DIV/0!"},{"$error":"#DIV/0!"},{"$error":"#DIV/0!"},{"$error":"#DIV/0!"},{"$error":"#DIV/0!"},{"$error":"#DIV/0!"},{"$error":"#DIV/0!"},{"$error":"#DIV/0!"},{"$error":"#DIV/0!"},{"$error":"#DIV/0!"},{"$error":"#DIV/0!"},{"$error":"#DIV/0!"},{"$error":"#DIV/0!"},{"$error":"#DIV/0!"},{"$error":"#DIV/0!"},{"$error":"#DIV/0!"},{"$error":"#DIV/0!"},{"$error":"#DIV/0!"},{"$error":"#DIV/0!"},{"$error":"#DIV/0!"},null,36,279.83632397023916,{"$f":"Klimaatscenario!N43","v":165.87137680459264},{"$error":"#DIV/0!"},{"$error":"#DIV/0!"},{"$error":"#DIV/0!"},{"$error":"#DIV/0!"},{"$error":"#DIV/0!"},{"$error":"#DIV/0!"},{"$error":"#DIV/0!"},{"$error":"#DIV/0!"},{"$error":"#DIV/0!"},{"$error":"#DIV/0!"},{"$error":"#DIV/0!"},{"$error":"#DIV/0!"},{"$error":"#DIV/0!"},{"$error":"#DIV/0!"},{"$error":"#DIV/0!"},{"$error":"#DIV/0!"},{"$error":"#DIV/0!"},{"$error":"#DIV/0!"},{"$error":"#DIV/0!"},{"$error":"#DIV/0!"}]
[null,null,37,{"$f":"((((((E725-E724)/(C725-C724))/60)/1000)*10000)*1000)","v":236.93864620633084},{"$f":"Klimaatscenario!M44","v":144.51090569895075},{"$error":"#DIV/0!"},{"$error":"#DIV/0!"},{"$error":"#DIV/0!"},{"$error":"#DIV/0!"},{"$error":"#DIV/0!"},{"$error":"#DIV/0!"},{"$error":"#DIV/0!"},{"$error":"#DIV/0!"},{"$error":"#DIV/0!"},{"$error":"#DIV/0!"},{"$error":"#DIV/0!"},{"$error":"#DIV/0!"},{"$error":"#DIV/0!"},{"$error":"#DIV/0!"},{"$error":"#DIV/0!"},{"$error":"#DIV/0!"},{"$error":"#DIV/0!"},{"$error":"#DIV/0!"},{"$error":"#DIV/0!"},{"$error":"#DIV/0!"},null,37,{"$f":"((((((AC725-AC724)/(AA725-AA724))/60)/1000)*10000)*1000)","v":279.83632397023916},{"$f":"Klimaatscenario!N44","v":167.55039474841408},{"$error":"#DIV/0!"},{"$error":"#DIV/0!"},{"$error":"#DIV/0!"},{"$error":"#DIV/0!"},{"$error":"#DIV/0!"},{"$error":"#DIV/0!"},{"$error":"#DIV/0!"},{"$error":"#DIV/0!"},{"$error":"#DIV/0!"},{"$error":"#DIV/0!"},{"$error":"#DIV/0!"},{"$error":"#DIV/0!"},{"$error":"#DIV/0!"},{"$error":"#DIV/0!"},{"$error":"#DIV/0!"},{"$error":"#DIV/0!"},{"$error":"#DIV/0!"},{"$error":"#DIV/0!"},{"$error":"#DIV/0!"},{"$error":"#DIV/0!"}]
[null,null,38,236.93864620633084,{"$f":"Klimaatscenario!M45","v":145.93253757618874},{"$error":"#DIV/0!"},{"$error":"#DIV/0!"},{"$error":"#DIV/0!"},{"$error":"#DIV/0!"},{"$error":"#DIV/0!"},{"$error":"#DIV/0!"},{"$error":"#DIV/0!"},{"$error":"#DIV/0!"},{"$error":"#DIV/0!"},{"$error":"#DIV/0!"},{"$error":"#DIV/0!"},{"$error":"#DIV/0!"},{"$error":"#DIV/0!"},{"$error":"#DIV/0!"},{"$error":"#DIV/0!"},{"$error":"#DIV/0!"},{"$error":"#DIV/0!"},{"$error":"#DIV/0!"},{"$error":"#DIV/0!"},{"$error":"#DIV/0!"},null,38,279.83632397023916,{"$f":"Klimaatscenario!N45","v":169.22941269223551},{"$error":"#DIV/0!"},{"$error":"#DIV/0!"},{"$error":"#DIV/0!"},{"$error":"#DIV/0!"},{"$error":"#DIV/0!"},{"$error":"#DIV/0!"},{"$error":"#DIV/0!"},{"$error":"#DIV/0!"},{"$error":"#DIV/0!"},{"$error":"#DIV/0!"},{"$error":"#DIV/0!"},{"$error":"#DIV/0!"},{"$error":"#DIV/0!"},{"$error":"#DIV/0!"},{"$error":"#DIV/0!"},{"$error":"#DIV/0!"},{"$error":"#DIV/0!"},{"$error":"#DIV/0!"},{"$error":"#DIV/0!"},{"$error":"#DIV/0!"}]
[null,null,39,236.93864620633084,{"$f":"Klimaatscenario!M46","v":147.35416945342672},{"$error":"#DIV/0!"},{"$error":"#DIV/0!"},{"$error":"#DIV/0!"},{"$error":"#DIV/0!"},{"$error":"#DIV/0!"},{"$error":"#DIV/0!"},{"$error":"#DIV/0!"},{"$error":"#DIV/0!"},{"$error":"#DIV/0!"},{"$error":"#DIV/0!"},{"$error":"#DIV/0!"},{"$error":"#DIV/0!"},{"$error":"#DIV/0!"},{"$error":"#DIV/0!"},{"$error":"#DIV/0!"},{"$error":"#DIV/0!"},{"$error":"#DIV/0!"},{"$error":"#DIV/0!"},{"$error":"#DIV/0!"},{"$error":"#DIV/0!"},null,39,279.83632397024394,{"$f":"Klimaatscenario!N46","v":170.90843063605698},{"$error":"#DIV/0!"},{"$error":"#DIV/0!"},{"$error":"#DIV/0!"},{"$error":"#DIV/0!"},{"$error":"#DIV/0!"},{"$error":"#DIV/0!"},{"$error":"#DIV/0!"},{"$error":"#DIV/0!"},{"$error":"#DIV/0!"},{"$error":"#DIV/0!"},{"$error":"#DIV/0!"},{"$error":"#DIV/0!"},{"$error":"#DIV/0!"},{"$error":"#DIV/0!"},{"$error":"#DIV/0!"},{"$error":"#DIV/0!"},{"$error":"#DIV/0!"},{"$error":"#DIV/0!"},{"$error":"#DIV/0!"},{"$error":"#DIV/0!"}]
[null,null,40,236.93864620633559,{"$f":"Klimaatscenario!M47","v":148.77580133066473},{"$error":"#DIV/0!"},{"$error":"#DIV/0!"},{"$error":"#DIV/0!"},{"$error":"#DIV/0!"},{"$error":"#DIV/0!"},{"$error":"#DIV/0!"},{"$error":"#DIV/0!"},{"$error":"#DIV/0!"},{"$error":"#DIV/0!"},{"$error":"#DIV/0!"},{"$error":"#DIV/0!"},{"$error":"#DIV/0!"},{"$error":"#DIV/0!"},{"$error":"#DIV/0!"},{"$error":"#DIV/0!"},{"$error":"#DIV/0!"},{"$error":"#DIV/0!"},{"$error":"#DIV/0!"},{"$error":"#DIV/0!"},{"$error":"#DIV/0!"},null,40,279.83632397023916,{"$f":"Klimaatscenario!N47","v":172.58744857987841},{"$error":"#DIV/0!"},{"$error":"#DIV/0!"},{"$error":"#DIV/0!"},{"$error":"#DIV/0!"},{"$error":"#DIV/0!"},{"$error":"#DIV/0!"},{"$error":"#DIV/0!"},{"$error":"#DIV/0!"},{"$error":"#DIV/0!"},{"$error":"#DIV/0!"},{"$error":"#DIV/0!"},{"$error":"#DIV/0!"},{"$error":"#DIV/0!"},{"$error":"#DIV/0!"},{"$error":"#DIV/0!"},{"$error":"#DIV/0!"},{"$error":"#DIV/0!"},{"$error":"#DIV/0!"},{"$error":"#DIV/0!"},{"$error":"#DIV/0!"}]
[null,null,41,236.93864620633084,{"$f":"Klimaatscenario!M48","v":150.19743320790272},{"$error":"#DIV/0!"},{"$error":"#DIV/0!"},{"$error":"#DIV/0!"},{"$error":"#DIV/0!"},{"$error":"#DIV/0!"},{"$error":"#DIV/0!"},{"$error":"#DIV/0!"},{"$error":"#DIV/0!"},{"$error":"#DIV/0!"},{"$error":"#DIV/0!"},{"$error":"#DIV/0!"},{"$error":"#DIV/0!"},{"$error":"#DIV/0!"},{"$error":"#DIV/0!"},{"$error":"#DIV/0!"},{"$error":"#DIV/0!"},{"$error":"#DIV/0!"},{"$error":"#DIV/0!"},{"$error":"#DIV/0!"},{"$error":"#DIV/0!"},null,41,279.83632397023916,{"$f":"Klimaatscenario!N48","v":174.26646652369985},{"$error":"#DIV/0!"},{"$error":"#DIV/0!"},{"$error":"#DIV/0!"},{"$error":"#DIV/0!"},{"$error":"#DIV/0!"},{"$error":"#DIV/0!"},{"$error":"#DIV/0!"},{"$error":"#DIV/0!"},{"$error":"#DIV/0!"},{"$error":"#DIV/0!"},{"$error":"#DIV/0!"},{"$error":"#DIV/0!"},{"$error":"#DIV/0!"},{"$error":"#DIV/0!"},{"$error":"#DIV/0!"},{"$error":"#DIV/0!"},{"$error":"#DIV/0!"},{"$error":"#DIV/0!"},{"$error":"#DIV/0!"},{"$error":"#DIV/0!"}]
[null,null,42,236.93864620633084,{"$f":"Klimaatscenario!M49","v":151.6190650851407},{"$error":"#DIV/0!"},{"$error":"#DIV/0!"},{"$error":"#DIV/0!"},{"$error":"#DIV/0!"},{"$error":"#DIV/0!"},{"$error":"#DIV/0!"},{"$error":"#DIV/0!"},{"$error":"#DIV/0!"},{"$error":"#DIV/0!"},{"$error":"#DIV/0!"},{"$error":"#DIV/0!"},{"$error":"#DIV/0!"},{"$error":"#DIV/0!"},{"$error":"#DIV/0!"},{"$error":"#DIV/0!"},{"$error":"#DIV/0!"},{"$error":"#DIV/0!"},{"$error":"#DIV/0!"},{"$error":"#DIV/0!"},{"$error":"#DIV/0!"},null,42,279.83632397023916,{"$f":"Klimaatscenario!N49","v":175.94548446752128},{"$error":"#DIV/0!"},{"$error":"#DIV/0!"},{"$error":"#DIV/0!"},{"$error":"#DIV/0!"},{"$error":"#DIV/0!"},{"$error":"#DIV/0!"},{"$error":"#DIV/0!"},{"$error":"#DIV/0!"},{"$error":"#DIV/0!"},{"$error":"#DIV/0!"},{"$error":"#DIV/0!"},{"$error":"#DIV/0!"},{"$error":"#DIV/0!"},{"$error":"#DIV/0!"},{"$error":"#DIV/0!"},{"$error":"#DIV/0!"},{"$error":"#DIV/0!"},{"$error":"#DIV/0!"},{"$error":"#DIV/0!"},{"$error":"#DIV/0!"}]
[null,null,43,236.93864620633559,{"$f":"Klimaatscenario!M50","v":153.04069696237872},{"$error":"#DIV/0!"},{"$error":"#DIV/0!"},{"$error":"#DIV/0!"},{"$error":"#DIV/0!"},{"$error":"#DIV/0!"},{"$error":"#DIV/0!"},{"$error":"#DIV/0!"},{"$error":"#DIV/0!"},{"$error":"#DIV/0!"},{"$error":"#DIV/0!"},{"$error":"#DIV/0!"},{"$error":"#DIV/0!"},{"$error":"#DIV/0!"},{"$error":"#DIV/0!"},{"$error":"#DIV/0!"},{"$error":"#DIV/0!"},{"$error":"#DIV/0!"},{"$error":"#DIV/0!"},{"$error":"#DIV/0!"},{"$error":"#DIV/0!"},null,43,279.83632397024394,{"$f":"Klimaatscenario!N50","v":177.62450241134275},{"$error":"#DIV/0!"},{"$error":"#DIV/0!"},{"$error":"#DIV/0!"},{"$error":"#DIV/0!"},{"$error":"#DIV/0!"},{"$error":"#DIV/0!"},{"$error":"#DIV/0!"},{"$error":"#DIV/0!"},{"$error":"#DIV/0!"},{"$error":"#DIV/0!"},{"$error":"#DIV/0!"},{"$error":"#DIV/0!"},{"$error":"#DIV/0!"},{"$error":"#DIV/0!"},{"$error":"#DIV/0!"},{"$error":"#DIV/0!"},{"$error":"#DIV/0!"},{"$error":"#DIV/0!"},{"$error":"#DIV/0!"},{"$error":"#DIV/0!"}]
[null,null,44,236.93864620633084,{"$f":"Klimaatscenario!M51","v":154.4623288396167},{"$error":"#DIV/0!"},{"$error":"#DIV/0!"},{"$error":"#DIV/0!"},{"$error":"#DIV/0!"},{"$error":"#DIV/0!"},{"$error":"#DIV/0!"},{"$error":"#DIV/0!"},{"$error":"#DIV/0!"},{"$error":"#DIV/0!"},{"$error":"#DIV/0!"},{"$error":"#DIV/0!"},{"$error":"#DIV/0!"},{"$error":"#DIV/0!"},{"$error":"#DIV/0!"},{"$error":"#DIV/0!"},{"$error":"#DIV/0!"},{"$error":"#DIV/0!"},{"$error":"#DIV/0!"},{"$error":"#DIV/0!"},{"$error":"#DIV/0!"},null,44,279.83632397023916,{"$f":"Klimaatscenario!N51","v":179.30352035516418},{"$error":"#DIV/0!"},{"$error":"#DIV/0!"},{"$error":"#DIV/0!"},{"$error":"#DIV/0!"},{"$error":"#DIV/0!"},{"$error":"#DIV/0!"},{"$error":"#DIV/0!"},{"$error":"#DIV/0!"},{"$error":"#DIV/0!"},{"$error":"#DIV/0!"},{"$error":"#DIV/0!"},{"$error":"#DIV/0!"},{"$error":"#DIV/0!"},{"$error":"#DIV/0!"},{"$error":"#DIV/0!"},{"$error":"#DIV/0!"},{"$error":"#DIV/0!"},{"$error":"#DIV/0!"},{"$error":"#DIV/0!"},{"$error":"#DIV/0!"}]
[null,null,45,236.93864620633084,{"$f":"Klimaatscenario!M52","v":155.88396071685469},{"$error":"#DIV/0!"},{"$error":"#DIV/0!"},{"$error":"#DIV/0!"},{"$error":"#DIV/0!"},{"$error":"#DIV/0!"},{"$error":"#DIV/0!"},{"$error":"#DIV/0!"},{"$error":"#DIV/0!"},{"$error":"#DIV/0!"},{"$error":"#DIV/0!"},{"$error":"#DIV/0!"},{"$error":"#DIV/0!"},{"$error":"#DIV/0!"},{"$error":"#DIV/0!"},{"$error":"#DIV/0!"},{"$error":"#DIV/0!"},{"$error":"#DIV/0!"},{"$error":"#DIV/0!"},{"$error":"#DIV/0!"},{"$error":"#DIV/0!"},null,45,279.83632397023916,{"$f":"Klimaatscenario!N52","v":180.98253829898562},{"$error":"#DIV/0!"},{"$error":"#DIV/0!"},{"$error":"#DIV/0!"},{"$error":"#DIV/0!"},{"$error":"#DIV/0!"},{"$error":"#DIV/0!"},{"$error":"#DIV/0!"},{"$error":"#DIV/0!"},{"$error":"#DIV/0!"},{"$error":"#DIV/0!"},{"$error":"#DIV/0!"},{"$error":"#DIV/0!"},{"$error":"#DIV/0!"},{"$error":"#DIV/0!"},{"$error":"#DIV/0!"},{"$error":"#DIV/0!"},{"$error":"#DIV/0!"},{"$error":"#DIV/0!"},{"$error":"#DIV/0!"},{"$error":"#DIV/0!"}]
[null,null,46,236.93864620633084,{"$f":"Klimaatscenario!M53","v":157.30559259409267},{"$error":"#DIV/0!"},{"$error":"#DIV/0!"},{"$error":"#DIV/0!"},{"$error":"#DIV/0!"},{"$error":"#DIV/0!"},{"$error":"#DIV/0!"},{"$error":"#DIV/0!"},{"$error":"#DIV/0!"},{"$error":"#DIV/0!"},{"$error":"#DIV/0!"},{"$error":"#DIV/0!"},{"$error":"#DIV/0!"},{"$error":"#DIV/0!"},{"$error":"#DIV/0!"},{"$error":"#DIV/0!"},{"$error":"#DIV/0!"},{"$error":"#DIV/0!"},{"$error":"#DIV/0!"},{"$error":"#DIV/0!"},{"$error":"#DIV/0!"},null,46,279.83632397024394,{"$f":"Klimaatscenario!N53","v":182.66155624280708},{"$error":"#DIV/0!"},{"$error":"#DIV/0!"},{"$error":"#DIV/0!"},{"$error":"#DIV/0!"},{"$error":"#DIV/0!"},{"$error":"#DIV/0!"},{"$error":"#DIV/0!"},{"$error":"#DIV/0!"},{"$error":"#DIV/0!"},{"$error":"#DIV/0!"},{"$error":"#DIV/0!"},{"$error":"#DIV/0!"},{"$error":"#DIV/0!"},{"$error":"#DIV/0!"},{"$error":"#DIV/0!"},{"$error":"#DIV/0!"},{"$error":"#DIV/0!"},{"$error":"#DIV/0!"},{"$error":"#DIV/0!"},{"$error":"#DIV/0!"}]
[null,null,47,236.93864620633084,{"$f":"Klimaatscenario!M54","v":158.72722447133066},{"$error":"#DIV/0!"},{"$error":"#DIV/0!"},{"$error":"#DIV/0!"},{"$error":"#DIV/0!"},{"$error":"#DIV/0!"},{"$error":"#DIV/0!"},{"$error":"#DIV/0!"},{"$error":"#DIV/0!"},{"$error":"#DIV/0!"},{"$error":"#DIV/0!"},{"$error":"#DIV/0!"},{"$error":"#DIV/0!"},{"$error":"#DIV/0!"},{"$error":"#DIV/0!"},{"$error":"#DIV/0!"},{"$error":"#DIV/0!"},{"$error":"#DIV/0!"},{"$error":"#DIV/0!"},{"$error":"#DIV/0!"},{"$error":"#DIV/0!"},null,47,279.83632397023916,{"$f":"Klimaatscenario!N54","v":184.34057418662852},{"$error":"#DIV/0!"},{"$error":"#DIV/0!"},{"$error":"#DIV/0!"},{"$error":"#DIV/0!"},{"$error":"#DIV/0!"},{"$error":"#DIV/0!"},{"$error":"#DIV/0!"},{"$error":"#DIV/0!"},{"$error":"#DIV/0!"},{"$error":"#DIV/0!"},{"$error":"#DIV/0!"},{"$error":"#DIV/0!"},{"$error":"#DIV/0!"},{"$error":"#DIV/0!"},{"$error":"#DIV/0!"},{"$error":"#DIV/0!"},{"$error":"#DIV/0!"},{"$error":"#DIV/0!"},{"$error":"#DIV/0!"},{"$error":"#DIV/0!"}]
[null,null,48,236.93864620633559,{"$f":"Klimaatscenario!M55","v":160.14885634856867},{"$error":"#DIV/0!"},{"$error":"#DIV/0!"},{"$error":"#DIV/0!"},{"$error":"#DIV/0!"},{"$error":"#DIV/0!"},{"$error":"#DIV/0!"},{"$error":"#DIV/0!"},{"$error":"#DIV/0!"},{"$error":"#DIV/0!"},{"$error":"#DIV/0!"},{"$error":"#DIV/0!"},{"$error":"#DIV/0!"},{"$error":"#DIV/0!"},{"$error":"#DIV/0!"},{"$error":"#DIV/0!"},{"$error":"#DIV/0!"},{"$error":"#DIV/0!"},{"$error":"#DIV/0!"},{"$error":"#DIV/0!"},{"$error":"#DIV/0!"},null,48,279.83632397023916,{"$f":"Klimaatscenario!N55","v":186.01959213044995},{"$error":"#DIV/0!"},{"$error":"#DIV/0!"},{"$error":"#DIV/0!"},{"$error":"#DIV/0!"},{"$error":"#DIV/0!"},{"$error":"#DIV/0!"},{"$error":"#DIV/0!"},{"$error":"#DIV/0!"},{"$error":"#DIV/0!"},{"$error":"#DIV/0!"},{"$error":"#DIV/0!"},{"$error":"#DIV/0!"},{"$error":"#DIV/0!"},{"$error":"#DIV/0!"},{"$error":"#DIV/0!"},{"$error":"#DIV/0!"},{"$error":"#DIV/0!"},{"$error":"#DIV/0!"},{"$error":"#DIV/0!"},{"$error":"#DIV/0!"}]
[null,null,49,236.93864620633084,{"$f":"Klimaatscenario!M56","v":161.57048822580666},{"$error":"#DIV/0!"},{"$error":"#DIV/0!"},{"$error":"#DIV/0!"},{"$error":"#DIV/0!"},{"$error":"#DIV/0!"},{"$error":"#DIV/0!"},{"$error":"#DIV/0!"},{"$error":"#DIV/0!"},{"$error":"#DIV/0!"},{"$error":"#DIV/0!"},{"$error":"#DIV/0!"},{"$error":"#DIV/0!"},{"$error":"#DIV/0!"},{"$error":"#DIV/0!"},{"$error":"#DIV/0!"},{"$error":"#DIV/0!"},{"$error":"#DIV/0!"},{"$error":"#DIV/0!"},{"$error":"#DIV/0!"},{"$error":"#DIV/0!"},null,49,279.83632397024394,{"$f":"Klimaatscenario!N56","v":187.69861007427141},{"$error":"#DIV/0!"},{"$error":"#DIV/0!"},{"$error":"#DIV/0!"},{"$error":"#DIV/0!"},{"$error":"#DIV/0!"},{"$error":"#DIV/0!"},{"$error":"#DIV/0!"},{"$error":"#DIV/0!"},{"$error":"#DIV/0!"},{"$error":"#DIV/0!"},{"$error":"#DIV/0!"},{"$error":"#DIV/0!"},{"$error":"#DIV/0!"},{"$error":"#DIV/0!"},{"$error":"#DIV/0!"},{"$error":"#DIV/0!"},{"$error":"#DIV/0!"},{"$error":"#DIV/0!"},{"$error":"#DIV/0!"},{"$error":"#DIV/0!"}]
[null,null,50,236.93864620633084,{"$f":"Klimaatscenario!M57","v":162.99212010304464},{"$error":"#DIV/0!"},{"$error":"#DIV/0!"},{"$error":"#DIV/0!"},{"$error":"#DIV/0!"},{"$error":"#DIV/0!"},{"$error":"#DIV/0!"},{"$error":"#DIV/0!"},{"$error":"#DIV/0!"},{"$error":"#DIV/0!"},{"$error":"#DIV/0!"},{"$error":"#DIV/0!"},{"$error":"#DIV/0!"},{"$error":"#DIV/0!"},{"$error":"#DIV/0!"},{"$error":"#DIV/0!"},{"$error":"#DIV/0!"},{"$error":"#DIV/0!"},{"$error":"#DIV/0!"},{"$error":"#DIV/0!"},{"$error":"#DIV/0!"},null,50,279.83632397023916,{"$f":"Klimaatscenario!N57","v":189.37762801809285},{"$error":"#DIV/0!"},{"$error":"#DIV/0!"},{"$error":"#DIV/0!"},{"$error":"#DIV/0!"},{"$error":"#DIV/0!"},{"$error":"#DIV/0!"},{"$error":"#DIV/0!"},{"$error":"#DIV/0!"},{"$error":"#DIV/0!"},{"$error":"#DIV/0!"},{"$error":"#DIV/0!"},{"$error":"#DIV/0!"},{"$error":"#DIV/0!"},{"$error":"#DIV/0!"},{"$error":"#DIV/0!"},{"$error":"#DIV/0!"},{"$error":"#DIV/0!"},{"$error":"#DIV/0!"},{"$error":"#DIV/0!"},{"$error":"#DIV/0!"}]
[null,null,51,236.93864620633559,{"$f":"Klimaatscenario!M58","v":164.41375198028265},{"$error":"#DIV/0!"},{"$error":"#DIV/0!"},{"$error":"#DIV/0!"},{"$error":"#DIV/0!"},{"$error":"#DIV/0!"},{"$error":"#DIV/0!"},{"$error":"#DIV/0!"},{"$error":"#DIV/0!"},{"$error":"#DIV/0!"},{"$error":"#DIV/0!"},{"$error":"#DIV/0!"},{"$error":"#DIV/0!"},{"$error":"#DIV/0!"},{"$error":"#DIV/0!"},{"$error":"#DIV/0!"},{"$error":"#DIV/0!"},{"$error":"#DIV/0!"},{"$error":"#DIV/0!"},{"$error":"#DIV/0!"},{"$error":"#DIV/0!"},null,51,279.83632397023916,{"$f":"Klimaatscenario!N58","v":191.05664596191428},{"$error":"#DIV/0!"},{"$error":"#DIV/0!"},{"$error":"#DIV/0!"},{"$error":"#DIV/0!"},{"$error":"#DIV/0!"},{"$error":"#DIV/0!"},{"$error":"#DIV/0!"},{"$error":"#DIV/0!"},{"$error":"#DIV/0!"},{"$error":"#DIV/0!"},{"$error":"#DIV/0!"},{"$error":"#DIV/0!"},{"$error":"#DIV/0!"},{"$error":"#DIV/0!"},{"$error":"#DIV/0!"},{"$error":"#DIV/0!"},{"$error":"#DIV/0!"},{"$error":"#DIV/0!"},{"$error":"#DIV/0!"},{"$error":"#DIV/0!"}]
[null,null,52,236.93864620633084,{"$f":"Klimaatscenario!M59","v":165.83538385752064},{"$error":"#DIV/0!"},{"$error":"#DIV/0!"},{"$error":"#DIV/0!"},{"$error":"#DIV/0!"},{"$error":"#DIV/0!"},{"$error":"#DIV/0!"},{"$error":"#DIV/0!"},{"$error":"#DIV/0!"},{"$error":"#DIV/0!"},{"$error":"#DIV/0!"},{"$error":"#DIV/0!"},{"$error":"#DIV/0!"},{"$error":"#DIV/0!"},{"$error":"#DIV/0!"},{"$error":"#DIV/0!"},{"$error":"#DIV/0!"},{"$error":"#DIV/0!"},{"$error":"#DIV/0!"},{"$error":"#DIV/0!"},{"$error":"#DIV/0!"},null,52,279.83632397024394,{"$f":"Klimaatscenario!N59","v":192.73566390573575},{"$error":"#DIV/0!"},{"$error":"#DIV/0!"},{"$error":"#DIV/0!"},{"$error":"#DIV/0!"},{"$error":"#DIV/0!"},{"$error":"#DIV/0!"},{"$error":"#DIV/0!"},{"$error":"#DIV/0!"},{"$error":"#DIV/0!"},{"$error":"#DIV/0!"},{"$error":"#DIV/0!"},{"$error":"#DIV/0!"},{"$error":"#DIV/0!"},{"$error":"#DIV/0!"},{"$error":"#DIV/0!"},{"$error":"#DIV/0!"},{"$error":"#DIV/0!"},{"$error":"#DIV/0!"},{"$error":"#DIV/0!"},{"$error":"#DIV/0!"}]
[null,null,53,236.93864620633084,{"$f":"Klimaatscenario!M60","v":167.25701573475862},{"$error":"#DIV/0!"},{"$error":"#DIV/0!"},{"$error":"#DIV/0!"},{"$error":"#DIV/0!"},{"$error":"#DIV/0!"},{"$error":"#DIV/0!"},{"$error":"#DIV/0!"},{"$error":"#DIV/0!"},{"$error":"#DIV/0!"},{"$error":"#DIV/0!"},{"$error":"#DIV/0!"},{"$error":"#DIV/0!"},{"$error":"#DIV/0!"},{"$error":"#DIV/0!"},{"$error":"#DIV/0!"},{"$error":"#DIV/0!"},{"$error":"#DIV/0!"},{"$error":"#DIV/0!"},{"$error":"#DIV/0!"},{"$error":"#DIV/0!"},null,53,279.83632397023916,{"$f":"Klimaatscenario!N60","v":194.41468184955718},{"$error":"#DIV/0!"},{"$error":"#DIV/0!"},{"$error":"#DIV/0!"},{"$error":"#DIV/0!"},{"$error":"#DIV/0!"},{"$error":"#DIV/0!"},{"$error":"#DIV/0!"},{"$error":"#DIV/0!"},{"$error":"#DIV/0!"},{"$error":"#DIV/0!"},{"$error":"#DIV/0!"},{"$error":"#DIV/0!"},{"$error":"#DIV/0!"},{"$error":"#DIV/0!"},{"$error":"#DIV/0!"},{"$error":"#DIV/0!"},{"$error":"#DIV/0!"},{"$error":"#DIV/0!"},{"$error":"#DIV/0!"},{"$error":"#DIV/0!"}]
[null,null,54,236.93864620633084,{"$f":"Klimaatscenario!M61","v":168.67864761199661},{"$error":"#DIV/0!"},{"$error":"#DIV/0!"},{"$error":"#DIV/0!"},{"$error":"#DIV/0!"},{"$error":"#DIV/0!"},{"$error":"#DIV/0!"},{"$error":"#DIV/0!"},{"$error":"#DIV/0!"},{"$error":"#DIV/0!"},{"$error":"#DIV/0!"},{"$error":"#DIV/0!"},{"$error":"#DIV/0!"},{"$error":"#DIV/0!"},{"$error":"#DIV/0!"},{"$error":"#DIV/0!"},{"$error":"#DIV/0!"},{"$error":"#DIV/0!"},{"$error":"#DIV/0!"},{"$error":"#DIV/0!"},{"$error":"#DIV/0!"},null,54,279.83632397023916,{"$f":"Klimaatscenario!N61","v":196.09369979337862},{"$error":"#DIV/0!"},{"$error":"#DIV/0!"},{"$error":"#DIV/0!"},{"$error":"#DIV/0!"},{"$error":"#DIV/0!"},{"$error":"#DIV/0!"},{"$error":"#DIV/0!"},{"$error":"#DIV/0!"},{"$error":"#DIV/0!"},{"$error":"#DIV/0!"},{"$error":"#DIV/0!"},{"$error":"#DIV/0!"},{"$error":"#DIV/0!"},{"$error":"#DIV/0!"},{"$error":"#DIV/0!"},{"$error":"#DIV/0!"},{"$error":"#DIV/0!"},{"$error":"#DIV/0!"},{"$error":"#DIV/0!"},{"$error":"#DIV/0!"}]
[null,null,55,236.93864620633559,{"$f":"Klimaatscenario!M62","v":170.10027948923462},{"$error":"#DIV/0!"},{"$error":"#DIV/0!"},{"$error":"#DIV/0!"},{"$error":"#DIV/0!"},{"$error":"#DIV/0!"},{"$error":"#DIV/0!"},{"$error":"#DIV/0!"},{"$error":"#DIV/0!"},{"$error":"#DIV/0!"},{"$error":"#DIV/0!"},{"$error":"#DIV/0!"},{"$error":"#DIV/0!"},{"$error":"#DIV/0!"},{"$error":"#DIV/0!"},{"$error":"#DIV/0!"},{"$error":"#DIV/0!"},{"$error":"#DIV/0!"},{"$error":"#DIV/0!"},{"$error":"#DIV/0!"},{"$error":"#DIV/0!"},null,55,279.83632397024394,{"$f":"Klimaatscenario!N62","v":197.77271773720008},{"$error":"#DIV/0!"},{"$error":"#DIV/0!"},{"$error":"#DIV/0!"},{"$error":"#DIV/0!"},{"$error":"#DIV/0!"},{"$error":"#DIV/0!"},{"$error":"#DIV/0!"},{"$error":"#DIV/0!"},{"$error":"#DIV/0!"},{"$error":"#DIV/0!"},{"$error":"#DIV/0!"},{"$error":"#DIV/0!"},{"$error":"#DIV/0!"},{"$error":"#DIV/0!"},{"$error":"#DIV/0!"},{"$error":"#DIV/0!"},{"$error":"#DIV/0!"},{"$error":"#DIV/0!"},{"$error":"#DIV/0!"},{"$error":"#DIV/0!"}]
[null,null,56,236.93864620633084,{"$f":"Klimaatscenario!M63","v":171.52191136647261},{"$error":"#DIV/0!"},{"$error":"#DIV/0!"},{"$error":"#DIV/0!"},{"$error":"#DIV/0!"},{"$error":"#DIV/0!"},{"$error":"#DIV/0!"},{"$error":"#DIV/0!"},{"$error":"#DIV/0!"},{"$error":"#DIV/0!"},{"$error":"#DIV/0!"},{"$error":"#DIV/0!"},{"$error":"#DIV/0!"},{"$error":"#DIV/0!"},{"$error":"#DIV/0!"},{"$error":"#DIV/0!"},{"$error":"#DIV/0!"},{"$error":"#DIV/0!"},{"$error":"#DIV/0!"},{"$error":"#DIV/0!"},{"$error":"#DIV/0!"},null,56,279.83632397023916,{"$f":"Klimaatscenario!N63","v":199.45173568102152},{"$error":"#DIV/0!"},{"$error":"#DIV/0!"},{"$error":"#DIV/0!"},{"$error":"#DIV/0!"},{"$error":"#DIV/0!"},{"$error":"#DIV/0!"},{"$error":"#DIV/0!"},{"$error":"#DIV/0!"},{"$error":"#DIV/0!"},{"$error":"#DIV/0!"},{"$error":"#DIV/0!"},{"$error":"#DIV/0!"},{"$error":"#DIV/0!"},{"$error":"#DIV/0!"},{"$error":"#DIV/0!"},{"$error":"#DIV/0!"},{"$error":"#DIV/0!"},{"$error":"#DIV/0!"},{"$error":"#DIV/0!"},{"$error":"#DIV/0!"}]
[null,null,57,236.93864620633084,{"$f":"Klimaatscenario!M64","v":172.94354324371059},{"$error":"#DIV/0!"},{"$error":"#DIV/0!"},{"$error":"#DIV/0!"},{"$error":"#DIV/0!"},{"$error":"#DIV/0!"},{"$error":"#DIV/0!"},{"$error":"#DIV/0!"},{"$error":"#DIV/0!"},{"$error":"#DIV/0!"},{"$error":"#DIV/0!"},{"$error":"#DIV/0!"},{"$error":"#DIV/0!"},{"$error":"#DIV/0!"},{"$error":"#DIV/0!"},{"$error":"#DIV/0!"},{"$error":"#DIV/0!"},{"$error":"#DIV/0!"},{"$error":"#DIV/0!"},{"$error":"#DIV/0!"},{"$error":"#DIV/0!"},null,57,279.83632397023916,{"$f":"Klimaatscenario!N64","v":201.13075362484295},{"$error":"#DIV/0!"},{"$error":"#DIV/0!"},{"$error":"#DIV/0!"},{"$error":"#DIV/0!"},{"$error":"#DIV/0!"},{"$error":"#DIV/0!"},{"$error":"#DIV/0!"},{"$error":"#DIV/0!"},{"$error":"#DIV/0!"},{"$error":"#DIV/0!"},{"$error":"#DIV/0!"},{"$error":"#DIV/0!"},{"$error":"#DIV/0!"},{"$error":"#DIV/0!"},{"$error":"#DIV/0!"},{"$error":"#DIV/0!"},{"$error":"#DIV/0!"},{"$error":"#DIV/0!"},{"$error":"#DIV/0!"},{"$error":"#DIV/0!"}]
[null,null,58,236.93864620633559,{"$f":"Klimaatscenario!M65","v":174.36517512094861},{"$error":"#DIV/0!"},{"$error":"#DIV/0!"},{"$error":"#DIV/0!"},{"$error":"#DIV/0!"},{"$error":"#DIV/0!"},{"$error":"#DIV/0!"},{"$error":"#DIV/0!"},{"$error":"#DIV/0!"},{"$error":"#DIV/0!"},{"$error":"#DIV/0!"},{"$error":"#DIV/0!"},{"$error":"#DIV/0!"},{"$error":"#DIV/0!"},{"$error":"#DIV/0!"},{"$error":"#DIV/0!"},{"$error":"#DIV/0!"},{"$error":"#DIV/0!"},{"$error":"#DIV/0!"},{"$error":"#DIV/0!"},{"$error":"#DIV/0!"},null,58,279.83632397023916,{"$f":"Klimaatscenario!N65","v":202.80977156866439},{"$error":"#DIV/0!"},{"$error":"#DIV/0!"},{"$error":"#DIV/0!"},{"$error":"#DIV/0!"},{"$error":"#DIV/0!"},{"$error":"#DIV/0!"},{"$error":"#DIV/0!"},{"$error":"#DIV/0!"},{"$error":"#DIV/0!"},{"$error":"#DIV/0!"},{"$error":"#DIV/0!"},{"$error":"#DIV/0!"},{"$error":"#DIV/0!"},{"$error":"#DIV/0!"},{"$error":"#DIV/0!"},{"$error":"#DIV/0!"},{"$error":"#DIV/0!"},{"$error":"#DIV/0!"},{"$error":"#DIV/0!"},{"$error":"#DIV/0!"}]
[null,null,59,236.93864620633084,{"$f":"Klimaatscenario!M66","v":175.78680699818659},{"$error":"#DIV/0!"},{"$error":"#DIV/0!"},{"$error":"#DIV/0!"},{"$error":"#DIV/0!"},{"$error":"#DIV/0!"},{"$error":"#DIV/0!"},{"$error":"#DIV/0!"},{"$error":"#DIV/0!"},{"$error":"#DIV/0!"},{"$error":"#DIV/0!"},{"$error":"#DIV/0!"},{"$error":"#DIV/0!"},{"$error":"#DIV/0!"},{"$error":"#DIV/0!"},{"$error":"#DIV/0!"},{"$error":"#DIV/0!"},{"$error":"#DIV/0!"},{"$error":"#DIV/0!"},{"$error":"#DIV/0!"},{"$error":"#DIV/0!"},null,59,279.83632397023916,{"$f":"Klimaatscenario!N66","v":204.48878951248582},{"$error":"#DIV/0!"},{"$error":"#DIV/0!"},{"$error":"#DIV/0!"},{"$error":"#DIV/0!"},{"$error":"#DIV/0!"},{"$error":"#DIV/0!"},{"$error":"#DIV/0!"},{"$error":"#DIV/0!"},{"$error":"#DIV/0!"},{"$error":"#DIV/0!"},{"$error":"#DIV/0!"},{"$error":"#DIV/0!"},{"$error":"#DIV/0!"},{"$error":"#DIV/0!"},{"$error":"#DIV/0!"},{"$error":"#DIV/0!"},{"$error":"#DIV/0!"},{"$error":"#DIV/0!"},{"$error":"#DIV/0!"},{"$error":"#DIV/0!"}]
[null,null,60,236.93864620633084,{"$f":"Klimaatscenario!M67","v":177.20843887542458},{"$error":"#DIV/0!"},{"$error":"#DIV/0!"},{"$error":"#DIV/0!"},{"$error":"#DIV/0!"},{"$f":"$E748-F748-G748-H748-I748","v":{"$error":"#DIV/0!"}},{"$error":"#DIV/0!"},{"$error":"#DIV/0!"},{"$error":"#DIV/0!"},{"$error":"#DIV/0!"},{"$error":"#DIV/0!"},{"$error":"#DIV/0!"},{"$error":"#DIV/0!"},{"$error":"#DIV/0!"},{"$error":"#DIV/0!"},{"$error":"#DIV/0!"},{"$error":"#DIV/0!"},{"$error":"#DIV/0!"},{"$error":"#DIV/0!"},{"$error":"#DIV/0!"},{"$error":"#DIV/0!"},null,60,279.83632397024394,{"$f":"Klimaatscenario!N67","v":206.16780745630729},{"$error":"#DIV/0!"},{"$error":"#DIV/0!"},{"$error":"#DIV/0!"},{"$error":"#DIV/0!"},{"$error":"#DIV/0!"},{"$error":"#DIV/0!"},{"$error":"#DIV/0!"},{"$error":"#DIV/0!"},{"$error":"#DIV/0!"},{"$error":"#DIV/0!"},{"$error":"#DIV/0!"},{"$error":"#DIV/0!"},{"$error":"#DIV/0!"},{"$error":"#DIV/0!"},{"$error":"#DIV/0!"},{"$error":"#DIV/0!"},{"$error":"#DIV/0!"},{"$error":"#DIV/0!"},{"$error":"#DIV/0!"},{"$error":"#DIV/0!"}]
[null,null,61,73.797541050903234,{"$f":"Klimaatscenario!M68","v":177.65122412173},{"$error":"#DIV/0!"},{"$error":"#DIV/0!"},{"$error":"#DIV/0!"},{"$error":"#DIV/0!"},{"$error":"#DIV/0!"},{"$error":"#DIV/0!"},{"$error":"#DIV/0!"},{"$error":"#DIV/0!"},{"$error":"#DIV/0!"},{"$error":"#DIV/0!"},{"$error":"#DIV/0!"},{"$error":"#DIV/0!"},{"$error":"#DIV/0!"},{"$error":"#DIV/0!"},{"$error":"#DIV/0!"},{"$error":"#DIV/0!"},{"$error":"#DIV/0!"},{"$error":"#DIV/0!"},{"$error":"#DIV/0!"},{"$error":"#DIV/0!"},null,61,84.912656678942739,{"$f":"Klimaatscenario!N68","v":206.67728339638094},{"$error":"#DIV/0!"},{"$error":"#DIV/0!"},{"$error":"#DIV/0!"},{"$error":"#DIV/0!"},{"$error":"#DIV/0!"},{"$error":"#DIV/0!"},{"$error":"#DIV/0!"},{"$error":"#DIV/0!"},{"$error":"#DIV/0!"},{"$error":"#DIV/0!"},{"$error":"#DIV/0!"},{"$error":"#DIV/0!"},{"$error":"#DIV/0!"},{"$error":"#DIV/0!"},{"$error":"#DIV/0!"},{"$error":"#DIV/0!"},{"$error":"#DIV/0!"},{"$error":"#DIV/0!"},{"$error":"#DIV/0!"},{"$error":"#DIV/0!"}]
[null,null,62,73.797541050903234,{"$f":"Klimaatscenario!M69","v":178.09400936803542},{"$error":"#DIV/0!"},{"$error":"#DIV/0!"},{"$error":"#DIV/0!"},{"$error":"#DIV/0!"},{"$error":"#DIV/0!"},{"$error":"#DIV/0!"},{"$error":"#DIV/0!"},{"$error":"#DIV/0!"},{"$error":"#DIV/0!"},{"$error":"#DIV/0!"},{"$error":"#DIV/0!"},{"$error":"#DIV/0!"},{"$error":"#DIV/0!"},{"$error":"#DIV/0!"},{"$error":"#DIV/0!"},{"$error":"#DIV/0!"},{"$error":"#DIV/0!"},{"$error":"#DIV/0!"},{"$error":"#DIV/0!"},{"$error":"#DIV/0!"},null,62,84.912656678947457,{"$f":"Klimaatscenario!N69","v":207.18675933645463},{"$error":"#DIV/0!"},{"$error":"#DIV/0!"},{"$error":"#DIV/0!"},{"$error":"#DIV/0!"},{"$error":"#DIV/0!"},{"$error":"#DIV/0!"},{"$error":"#DIV/0!"},{"$error":"#DIV/0!"},{"$error":"#DIV/0!"},{"$error":"#DIV/0!"},{"$error":"#DIV/0!"},{"$error":"#DIV/0!"},{"$error":"#DIV/0!"},{"$error":"#DIV/0!"},{"$error":"#DIV/0!"},{"$error":"#DIV/0!"},{"$error":"#DIV/0!"},{"$error":"#DIV/0!"},{"$error":"#DIV/0!"},{"$error":"#DIV/0!"}]
[null,null,63,73.797541050907967,{"$f":"Klimaatscenario!M70","v":178.53679461434086},{"$error":"#DIV/0!"},{"$error":"#DIV/0!"},{"$error":"#DIV/0!"},{"$error":"#DIV/0!"},{"$error":"#DIV/0!"},{"$error":"#DIV/0!"},{"$error":"#DIV/0!"},{"$error":"#DIV/0!"},{"$error":"#DIV/0!"},{"$error":"#DIV/0!"},{"$error":"#DIV/0!"},{"$error":"#DIV/0!"},{"$error":"#DIV/0!"},{"$error":"#DIV/0!"},{"$error":"#DIV/0!"},{"$error":"#DIV/0!"},{"$error":"#DIV/0!"},{"$error":"#DIV/0!"},{"$error":"#DIV/0!"},{"$error":"#DIV/0!"},null,63,84.912656678942739,{"$f":"Klimaatscenario!N70","v":207.69623527652828},{"$error":"#DIV/0!"},{"$error":"#DIV/0!"},{"$error":"#DIV/0!"},{"$error":"#DIV/0!"},{"$error":"#DIV/0!"},{"$error":"#DIV/0!"},{"$error":"#DIV/0!"},{"$error":"#DIV/0!"},{"$error":"#DIV/0!"},{"$error":"#DIV/0!"},{"$error":"#DIV/0!"},{"$error":"#DIV/0!"},{"$error":"#DIV/0!"},{"$error":"#DIV/0!"},{"$error":"#DIV/0!"},{"$error":"#DIV/0!"},{"$error":"#DIV/0!"},{"$error":"#DIV/0!"},{"$error":"#DIV/0!"},{"$error":"#DIV/0!"}]
[null,null,64,73.797541050903234,{"$f":"Klimaatscenario!M71","v":178.97957986064628},{"$error":"#DIV/0!"},{"$error":"#DIV/0!"},{"$error":"#DIV/0!"},{"$f":"($J$768/60)*$C752","v":{"$error":"#DIV/0!"}},{"$f":"$E752-F752-G752-H752-I752","v":{"$error":"#DIV/0!"}},{"$error":"#DIV/0!"},{"$error":"#DIV/0!"},{"$error":"#DIV/0!"},{"$f":"($O$768/60)*$C752","v":{"$error":"#DIV/0!"}},{"$f":"$E752-K752-L752-M752-N752","v":{"$error":"#DIV/0!"}},{"$error":"#DIV/0!"},{"$error":"#DIV/0!"},{"$error":"#DIV/0!"},{"$f":"($T$768/60)*$C752","v":{"$error":"#DIV/0!"}},{"$f":"$E752-P752-Q752-R752-S752","v":{"$error":"#DIV/0!"}},{"$error":"#DIV/0!"},{"$error":"#DIV/0!"},{"$error":"#DIV/0!"},{"$f":"($Y$768/60)*$C752","v":{"$error":"#DIV/0!"}},{"$f":"$E752-U752-V752-W752-X752","v":{"$error":"#DIV/0!"}},null,64,84.912656678942739,{"$f":"Klimaatscenario!N71","v":208.20571121660194},{"$error":"#DIV/0!"},{"$error":"#DIV/0!"},{"$error":"#DIV/0!"},{"$f":"($AH$768/60)*$AA752","v":{"$error":"#DIV/0!"}},{"$f":"$AC752-AD752-AE752-AF752-AG752","v":{"$error":"#DIV/0!"}},{"$error":"#DIV/0!"},{"$error":"#DIV/0!"},{"$error":"#DIV/0!"},{"$f":"($AM$768/60)*$AA752","v":{"$error":"#DIV/0!"}},{"$f":"$AC752-AI752-AJ752-AK752-AL752","v":{"$error":"#DIV/0!"}},{"$error":"#DIV/0!"},{"$error":"#DIV/0!"},{"$error":"#DIV/0!"},{"$f":"($AR$768/60)*$AA752","v":{"$error":"#DIV/0!"}},{"$f":"$AC752-AN752-AO752-AP752-AQ752","v":{"$error":"#DIV/0!"}},{"$error":"#DIV/0!"},{"$f":"($AW$770/60)*($AA752)","v":{"$error":"#DIV/0!"}},{"$error":"#DIV/0!"},{"$f":"($AW$768/60)*$AA752","v":{"$error":"#DIV/0!"}},{"$f":"$AC752-AS752-AT752-AU752-AV752","v":{"$error":"#DIV/0!"}}]
[null,null,65,73.797541050903234,{"$f":"Klimaatscenario!M72","v":179.4223651069517},{"$f":"((J$767*60)/10000)+F752","v":{"$error":"#DIV/0!"}},{"$f":"($J$770/60)*($C753)","v":{"$error":"#DIV/0!"}},{"$error":"#DIV/0!"},{"$error":"#DIV/0!"},{"$error":"#DIV/0!"},{"$f":"((O$767*60)/10000)+K752","v":{"$error":"#DIV/0!"}},{"$f":"($O$770/60)*($C753)","v":{"$error":"#DIV/0!"}},{"$error":"#DIV/0!"},{"$error":"#DIV/0!"},{"$error":"#DIV/0!"},{"$f":"((T$767*60)/10000)+P752","v":{"$error":"#DIV/0!"}},{"$f":"($T$770/60)*($C753)","v":{"$error":"#DIV/0!"}},{"$error":"#DIV/0!"},{"$error":"#DIV/0!"},{"$error":"#DIV/0!"},{"$f":"((Y$767*60)/10000)+U752","v":{"$error":"#DIV/0!"}},{"$f":"($Y$770/60)*($C753)","v":{"$error":"#DIV/0!"}},{"$error":"#DIV/0!"},{"$error":"#DIV/0!"},{"$error":"#DIV/0!"},null,65,84.912656678947457,{"$f":"Klimaatscenario!N72","v":208.71518715667563},{"$f":"((AH$767*60)/10000)+AD752","v":{"$error":"#DIV/0!"}},{"$f":"($AH$770/60)*($AA753)","v":{"$error":"#DIV/0!"}},{"$error":"#DIV/0!"},{"$error":"#DIV/0!"},{"$error":"#DIV/0!"},{"$f":"((AM$767*60)/10000)+AI752","v":{"$error":"#DIV/0!"}},{"$f":"($AM$770/60)*($AA753)","v":{"$error":"#DIV/0!"}},{"$error":"#DIV/0!"},{"$error":"#DIV/0!"},{"$error":"#DIV/0!"},{"$f":"((AR$767*60)/10000)+AN752","v":{"$error":"#DIV/0!"}},{"$f":"($AR$770/60)*($AA753)","v":{"$error":"#DIV/0!"}},{"$error":"#DIV/0!"},{"$error":"#DIV/0!"},{"$error":"#DIV/0!"},{"$f":"((AW$767*60)/10000)+AS752","v":{"$error":"#DIV/0!"}},{"$error":"#DIV/0!"},{"$error":"#DIV/0!"},{"$error":"#DIV/0!"},{"$error":"#DIV/0!"}]
[null,null,66,73.797541050907967,{"$f":"Klimaatscenario!M73","v":179.86515035325715},{"$error":"#DIV/0!"},{"$error":"#DIV/0!"},{"$f":"J$766","v":{"$error":"#DIV/0!"}},{"$error":"#DIV/0!"},{"$error":"#DIV/0!"},{"$error":"#DIV/0!"},{"$error":"#DIV/0!"},{"$f":"O$766","v":{"$error":"#DIV/0!"}},{"$error":"#DIV/0!"},{"$error":"#DIV/0!"},{"$error":"#DIV/0!"},{"$error":"#DIV/0!"},{"$f":"T$766","v":{"$error":"#DIV/0!"}},{"$error":"#DIV/0!"},{"$error":"#DIV/0!"},{"$error":"#DIV/0!"},{"$error":"#DIV/0!"},{"$f":"Y$766","v":{"$error":"#DIV/0!"}},{"$error":"#DIV/0!"},{"$error":"#DIV/0!"},null,66,84.912656678942739,{"$f":"Klimaatscenario!N73","v":209.22466309674928},{"$error":"#DIV/0!"},{"$error":"#DIV/0!"},{"$f":"AH$766","v":{"$error":"#DIV/0!"}},{"$error":"#DIV/0!"},{"$error":"#DIV/0!"},{"$error":"#DIV/0!"},{"$error":"#DIV/0!"},{"$f":"AM$766","v":{"$error":"#DIV/0!"}},{"$error":"#DIV/0!"},{"$error":"#DIV/0!"},{"$error":"#DIV/0!"},{"$error":"#DIV/0!"},{"$f":"AR$766","v":{"$error":"#DIV/0!"}},{"$error":"#DIV/0!"},{"$error":"#DIV/0!"},{"$error":"#DIV/0!"},{"$error":"#DIV/0!"},{"$f":"AW$766","v":{"$error":"#DIV/0!"}},{"$error":"#DIV/0!"},{"$error":"#DIV/0!"}]
[null,null,67,73.797541050903234,{"$f":"Klimaatscenario!M74","v":180.30793559956257},{"$error":"#DIV/0!"},{"$error":"#DIV/0!"},{"$error":"#DIV/0!"},{"$error":"#DIV/0!"},{"$error":"#DIV/0!"},{"$error":"#DIV/0!"},{"$error":"#DIV/0!"},{"$error":"#DIV/0!"},{"$error":"#DIV/0!"},{"$error":"#DIV/0!"},{"$error":"#DIV/0!"},{"$error":"#DIV/0!"},{"$error":"#DIV/0!"},{"$error":"#DIV/0!"},{"$error":"#DIV/0!"},{"$error":"#DIV/0!"},{"$error":"#DIV/0!"},{"$error":"#DIV/0!"},{"$error":"#DIV/0!"},{"$error":"#DIV/0!"},null,67,84.912656678942739,{"$f":"Klimaatscenario!N74","v":209.73413903682294},{"$error":"#DIV/0!"},{"$error":"#DIV/0!"},{"$error":"#DIV/0!"},{"$error":"#DIV/0!"},{"$error":"#DIV/0!"},{"$error":"#DIV/0!"},{"$error":"#DIV/0!"},{"$error":"#DIV/0!"},{"$error":"#DIV/0!"},{"$error":"#DIV/0!"},{"$error":"#DIV/0!"},{"$error":"#DIV/0!"},{"$error":"#DIV/0!"},{"$error":"#DIV/0!"},{"$error":"#DIV/0!"},{"$error":"#DIV/0!"},{"$error":"#DIV/0!"},{"$error":"#DIV/0!"},{"$error":"#DIV/0!"},{"$error":"#DIV/0!"}]
[null,null,68,73.797541050903234,{"$f":"Klimaatscenario!M75","v":180.75072084586799},{"$error":"#DIV/0!"},{"$error":"#DIV/0!"},{"$error":"#DIV/0!"},{"$error":"#DIV/0!"},{"$error":"#DIV/0!"},{"$error":"#DIV/0!"},{"$error":"#DIV/0!"},{"$error":"#DIV/0!"},{"$error":"#DIV/0!"},{"$error":"#DIV/0!"},{"$error":"#DIV/0!"},{"$error":"#DIV/0!"},{"$error":"#DIV/0!"},{"$error":"#DIV/0!"},{"$error":"#DIV/0!"},{"$error":"#DIV/0!"},{"$error":"#DIV/0!"},{"$error":"#DIV/0!"},{"$error":"#DIV/0!"},{"$error":"#DIV/0!"},null,68,84.912656678947457,{"$f":"Klimaatscenario!N75","v":210.24361497689662},{"$error":"#DIV/0!"},{"$error":"#DIV/0!"},{"$error":"#DIV/0!"},{"$error":"#DIV/0!"},{"$error":"#DIV/0!"},{"$error":"#DIV/0!"},{"$error":"#DIV/0!"},{"$error":"#DIV/0!"},{"$error":"#DIV/0!"},{"$error":"#DIV/0!"},{"$error":"#DIV/0!"},{"$error":"#DIV/0!"},{"$error":"#DIV/0!"},{"$error":"#DIV/0!"},{"$error":"#DIV/0!"},{"$error":"#DIV/0!"},{"$error":"#DIV/0!"},{"$error":"#DIV/0!"},{"$error":"#DIV/0!"},{"$error":"#DIV/0!"}]
[null,null,69,{"$f":"((((((E757-E756)/(C757-C756))/60)/1000)*10000)*1000)","v":73.797541050903234},{"$f":"Klimaatscenario!M76","v":181.19350609217341},{"$error":"#DIV/0!"},{"$error":"#DIV/0!"},{"$error":"#DIV/0!"},{"$error":"#DIV/0!"},{"$error":"#DIV/0!"},{"$error":"#DIV/0!"},{"$error":"#DIV/0!"},{"$error":"#DIV/0!"},{"$error":"#DIV/0!"},{"$error":"#DIV/0!"},{"$error":"#DIV/0!"},{"$error":"#DIV/0!"},{"$error":"#DIV/0!"},{"$error":"#DIV/0!"},{"$error":"#DIV/0!"},{"$error":"#DIV/0!"},{"$error":"#DIV/0!"},{"$error":"#DIV/0!"},{"$error":"#DIV/0!"},{"$error":"#DIV/0!"},null,69,{"$f":"((((((AC757-AC756)/(AA757-AA756))/60)/1000)*10000)*1000)","v":84.912656678942739},{"$f":"Klimaatscenario!N76","v":210.75309091697028},{"$error":"#DIV/0!"},{"$error":"#DIV/0!"},{"$error":"#DIV/0!"},{"$error":"#DIV/0!"},{"$error":"#DIV/0!"},{"$error":"#DIV/0!"},{"$error":"#DIV/0!"},{"$error":"#DIV/0!"},{"$error":"#DIV/0!"},{"$error":"#DIV/0!"},{"$error":"#DIV/0!"},{"$error":"#DIV/0!"},{"$error":"#DIV/0!"},{"$error":"#DIV/0!"},{"$error":"#DIV/0!"},{"$error":"#DIV/0!"},{"$error":"#DIV/0!"},{"$error":"#DIV/0!"},{"$error":"#DIV/0!"},{"$error":"#DIV/0!"}]
[null,null,70,73.797541050903234,{"$f":"Klimaatscenario!M77","v":181.63629133847883},{"$error":"#DIV/0!"},{"$error":"#DIV/0!"},{"$error":"#DIV/0!"},{"$error":"#DIV/0!"},{"$error":"#DIV/0!"},{"$error":"#DIV/0!"},{"$error":"#DIV/0!"},{"$error":"#DIV/0!"},{"$error":"#DIV/0!"},{"$error":"#DIV/0!"},{"$error":"#DIV/0!"},{"$error":"#DIV/0!"},{"$error":"#DIV/0!"},{"$error":"#DIV/0!"},{"$error":"#DIV/0!"},{"$error":"#DIV/0!"},{"$error":"#DIV/0!"},{"$error":"#DIV/0!"},{"$error":"#DIV/0!"},{"$error":"#DIV/0!"},null,70,84.912656678947457,{"$f":"Klimaatscenario!N77","v":211.26256685704396},{"$error":"#DIV/0!"},{"$error":"#DIV/0!"},{"$error":"#DIV/0!"},{"$error":"#DIV/0!"},{"$error":"#DIV/0!"},{"$error":"#DIV/0!"},{"$error":"#DIV/0!"},{"$error":"#DIV/0!"},{"$error":"#DIV/0!"},{"$error":"#DIV/0!"},{"$error":"#DIV/0!"},{"$error":"#DIV/0!"},{"$error":"#DIV/0!"},{"$error":"#DIV/0!"},{"$error":"#DIV/0!"},{"$error":"#DIV/0!"},{"$error":"#DIV/0!"},{"$error":"#DIV/0!"},{"$error":"#DIV/0!"},{"$error":"#DIV/0!"}]
[null,null,71,73.797541050907967,{"$f":"Klimaatscenario!M78","v":182.07907658478427},{"$error":"#DIV/0!"},{"$error":"#DIV/0!"},{"$error":"#DIV/0!"},{"$error":"#DIV/0!"},{"$error":"#DIV/0!"},{"$error":"#DIV/0!"},{"$error":"#DIV/0!"},{"$error":"#DIV/0!"},{"$error":"#DIV/0!"},{"$error":"#DIV/0!"},{"$error":"#DIV/0!"},{"$error":"#DIV/0!"},{"$error":"#DIV/0!"},{"$error":"#DIV/0!"},{"$error":"#DIV/0!"},{"$error":"#DIV/0!"},{"$error":"#DIV/0!"},{"$error":"#DIV/0!"},{"$error":"#DIV/0!"},{"$error":"#DIV/0!"},null,71,84.912656678942739,{"$f":"Klimaatscenario!N78","v":211.77204279711762},{"$error":"#DIV/0!"},{"$error":"#DIV/0!"},{"$error":"#DIV/0!"},{"$error":"#DIV/0!"},{"$error":"#DIV/0!"},{"$error":"#DIV/0!"},{"$error":"#DIV/0!"},{"$error":"#DIV/0!"},{"$error":"#DIV/0!"},{"$error":"#DIV/0!"},{"$error":"#DIV/0!"},{"$error":"#DIV/0!"},{"$error":"#DIV/0!"},{"$error":"#DIV/0!"},{"$error":"#DIV/0!"},{"$error":"#DIV/0!"},{"$error":"#DIV/0!"},{"$error":"#DIV/0!"},{"$error":"#DIV/0!"},{"$error":"#DIV/0!"}]
[null,null,72,73.797541050903234,{"$f":"Klimaatscenario!M79","v":182.52186183108969},{"$error":"#DIV/0!"},{"$error":"#DIV/0!"},{"$error":"#DIV/0!"},{"$error":"#DIV/0!"},{"$error":"#DIV/0!"},{"$error":"#DIV/0!"},{"$error":"#DIV/0!"},{"$error":"#DIV/0!"},{"$error":"#DIV/0!"},{"$error":"#DIV/0!"},{"$error":"#DIV/0!"},{"$error":"#DIV/0!"},{"$error":"#DIV/0!"},{"$error":"#DIV/0!"},{"$error":"#DIV/0!"},{"$error":"#DIV/0!"},{"$error":"#DIV/0!"},{"$error":"#DIV/0!"},{"$error":"#DIV/0!"},{"$error":"#DIV/0!"},null,72,84.912656678942739,{"$f":"Klimaatscenario!N79","v":212.28151873719128},{"$error":"#DIV/0!"},{"$error":"#DIV/0!"},{"$error":"#DIV/0!"},{"$error":"#DIV/0!"},{"$error":"#DIV/0!"},{"$error":"#DIV/0!"},{"$error":"#DIV/0!"},{"$error":"#DIV/0!"},{"$error":"#DIV/0!"},{"$error":"#DIV/0!"},{"$error":"#DIV/0!"},{"$error":"#DIV/0!"},{"$error":"#DIV/0!"},{"$error":"#DIV/0!"},{"$error":"#DIV/0!"},{"$error":"#DIV/0!"},{"$error":"#DIV/0!"},{"$error":"#DIV/0!"},{"$error":"#DIV/0!"},{"$error":"#DIV/0!"}]
[null,null,73,73.797541050903234,{"$f":"Klimaatscenario!M80","v":182.96464707739511},{"$error":"#DIV/0!"},{"$error":"#DIV/0!"},{"$error":"#DIV/0!"},{"$error":"#DIV/0!"},{"$error":"#DIV/0!"},{"$error":"#DIV/0!"},{"$error":"#DIV/0!"},{"$error":"#DIV/0!"},{"$error":"#DIV/0!"},{"$error":"#DIV/0!"},{"$error":"#DIV/0!"},{"$error":"#DIV/0!"},{"$error":"#DIV/0!"},{"$error":"#DIV/0!"},{"$error":"#DIV/0!"},{"$error":"#DIV/0!"},{"$error":"#DIV/0!"},{"$error":"#DIV/0!"},{"$error":"#DIV/0!"},{"$error":"#DIV/0!"},null,73,84.912656678947457,{"$f":"Klimaatscenario!N80","v":212.79099467726496},{"$error":"#DIV/0!"},{"$error":"#DIV/0!"},{"$error":"#DIV/0!"},{"$error":"#DIV/0!"},{"$error":"#DIV/0!"},{"$error":"#DIV/0!"},{"$error":"#DIV/0!"},{"$error":"#DIV/0!"},{"$error":"#DIV/0!"},{"$error":"#DIV/0!"},{"$error":"#DIV/0!"},{"$error":"#DIV/0!"},{"$error":"#DIV/0!"},{"$error":"#DIV/0!"},{"$error":"#DIV/0!"},{"$error":"#DIV/0!"},{"$error":"#DIV/0!"},{"$error":"#DIV/0!"},{"$error":"#DIV/0!"},{"$error":"#DIV/0!"}]
[null,null,74,73.797541050907967,{"$f":"Klimaatscenario!M81","v":183.40743232370056},{"$error":"#DIV/0!"},{"$error":"#DIV/0!"},{"$error":"#DIV/0!"},{"$error":"#DIV/0!"},{"$error":"#DIV/0!"},{"$error":"#DIV/0!"},{"$error":"#DIV/0!"},{"$error":"#DIV/0!"},{"$error":"#DIV/0!"},{"$error":"#DIV/0!"},{"$error":"#DIV/0!"},{"$error":"#DIV/0!"},{"$error":"#DIV/0!"},{"$error":"#DIV/0!"},{"$error":"#DIV/0!"},{"$error":"#DIV/0!"},{"$error":"#DIV/0!"},{"$error":"#DIV/0!"},{"$error":"#DIV/0!"},{"$error":"#DIV/0!"},null,74,84.912656678942739,{"$f":"Klimaatscenario!N81","v":213.30047061733862},{"$error":"#DIV/0!"},{"$error":"#DIV/0!"},{"$error":"#DIV/0!"},{"$error":"#DIV/0!"},{"$error":"#DIV/0!"},{"$error":"#DIV/0!"},{"$error":"#DIV/0!"},{"$error":"#DIV/0!"},{"$error":"#DIV/0!"},{"$error":"#DIV/0!"},{"$error":"#DIV/0!"},{"$error":"#DIV/0!"},{"$error":"#DIV/0!"},{"$error":"#DIV/0!"},{"$error":"#DIV/0!"},{"$error":"#DIV/0!"},{"$error":"#DIV/0!"},{"$error":"#DIV/0!"},{"$error":"#DIV/0!"},{"$error":"#DIV/0!"}]
[null,null,75,73.797541050903234,{"$f":"Klimaatscenario!M82","v":183.85021757000598},{"$error":"#DIV/0!"},{"$f":"($J$770/60)*($C763)","v":{"$error":"#DIV/0!"}},{"$error":"#DIV/0!"},{"$error":"#DIV/0!"},{"$error":"#DIV/0!"},{"$error":"#DIV/0!"},{"$f":"($O$770/60)*($C763)","v":{"$error":"#DIV/0!"}},{"$error":"#DIV/0!"},{"$error":"#DIV/0!"},{"$error":"#DIV/0!"},{"$error":"#DIV/0!"},{"$f":"($T$770/60)*($C763)","v":{"$error":"#DIV/0!"}},{"$error":"#DIV/0!"},{"$error":"#DIV/0!"},{"$error":"#DIV/0!"},{"$error":"#DIV/0!"},{"$f":"($Y$770/60)*($C763)","v":{"$error":"#DIV/0!"}},{"$error":"#DIV/0!"},{"$error":"#DIV/0!"},{"$error":"#DIV/0!"},null,75,84.912656678942739,{"$f":"Klimaatscenario!N82","v":213.80994655741227},{"$error":"#DIV/0!"},{"$f":"($AH$770/60)*($AA763)","v":{"$error":"#DIV/0!"}},{"$error":"#DIV/0!"},{"$error":"#DIV/0!"},{"$f":"$AC763-AD763-AE763-AF763-AG763","v":{"$error":"#DIV/0!"}},{"$error":"#DIV/0!"},{"$f":"($AM$770/60)*($AA763)","v":{"$error":"#DIV/0!"}},{"$error":"#DIV/0!"},{"$error":"#DIV/0!"},{"$error":"#DIV/0!"},{"$error":"#DIV/0!"},{"$f":"($AR$770/60)*($AA763)","v":{"$error":"#DIV/0!"}},{"$error":"#DIV/0!"},{"$error":"#DIV/0!"},{"$error":"#DIV/0!"},{"$error":"#DIV/0!"},{"$f":"($AW$770/60)*($AA763)","v":{"$error":"#DIV/0!"}},{"$error":"#DIV/0!"},{"$error":"#DIV/0!"},{"$error":"#DIV/0!"}]
[]
[null,null,"Berging blokmethode, maximale waterstand op straat [mm]",null,null,null,null,null,null,{"$f":"MAX(J688:J763)","v":{"$error":"#DIV/0!"}},null,null,null,null,{"$f":"MAX(O688:O763)","v":{"$error":"#DIV/0!"}},null,null,null,null,{"$f":"MAX(T688:T763)","v":{"$error":"#DIV/0!"}},null,null,null,null,{"$f":"MAX(Y688:Y763)","v":{"$error":"#DIV/0!"}},null,"Berging blokmethode, maximale waterstand op straat [mm]",null,null,null,null,null,null,{"$f":"MAX(AH688:AH763)","v":{"$error":"#DIV/0!"}},null,null,null,null,{"$f":"MAX(AM688:AM763)","v":{"$error":"#DIV/0!"}},null,null,null,null,{"$f":"MAX(AR688:AR763)","v":{"$error":"#DIV/0!"}},null,null,null,null,{"$f":"MAX(AW688:AW763)","v":{"$error":"#DIV/0!"}}]
[null,null,"Berging in de voorziening [mm neerslagoppervlak]",null,null,null,null,null,null,{"$f":"(Invoer!$D$14*Invoer!$D$21)/Invoer!Neerslag_oppervlak","v":{"$error":"#DIV/0!"}},null,null,null,null,{"$f":"(Invoer!$E$14*Invoer!$E$21)/Invoer!Neerslag_oppervlak","v":{"$error":"#DIV/0!"}},null,null,null,null,{"$f":"(Invoer!$F$14*Invoer!$F$21)/Invoer!Neerslag_oppervlak","v":{"$error":"#DIV/0!"}},null,null,null,null,{"$f":"(Invoer!$G$14*Invoer!$G$21)/Invoer!Neerslag_oppervlak","v":{"$error":"#DIV/0!"}},null,"Berging in de voorziening [mm neerslagoppervlak]",null,null,null,null,null,null,{"$f":"(Invoer!$D$14*Invoer!$D$21)/Invoer!Neerslag_oppervlak","v":{"$error":"#DIV/0!"}},null,null,null,null,{"$f":"(Invoer!$E$14*Invoer!$E$21)/Invoer!Neerslag_oppervlak","v":{"$error":"#DIV/0!"}},null,null,null,null,{"$f":"(Invoer!$F$14*Invoer!$F$21)/Invoer!Neerslag_oppervlak","v":{"$error":"#DIV/0!"}},null,null,null,null,{"$f":"(Invoer!$G$14*Invoer!$G$21)/Invoer!Neerslag_oppervlak","v":{"$error":"#DIV/0!"}}]
[null,null,"Afvoercapaciteit riool [l/s/ha neerslagoppervlak]",null,null,null,null,null,null,{"$f":"((Invoer!$D$11*Invoer!$D$21)/Invoer!Neerslag_oppervlak)*10000/60/60","v":{"$error":"#DIV/0!"}},null,null,null,null,{"$f":"((Invoer!$E$11*Invoer!$E$21)/Invoer!Neerslag_oppervlak)*10000/60/60","v":{"$error":"#DIV/0!"}},null,null,null,null,{"$f":"((Invoer!$F$11*Invoer!$F$21)/Invoer!Neerslag_oppervlak)*10000/60/60","v":{"$error":"#DIV/0!"}},null,null,null,null,{"$f":"((Invoer!$G$11*Invoer!$G$21)/Invoer!Neerslag_oppervlak)*10000/60/60","v":{"$error":"#DIV/0!"}},null,"Afvoercapaciteit riool [l/s/ha neerslagoppervlak]",null,null,null,null,null,null,{"$f":"((Invoer!$D$11*Invoer!$D$21)/Invoer!Neerslag_oppervlak)*10000/60/60","v":{"$error":"#DIV/0!"}},null,null,null,null,{"$f":"((Invoer!$E$11*Invoer!$E$21)/Invoer!Neerslag_oppervlak)*10000/60/60","v":{"$error":"#DIV/0!"}},null,null,null,null,{"$f":"((Invoer!$F$11*Invoer!$F$21)/Invoer!Neerslag_oppervlak)*10000/60/60","v":{"$error":"#DIV/0!"}},null,null,null,null,{"$f":"((Invoer!$G$11*Invoer!$G$21)/Invoer!Neerslag_oppervlak)*10000/60/60","v":{"$error":"#DIV/0!"}}]
[null,null,"Infiltratiecapaciteit onverhard [mm/uur neerslagoppervlak]",null,null,null,null,null,null,{"$f":"(Invoer!$D$16*Invoer!$D$23)/Invoer!Neerslag_oppervlak","v":{"$error":"#DIV/0!"}},null,null,null,null,{"$f":"(Invoer!$E$16*Invoer!$E$23)/Invoer!Neerslag_oppervlak","v":{"$error":"#DIV/0!"}},null,null,null,null,{"$f":"(Invoer!$F$16*Invoer!$F$23)/Invoer!Neerslag_oppervlak","v":{"$error":"#DIV/0!"}},null,null,null,null,{"$f":"(Invoer!$G$16*Invoer!$G$23)/Invoer!Neerslag_oppervlak","v":{"$error":"#DIV/0!"}},null,"Infiltratiecapaciteit onverhard [mm/uur neerslagoppervlak]",null,null,null,null,null,null,{"$f":"(Invoer!$D$16*Invoer!$D$23)/Invoer!Neerslag_oppervlak","v":{"$error":"#DIV/0!"}},null,null,null,null,{"$f":"(Invoer!$E$16*Invoer!$E$23)/Invoer!Neerslag_oppervlak","v":{"$error":"#DIV/0!"}},null,null,null,null,{"$f":"(Invoer!$F$16*Invoer!$F$23)/Invoer!Neerslag_oppervlak","v":{"$error":"#DIV/0!"}},null,null,null,null,{"$f":"(Invoer!$G$16*Invoer!$G$23)/Invoer!Neerslag_oppervlak","v":{"$error":"#DIV/0!"}}]
[null,null,"Toename/Afname laatste kwartier",null,null,null,null,null,null,{"$f":"J763-J749","v":{"$error":"#DIV/0!"}},null,null,null,null,{"$f":"O763-O749","v":{"$error":"#DIV/0!"}},null,null,null,null,{"$f":"T763-T749","v":{"$error":"#DIV/0!"}},null,null,null,null,{"$f":"Y763-Y749","v":{"$error":"#DIV/0!"}},null,"Toename/Afname laatste kwartier",null,null,null,null,null,null,{"$f":"AH763-AH749","v":{"$error":"#DIV/0!"}},null,null,null,null,{"$f":"AM763-AM749","v":{"$error":"#DIV/0!"}},null,null,null,null,{"$f":"AR763-AR749","v":{"$error":"#DIV/0!"}},null,null,null,null,{"$f":"AW763-AW749","v":{"$error":"#DIV/0!"}}]
[null,null,"Infiltratiecapaciteit en afvoer vanuit berging voorziening [mm/uur neerslagoppervlak]",null,null,null,null,null,null,{"$f":"(Invoer!$D$12*Invoer!$D$21)/Invoer!Neerslag_oppervlak","v":{"$error":"#DIV/0!"}},null,null,null,null,{"$f":"(Invoer!$E$12*Invoer!$E$21)/Invoer!Neerslag_oppervlak","v":{"$error":"#DIV/0!"}},null,null,null,null,{"$f":"(Invoer!$F$12*Invoer!$F$21)/Invoer!Neerslag_oppervlak","v":{"$error":"#DIV/0!"}},null,null,null,null,{"$f":"(Invoer!$G$12*Invoer!$G$21)/Invoer!Neerslag_oppervlak","v":{"$error":"#DIV/0!"}},null,"Infiltratiecapaciteit en afvoer vanuit berging voorziening [mm/uur neerslagoppervlak]",null,null,null,null,null,null,{"$f":"(Invoer!$D$12*Invoer!$D$21)/Invoer!Neerslag_oppervlak","v":{"$error":"#DIV/0!"}},null,null,null,null,{"$f":"(Invoer!$E$12*Invoer!$E$21)/Invoer!Neerslag_oppervlak","v":{"$error":"#DIV/0!"}},null,null,null,null,{"$f":"(Invoer!$F$12*Invoer!$F$21)/Invoer!Neerslag_oppervlak","v":{"$error":"#DIV/0!"}},null,null,null,null,{"$f":"(Invoer!$G$12*Invoer!$G$21)/Invoer!Neerslag_oppervlak","v":{"$error":"#DIV/0!"}}]
[]
[]
[]
[null,"Berekeningen infiltratie","Herhalingkans T=1"]
[null,null,"Duur [min]","Aanvoer bui  T=5 [l/s/ha]","Neerslag bui T=5 [mm]","Afvoercapaciteit riolering V0 [mm]","Afvoercapaciteit V0 voorzieningen [mm]","Infiltratiecapaciteit V0 voorzieningen [mm]","Bergingscapaciteit V0 voorzieningen [mm]","Vulling berging V0 [mm]","Infiltratiecapaciteit onverhard [mm]","Aanvoer-Afvoer","Afvoercapaciteit riolering V1 [mm]","Afvoercapaciteit V1 voorzieningen [mm]","Infiltratiecapaciteit V1 voorzieningen [mm]","Bergingscapaciteit V1 voorzieningen [mm]","Vulling berging V1 [mm]","Infiltratiecapaciteit onverhard [mm]","Aanvoer-Afvoer","Afvoercapaciteit riolering V2 [mm]","Afvoercapaciteit V2 voorzieningen [mm]","Infiltratiecapaciteit V2 voorzieningen [mm]","Bergings-capaciteit V2 voorzieningen [mm]","Vulling berging V2 [mm]","Infiltratiecapaciteit onverhard [mm]","Aanvoer-Afvoer","Afvoercapaciteit riolering V3 [mm]","Afvoercapaciteit V3 voorzieningen [mm]","Infiltratiecapaciteit V3 voorzieningen [mm]","Bergings-capaciteit V3 voorzieningen [mm]","Vulling berging V2 [mm]","Infiltratiecapaciteit onverhard [mm]","Aanvoer-Afvoer"]
[null,null,0,0,0,0,{"$f":"($L$868/60)*$C776","v":{"$error":"#DIV/0!"}},{"$f":"($L$869/60)*$C776","v":{"$error":"#DIV/0!"}},0,0,{"$f":"($J$338/60)*$C776","v":{"$error":"#DIV/0!"}},0,0,0,{"$f":"$S$869/60*$C776","v":{"$error":"#DIV/0!"}},{"$f":"S$864","v":{"$error":"#DIV/0!"}},0,{"$f":"($O$338/60)*$C776","v":{"$error":"#DIV/0!"}},0,0,0,{"$f":"$Z$869/60*$C776","v":{"$error":"#DIV/0!"}},{"$f":"Z$864","v":{"$error":"#DIV/0!"}},0,{"$f":"($T$338/60)*$C776","v":{"$error":"#DIV/0!"}},0,0,0,{"$f":"$AG$869/60*$C776","v":{"$error":"#DIV/0!"}},{"$f":"AG$864","v":{"$error":"#DIV/0!"}},0,{"$f":"($Y$338/60)*$C776","v":{"$error":"#DIV/0!"}},0]
[null,null,1,{"$f":"((((((E777-E776)/(C777-C776)/60)/1000)*10000)*1000))","v":205.69421213727412},{"$f":"Klimaatscenario!B8","v":1.2341652728236447},{"$f":"((L$865*60)/10000)+F776","v":{"$error":"#DIV/0!"}},{"$error":"#DIV/0!"},{"$error":"#DIV/0!"},{"$f":"L$864","v":{"$error":"#DIV/0!"}},{"$f":"MIN($I777,E777-H777-K777-IF(Invoer!$D$15<Neerslagberekeningen!J776,Neerslagberekeningen!G777,0))","v":{"$error":"#DIV/0!"}},{"$error":"#DIV/0!"},{"$f":"$E777-F777-G777-H777-J777-K777","v":{"$error":"#DIV/0!"}},{"$f":"((S$865*60)/10000)+M776","v":{"$error":"#DIV/0!"}},{"$f":"(S$868/60)*$C777","v":{"$error":"#DIV/0!"}},{"$error":"#DIV/0!"},{"$f":"S$864","v":{"$error":"#DIV/0!"}},{"$f":"MIN(P777,$E777-O777-R777-IF(Invoer!$E$15<Q776,N777,0))","v":{"$error":"#DIV/0!"}},{"$error":"#DIV/0!"},{"$f":"$E777-M777-N777-O777-Q777-R777","v":{"$error":"#DIV/0!"}},{"$f":"((T$337*60)/10000)+T776","v":{"$error":"#DIV/0!"}},{"$f":"(Z$868/60)*$C777","v":{"$error":"#DIV/0!"}},{"$error":"#DIV/0!"},{"$f":"Z$864","v":{"$error":"#DIV/0!"}},{"$f":"MIN(W777,$E777-V777-Y777-IF(Invoer!$F$15<X776,U777,0))","v":{"$error":"#DIV/0!"}},{"$error":"#DIV/0!"},{"$f":"$E777-T777-U777-V777-X777-Y777","v":{"$error":"#DIV/0!"}},{"$f":"((Y$337*60)/10000)+AA776","v":{"$error":"#DIV/0!"}},{"$f":"(AG$868/60)*$C777","v":{"$error":"#DIV/0!"}},{"$error":"#DIV/0!"},{"$f":"AG$864","v":{"$error":"#DIV/0!"}},{"$f":"MIN(AD777,$E777-AC777-AF777-IF(Invoer!$G$15<AE776,AB777,0))","v":{"$error":"#DIV/0!"}},{"$error":"#DIV/0!"},{"$f":"$E777-AA777-AB777-AC777-AE777-AF777","v":{"$error":"#DIV/0!"}}]
[null,null,2,{"$f":"((((((E778-E777)/(C778-C777)/60)/1000)*10000)*1000))","v":205.69421213727412},{"$f":"Klimaatscenario!B9","v":2.4683305456472895},{"$error":"#DIV/0!"},{"$error":"#DIV/0!"},{"$error":"#DIV/0!"},{"$error":"#DIV/0!"},{"$f":"MIN($I778,E778-H778-K778-IF(Invoer!$D$15<Neerslagberekeningen!J777,Neerslagberekeningen!G778,0))","v":{"$error":"#DIV/0!"}},{"$error":"#DIV/0!"},{"$f":"$E778-F778-G778-H778-J778-K778","v":{"$error":"#DIV/0!"}},{"$error":"#DIV/0!"},{"$f":"(S$868/60)*$C778","v":{"$error":"#DIV/0!"}},{"$error":"#DIV/0!"},{"$f":"S$864","v":{"$error":"#DIV/0!"}},{"$f":"MIN(P778,$E778-O778-R778-IF(Invoer!$E$15<Q777,N778,0))","v":{"$error":"#DIV/0!"}},{"$error":"#DIV/0!"},{"$f":"$E778-M778-N778-O778-Q778-R778","v":{"$error":"#DIV/0!"}},{"$error":"#DIV/0!"},{"$error":"#DIV/0!"},{"$error":"#DIV/0!"},{"$f":"Z$864","v":{"$error":"#DIV/0!"}},{"$f":"MIN(W778,$E778-V778-Y778-IF(Invoer!$F$15<X777,U778,0))","v":{"$error":"#DIV/0!"}},{"$f":"($T$338/60)*$C778","v":{"$error":"#DIV/0!"}},{"$f":"$E778-T778-U778-V778-X778-Y778","v":{"$error":"#DIV/0!"}},{"$error":"#DIV/0!"},{"$error":"#DIV/0!"},{"$error":"#DIV/0!"},{"$f":"AG$864","v":{"$error":"#DIV/0!"}},{"$f":"MIN(AD778,$E778-AC778-AF778-IF(Invoer!$G$15<AE777,AB778,0))","v":{"$error":"#DIV/0!"}},{"$error":"#DIV/0!"},{"$f":"$E778-AA778-AB778-AC778-AE778-AF778","v":{"$error":"#DIV/0!"}}]
[null,null,3,{"$f":"((((((E779-E778)/(C779-C778)/60)/1000)*10000)*1000))","v":205.69421213727415},{"$f":"Klimaatscenario!B10","v":3.7024958184709345},{"$error":"#DIV/0!"},{"$error":"#DIV/0!"},{"$error":"#DIV/0!"},{"$error":"#DIV/0!"},{"$f":"MIN($I779,E779-H779-K779-IF(Invoer!$D$15<Neerslagberekeningen!J778,Neerslagberekeningen!G779,0))","v":{"$error":"#DIV/0!"}},{"$error":"#DIV/0!"},{"$error":"#DIV/0!"},{"$error":"#DIV/0!"},{"$error":"#DIV/0!"},{"$error":"#DIV/0!"},{"$error":"#DIV/0!"},{"$f":"MIN(P779,$E779-O779-R779-IF(Invoer!$E$15<Q778,N779,0))","v":{"$error":"#DIV/0!"}},{"$error":"#DIV/0!"},{"$error":"#DIV/0!"},{"$error":"#DIV/0!"},{"$error":"#DIV/0!"},{"$error":"#DIV/0!"},{"$error":"#DIV/0!"},{"$f":"MIN(W779,$E779-V779-Y779-IF(Invoer!$F$15<X778,U779,0))","v":{"$error":"#DIV/0!"}},{"$error":"#DIV/0!"},{"$error":"#DIV/0!"},{"$error":"#DIV/0!"},{"$error":"#DIV/0!"},{"$error":"#DIV/0!"},{"$error":"#DIV/0!"},{"$f":"MIN(AD779,$E779-AC779-AF779-IF(Invoer!$G$15<AE778,AB779,0))","v":{"$error":"#DIV/0!"}},{"$error":"#DIV/0!"},{"$error":"#DIV/0!"}]
[null,null,4,{"$f":"((((((E780-E779)/(C780-C779)/60)/1000)*10000)*1000))","v":205.69421213727409},{"$f":"Klimaatscenario!B11","v":4.936661091294579},{"$error":"#DIV/0!"},{"$error":"#DIV/0!"},{"$error":"#DIV/0!"},{"$error":"#DIV/0!"},{"$f":"MIN($I780,E780-H780-K780-IF(Invoer!$D$15<Neerslagberekeningen!J779,Neerslagberekeningen!G780,0))","v":{"$error":"#DIV/0!"}},{"$error":"#DIV/0!"},{"$error":"#DIV/0!"},{"$error":"#DIV/0!"},{"$error":"#DIV/0!"},{"$error":"#DIV/0!"},{"$error":"#DIV/0!"},{"$f":"MIN(P780,$E780-O780-R780-IF(Invoer!$E$15<Q779,N780,0))","v":{"$error":"#DIV/0!"}},{"$error":"#DIV/0!"},{"$error":"#DIV/0!"},{"$error":"#DIV/0!"},{"$error":"#DIV/0!"},{"$error":"#DIV/0!"},{"$error":"#DIV/0!"},{"$f":"MIN(W780,$E780-V780-Y780-IF(Invoer!$F$15<X779,U780,0))","v":{"$error":"#DIV/0!"}},{"$error":"#DIV/0!"},{"$error":"#DIV/0!"},{"$error":"#DIV/0!"},{"$error":"#DIV/0!"},{"$error":"#DIV/0!"},{"$error":"#DIV/0!"},{"$f":"MIN(AD780,$E780-AC780-AF780-IF(Invoer!$G$15<AE779,AB780,0))","v":{"$error":"#DIV/0!"}},{"$error":"#DIV/0!"},{"$error":"#DIV/0!"}]
[null,null,5,{"$f":"((((((E781-E780)/(C781-C780))/60)/1000)*10000)*1000)","v":205.69421213727409},{"$f":"Klimaatscenario!B12","v":6.1708263641182235},{"$error":"#DIV/0!"},{"$error":"#DIV/0!"},{"$error":"#DIV/0!"},{"$error":"#DIV/0!"},{"$f":"MIN($I781,E781-H781-K781-IF(Invoer!$D$15<J780,G781,0))","v":{"$error":"#DIV/0!"}},{"$error":"#DIV/0!"},{"$error":"#DIV/0!"},{"$error":"#DIV/0!"},{"$error":"#DIV/0!"},{"$error":"#DIV/0!"},{"$error":"#DIV/0!"},{"$f":"MIN(P781,$E781-O781-R781-IF(Invoer!$E$15<Q780,N781,0))","v":{"$error":"#DIV/0!"}},{"$error":"#DIV/0!"},{"$error":"#DIV/0!"},{"$error":"#DIV/0!"},{"$error":"#DIV/0!"},{"$error":"#DIV/0!"},{"$error":"#DIV/0!"},{"$f":"MIN(W781,$E781-V781-Y781-IF(Invoer!$F$15<X780,U781,0))","v":{"$error":"#DIV/0!"}},{"$error":"#DIV/0!"},{"$error":"#DIV/0!"},{"$error":"#DIV/0!"},{"$error":"#DIV/0!"},{"$error":"#DIV/0!"},{"$error":"#DIV/0!"},{"$f":"MIN(AD781,$E781-AC781-AF781-IF(Invoer!$G$15<AE780,AB781,0))","v":{"$error":"#DIV/0!"}},{"$error":"#DIV/0!"},{"$error":"#DIV/0!"}]
[null,null,6,205.69421213727423,{"$f":"Klimaatscenario!B13","v":7.4049916369418689},{"$error":"#DIV/0!"},{"$error":"#DIV/0!"},{"$error":"#DIV/0!"},{"$error":"#DIV/0!"},{"$f":"MIN($I782,E782-H782-K782-IF(Invoer!$D$15<Neerslagberekeningen!J781,Neerslagberekeningen!G782,0))","v":{"$error":"#DIV/0!"}},{"$error":"#DIV/0!"},{"$error":"#DIV/0!"},{"$error":"#DIV/0!"},{"$error":"#DIV/0!"},{"$error":"#DIV/0!"},{"$error":"#DIV/0!"},{"$f":"MIN(P782,$E782-O782-R782-IF(Invoer!$E$15<Q781,N782,0))","v":{"$error":"#DIV/0!"}},{"$error":"#DIV/0!"},{"$error":"#DIV/0!"},{"$error":"#DIV/0!"},{"$error":"#DIV/0!"},{"$error":"#DIV/0!"},{"$error":"#DIV/0!"},{"$f":"MIN(W782,$E782-V782-Y782-IF(Invoer!$F$15<X781,U782,0))","v":{"$error":"#DIV/0!"}},{"$error":"#DIV/0!"},{"$error":"#DIV/0!"},{"$error":"#DIV/0!"},{"$error":"#DIV/0!"},{"$error":"#DIV/0!"},{"$error":"#DIV/0!"},{"$f":"MIN(AD782,$E782-AC782-AF782-IF(Invoer!$G$15<AE781,AB782,0))","v":{"$error":"#DIV/0!"}},{"$error":"#DIV/0!"},{"$error":"#DIV/0!"}]
[null,null,7,205.69421213727395,{"$f":"Klimaatscenario!B14","v":8.6391569097655125},{"$error":"#DIV/0!"},{"$error":"#DIV/0!"},{"$error":"#DIV/0!"},{"$error":"#DIV/0!"},{"$f":"MIN($I783,E783-H783-K783-IF(Invoer!$D$15<Neerslagberekeningen!J782,Neerslagberekeningen!G783,0))","v":{"$error":"#DIV/0!"}},{"$error":"#DIV/0!"},{"$error":"#DIV/0!"},{"$error":"#DIV/0!"},{"$error":"#DIV/0!"},{"$error":"#DIV/0!"},{"$error":"#DIV/0!"},{"$f":"MIN(P783,$E783-O783-R783-IF(Invoer!$E$15<Q782,N783,0))","v":{"$error":"#DIV/0!"}},{"$error":"#DIV/0!"},{"$error":"#DIV/0!"},{"$error":"#DIV/0!"},{"$error":"#DIV/0!"},{"$error":"#DIV/0!"},{"$error":"#DIV/0!"},{"$f":"MIN(W783,$E783-V783-Y783-IF(Invoer!$F$15<X782,U783,0))","v":{"$error":"#DIV/0!"}},{"$error":"#DIV/0!"},{"$error":"#DIV/0!"},{"$error":"#DIV/0!"},{"$error":"#DIV/0!"},{"$error":"#DIV/0!"},{"$error":"#DIV/0!"},{"$f":"MIN(AD783,$E783-AC783-AF783-IF(Invoer!$G$15<AE782,AB783,0))","v":{"$error":"#DIV/0!"}},{"$error":"#DIV/0!"},{"$error":"#DIV/0!"}]
[null,null,8,205.69421213727423,{"$f":"Klimaatscenario!B15","v":9.8733221825891579},{"$error":"#DIV/0!"},{"$error":"#DIV/0!"},{"$error":"#DIV/0!"},{"$error":"#DIV/0!"},{"$f":"MIN($I784,E784-H784-K784-IF(Invoer!$D$15<Neerslagberekeningen!J783,Neerslagberekeningen!G784,0))","v":{"$error":"#DIV/0!"}},{"$error":"#DIV/0!"},{"$error":"#DIV/0!"},{"$error":"#DIV/0!"},{"$error":"#DIV/0!"},{"$error":"#DIV/0!"},{"$error":"#DIV/0!"},{"$f":"MIN(P784,$E784-O784-R784-IF(Invoer!$E$15<Q783,N784,0))","v":{"$error":"#DIV/0!"}},{"$error":"#DIV/0!"},{"$error":"#DIV/0!"},{"$error":"#DIV/0!"},{"$error":"#DIV/0!"},{"$error":"#DIV/0!"},{"$error":"#DIV/0!"},{"$f":"MIN(W784,$E784-V784-Y784-IF(Invoer!$F$15<X783,U784,0))","v":{"$error":"#DIV/0!"}},{"$error":"#DIV/0!"},{"$error":"#DIV/0!"},{"$error":"#DIV/0!"},{"$error":"#DIV/0!"},{"$error":"#DIV/0!"},{"$error":"#DIV/0!"},{"$f":"MIN(AD784,$E784-AC784-AF784-IF(Invoer!$G$15<AE783,AB784,0))","v":{"$error":"#DIV/0!"}},{"$error":"#DIV/0!"},{"$error":"#DIV/0!"}]
[null,null,9,205.69421213727423,{"$f":"Klimaatscenario!B16","v":11.107487455412803},{"$error":"#DIV/0!"},{"$error":"#DIV/0!"},{"$error":"#DIV/0!"},{"$error":"#DIV/0!"},{"$f":"MIN($I785,E785-H785-K785-IF(Invoer!$D$15<Neerslagberekeningen!J784,Neerslagberekeningen!G785,0))","v":{"$error":"#DIV/0!"}},{"$error":"#DIV/0!"},{"$error":"#DIV/0!"},{"$error":"#DIV/0!"},{"$error":"#DIV/0!"},{"$error":"#DIV/0!"},{"$error":"#DIV/0!"},{"$f":"MIN(P785,$E785-O785-R785-IF(Invoer!$E$15<Q784,N785,0))","v":{"$error":"#DIV/0!"}},{"$error":"#DIV/0!"},{"$error":"#DIV/0!"},{"$error":"#DIV/0!"},{"$error":"#DIV/0!"},{"$error":"#DIV/0!"},{"$error":"#DIV/0!"},{"$f":"MIN(W785,$E785-V785-Y785-IF(Invoer!$F$15<X784,U785,0))","v":{"$error":"#DIV/0!"}},{"$error":"#DIV/0!"},{"$error":"#DIV/0!"},{"$error":"#DIV/0!"},{"$error":"#DIV/0!"},{"$error":"#DIV/0!"},{"$error":"#DIV/0!"},{"$f":"MIN(AD785,$E785-AC785-AF785-IF(Invoer!$G$15<AE784,AB785,0))","v":{"$error":"#DIV/0!"}},{"$error":"#DIV/0!"},{"$error":"#DIV/0!"}]
[null,null,10,205.69421213727395,{"$f":"Klimaatscenario!B17","v":12.341652728236447},{"$error":"#DIV/0!"},{"$error":"#DIV/0!"},{"$error":"#DIV/0!"},{"$error":"#DIV/0!"},{"$f":"MIN($I786,E786-H786-K786-IF(Invoer!$D$15<Neerslagberekeningen!J785,Neerslagberekeningen!G786,0))","v":{"$error":"#DIV/0!"}},{"$error":"#DIV/0!"},{"$error":"#DIV/0!"},{"$error":"#DIV/0!"},{"$error":"#DIV/0!"},{"$error":"#DIV/0!"},{"$error":"#DIV/0!"},{"$f":"MIN(P786,$E786-O786-R786-IF(Invoer!$E$15<Q785,N786,0))","v":{"$error":"#DIV/0!"}},{"$error":"#DIV/0!"},{"$error":"#DIV/0!"},{"$error":"#DIV/0!"},{"$error":"#DIV/0!"},{"$error":"#DIV/0!"},{"$error":"#DIV/0!"},{"$f":"MIN(W786,$E786-V786-Y786-IF(Invoer!$F$15<X785,U786,0))","v":{"$error":"#DIV/0!"}},{"$error":"#DIV/0!"},{"$error":"#DIV/0!"},{"$error":"#DIV/0!"},{"$error":"#DIV/0!"},{"$error":"#DIV/0!"},{"$error":"#DIV/0!"},{"$f":"MIN(AD786,$E786-AC786-AF786-IF(Invoer!$G$15<AE785,AB786,0))","v":{"$error":"#DIV/0!"}},{"$error":"#DIV/0!"},{"$error":"#DIV/0!"}]
[null,null,11,33.265115792053969,{"$f":"Klimaatscenario!B18","v":12.541243422988771},{"$error":"#DIV/0!"},{"$error":"#DIV/0!"},{"$error":"#DIV/0!"},{"$error":"#DIV/0!"},{"$f":"MIN($I787,E787-H787-K787-IF(Invoer!$D$15<Neerslagberekeningen!J786,Neerslagberekeningen!G787,0))","v":{"$error":"#DIV/0!"}},{"$error":"#DIV/0!"},{"$error":"#DIV/0!"},{"$error":"#DIV/0!"},{"$error":"#DIV/0!"},{"$error":"#DIV/0!"},{"$error":"#DIV/0!"},{"$f":"MIN(P787,$E787-O787-R787-IF(Invoer!$E$15<Q786,N787,0))","v":{"$error":"#DIV/0!"}},{"$error":"#DIV/0!"},{"$error":"#DIV/0!"},{"$error":"#DIV/0!"},{"$error":"#DIV/0!"},{"$error":"#DIV/0!"},{"$error":"#DIV/0!"},{"$f":"MIN(W787,$E787-V787-Y787-IF(Invoer!$F$15<X786,U787,0))","v":{"$error":"#DIV/0!"}},{"$error":"#DIV/0!"},{"$error":"#DIV/0!"},{"$error":"#DIV/0!"},{"$error":"#DIV/0!"},{"$error":"#DIV/0!"},{"$error":"#DIV/0!"},{"$f":"MIN(AD787,$E787-AC787-AF787-IF(Invoer!$G$15<AE786,AB787,0))","v":{"$error":"#DIV/0!"}},{"$error":"#DIV/0!"},{"$error":"#DIV/0!"}]
[null,null,12,33.26511579205367,{"$f":"Klimaatscenario!B19","v":12.740834117741093},{"$error":"#DIV/0!"},{"$error":"#DIV/0!"},{"$error":"#DIV/0!"},{"$error":"#DIV/0!"},{"$f":"MIN($I788,E788-H788-K788-IF(Invoer!$D$15<Neerslagberekeningen!J787,Neerslagberekeningen!G788,0))","v":{"$error":"#DIV/0!"}},{"$error":"#DIV/0!"},{"$error":"#DIV/0!"},{"$error":"#DIV/0!"},{"$error":"#DIV/0!"},{"$error":"#DIV/0!"},{"$error":"#DIV/0!"},{"$f":"MIN(P788,$E788-O788-R788-IF(Invoer!$E$15<Q787,N788,0))","v":{"$error":"#DIV/0!"}},{"$error":"#DIV/0!"},{"$error":"#DIV/0!"},{"$error":"#DIV/0!"},{"$error":"#DIV/0!"},{"$error":"#DIV/0!"},{"$error":"#DIV/0!"},{"$f":"MIN(W788,$E788-V788-Y788-IF(Invoer!$F$15<X787,U788,0))","v":{"$error":"#DIV/0!"}},{"$error":"#DIV/0!"},{"$error":"#DIV/0!"},{"$error":"#DIV/0!"},{"$error":"#DIV/0!"},{"$error":"#DIV/0!"},{"$error":"#DIV/0!"},{"$f":"MIN(AD788,$E788-AC788-AF788-IF(Invoer!$G$15<AE787,AB788,0))","v":{"$error":"#DIV/0!"}},{"$error":"#DIV/0!"},{"$error":"#DIV/0!"}]
[null,null,13,33.26511579205367,{"$f":"Klimaatscenario!B20","v":12.940424812493415},{"$error":"#DIV/0!"},{"$error":"#DIV/0!"},{"$error":"#DIV/0!"},{"$error":"#DIV/0!"},{"$f":"MIN($I789,E789-H789-K789-IF(Invoer!$D$15<Neerslagberekeningen!J788,Neerslagberekeningen!G789,0))","v":{"$error":"#DIV/0!"}},{"$error":"#DIV/0!"},{"$error":"#DIV/0!"},{"$error":"#DIV/0!"},{"$error":"#DIV/0!"},{"$error":"#DIV/0!"},{"$error":"#DIV/0!"},{"$f":"MIN(P789,$E789-O789-R789-IF(Invoer!$E$15<Q788,N789,0))","v":{"$error":"#DIV/0!"}},{"$error":"#DIV/0!"},{"$error":"#DIV/0!"},{"$error":"#DIV/0!"},{"$error":"#DIV/0!"},{"$error":"#DIV/0!"},{"$error":"#DIV/0!"},{"$f":"MIN(W789,$E789-V789-Y789-IF(Invoer!$F$15<X788,U789,0))","v":{"$error":"#DIV/0!"}},{"$error":"#DIV/0!"},{"$error":"#DIV/0!"},{"$error":"#DIV/0!"},{"$error":"#DIV/0!"},{"$error":"#DIV/0!"},{"$error":"#DIV/0!"},{"$f":"MIN(AD789,$E789-AC789-AF789-IF(Invoer!$G$15<AE788,AB789,0))","v":{"$error":"#DIV/0!"}},{"$error":"#DIV/0!"},{"$error":"#DIV/0!"}]
[null,null,14,33.265115792053969,{"$f":"Klimaatscenario!B21","v":13.140015507245739},{"$error":"#DIV/0!"},{"$error":"#DIV/0!"},{"$error":"#DIV/0!"},{"$error":"#DIV/0!"},{"$f":"MIN($I790,E790-H790-K790-IF(Invoer!$D$15<Neerslagberekeningen!J789,Neerslagberekeningen!G790,0))","v":{"$error":"#DIV/0!"}},{"$error":"#DIV/0!"},{"$error":"#DIV/0!"},{"$error":"#DIV/0!"},{"$error":"#DIV/0!"},{"$error":"#DIV/0!"},{"$error":"#DIV/0!"},{"$f":"MIN(P790,$E790-O790-R790-IF(Invoer!$E$15<Q789,N790,0))","v":{"$error":"#DIV/0!"}},{"$error":"#DIV/0!"},{"$error":"#DIV/0!"},{"$error":"#DIV/0!"},{"$error":"#DIV/0!"},{"$error":"#DIV/0!"},{"$error":"#DIV/0!"},{"$f":"MIN(W790,$E790-V790-Y790-IF(Invoer!$F$15<X789,U790,0))","v":{"$error":"#DIV/0!"}},{"$error":"#DIV/0!"},{"$error":"#DIV/0!"},{"$error":"#DIV/0!"},{"$error":"#DIV/0!"},{"$error":"#DIV/0!"},{"$error":"#DIV/0!"},{"$f":"MIN(AD790,$E790-AC790-AF790-IF(Invoer!$G$15<AE789,AB790,0))","v":{"$error":"#DIV/0!"}},{"$error":"#DIV/0!"},{"$error":"#DIV/0!"}]
[null,null,15,33.265115792053969,{"$f":"Klimaatscenario!B22","v":13.339606201998063},{"$error":"#DIV/0!"},{"$error":"#DIV/0!"},{"$error":"#DIV/0!"},{"$error":"#DIV/0!"},{"$f":"MIN($I791,E791-H791-K791-IF(Invoer!$D$15<Neerslagberekeningen!J790,Neerslagberekeningen!G791,0))","v":{"$error":"#DIV/0!"}},{"$error":"#DIV/0!"},{"$error":"#DIV/0!"},{"$error":"#DIV/0!"},{"$error":"#DIV/0!"},{"$error":"#DIV/0!"},{"$error":"#DIV/0!"},{"$f":"MIN(P791,$E791-O791-R791-IF(Invoer!$E$15<Q790,N791,0))","v":{"$error":"#DIV/0!"}},{"$error":"#DIV/0!"},{"$error":"#DIV/0!"},{"$error":"#DIV/0!"},{"$error":"#DIV/0!"},{"$error":"#DIV/0!"},{"$error":"#DIV/0!"},{"$f":"MIN(W791,$E791-V791-Y791-IF(Invoer!$F$15<X790,U791,0))","v":{"$error":"#DIV/0!"}},{"$error":"#DIV/0!"},{"$error":"#DIV/0!"},{"$error":"#DIV/0!"},{"$error":"#DIV/0!"},{"$error":"#DIV/0!"},{"$error":"#DIV/0!"},{"$f":"MIN(AD791,$E791-AC791-AF791-IF(Invoer!$G$15<AE790,AB791,0))","v":{"$error":"#DIV/0!"}},{"$error":"#DIV/0!"},{"$error":"#DIV/0!"}]
[null,null,16,33.26511579205367,{"$f":"Klimaatscenario!B23","v":13.539196896750385},{"$error":"#DIV/0!"},{"$error":"#DIV/0!"},{"$error":"#DIV/0!"},{"$error":"#DIV/0!"},{"$f":"MIN($I792,E792-H792-K792-IF(Invoer!$D$15<Neerslagberekeningen!J791,Neerslagberekeningen!G792,0))","v":{"$error":"#DIV/0!"}},{"$error":"#DIV/0!"},{"$error":"#DIV/0!"},{"$error":"#DIV/0!"},{"$error":"#DIV/0!"},{"$error":"#DIV/0!"},{"$error":"#DIV/0!"},{"$f":"MIN(P792,$E792-O792-R792-IF(Invoer!$E$15<Q791,N792,0))","v":{"$error":"#DIV/0!"}},{"$error":"#DIV/0!"},{"$error":"#DIV/0!"},{"$error":"#DIV/0!"},{"$error":"#DIV/0!"},{"$error":"#DIV/0!"},{"$error":"#DIV/0!"},{"$f":"MIN(W792,$E792-V792-Y792-IF(Invoer!$F$15<X791,U792,0))","v":{"$error":"#DIV/0!"}},{"$error":"#DIV/0!"},{"$error":"#DIV/0!"},{"$error":"#DIV/0!"},{"$error":"#DIV/0!"},{"$error":"#DIV/0!"},{"$error":"#DIV/0!"},{"$f":"MIN(AD792,$E792-AC792-AF792-IF(Invoer!$G$15<AE791,AB792,0))","v":{"$error":"#DIV/0!"}},{"$error":"#DIV/0!"},{"$error":"#DIV/0!"}]
[null,null,17,33.26511579205367,{"$f":"Klimaatscenario!B24","v":13.738787591502707},{"$error":"#DIV/0!"},{"$error":"#DIV/0!"},{"$error":"#DIV/0!"},{"$error":"#DIV/0!"},{"$f":"MIN($I793,E793-H793-K793-IF(Invoer!$D$15<Neerslagberekeningen!J792,Neerslagberekeningen!G793,0))","v":{"$error":"#DIV/0!"}},{"$error":"#DIV/0!"},{"$error":"#DIV/0!"},{"$error":"#DIV/0!"},{"$error":"#DIV/0!"},{"$error":"#DIV/0!"},{"$error":"#DIV/0!"},{"$f":"MIN(P793,$E793-O793-R793-IF(Invoer!$E$15<Q792,N793,0))","v":{"$error":"#DIV/0!"}},{"$error":"#DIV/0!"},{"$error":"#DIV/0!"},{"$error":"#DIV/0!"},{"$error":"#DIV/0!"},{"$error":"#DIV/0!"},{"$error":"#DIV/0!"},{"$f":"MIN(W793,$E793-V793-Y793-IF(Invoer!$F$15<X792,U793,0))","v":{"$error":"#DIV/0!"}},{"$error":"#DIV/0!"},{"$error":"#DIV/0!"},{"$error":"#DIV/0!"},{"$error":"#DIV/0!"},{"$error":"#DIV/0!"},{"$error":"#DIV/0!"},{"$f":"MIN(AD793,$E793-AC793-AF793-IF(Invoer!$G$15<AE792,AB793,0))","v":{"$error":"#DIV/0!"}},{"$error":"#DIV/0!"},{"$error":"#DIV/0!"}]
[null,null,18,33.265115792053969,{"$f":"Klimaatscenario!B25","v":13.938378286255031},{"$error":"#DIV/0!"},{"$error":"#DIV/0!"},{"$error":"#DIV/0!"},{"$error":"#DIV/0!"},{"$f":"MIN($I794,E794-H794-K794-IF(Invoer!$D$15<Neerslagberekeningen!J793,Neerslagberekeningen!G794,0))","v":{"$error":"#DIV/0!"}},{"$error":"#DIV/0!"},{"$error":"#DIV/0!"},{"$error":"#DIV/0!"},{"$error":"#DIV/0!"},{"$error":"#DIV/0!"},{"$error":"#DIV/0!"},{"$f":"MIN(P794,$E794-O794-R794-IF(Invoer!$E$15<Q793,N794,0))","v":{"$error":"#DIV/0!"}},{"$error":"#DIV/0!"},{"$error":"#DIV/0!"},{"$error":"#DIV/0!"},{"$error":"#DIV/0!"},{"$error":"#DIV/0!"},{"$error":"#DIV/0!"},{"$f":"MIN(W794,$E794-V794-Y794-IF(Invoer!$F$15<X793,U794,0))","v":{"$error":"#DIV/0!"}},{"$error":"#DIV/0!"},{"$error":"#DIV/0!"},{"$error":"#DIV/0!"},{"$error":"#DIV/0!"},{"$error":"#DIV/0!"},{"$error":"#DIV/0!"},{"$f":"MIN(AD794,$E794-AC794-AF794-IF(Invoer!$G$15<AE793,AB794,0))","v":{"$error":"#DIV/0!"}},{"$error":"#DIV/0!"},{"$error":"#DIV/0!"}]
[null,null,19,33.265115792053969,{"$f":"Klimaatscenario!B26","v":14.137968981007354},{"$error":"#DIV/0!"},{"$error":"#DIV/0!"},{"$error":"#DIV/0!"},{"$error":"#DIV/0!"},{"$f":"MIN($I795,E795-H795-K795-IF(Invoer!$D$15<Neerslagberekeningen!J794,Neerslagberekeningen!G795,0))","v":{"$error":"#DIV/0!"}},{"$error":"#DIV/0!"},{"$error":"#DIV/0!"},{"$error":"#DIV/0!"},{"$error":"#DIV/0!"},{"$error":"#DIV/0!"},{"$error":"#DIV/0!"},{"$f":"MIN(P795,$E795-O795-R795-IF(Invoer!$E$15<Q794,N795,0))","v":{"$error":"#DIV/0!"}},{"$error":"#DIV/0!"},{"$error":"#DIV/0!"},{"$error":"#DIV/0!"},{"$error":"#DIV/0!"},{"$error":"#DIV/0!"},{"$error":"#DIV/0!"},{"$f":"MIN(W795,$E795-V795-Y795-IF(Invoer!$F$15<X794,U795,0))","v":{"$error":"#DIV/0!"}},{"$error":"#DIV/0!"},{"$error":"#DIV/0!"},{"$error":"#DIV/0!"},{"$error":"#DIV/0!"},{"$error":"#DIV/0!"},{"$error":"#DIV/0!"},{"$f":"MIN(AD795,$E795-AC795-AF795-IF(Invoer!$G$15<AE794,AB795,0))","v":{"$error":"#DIV/0!"}},{"$error":"#DIV/0!"},{"$error":"#DIV/0!"}]
[null,null,20,33.26511579205367,{"$f":"Klimaatscenario!B27","v":14.337559675759676},{"$error":"#DIV/0!"},{"$error":"#DIV/0!"},{"$error":"#DIV/0!"},{"$error":"#DIV/0!"},{"$f":"MIN($I796,E796-H796-K796-IF(Invoer!$D$15<Neerslagberekeningen!J795,Neerslagberekeningen!G796,0))","v":{"$error":"#DIV/0!"}},{"$error":"#DIV/0!"},{"$error":"#DIV/0!"},{"$error":"#DIV/0!"},{"$error":"#DIV/0!"},{"$error":"#DIV/0!"},{"$error":"#DIV/0!"},{"$f":"MIN(P796,$E796-O796-R796-IF(Invoer!$E$15<Q795,N796,0))","v":{"$error":"#DIV/0!"}},{"$error":"#DIV/0!"},{"$error":"#DIV/0!"},{"$error":"#DIV/0!"},{"$error":"#DIV/0!"},{"$error":"#DIV/0!"},{"$error":"#DIV/0!"},{"$f":"MIN(W796,$E796-V796-Y796-IF(Invoer!$F$15<X795,U796,0))","v":{"$error":"#DIV/0!"}},{"$error":"#DIV/0!"},{"$error":"#DIV/0!"},{"$error":"#DIV/0!"},{"$error":"#DIV/0!"},{"$error":"#DIV/0!"},{"$error":"#DIV/0!"},{"$f":"MIN(AD796,$E796-AC796-AF796-IF(Invoer!$G$15<AE795,AB796,0))","v":{"$error":"#DIV/0!"}},{"$error":"#DIV/0!"},{"$error":"#DIV/0!"}]
[null,null,21,33.26511579205367,{"$f":"Klimaatscenario!B28","v":14.537150370511998},{"$error":"#DIV/0!"},{"$error":"#DIV/0!"},{"$error":"#DIV/0!"},{"$error":"#DIV/0!"},{"$f":"MIN($I797,E797-H797-K797-IF(Invoer!$D$15<Neerslagberekeningen!J796,Neerslagberekeningen!G797,0))","v":{"$error":"#DIV/0!"}},{"$error":"#DIV/0!"},{"$error":"#DIV/0!"},{"$error":"#DIV/0!"},{"$error":"#DIV/0!"},{"$error":"#DIV/0!"},{"$error":"#DIV/0!"},{"$f":"MIN(P797,$E797-O797-R797-IF(Invoer!$E$15<Q796,N797,0))","v":{"$error":"#DIV/0!"}},{"$error":"#DIV/0!"},{"$error":"#DIV/0!"},{"$error":"#DIV/0!"},{"$error":"#DIV/0!"},{"$error":"#DIV/0!"},{"$error":"#DIV/0!"},{"$f":"MIN(W797,$E797-V797-Y797-IF(Invoer!$F$15<X796,U797,0))","v":{"$error":"#DIV/0!"}},{"$error":"#DIV/0!"},{"$error":"#DIV/0!"},{"$error":"#DIV/0!"},{"$error":"#DIV/0!"},{"$error":"#DIV/0!"},{"$error":"#DIV/0!"},{"$f":"MIN(AD797,$E797-AC797-AF797-IF(Invoer!$G$15<AE796,AB797,0))","v":{"$error":"#DIV/0!"}},{"$error":"#DIV/0!"},{"$error":"#DIV/0!"}]
[null,null,22,33.265115792053969,{"$f":"Klimaatscenario!B29","v":14.736741065264322},{"$error":"#DIV/0!"},{"$error":"#DIV/0!"},{"$error":"#DIV/0!"},{"$error":"#DIV/0!"},{"$f":"MIN($I798,E798-H798-K798-IF(Invoer!$D$15<Neerslagberekeningen!J797,Neerslagberekeningen!G798,0))","v":{"$error":"#DIV/0!"}},{"$error":"#DIV/0!"},{"$error":"#DIV/0!"},{"$error":"#DIV/0!"},{"$error":"#DIV/0!"},{"$error":"#DIV/0!"},{"$error":"#DIV/0!"},{"$f":"MIN(P798,$E798-O798-R798-IF(Invoer!$E$15<Q797,N798,0))","v":{"$error":"#DIV/0!"}},{"$error":"#DIV/0!"},{"$error":"#DIV/0!"},{"$error":"#DIV/0!"},{"$error":"#DIV/0!"},{"$error":"#DIV/0!"},{"$error":"#DIV/0!"},{"$f":"MIN(W798,$E798-V798-Y798-IF(Invoer!$F$15<X797,U798,0))","v":{"$error":"#DIV/0!"}},{"$error":"#DIV/0!"},{"$error":"#DIV/0!"},{"$error":"#DIV/0!"},{"$error":"#DIV/0!"},{"$error":"#DIV/0!"},{"$error":"#DIV/0!"},{"$f":"MIN(AD798,$E798-AC798-AF798-IF(Invoer!$G$15<AE797,AB798,0))","v":{"$error":"#DIV/0!"}},{"$error":"#DIV/0!"},{"$error":"#DIV/0!"}]
[null,null,23,33.265115792053969,{"$f":"Klimaatscenario!B30","v":14.936331760016646},{"$error":"#DIV/0!"},{"$error":"#DIV/0!"},{"$error":"#DIV/0!"},{"$error":"#DIV/0!"},{"$f":"MIN($I799,E799-H799-K799-IF(Invoer!$D$15<Neerslagberekeningen!J798,Neerslagberekeningen!G799,0))","v":{"$error":"#DIV/0!"}},{"$error":"#DIV/0!"},{"$error":"#DIV/0!"},{"$error":"#DIV/0!"},{"$error":"#DIV/0!"},{"$error":"#DIV/0!"},{"$error":"#DIV/0!"},{"$f":"MIN(P799,$E799-O799-R799-IF(Invoer!$E$15<Q798,N799,0))","v":{"$error":"#DIV/0!"}},{"$error":"#DIV/0!"},{"$error":"#DIV/0!"},{"$error":"#DIV/0!"},{"$error":"#DIV/0!"},{"$error":"#DIV/0!"},{"$error":"#DIV/0!"},{"$f":"MIN(W799,$E799-V799-Y799-IF(Invoer!$F$15<X798,U799,0))","v":{"$error":"#DIV/0!"}},{"$error":"#DIV/0!"},{"$error":"#DIV/0!"},{"$error":"#DIV/0!"},{"$error":"#DIV/0!"},{"$error":"#DIV/0!"},{"$error":"#DIV/0!"},{"$f":"MIN(AD799,$E799-AC799-AF799-IF(Invoer!$G$15<AE798,AB799,0))","v":{"$error":"#DIV/0!"}},{"$error":"#DIV/0!"},{"$error":"#DIV/0!"}]
[null,null,24,33.26511579205367,{"$f":"Klimaatscenario!B31","v":15.135922454768968},{"$error":"#DIV/0!"},{"$error":"#DIV/0!"},{"$error":"#DIV/0!"},{"$error":"#DIV/0!"},{"$f":"MIN($I800,E800-H800-K800-IF(Invoer!$D$15<Neerslagberekeningen!J799,Neerslagberekeningen!G800,0))","v":{"$error":"#DIV/0!"}},{"$error":"#DIV/0!"},{"$error":"#DIV/0!"},{"$error":"#DIV/0!"},{"$error":"#DIV/0!"},{"$error":"#DIV/0!"},{"$error":"#DIV/0!"},{"$f":"MIN(P800,$E800-O800-R800-IF(Invoer!$E$15<Q799,N800,0))","v":{"$error":"#DIV/0!"}},{"$error":"#DIV/0!"},{"$error":"#DIV/0!"},{"$error":"#DIV/0!"},{"$error":"#DIV/0!"},{"$error":"#DIV/0!"},{"$error":"#DIV/0!"},{"$f":"MIN(W800,$E800-V800-Y800-IF(Invoer!$F$15<X799,U800,0))","v":{"$error":"#DIV/0!"}},{"$error":"#DIV/0!"},{"$error":"#DIV/0!"},{"$error":"#DIV/0!"},{"$error":"#DIV/0!"},{"$error":"#DIV/0!"},{"$error":"#DIV/0!"},{"$f":"MIN(AD800,$E800-AC800-AF800-IF(Invoer!$G$15<AE799,AB800,0))","v":{"$error":"#DIV/0!"}},{"$error":"#DIV/0!"},{"$error":"#DIV/0!"}]
[null,null,25,33.26511579205367,{"$f":"Klimaatscenario!B32","v":15.33551314952129},{"$error":"#DIV/0!"},{"$error":"#DIV/0!"},{"$error":"#DIV/0!"},{"$error":"#DIV/0!"},{"$f":"MIN($I801,E801-H801-K801-IF(Invoer!$D$15<Neerslagberekeningen!J800,Neerslagberekeningen!G801,0))","v":{"$error":"#DIV/0!"}},{"$error":"#DIV/0!"},{"$error":"#DIV/0!"},{"$error":"#DIV/0!"},{"$error":"#DIV/0!"},{"$error":"#DIV/0!"},{"$error":"#DIV/0!"},{"$f":"MIN(P801,$E801-O801-R801-IF(Invoer!$E$15<Q800,N801,0))","v":{"$error":"#DIV/0!"}},{"$error":"#DIV/0!"},{"$error":"#DIV/0!"},{"$error":"#DIV/0!"},{"$error":"#DIV/0!"},{"$error":"#DIV/0!"},{"$error":"#DIV/0!"},{"$f":"MIN(W801,$E801-V801-Y801-IF(Invoer!$F$15<X800,U801,0))","v":{"$error":"#DIV/0!"}},{"$error":"#DIV/0!"},{"$error":"#DIV/0!"},{"$error":"#DIV/0!"},{"$error":"#DIV/0!"},{"$error":"#DIV/0!"},{"$error":"#DIV/0!"},{"$f":"MIN(AD801,$E801-AC801-AF801-IF(Invoer!$G$15<AE800,AB801,0))","v":{"$error":"#DIV/0!"}},{"$error":"#DIV/0!"},{"$error":"#DIV/0!"}]
[null,null,26,33.265115792053969,{"$f":"Klimaatscenario!B33","v":15.535103844273614},{"$error":"#DIV/0!"},{"$error":"#DIV/0!"},{"$error":"#DIV/0!"},{"$error":"#DIV/0!"},{"$f":"MIN($I802,E802-H802-K802-IF(Invoer!$D$15<Neerslagberekeningen!J801,Neerslagberekeningen!G802,0))","v":{"$error":"#DIV/0!"}},{"$error":"#DIV/0!"},{"$error":"#DIV/0!"},{"$error":"#DIV/0!"},{"$error":"#DIV/0!"},{"$error":"#DIV/0!"},{"$error":"#DIV/0!"},{"$f":"MIN(P802,$E802-O802-R802-IF(Invoer!$E$15<Q801,N802,0))","v":{"$error":"#DIV/0!"}},{"$error":"#DIV/0!"},{"$error":"#DIV/0!"},{"$error":"#DIV/0!"},{"$error":"#DIV/0!"},{"$error":"#DIV/0!"},{"$error":"#DIV/0!"},{"$f":"MIN(W802,$E802-V802-Y802-IF(Invoer!$F$15<X801,U802,0))","v":{"$error":"#DIV/0!"}},{"$error":"#DIV/0!"},{"$error":"#DIV/0!"},{"$error":"#DIV/0!"},{"$error":"#DIV/0!"},{"$error":"#DIV/0!"},{"$error":"#DIV/0!"},{"$f":"MIN(AD802,$E802-AC802-AF802-IF(Invoer!$G$15<AE801,AB802,0))","v":{"$error":"#DIV/0!"}},{"$error":"#DIV/0!"},{"$error":"#DIV/0!"}]
[null,null,27,33.265115792053969,{"$f":"Klimaatscenario!B34","v":15.734694539025938},{"$error":"#DIV/0!"},{"$error":"#DIV/0!"},{"$error":"#DIV/0!"},{"$error":"#DIV/0!"},{"$f":"MIN($I803,E803-H803-K803-IF(Invoer!$D$15<Neerslagberekeningen!J802,Neerslagberekeningen!G803,0))","v":{"$error":"#DIV/0!"}},{"$error":"#DIV/0!"},{"$error":"#DIV/0!"},{"$error":"#DIV/0!"},{"$error":"#DIV/0!"},{"$error":"#DIV/0!"},{"$error":"#DIV/0!"},{"$f":"MIN(P803,$E803-O803-R803-IF(Invoer!$E$15<Q802,N803,0))","v":{"$error":"#DIV/0!"}},{"$error":"#DIV/0!"},{"$error":"#DIV/0!"},{"$error":"#DIV/0!"},{"$error":"#DIV/0!"},{"$error":"#DIV/0!"},{"$error":"#DIV/0!"},{"$f":"MIN(W803,$E803-V803-Y803-IF(Invoer!$F$15<X802,U803,0))","v":{"$error":"#DIV/0!"}},{"$error":"#DIV/0!"},{"$error":"#DIV/0!"},{"$error":"#DIV/0!"},{"$error":"#DIV/0!"},{"$error":"#DIV/0!"},{"$error":"#DIV/0!"},{"$f":"MIN(AD803,$E803-AC803-AF803-IF(Invoer!$G$15<AE802,AB803,0))","v":{"$error":"#DIV/0!"}},{"$error":"#DIV/0!"},{"$error":"#DIV/0!"}]
[null,null,28,33.26511579205367,{"$f":"Klimaatscenario!B35","v":15.93428523377826},{"$error":"#DIV/0!"},{"$error":"#DIV/0!"},{"$error":"#DIV/0!"},{"$error":"#DIV/0!"},{"$f":"MIN($I804,E804-H804-K804-IF(Invoer!$D$15<Neerslagberekeningen!J803,Neerslagberekeningen!G804,0))","v":{"$error":"#DIV/0!"}},{"$error":"#DIV/0!"},{"$error":"#DIV/0!"},{"$error":"#DIV/0!"},{"$error":"#DIV/0!"},{"$error":"#DIV/0!"},{"$error":"#DIV/0!"},{"$f":"MIN(P804,$E804-O804-R804-IF(Invoer!$E$15<Q803,N804,0))","v":{"$error":"#DIV/0!"}},{"$error":"#DIV/0!"},{"$error":"#DIV/0!"},{"$error":"#DIV/0!"},{"$error":"#DIV/0!"},{"$error":"#DIV/0!"},{"$error":"#DIV/0!"},{"$f":"MIN(W804,$E804-V804-Y804-IF(Invoer!$F$15<X803,U804,0))","v":{"$error":"#DIV/0!"}},{"$error":"#DIV/0!"},{"$error":"#DIV/0!"},{"$error":"#DIV/0!"},{"$error":"#DIV/0!"},{"$error":"#DIV/0!"},{"$error":"#DIV/0!"},{"$f":"MIN(AD804,$E804-AC804-AF804-IF(Invoer!$G$15<AE803,AB804,0))","v":{"$error":"#DIV/0!"}},{"$error":"#DIV/0!"},{"$error":"#DIV/0!"}]
[null,null,29,33.26511579205367,{"$f":"Klimaatscenario!B36","v":16.133875928530582},{"$error":"#DIV/0!"},{"$error":"#DIV/0!"},{"$error":"#DIV/0!"},{"$error":"#DIV/0!"},{"$f":"MIN($I805,E805-H805-K805-IF(Invoer!$D$15<Neerslagberekeningen!J804,Neerslagberekeningen!G805,0))","v":{"$error":"#DIV/0!"}},{"$error":"#DIV/0!"},{"$error":"#DIV/0!"},{"$error":"#DIV/0!"},{"$error":"#DIV/0!"},{"$error":"#DIV/0!"},{"$error":"#DIV/0!"},{"$f":"MIN(P805,$E805-O805-R805-IF(Invoer!$E$15<Q804,N805,0))","v":{"$error":"#DIV/0!"}},{"$error":"#DIV/0!"},{"$error":"#DIV/0!"},{"$error":"#DIV/0!"},{"$error":"#DIV/0!"},{"$error":"#DIV/0!"},{"$error":"#DIV/0!"},{"$f":"MIN(W805,$E805-V805-Y805-IF(Invoer!$F$15<X804,U805,0))","v":{"$error":"#DIV/0!"}},{"$error":"#DIV/0!"},{"$error":"#DIV/0!"},{"$error":"#DIV/0!"},{"$error":"#DIV/0!"},{"$error":"#DIV/0!"},{"$error":"#DIV/0!"},{"$f":"MIN(AD805,$E805-AC805-AF805-IF(Invoer!$G$15<AE804,AB805,0))","v":{"$error":"#DIV/0!"}},{"$error":"#DIV/0!"},{"$error":"#DIV/0!"}]
[null,null,30,33.265115792053969,{"$f":"Klimaatscenario!B37","v":16.333466623282906},{"$error":"#DIV/0!"},{"$error":"#DIV/0!"},{"$error":"#DIV/0!"},{"$error":"#DIV/0!"},{"$f":"MIN($I806,E806-H806-K806-IF(Invoer!$D$15<Neerslagberekeningen!J805,Neerslagberekeningen!G806,0))","v":{"$error":"#DIV/0!"}},{"$error":"#DIV/0!"},{"$error":"#DIV/0!"},{"$error":"#DIV/0!"},{"$error":"#DIV/0!"},{"$error":"#DIV/0!"},{"$error":"#DIV/0!"},{"$f":"MIN(P806,$E806-O806-R806-IF(Invoer!$E$15<Q805,N806,0))","v":{"$error":"#DIV/0!"}},{"$error":"#DIV/0!"},{"$error":"#DIV/0!"},{"$error":"#DIV/0!"},{"$error":"#DIV/0!"},{"$error":"#DIV/0!"},{"$error":"#DIV/0!"},{"$f":"MIN(W806,$E806-V806-Y806-IF(Invoer!$F$15<X805,U806,0))","v":{"$error":"#DIV/0!"}},{"$error":"#DIV/0!"},{"$error":"#DIV/0!"},{"$error":"#DIV/0!"},{"$error":"#DIV/0!"},{"$error":"#DIV/0!"},{"$error":"#DIV/0!"},{"$f":"MIN(AD806,$E806-AC806-AF806-IF(Invoer!$G$15<AE805,AB806,0))","v":{"$error":"#DIV/0!"}},{"$error":"#DIV/0!"},{"$error":"#DIV/0!"}]
[null,null,31,18.507315378690471,{"$f":"Klimaatscenario!B38","v":16.444510515555049},{"$error":"#DIV/0!"},{"$error":"#DIV/0!"},{"$error":"#DIV/0!"},{"$error":"#DIV/0!"},{"$f":"MIN($I807,E807-H807-K807-IF(Invoer!$D$15<Neerslagberekeningen!J806,Neerslagberekeningen!G807,0))","v":{"$error":"#DIV/0!"}},{"$error":"#DIV/0!"},{"$error":"#DIV/0!"},{"$error":"#DIV/0!"},{"$error":"#DIV/0!"},{"$error":"#DIV/0!"},{"$error":"#DIV/0!"},{"$f":"MIN(P807,$E807-O807-R807-IF(Invoer!$E$15<Q806,N807,0))","v":{"$error":"#DIV/0!"}},{"$error":"#DIV/0!"},{"$error":"#DIV/0!"},{"$error":"#DIV/0!"},{"$error":"#DIV/0!"},{"$error":"#DIV/0!"},{"$error":"#DIV/0!"},{"$f":"MIN(W807,$E807-V807-Y807-IF(Invoer!$F$15<X806,U807,0))","v":{"$error":"#DIV/0!"}},{"$error":"#DIV/0!"},{"$error":"#DIV/0!"},{"$error":"#DIV/0!"},{"$error":"#DIV/0!"},{"$error":"#DIV/0!"},{"$error":"#DIV/0!"},{"$f":"MIN(AD807,$E807-AC807-AF807-IF(Invoer!$G$15<AE806,AB807,0))","v":{"$error":"#DIV/0!"}},{"$error":"#DIV/0!"},{"$error":"#DIV/0!"}]
[null,null,32,18.507315378691068,{"$f":"Klimaatscenario!B39","v":16.555554407827195},{"$error":"#DIV/0!"},{"$f":"($L$868/60)*$C808","v":{"$error":"#DIV/0!"}},{"$f":"($L$869/60)*$C808","v":{"$error":"#DIV/0!"}},{"$error":"#DIV/0!"},{"$f":"MIN($I808,E808-H808-K808-IF(Invoer!$D$15<Neerslagberekeningen!J807,Neerslagberekeningen!G808,0))","v":{"$error":"#DIV/0!"}},{"$error":"#DIV/0!"},{"$error":"#DIV/0!"},{"$error":"#DIV/0!"},{"$error":"#DIV/0!"},{"$f":"$S$869/60*$C808","v":{"$error":"#DIV/0!"}},{"$error":"#DIV/0!"},{"$f":"MIN(P808,$E808-O808-R808-IF(Invoer!$E$15<Q807,N808,0))","v":{"$error":"#DIV/0!"}},{"$error":"#DIV/0!"},{"$error":"#DIV/0!"},{"$error":"#DIV/0!"},{"$error":"#DIV/0!"},{"$f":"$Z$869/60*$C808","v":{"$error":"#DIV/0!"}},{"$error":"#DIV/0!"},{"$f":"MIN(W808,$E808-V808-Y808-IF(Invoer!$F$15<X807,U808,0))","v":{"$error":"#DIV/0!"}},{"$error":"#DIV/0!"},{"$error":"#DIV/0!"},{"$error":"#DIV/0!"},{"$error":"#DIV/0!"},{"$f":"$AG$869/60*$C808","v":{"$error":"#DIV/0!"}},{"$error":"#DIV/0!"},{"$f":"MIN(AD808,$E808-AC808-AF808-IF(Invoer!$G$15<AE807,AB808,0))","v":{"$error":"#DIV/0!"}},{"$error":"#DIV/0!"},{"$error":"#DIV/0!"}]
[null,null,33,18.507315378690471,{"$f":"Klimaatscenario!B40","v":16.666598300099338},{"$f":"((L$865*60)/10000)+F808","v":{"$error":"#DIV/0!"}},{"$error":"#DIV/0!"},{"$error":"#DIV/0!"},{"$error":"#DIV/0!"},{"$f":"MIN($I809,E809-H809-K809-IF(Invoer!$D$15<Neerslagberekeningen!J808,Neerslagberekeningen!G809,0))","v":{"$error":"#DIV/0!"}},{"$error":"#DIV/0!"},{"$error":"#DIV/0!"},{"$f":"((S$865*60)/10000)+M808","v":{"$error":"#DIV/0!"}},{"$error":"#DIV/0!"},{"$error":"#DIV/0!"},{"$error":"#DIV/0!"},{"$f":"MIN(P809,$E809-O809-R809-IF(Invoer!$E$15<Q808,N809,0))","v":{"$error":"#DIV/0!"}},{"$error":"#DIV/0!"},{"$error":"#DIV/0!"},{"$f":"((T$337*60)/10000)+T808","v":{"$error":"#DIV/0!"}},{"$f":"(Z$868/60)*$C809","v":{"$error":"#DIV/0!"}},{"$error":"#DIV/0!"},{"$error":"#DIV/0!"},{"$f":"MIN(W809,$E809-V809-Y809-IF(Invoer!$F$15<X808,U809,0))","v":{"$error":"#DIV/0!"}},{"$error":"#DIV/0!"},{"$error":"#DIV/0!"},{"$f":"((Y$337*60)/10000)+AA808","v":{"$error":"#DIV/0!"}},{"$f":"(AG$868/60)*$C809","v":{"$error":"#DIV/0!"}},{"$error":"#DIV/0!"},{"$error":"#DIV/0!"},{"$f":"MIN(AD809,$E809-AC809-AF809-IF(Invoer!$G$15<AE808,AB809,0))","v":{"$error":"#DIV/0!"}},{"$error":"#DIV/0!"},{"$error":"#DIV/0!"}]
[null,null,34,18.507315378690471,{"$f":"Klimaatscenario!B41","v":16.777642192371481},{"$error":"#DIV/0!"},{"$error":"#DIV/0!"},{"$error":"#DIV/0!"},{"$error":"#DIV/0!"},{"$f":"MIN($I810,E810-H810-K810-IF(Invoer!$D$15<Neerslagberekeningen!J809,Neerslagberekeningen!G810,0))","v":{"$error":"#DIV/0!"}},{"$error":"#DIV/0!"},{"$error":"#DIV/0!"},{"$error":"#DIV/0!"},{"$error":"#DIV/0!"},{"$error":"#DIV/0!"},{"$error":"#DIV/0!"},{"$f":"MIN(P810,$E810-O810-R810-IF(Invoer!$E$15<Q809,N810,0))","v":{"$error":"#DIV/0!"}},{"$error":"#DIV/0!"},{"$error":"#DIV/0!"},{"$error":"#DIV/0!"},{"$error":"#DIV/0!"},{"$error":"#DIV/0!"},{"$error":"#DIV/0!"},{"$f":"MIN(W810,$E810-V810-Y810-IF(Invoer!$F$15<X809,U810,0))","v":{"$error":"#DIV/0!"}},{"$error":"#DIV/0!"},{"$error":"#DIV/0!"},{"$error":"#DIV/0!"},{"$error":"#DIV/0!"},{"$error":"#DIV/0!"},{"$error":"#DIV/0!"},{"$f":"MIN(AD810,$E810-AC810-AF810-IF(Invoer!$G$15<AE809,AB810,0))","v":{"$error":"#DIV/0!"}},{"$error":"#DIV/0!"},{"$error":"#DIV/0!"}]
[null,null,35,18.507315378690471,{"$f":"Klimaatscenario!B42","v":16.888686084643624},{"$error":"#DIV/0!"},{"$error":"#DIV/0!"},{"$error":"#DIV/0!"},{"$error":"#DIV/0!"},{"$f":"MIN($I811,E811-H811-K811-IF(Invoer!$D$15<Neerslagberekeningen!J810,Neerslagberekeningen!G811,0))","v":{"$error":"#DIV/0!"}},{"$error":"#DIV/0!"},{"$error":"#DIV/0!"},{"$error":"#DIV/0!"},{"$error":"#DIV/0!"},{"$error":"#DIV/0!"},{"$error":"#DIV/0!"},{"$f":"MIN(P811,$E811-O811-R811-IF(Invoer!$E$15<Q810,N811,0))","v":{"$error":"#DIV/0!"}},{"$error":"#DIV/0!"},{"$error":"#DIV/0!"},{"$error":"#DIV/0!"},{"$error":"#DIV/0!"},{"$error":"#DIV/0!"},{"$error":"#DIV/0!"},{"$f":"MIN(W811,$E811-V811-Y811-IF(Invoer!$F$15<X810,U811,0))","v":{"$error":"#DIV/0!"}},{"$error":"#DIV/0!"},{"$error":"#DIV/0!"},{"$error":"#DIV/0!"},{"$error":"#DIV/0!"},{"$error":"#DIV/0!"},{"$error":"#DIV/0!"},{"$f":"MIN(AD811,$E811-AC811-AF811-IF(Invoer!$G$15<AE810,AB811,0))","v":{"$error":"#DIV/0!"}},{"$error":"#DIV/0!"},{"$error":"#DIV/0!"}]
[null,null,36,18.507315378691068,{"$f":"Klimaatscenario!B43","v":16.99972997691577},{"$error":"#DIV/0!"},{"$error":"#DIV/0!"},{"$error":"#DIV/0!"},{"$error":"#DIV/0!"},{"$f":"MIN($I812,E812-H812-K812-IF(Invoer!$D$15<Neerslagberekeningen!J811,Neerslagberekeningen!G812,0))","v":{"$error":"#DIV/0!"}},{"$error":"#DIV/0!"},{"$error":"#DIV/0!"},{"$error":"#DIV/0!"},{"$error":"#DIV/0!"},{"$error":"#DIV/0!"},{"$error":"#DIV/0!"},{"$f":"MIN(P812,$E812-O812-R812-IF(Invoer!$E$15<Q811,N812,0))","v":{"$error":"#DIV/0!"}},{"$error":"#DIV/0!"},{"$error":"#DIV/0!"},{"$error":"#DIV/0!"},{"$error":"#DIV/0!"},{"$error":"#DIV/0!"},{"$error":"#DIV/0!"},{"$f":"MIN(W812,$E812-V812-Y812-IF(Invoer!$F$15<X811,U812,0))","v":{"$error":"#DIV/0!"}},{"$error":"#DIV/0!"},{"$error":"#DIV/0!"},{"$error":"#DIV/0!"},{"$error":"#DIV/0!"},{"$error":"#DIV/0!"},{"$error":"#DIV/0!"},{"$f":"MIN(AD812,$E812-AC812-AF812-IF(Invoer!$G$15<AE811,AB812,0))","v":{"$error":"#DIV/0!"}},{"$error":"#DIV/0!"},{"$error":"#DIV/0!"}]
[null,null,37,18.507315378690471,{"$f":"Klimaatscenario!B44","v":17.110773869187913},{"$error":"#DIV/0!"},{"$error":"#DIV/0!"},{"$error":"#DIV/0!"},{"$error":"#DIV/0!"},{"$f":"MIN($I813,E813-H813-K813-IF(Invoer!$D$15<Neerslagberekeningen!J812,Neerslagberekeningen!G813,0))","v":{"$error":"#DIV/0!"}},{"$error":"#DIV/0!"},{"$error":"#DIV/0!"},{"$error":"#DIV/0!"},{"$error":"#DIV/0!"},{"$error":"#DIV/0!"},{"$error":"#DIV/0!"},{"$f":"MIN(P813,$E813-O813-R813-IF(Invoer!$E$15<Q812,N813,0))","v":{"$error":"#DIV/0!"}},{"$error":"#DIV/0!"},{"$error":"#DIV/0!"},{"$error":"#DIV/0!"},{"$error":"#DIV/0!"},{"$error":"#DIV/0!"},{"$error":"#DIV/0!"},{"$f":"MIN(W813,$E813-V813-Y813-IF(Invoer!$F$15<X812,U813,0))","v":{"$error":"#DIV/0!"}},{"$error":"#DIV/0!"},{"$error":"#DIV/0!"},{"$error":"#DIV/0!"},{"$error":"#DIV/0!"},{"$error":"#DIV/0!"},{"$error":"#DIV/0!"},{"$f":"MIN(AD813,$E813-AC813-AF813-IF(Invoer!$G$15<AE812,AB813,0))","v":{"$error":"#DIV/0!"}},{"$error":"#DIV/0!"},{"$error":"#DIV/0!"}]
[null,null,38,18.507315378690471,{"$f":"Klimaatscenario!B45","v":17.221817761460056},{"$error":"#DIV/0!"},{"$error":"#DIV/0!"},{"$error":"#DIV/0!"},{"$error":"#DIV/0!"},{"$f":"MIN($I814,E814-H814-K814-IF(Invoer!$D$15<Neerslagberekeningen!J813,Neerslagberekeningen!G814,0))","v":{"$error":"#DIV/0!"}},{"$error":"#DIV/0!"},{"$error":"#DIV/0!"},{"$error":"#DIV/0!"},{"$error":"#DIV/0!"},{"$error":"#DIV/0!"},{"$error":"#DIV/0!"},{"$f":"MIN(P814,$E814-O814-R814-IF(Invoer!$E$15<Q813,N814,0))","v":{"$error":"#DIV/0!"}},{"$error":"#DIV/0!"},{"$error":"#DIV/0!"},{"$error":"#DIV/0!"},{"$error":"#DIV/0!"},{"$error":"#DIV/0!"},{"$error":"#DIV/0!"},{"$f":"MIN(W814,$E814-V814-Y814-IF(Invoer!$F$15<X813,U814,0))","v":{"$error":"#DIV/0!"}},{"$error":"#DIV/0!"},{"$error":"#DIV/0!"},{"$error":"#DIV/0!"},{"$error":"#DIV/0!"},{"$error":"#DIV/0!"},{"$error":"#DIV/0!"},{"$f":"MIN(AD814,$E814-AC814-AF814-IF(Invoer!$G$15<AE813,AB814,0))","v":{"$error":"#DIV/0!"}},{"$error":"#DIV/0!"},{"$error":"#DIV/0!"}]
[null,null,39,18.507315378690471,{"$f":"Klimaatscenario!B46","v":17.332861653732198},{"$error":"#DIV/0!"},{"$error":"#DIV/0!"},{"$error":"#DIV/0!"},{"$error":"#DIV/0!"},{"$f":"MIN($I815,E815-H815-K815-IF(Invoer!$D$15<Neerslagberekeningen!J814,Neerslagberekeningen!G815,0))","v":{"$error":"#DIV/0!"}},{"$error":"#DIV/0!"},{"$error":"#DIV/0!"},{"$error":"#DIV/0!"},{"$error":"#DIV/0!"},{"$error":"#DIV/0!"},{"$error":"#DIV/0!"},{"$f":"MIN(P815,$E815-O815-R815-IF(Invoer!$E$15<Q814,N815,0))","v":{"$error":"#DIV/0!"}},{"$error":"#DIV/0!"},{"$error":"#DIV/0!"},{"$error":"#DIV/0!"},{"$error":"#DIV/0!"},{"$error":"#DIV/0!"},{"$error":"#DIV/0!"},{"$f":"MIN(W815,$E815-V815-Y815-IF(Invoer!$F$15<X814,U815,0))","v":{"$error":"#DIV/0!"}},{"$error":"#DIV/0!"},{"$error":"#DIV/0!"},{"$error":"#DIV/0!"},{"$error":"#DIV/0!"},{"$error":"#DIV/0!"},{"$error":"#DIV/0!"},{"$f":"MIN(AD815,$E815-AC815-AF815-IF(Invoer!$G$15<AE814,AB815,0))","v":{"$error":"#DIV/0!"}},{"$error":"#DIV/0!"},{"$error":"#DIV/0!"}]
[null,null,40,18.507315378691068,{"$f":"Klimaatscenario!B47","v":17.443905546004345},{"$error":"#DIV/0!"},{"$error":"#DIV/0!"},{"$error":"#DIV/0!"},{"$error":"#DIV/0!"},{"$f":"MIN($I816,E816-H816-K816-IF(Invoer!$D$15<Neerslagberekeningen!J815,Neerslagberekeningen!G816,0))","v":{"$error":"#DIV/0!"}},{"$error":"#DIV/0!"},{"$error":"#DIV/0!"},{"$error":"#DIV/0!"},{"$error":"#DIV/0!"},{"$error":"#DIV/0!"},{"$error":"#DIV/0!"},{"$f":"MIN(P816,$E816-O816-R816-IF(Invoer!$E$15<Q815,N816,0))","v":{"$error":"#DIV/0!"}},{"$error":"#DIV/0!"},{"$error":"#DIV/0!"},{"$error":"#DIV/0!"},{"$error":"#DIV/0!"},{"$error":"#DIV/0!"},{"$error":"#DIV/0!"},{"$f":"MIN(W816,$E816-V816-Y816-IF(Invoer!$F$15<X815,U816,0))","v":{"$error":"#DIV/0!"}},{"$error":"#DIV/0!"},{"$error":"#DIV/0!"},{"$error":"#DIV/0!"},{"$error":"#DIV/0!"},{"$error":"#DIV/0!"},{"$error":"#DIV/0!"},{"$f":"MIN(AD816,$E816-AC816-AF816-IF(Invoer!$G$15<AE815,AB816,0))","v":{"$error":"#DIV/0!"}},{"$error":"#DIV/0!"},{"$error":"#DIV/0!"}]
[null,null,41,18.507315378690471,{"$f":"Klimaatscenario!B48","v":17.554949438276488},{"$error":"#DIV/0!"},{"$error":"#DIV/0!"},{"$error":"#DIV/0!"},{"$error":"#DIV/0!"},{"$f":"MIN($I817,E817-H817-K817-IF(Invoer!$D$15<Neerslagberekeningen!J816,Neerslagberekeningen!G817,0))","v":{"$error":"#DIV/0!"}},{"$error":"#DIV/0!"},{"$error":"#DIV/0!"},{"$error":"#DIV/0!"},{"$error":"#DIV/0!"},{"$error":"#DIV/0!"},{"$error":"#DIV/0!"},{"$f":"MIN(P817,$E817-O817-R817-IF(Invoer!$E$15<Q816,N817,0))","v":{"$error":"#DIV/0!"}},{"$error":"#DIV/0!"},{"$error":"#DIV/0!"},{"$error":"#DIV/0!"},{"$error":"#DIV/0!"},{"$error":"#DIV/0!"},{"$error":"#DIV/0!"},{"$f":"MIN(W817,$E817-V817-Y817-IF(Invoer!$F$15<X816,U817,0))","v":{"$error":"#DIV/0!"}},{"$error":"#DIV/0!"},{"$error":"#DIV/0!"},{"$error":"#DIV/0!"},{"$error":"#DIV/0!"},{"$error":"#DIV/0!"},{"$error":"#DIV/0!"},{"$f":"MIN(AD817,$E817-AC817-AF817-IF(Invoer!$G$15<AE816,AB817,0))","v":{"$error":"#DIV/0!"}},{"$error":"#DIV/0!"},{"$error":"#DIV/0!"}]
[null,null,42,18.507315378690471,{"$f":"Klimaatscenario!B49","v":17.665993330548631},{"$error":"#DIV/0!"},{"$error":"#DIV/0!"},{"$error":"#DIV/0!"},{"$error":"#DIV/0!"},{"$f":"MIN($I818,E818-H818-K818-IF(Invoer!$D$15<Neerslagberekeningen!J817,Neerslagberekeningen!G818,0))","v":{"$error":"#DIV/0!"}},{"$error":"#DIV/0!"},{"$error":"#DIV/0!"},{"$error":"#DIV/0!"},{"$error":"#DIV/0!"},{"$error":"#DIV/0!"},{"$error":"#DIV/0!"},{"$f":"MIN(P818,$E818-O818-R818-IF(Invoer!$E$15<Q817,N818,0))","v":{"$error":"#DIV/0!"}},{"$error":"#DIV/0!"},{"$error":"#DIV/0!"},{"$error":"#DIV/0!"},{"$error":"#DIV/0!"},{"$error":"#DIV/0!"},{"$error":"#DIV/0!"},{"$f":"MIN(W818,$E818-V818-Y818-IF(Invoer!$F$15<X817,U818,0))","v":{"$error":"#DIV/0!"}},{"$error":"#DIV/0!"},{"$error":"#DIV/0!"},{"$error":"#DIV/0!"},{"$error":"#DIV/0!"},{"$error":"#DIV/0!"},{"$error":"#DIV/0!"},{"$f":"MIN(AD818,$E818-AC818-AF818-IF(Invoer!$G$15<AE817,AB818,0))","v":{"$error":"#DIV/0!"}},{"$error":"#DIV/0!"},{"$error":"#DIV/0!"}]
[null,null,43,18.507315378690471,{"$f":"Klimaatscenario!B50","v":17.777037222820773},{"$error":"#DIV/0!"},{"$error":"#DIV/0!"},{"$error":"#DIV/0!"},{"$error":"#DIV/0!"},{"$f":"MIN($I819,E819-H819-K819-IF(Invoer!$D$15<Neerslagberekeningen!J818,Neerslagberekeningen!G819,0))","v":{"$error":"#DIV/0!"}},{"$error":"#DIV/0!"},{"$error":"#DIV/0!"},{"$error":"#DIV/0!"},{"$error":"#DIV/0!"},{"$error":"#DIV/0!"},{"$error":"#DIV/0!"},{"$f":"MIN(P819,$E819-O819-R819-IF(Invoer!$E$15<Q818,N819,0))","v":{"$error":"#DIV/0!"}},{"$error":"#DIV/0!"},{"$error":"#DIV/0!"},{"$error":"#DIV/0!"},{"$error":"#DIV/0!"},{"$error":"#DIV/0!"},{"$error":"#DIV/0!"},{"$f":"MIN(W819,$E819-V819-Y819-IF(Invoer!$F$15<X818,U819,0))","v":{"$error":"#DIV/0!"}},{"$error":"#DIV/0!"},{"$error":"#DIV/0!"},{"$error":"#DIV/0!"},{"$error":"#DIV/0!"},{"$error":"#DIV/0!"},{"$error":"#DIV/0!"},{"$f":"MIN(AD819,$E819-AC819-AF819-IF(Invoer!$G$15<AE818,AB819,0))","v":{"$error":"#DIV/0!"}},{"$error":"#DIV/0!"},{"$error":"#DIV/0!"}]
[null,null,44,18.507315378691068,{"$f":"Klimaatscenario!B51","v":17.88808111509292},{"$error":"#DIV/0!"},{"$error":"#DIV/0!"},{"$error":"#DIV/0!"},{"$error":"#DIV/0!"},{"$f":"MIN($I820,E820-H820-K820-IF(Invoer!$D$15<Neerslagberekeningen!J819,Neerslagberekeningen!G820,0))","v":{"$error":"#DIV/0!"}},{"$error":"#DIV/0!"},{"$error":"#DIV/0!"},{"$error":"#DIV/0!"},{"$error":"#DIV/0!"},{"$error":"#DIV/0!"},{"$error":"#DIV/0!"},{"$f":"MIN(P820,$E820-O820-R820-IF(Invoer!$E$15<Q819,N820,0))","v":{"$error":"#DIV/0!"}},{"$error":"#DIV/0!"},{"$error":"#DIV/0!"},{"$error":"#DIV/0!"},{"$error":"#DIV/0!"},{"$error":"#DIV/0!"},{"$error":"#DIV/0!"},{"$f":"MIN(W820,$E820-V820-Y820-IF(Invoer!$F$15<X819,U820,0))","v":{"$error":"#DIV/0!"}},{"$error":"#DIV/0!"},{"$error":"#DIV/0!"},{"$error":"#DIV/0!"},{"$error":"#DIV/0!"},{"$error":"#DIV/0!"},{"$error":"#DIV/0!"},{"$f":"MIN(AD820,$E820-AC820-AF820-IF(Invoer!$G$15<AE819,AB820,0))","v":{"$error":"#DIV/0!"}},{"$error":"#DIV/0!"},{"$error":"#DIV/0!"}]
[null,null,45,18.507315378690471,{"$f":"Klimaatscenario!B52","v":17.999125007365063},{"$error":"#DIV/0!"},{"$error":"#DIV/0!"},{"$error":"#DIV/0!"},{"$error":"#DIV/0!"},{"$f":"MIN($I821,E821-H821-K821-IF(Invoer!$D$15<Neerslagberekeningen!J820,Neerslagberekeningen!G821,0))","v":{"$error":"#DIV/0!"}},{"$error":"#DIV/0!"},{"$error":"#DIV/0!"},{"$error":"#DIV/0!"},{"$error":"#DIV/0!"},{"$error":"#DIV/0!"},{"$error":"#DIV/0!"},{"$f":"MIN(P821,$E821-O821-R821-IF(Invoer!$E$15<Q820,N821,0))","v":{"$error":"#DIV/0!"}},{"$error":"#DIV/0!"},{"$error":"#DIV/0!"},{"$error":"#DIV/0!"},{"$error":"#DIV/0!"},{"$error":"#DIV/0!"},{"$error":"#DIV/0!"},{"$f":"MIN(W821,$E821-V821-Y821-IF(Invoer!$F$15<X820,U821,0))","v":{"$error":"#DIV/0!"}},{"$error":"#DIV/0!"},{"$error":"#DIV/0!"},{"$error":"#DIV/0!"},{"$error":"#DIV/0!"},{"$error":"#DIV/0!"},{"$error":"#DIV/0!"},{"$f":"MIN(AD821,$E821-AC821-AF821-IF(Invoer!$G$15<AE820,AB821,0))","v":{"$error":"#DIV/0!"}},{"$error":"#DIV/0!"},{"$error":"#DIV/0!"}]
[null,null,46,18.507315378690471,{"$f":"Klimaatscenario!B53","v":18.110168899637205},{"$error":"#DIV/0!"},{"$error":"#DIV/0!"},{"$error":"#DIV/0!"},{"$error":"#DIV/0!"},{"$f":"MIN($I822,E822-H822-K822-IF(Invoer!$D$15<Neerslagberekeningen!J821,Neerslagberekeningen!G822,0))","v":{"$error":"#DIV/0!"}},{"$error":"#DIV/0!"},{"$error":"#DIV/0!"},{"$error":"#DIV/0!"},{"$error":"#DIV/0!"},{"$error":"#DIV/0!"},{"$error":"#DIV/0!"},{"$f":"MIN(P822,$E822-O822-R822-IF(Invoer!$E$15<Q821,N822,0))","v":{"$error":"#DIV/0!"}},{"$error":"#DIV/0!"},{"$error":"#DIV/0!"},{"$error":"#DIV/0!"},{"$error":"#DIV/0!"},{"$error":"#DIV/0!"},{"$error":"#DIV/0!"},{"$f":"MIN(W822,$E822-V822-Y822-IF(Invoer!$F$15<X821,U822,0))","v":{"$error":"#DIV/0!"}},{"$error":"#DIV/0!"},{"$error":"#DIV/0!"},{"$error":"#DIV/0!"},{"$error":"#DIV/0!"},{"$error":"#DIV/0!"},{"$error":"#DIV/0!"},{"$f":"MIN(AD822,$E822-AC822-AF822-IF(Invoer!$G$15<AE821,AB822,0))","v":{"$error":"#DIV/0!"}},{"$error":"#DIV/0!"},{"$error":"#DIV/0!"}]
[null,null,47,18.507315378691068,{"$f":"Klimaatscenario!B54","v":18.221212791909352},{"$error":"#DIV/0!"},{"$error":"#DIV/0!"},{"$error":"#DIV/0!"},{"$error":"#DIV/0!"},{"$f":"MIN($I823,E823-H823-K823-IF(Invoer!$D$15<Neerslagberekeningen!J822,Neerslagberekeningen!G823,0))","v":{"$error":"#DIV/0!"}},{"$error":"#DIV/0!"},{"$error":"#DIV/0!"},{"$error":"#DIV/0!"},{"$error":"#DIV/0!"},{"$error":"#DIV/0!"},{"$error":"#DIV/0!"},{"$f":"MIN(P823,$E823-O823-R823-IF(Invoer!$E$15<Q822,N823,0))","v":{"$error":"#DIV/0!"}},{"$error":"#DIV/0!"},{"$error":"#DIV/0!"},{"$error":"#DIV/0!"},{"$error":"#DIV/0!"},{"$error":"#DIV/0!"},{"$error":"#DIV/0!"},{"$f":"MIN(W823,$E823-V823-Y823-IF(Invoer!$F$15<X822,U823,0))","v":{"$error":"#DIV/0!"}},{"$error":"#DIV/0!"},{"$error":"#DIV/0!"},{"$error":"#DIV/0!"},{"$error":"#DIV/0!"},{"$error":"#DIV/0!"},{"$error":"#DIV/0!"},{"$f":"MIN(AD823,$E823-AC823-AF823-IF(Invoer!$G$15<AE822,AB823,0))","v":{"$error":"#DIV/0!"}},{"$error":"#DIV/0!"},{"$error":"#DIV/0!"}]
[null,null,48,18.507315378690471,{"$f":"Klimaatscenario!B55","v":18.332256684181495},{"$error":"#DIV/0!"},{"$error":"#DIV/0!"},{"$error":"#DIV/0!"},{"$error":"#DIV/0!"},{"$f":"MIN($I824,E824-H824-K824-IF(Invoer!$D$15<Neerslagberekeningen!J823,Neerslagberekeningen!G824,0))","v":{"$error":"#DIV/0!"}},{"$error":"#DIV/0!"},{"$error":"#DIV/0!"},{"$error":"#DIV/0!"},{"$error":"#DIV/0!"},{"$error":"#DIV/0!"},{"$error":"#DIV/0!"},{"$f":"MIN(P824,$E824-O824-R824-IF(Invoer!$E$15<Q823,N824,0))","v":{"$error":"#DIV/0!"}},{"$error":"#DIV/0!"},{"$error":"#DIV/0!"},{"$error":"#DIV/0!"},{"$error":"#DIV/0!"},{"$error":"#DIV/0!"},{"$error":"#DIV/0!"},{"$f":"MIN(W824,$E824-V824-Y824-IF(Invoer!$F$15<X823,U824,0))","v":{"$error":"#DIV/0!"}},{"$error":"#DIV/0!"},{"$error":"#DIV/0!"},{"$error":"#DIV/0!"},{"$error":"#DIV/0!"},{"$error":"#DIV/0!"},{"$error":"#DIV/0!"},{"$f":"MIN(AD824,$E824-AC824-AF824-IF(Invoer!$G$15<AE823,AB824,0))","v":{"$error":"#DIV/0!"}},{"$error":"#DIV/0!"},{"$error":"#DIV/0!"}]
[null,null,49,18.507315378690471,{"$f":"Klimaatscenario!B56","v":18.443300576453638},{"$error":"#DIV/0!"},{"$error":"#DIV/0!"},{"$error":"#DIV/0!"},{"$error":"#DIV/0!"},{"$f":"MIN($I825,E825-H825-K825-IF(Invoer!$D$15<Neerslagberekeningen!J824,Neerslagberekeningen!G825,0))","v":{"$error":"#DIV/0!"}},{"$error":"#DIV/0!"},{"$error":"#DIV/0!"},{"$error":"#DIV/0!"},{"$error":"#DIV/0!"},{"$error":"#DIV/0!"},{"$error":"#DIV/0!"},{"$f":"MIN(P825,$E825-O825-R825-IF(Invoer!$E$15<Q824,N825,0))","v":{"$error":"#DIV/0!"}},{"$error":"#DIV/0!"},{"$error":"#DIV/0!"},{"$error":"#DIV/0!"},{"$error":"#DIV/0!"},{"$error":"#DIV/0!"},{"$error":"#DIV/0!"},{"$f":"MIN(W825,$E825-V825-Y825-IF(Invoer!$F$15<X824,U825,0))","v":{"$error":"#DIV/0!"}},{"$error":"#DIV/0!"},{"$error":"#DIV/0!"},{"$error":"#DIV/0!"},{"$error":"#DIV/0!"},{"$error":"#DIV/0!"},{"$error":"#DIV/0!"},{"$f":"MIN(AD825,$E825-AC825-AF825-IF(Invoer!$G$15<AE824,AB825,0))","v":{"$error":"#DIV/0!"}},{"$error":"#DIV/0!"},{"$error":"#DIV/0!"}]
[null,null,50,18.507315378690471,{"$f":"Klimaatscenario!B57","v":18.55434446872578},{"$error":"#DIV/0!"},{"$error":"#DIV/0!"},{"$error":"#DIV/0!"},{"$error":"#DIV/0!"},{"$f":"MIN($I826,E826-H826-K826-IF(Invoer!$D$15<Neerslagberekeningen!J825,Neerslagberekeningen!G826,0))","v":{"$error":"#DIV/0!"}},{"$error":"#DIV/0!"},{"$error":"#DIV/0!"},{"$error":"#DIV/0!"},{"$error":"#DIV/0!"},{"$error":"#DIV/0!"},{"$error":"#DIV/0!"},{"$f":"MIN(P826,$E826-O826-R826-IF(Invoer!$E$15<Q825,N826,0))","v":{"$error":"#DIV/0!"}},{"$error":"#DIV/0!"},{"$error":"#DIV/0!"},{"$error":"#DIV/0!"},{"$error":"#DIV/0!"},{"$error":"#DIV/0!"},{"$error":"#DIV/0!"},{"$f":"MIN(W826,$E826-V826-Y826-IF(Invoer!$F$15<X825,U826,0))","v":{"$error":"#DIV/0!"}},{"$error":"#DIV/0!"},{"$error":"#DIV/0!"},{"$error":"#DIV/0!"},{"$error":"#DIV/0!"},{"$error":"#DIV/0!"},{"$error":"#DIV/0!"},{"$f":"MIN(AD826,$E826-AC826-AF826-IF(Invoer!$G$15<AE825,AB826,0))","v":{"$error":"#DIV/0!"}},{"$error":"#DIV/0!"},{"$error":"#DIV/0!"}]
[null,null,51,18.507315378691068,{"$f":"Klimaatscenario!B58","v":18.665388360997927},{"$error":"#DIV/0!"},{"$error":"#DIV/0!"},{"$error":"#DIV/0!"},{"$error":"#DIV/0!"},{"$f":"MIN($I827,E827-H827-K827-IF(Invoer!$D$15<Neerslagberekeningen!J826,Neerslagberekeningen!G827,0))","v":{"$error":"#DIV/0!"}},{"$error":"#DIV/0!"},{"$error":"#DIV/0!"},{"$error":"#DIV/0!"},{"$error":"#DIV/0!"},{"$error":"#DIV/0!"},{"$error":"#DIV/0!"},{"$f":"MIN(P827,$E827-O827-R827-IF(Invoer!$E$15<Q826,N827,0))","v":{"$error":"#DIV/0!"}},{"$error":"#DIV/0!"},{"$error":"#DIV/0!"},{"$error":"#DIV/0!"},{"$error":"#DIV/0!"},{"$error":"#DIV/0!"},{"$error":"#DIV/0!"},{"$f":"MIN(W827,$E827-V827-Y827-IF(Invoer!$F$15<X826,U827,0))","v":{"$error":"#DIV/0!"}},{"$error":"#DIV/0!"},{"$error":"#DIV/0!"},{"$error":"#DIV/0!"},{"$error":"#DIV/0!"},{"$error":"#DIV/0!"},{"$error":"#DIV/0!"},{"$f":"MIN(AD827,$E827-AC827-AF827-IF(Invoer!$G$15<AE826,AB827,0))","v":{"$error":"#DIV/0!"}},{"$error":"#DIV/0!"},{"$error":"#DIV/0!"}]
[null,null,52,18.507315378690471,{"$f":"Klimaatscenario!B59","v":18.77643225327007},{"$error":"#DIV/0!"},{"$error":"#DIV/0!"},{"$error":"#DIV/0!"},{"$error":"#DIV/0!"},{"$f":"MIN($I828,E828-H828-K828-IF(Invoer!$D$15<Neerslagberekeningen!J827,Neerslagberekeningen!G828,0))","v":{"$error":"#DIV/0!"}},{"$error":"#DIV/0!"},{"$error":"#DIV/0!"},{"$error":"#DIV/0!"},{"$error":"#DIV/0!"},{"$error":"#DIV/0!"},{"$error":"#DIV/0!"},{"$f":"MIN(P828,$E828-O828-R828-IF(Invoer!$E$15<Q827,N828,0))","v":{"$error":"#DIV/0!"}},{"$error":"#DIV/0!"},{"$error":"#DIV/0!"},{"$error":"#DIV/0!"},{"$error":"#DIV/0!"},{"$error":"#DIV/0!"},{"$error":"#DIV/0!"},{"$f":"MIN(W828,$E828-V828-Y828-IF(Invoer!$F$15<X827,U828,0))","v":{"$error":"#DIV/0!"}},{"$error":"#DIV/0!"},{"$error":"#DIV/0!"},{"$error":"#DIV/0!"},{"$error":"#DIV/0!"},{"$error":"#DIV/0!"},{"$error":"#DIV/0!"},{"$f":"MIN(AD828,$E828-AC828-AF828-IF(Invoer!$G$15<AE827,AB828,0))","v":{"$error":"#DIV/0!"}},{"$error":"#DIV/0!"},{"$error":"#DIV/0!"}]
[null,null,53,18.507315378690471,{"$f":"Klimaatscenario!B60","v":18.887476145542212},{"$error":"#DIV/0!"},{"$error":"#DIV/0!"},{"$error":"#DIV/0!"},{"$error":"#DIV/0!"},{"$f":"MIN($I829,E829-H829-K829-IF(Invoer!$D$15<Neerslagberekeningen!J828,Neerslagberekeningen!G829,0))","v":{"$error":"#DIV/0!"}},{"$error":"#DIV/0!"},{"$error":"#DIV/0!"},{"$error":"#DIV/0!"},{"$error":"#DIV/0!"},{"$error":"#DIV/0!"},{"$error":"#DIV/0!"},{"$f":"MIN(P829,$E829-O829-R829-IF(Invoer!$E$15<Q828,N829,0))","v":{"$error":"#DIV/0!"}},{"$error":"#DIV/0!"},{"$error":"#DIV/0!"},{"$error":"#DIV/0!"},{"$error":"#DIV/0!"},{"$error":"#DIV/0!"},{"$error":"#DIV/0!"},{"$f":"MIN(W829,$E829-V829-Y829-IF(Invoer!$F$15<X828,U829,0))","v":{"$error":"#DIV/0!"}},{"$error":"#DIV/0!"},{"$error":"#DIV/0!"},{"$error":"#DIV/0!"},{"$error":"#DIV/0!"},{"$error":"#DIV/0!"},{"$error":"#DIV/0!"},{"$f":"MIN(AD829,$E829-AC829-AF829-IF(Invoer!$G$15<AE828,AB829,0))","v":{"$error":"#DIV/0!"}},{"$error":"#DIV/0!"},{"$error":"#DIV/0!"}]
[null,null,54,18.507315378690471,{"$f":"Klimaatscenario!B61","v":18.998520037814355},{"$error":"#DIV/0!"},{"$error":"#DIV/0!"},{"$error":"#DIV/0!"},{"$error":"#DIV/0!"},{"$f":"MIN($I830,E830-H830-K830-IF(Invoer!$D$15<Neerslagberekeningen!J829,Neerslagberekeningen!G830,0))","v":{"$error":"#DIV/0!"}},{"$error":"#DIV/0!"},{"$error":"#DIV/0!"},{"$error":"#DIV/0!"},{"$error":"#DIV/0!"},{"$error":"#DIV/0!"},{"$error":"#DIV/0!"},{"$f":"MIN(P830,$E830-O830-R830-IF(Invoer!$E$15<Q829,N830,0))","v":{"$error":"#DIV/0!"}},{"$error":"#DIV/0!"},{"$error":"#DIV/0!"},{"$error":"#DIV/0!"},{"$error":"#DIV/0!"},{"$error":"#DIV/0!"},{"$error":"#DIV/0!"},{"$f":"MIN(W830,$E830-V830-Y830-IF(Invoer!$F$15<X829,U830,0))","v":{"$error":"#DIV/0!"}},{"$error":"#DIV/0!"},{"$error":"#DIV/0!"},{"$error":"#DIV/0!"},{"$error":"#DIV/0!"},{"$error":"#DIV/0!"},{"$error":"#DIV/0!"},{"$f":"MIN(AD830,$E830-AC830-AF830-IF(Invoer!$G$15<AE829,AB830,0))","v":{"$error":"#DIV/0!"}},{"$error":"#DIV/0!"},{"$error":"#DIV/0!"}]
[null,null,55,18.507315378691068,{"$f":"Klimaatscenario!B62","v":19.109563930086502},{"$error":"#DIV/0!"},{"$error":"#DIV/0!"},{"$error":"#DIV/0!"},{"$error":"#DIV/0!"},{"$f":"MIN($I831,E831-H831-K831-IF(Invoer!$D$15<Neerslagberekeningen!J830,Neerslagberekeningen!G831,0))","v":{"$error":"#DIV/0!"}},{"$error":"#DIV/0!"},{"$error":"#DIV/0!"},{"$error":"#DIV/0!"},{"$error":"#DIV/0!"},{"$error":"#DIV/0!"},{"$error":"#DIV/0!"},{"$f":"MIN(P831,$E831-O831-R831-IF(Invoer!$E$15<Q830,N831,0))","v":{"$error":"#DIV/0!"}},{"$error":"#DIV/0!"},{"$error":"#DIV/0!"},{"$error":"#DIV/0!"},{"$error":"#DIV/0!"},{"$error":"#DIV/0!"},{"$error":"#DIV/0!"},{"$f":"MIN(W831,$E831-V831-Y831-IF(Invoer!$F$15<X830,U831,0))","v":{"$error":"#DIV/0!"}},{"$error":"#DIV/0!"},{"$error":"#DIV/0!"},{"$error":"#DIV/0!"},{"$error":"#DIV/0!"},{"$error":"#DIV/0!"},{"$error":"#DIV/0!"},{"$f":"MIN(AD831,$E831-AC831-AF831-IF(Invoer!$G$15<AE830,AB831,0))","v":{"$error":"#DIV/0!"}},{"$error":"#DIV/0!"},{"$error":"#DIV/0!"}]
[null,null,56,18.507315378690471,{"$f":"Klimaatscenario!B63","v":19.220607822358645},{"$error":"#DIV/0!"},{"$error":"#DIV/0!"},{"$error":"#DIV/0!"},{"$error":"#DIV/0!"},{"$f":"MIN($I832,E832-H832-K832-IF(Invoer!$D$15<Neerslagberekeningen!J831,Neerslagberekeningen!G832,0))","v":{"$error":"#DIV/0!"}},{"$error":"#DIV/0!"},{"$error":"#DIV/0!"},{"$error":"#DIV/0!"},{"$error":"#DIV/0!"},{"$error":"#DIV/0!"},{"$error":"#DIV/0!"},{"$f":"MIN(P832,$E832-O832-R832-IF(Invoer!$E$15<Q831,N832,0))","v":{"$error":"#DIV/0!"}},{"$error":"#DIV/0!"},{"$error":"#DIV/0!"},{"$error":"#DIV/0!"},{"$error":"#DIV/0!"},{"$error":"#DIV/0!"},{"$error":"#DIV/0!"},{"$f":"MIN(W832,$E832-V832-Y832-IF(Invoer!$F$15<X831,U832,0))","v":{"$error":"#DIV/0!"}},{"$error":"#DIV/0!"},{"$error":"#DIV/0!"},{"$error":"#DIV/0!"},{"$error":"#DIV/0!"},{"$error":"#DIV/0!"},{"$error":"#DIV/0!"},{"$f":"MIN(AD832,$E832-AC832-AF832-IF(Invoer!$G$15<AE831,AB832,0))","v":{"$error":"#DIV/0!"}},{"$error":"#DIV/0!"},{"$error":"#DIV/0!"}]
[null,null,57,18.507315378690471,{"$f":"Klimaatscenario!B64","v":19.331651714630787},{"$error":"#DIV/0!"},{"$error":"#DIV/0!"},{"$error":"#DIV/0!"},{"$error":"#DIV/0!"},{"$f":"MIN($I833,E833-H833-K833-IF(Invoer!$D$15<Neerslagberekeningen!J832,Neerslagberekeningen!G833,0))","v":{"$error":"#DIV/0!"}},{"$error":"#DIV/0!"},{"$error":"#DIV/0!"},{"$error":"#DIV/0!"},{"$error":"#DIV/0!"},{"$error":"#DIV/0!"},{"$error":"#DIV/0!"},{"$f":"MIN(P833,$E833-O833-R833-IF(Invoer!$E$15<Q832,N833,0))","v":{"$error":"#DIV/0!"}},{"$error":"#DIV/0!"},{"$error":"#DIV/0!"},{"$error":"#DIV/0!"},{"$error":"#DIV/0!"},{"$error":"#DIV/0!"},{"$error":"#DIV/0!"},{"$f":"MIN(W833,$E833-V833-Y833-IF(Invoer!$F$15<X832,U833,0))","v":{"$error":"#DIV/0!"}},{"$error":"#DIV/0!"},{"$error":"#DIV/0!"},{"$error":"#DIV/0!"},{"$error":"#DIV/0!"},{"$error":"#DIV/0!"},{"$error":"#DIV/0!"},{"$f":"MIN(AD833,$E833-AC833-AF833-IF(Invoer!$G$15<AE832,AB833,0))","v":{"$error":"#DIV/0!"}},{"$error":"#DIV/0!"},{"$error":"#DIV/0!"}]
[null,null,58,18.507315378690471,{"$f":"Klimaatscenario!B65","v":19.44269560690293},{"$error":"#DIV/0!"},{"$error":"#DIV/0!"},{"$error":"#DIV/0!"},{"$error":"#DIV/0!"},{"$f":"MIN($I834,E834-H834-K834-IF(Invoer!$D$15<Neerslagberekeningen!J833,Neerslagberekeningen!G834,0))","v":{"$error":"#DIV/0!"}},{"$error":"#DIV/0!"},{"$error":"#DIV/0!"},{"$error":"#DIV/0!"},{"$error":"#DIV/0!"},{"$error":"#DIV/0!"},{"$error":"#DIV/0!"},{"$f":"MIN(P834,$E834-O834-R834-IF(Invoer!$E$15<Q833,N834,0))","v":{"$error":"#DIV/0!"}},{"$error":"#DIV/0!"},{"$error":"#DIV/0!"},{"$error":"#DIV/0!"},{"$error":"#DIV/0!"},{"$error":"#DIV/0!"},{"$error":"#DIV/0!"},{"$f":"MIN(W834,$E834-V834-Y834-IF(Invoer!$F$15<X833,U834,0))","v":{"$error":"#DIV/0!"}},{"$error":"#DIV/0!"},{"$error":"#DIV/0!"},{"$error":"#DIV/0!"},{"$error":"#DIV/0!"},{"$error":"#DIV/0!"},{"$error":"#DIV/0!"},{"$f":"MIN(AD834,$E834-AC834-AF834-IF(Invoer!$G$15<AE833,AB834,0))","v":{"$error":"#DIV/0!"}},{"$error":"#DIV/0!"},{"$error":"#DIV/0!"}]
[null,null,59,18.507315378691068,{"$f":"Klimaatscenario!B66","v":19.553739499175077},{"$error":"#DIV/0!"},{"$error":"#DIV/0!"},{"$error":"#DIV/0!"},{"$error":"#DIV/0!"},{"$f":"MIN($I835,E835-H835-K835-IF(Invoer!$D$15<Neerslagberekeningen!J834,Neerslagberekeningen!G835,0))","v":{"$error":"#DIV/0!"}},{"$error":"#DIV/0!"},{"$error":"#DIV/0!"},{"$error":"#DIV/0!"},{"$error":"#DIV/0!"},{"$error":"#DIV/0!"},{"$error":"#DIV/0!"},{"$f":"MIN(P835,$E835-O835-R835-IF(Invoer!$E$15<Q834,N835,0))","v":{"$error":"#DIV/0!"}},{"$error":"#DIV/0!"},{"$error":"#DIV/0!"},{"$error":"#DIV/0!"},{"$error":"#DIV/0!"},{"$error":"#DIV/0!"},{"$error":"#DIV/0!"},{"$f":"MIN(W835,$E835-V835-Y835-IF(Invoer!$F$15<X834,U835,0))","v":{"$error":"#DIV/0!"}},{"$error":"#DIV/0!"},{"$error":"#DIV/0!"},{"$error":"#DIV/0!"},{"$error":"#DIV/0!"},{"$error":"#DIV/0!"},{"$error":"#DIV/0!"},{"$f":"MIN(AD835,$E835-AC835-AF835-IF(Invoer!$G$15<AE834,AB835,0))","v":{"$error":"#DIV/0!"}},{"$error":"#DIV/0!"},{"$error":"#DIV/0!"}]
[null,null,60,18.507315378690471,{"$f":"Klimaatscenario!B67","v":19.664783391447219},{"$error":"#DIV/0!"},{"$error":"#DIV/0!"},{"$error":"#DIV/0!"},{"$error":"#DIV/0!"},{"$f":"MIN($I836,E836-H836-K836-IF(Invoer!$D$15<Neerslagberekeningen!J835,Neerslagberekeningen!G836,0))","v":{"$error":"#DIV/0!"}},{"$error":"#DIV/0!"},{"$error":"#DIV/0!"},{"$error":"#DIV/0!"},{"$error":"#DIV/0!"},{"$error":"#DIV/0!"},{"$error":"#DIV/0!"},{"$f":"MIN(P836,$E836-O836-R836-IF(Invoer!$E$15<Q835,N836,0))","v":{"$error":"#DIV/0!"}},{"$error":"#DIV/0!"},{"$error":"#DIV/0!"},{"$error":"#DIV/0!"},{"$error":"#DIV/0!"},{"$error":"#DIV/0!"},{"$error":"#DIV/0!"},{"$f":"MIN(W836,$E836-V836-Y836-IF(Invoer!$F$15<X835,U836,0))","v":{"$error":"#DIV/0!"}},{"$error":"#DIV/0!"},{"$error":"#DIV/0!"},{"$error":"#DIV/0!"},{"$error":"#DIV/0!"},{"$error":"#DIV/0!"},{"$error":"#DIV/0!"},{"$f":"MIN(AD836,$E836-AC836-AF836-IF(Invoer!$G$15<AE835,AB836,0))","v":{"$error":"#DIV/0!"}},{"$error":"#DIV/0!"},{"$error":"#DIV/0!"}]
[null,null,61,11.153128783840671,{"$f":"Klimaatscenario!B68","v":19.731702164150263},{"$error":"#DIV/0!"},{"$error":"#DIV/0!"},{"$error":"#DIV/0!"},{"$error":"#DIV/0!"},{"$f":"MIN($I837,E837-H837-K837-IF(Invoer!$D$15<Neerslagberekeningen!J836,Neerslagberekeningen!G837,0))","v":{"$error":"#DIV/0!"}},{"$error":"#DIV/0!"},{"$error":"#DIV/0!"},{"$error":"#DIV/0!"},{"$error":"#DIV/0!"},{"$error":"#DIV/0!"},{"$error":"#DIV/0!"},{"$f":"MIN(P837,$E837-O837-R837-IF(Invoer!$E$15<Q836,N837,0))","v":{"$error":"#DIV/0!"}},{"$error":"#DIV/0!"},{"$error":"#DIV/0!"},{"$error":"#DIV/0!"},{"$error":"#DIV/0!"},{"$error":"#DIV/0!"},{"$error":"#DIV/0!"},{"$f":"MIN(W837,$E837-V837-Y837-IF(Invoer!$F$15<X836,U837,0))","v":{"$error":"#DIV/0!"}},{"$error":"#DIV/0!"},{"$error":"#DIV/0!"},{"$error":"#DIV/0!"},{"$error":"#DIV/0!"},{"$error":"#DIV/0!"},{"$error":"#DIV/0!"},{"$f":"MIN(AD837,$E837-AC837-AF837-IF(Invoer!$G$15<AE836,AB837,0))","v":{"$error":"#DIV/0!"}},{"$error":"#DIV/0!"},{"$error":"#DIV/0!"}]
[null,null,62,11.153128783840671,{"$f":"Klimaatscenario!B69","v":19.798620936853307},{"$error":"#DIV/0!"},{"$error":"#DIV/0!"},{"$error":"#DIV/0!"},{"$error":"#DIV/0!"},{"$f":"MIN($I838,E838-H838-K838-IF(Invoer!$D$15<Neerslagberekeningen!J837,Neerslagberekeningen!G838,0))","v":{"$error":"#DIV/0!"}},{"$f":"($J$338/60)*$C838","v":{"$error":"#DIV/0!"}},{"$error":"#DIV/0!"},{"$error":"#DIV/0!"},{"$error":"#DIV/0!"},{"$error":"#DIV/0!"},{"$error":"#DIV/0!"},{"$f":"MIN(P838,$E838-O838-R838-IF(Invoer!$E$15<Q837,N838,0))","v":{"$error":"#DIV/0!"}},{"$error":"#DIV/0!"},{"$error":"#DIV/0!"},{"$error":"#DIV/0!"},{"$error":"#DIV/0!"},{"$error":"#DIV/0!"},{"$error":"#DIV/0!"},{"$f":"MIN(W838,$E838-V838-Y838-IF(Invoer!$F$15<X837,U838,0))","v":{"$error":"#DIV/0!"}},{"$error":"#DIV/0!"},{"$error":"#DIV/0!"},{"$error":"#DIV/0!"},{"$error":"#DIV/0!"},{"$error":"#DIV/0!"},{"$error":"#DIV/0!"},{"$f":"MIN(AD838,$E838-AC838-AF838-IF(Invoer!$G$15<AE837,AB838,0))","v":{"$error":"#DIV/0!"}},{"$error":"#DIV/0!"},{"$error":"#DIV/0!"}]
[null,null,63,11.153128783840671,{"$f":"Klimaatscenario!B70","v":19.865539709556352},{"$error":"#DIV/0!"},{"$error":"#DIV/0!"},{"$error":"#DIV/0!"},{"$error":"#DIV/0!"},{"$f":"MIN($I839,E839-H839-K839-IF(Invoer!$D$15<Neerslagberekeningen!J838,Neerslagberekeningen!G839,0))","v":{"$error":"#DIV/0!"}},{"$error":"#DIV/0!"},{"$error":"#DIV/0!"},{"$error":"#DIV/0!"},{"$error":"#DIV/0!"},{"$error":"#DIV/0!"},{"$error":"#DIV/0!"},{"$f":"MIN(P839,$E839-O839-R839-IF(Invoer!$E$15<Q838,N839,0))","v":{"$error":"#DIV/0!"}},{"$error":"#DIV/0!"},{"$error":"#DIV/0!"},{"$error":"#DIV/0!"},{"$error":"#DIV/0!"},{"$error":"#DIV/0!"},{"$error":"#DIV/0!"},{"$f":"MIN(W839,$E839-V839-Y839-IF(Invoer!$F$15<X838,U839,0))","v":{"$error":"#DIV/0!"}},{"$error":"#DIV/0!"},{"$error":"#DIV/0!"},{"$error":"#DIV/0!"},{"$error":"#DIV/0!"},{"$error":"#DIV/0!"},{"$error":"#DIV/0!"},{"$f":"MIN(AD839,$E839-AC839-AF839-IF(Invoer!$G$15<AE838,AB839,0))","v":{"$error":"#DIV/0!"}},{"$error":"#DIV/0!"},{"$error":"#DIV/0!"}]
[null,null,64,11.153128783840671,{"$f":"Klimaatscenario!B71","v":19.932458482259396},{"$error":"#DIV/0!"},{"$f":"($L$868/60)*$C840","v":{"$error":"#DIV/0!"}},{"$f":"($L$869/60)*$C840","v":{"$error":"#DIV/0!"}},{"$error":"#DIV/0!"},{"$f":"MIN($I840,E840-H840-K840-IF(Invoer!$D$15<Neerslagberekeningen!J839,Neerslagberekeningen!G840,0))","v":{"$error":"#DIV/0!"}},{"$f":"($J$338/60)*$C840","v":{"$error":"#DIV/0!"}},{"$error":"#DIV/0!"},{"$error":"#DIV/0!"},{"$error":"#DIV/0!"},{"$f":"$S$869/60*$C840","v":{"$error":"#DIV/0!"}},{"$error":"#DIV/0!"},{"$f":"MIN(P840,$E840-O840-R840-IF(Invoer!$E$15<Q839,N840,0))","v":{"$error":"#DIV/0!"}},{"$f":"($O$338/60)*$C840","v":{"$error":"#DIV/0!"}},{"$error":"#DIV/0!"},{"$error":"#DIV/0!"},{"$error":"#DIV/0!"},{"$f":"$Z$869/60*$C840","v":{"$error":"#DIV/0!"}},{"$error":"#DIV/0!"},{"$f":"MIN(W840,$E840-V840-Y840-IF(Invoer!$F$15<X839,U840,0))","v":{"$error":"#DIV/0!"}},{"$f":"($T$338/60)*$C840","v":{"$error":"#DIV/0!"}},{"$error":"#DIV/0!"},{"$error":"#DIV/0!"},{"$error":"#DIV/0!"},{"$f":"$AG$869/60*$C840","v":{"$error":"#DIV/0!"}},{"$error":"#DIV/0!"},{"$f":"MIN(AD840,$E840-AC840-AF840-IF(Invoer!$G$15<AE839,AB840,0))","v":{"$error":"#DIV/0!"}},{"$f":"($Y$338/60)*$C840","v":{"$error":"#DIV/0!"}},{"$error":"#DIV/0!"}]
[null,null,65,11.15312878384008,{"$f":"Klimaatscenario!B72","v":19.999377254962436},{"$f":"((L$865*60)/10000)+F840","v":{"$error":"#DIV/0!"}},{"$error":"#DIV/0!"},{"$error":"#DIV/0!"},{"$f":"L$864","v":{"$error":"#DIV/0!"}},{"$f":"MIN($I841,E841-H841-K841-IF(Invoer!$D$15<Neerslagberekeningen!J840,Neerslagberekeningen!G841,0))","v":{"$error":"#DIV/0!"}},{"$error":"#DIV/0!"},{"$error":"#DIV/0!"},{"$f":"((S$865*60)/10000)+M840","v":{"$error":"#DIV/0!"}},{"$error":"#DIV/0!"},{"$error":"#DIV/0!"},{"$error":"#DIV/0!"},{"$f":"MIN(P841,$E841-O841-R841-IF(Invoer!$E$15<Q840,N841,0))","v":{"$error":"#DIV/0!"}},{"$error":"#DIV/0!"},{"$error":"#DIV/0!"},{"$f":"((T$337*60)/10000)+T840","v":{"$error":"#DIV/0!"}},{"$f":"(Z$868/60)*$C841","v":{"$error":"#DIV/0!"}},{"$error":"#DIV/0!"},{"$error":"#DIV/0!"},{"$f":"MIN(W841,$E841-V841-Y841-IF(Invoer!$F$15<X840,U841,0))","v":{"$error":"#DIV/0!"}},{"$error":"#DIV/0!"},{"$error":"#DIV/0!"},{"$f":"((Y$337*60)/10000)+AA840","v":{"$error":"#DIV/0!"}},{"$f":"(AG$868/60)*$C841","v":{"$error":"#DIV/0!"}},{"$error":"#DIV/0!"},{"$error":"#DIV/0!"},{"$f":"MIN(AD841,$E841-AC841-AF841-IF(Invoer!$G$15<AE840,AB841,0))","v":{"$error":"#DIV/0!"}},{"$error":"#DIV/0!"},{"$error":"#DIV/0!"}]
[null,null,66,11.153128783840671,{"$f":"Klimaatscenario!B73","v":20.06629602766548},{"$error":"#DIV/0!"},{"$error":"#DIV/0!"},{"$error":"#DIV/0!"},{"$error":"#DIV/0!"},{"$f":"MIN($I842,E842-H842-K842-IF(Invoer!$D$15<Neerslagberekeningen!J841,Neerslagberekeningen!G842,0))","v":{"$error":"#DIV/0!"}},{"$error":"#DIV/0!"},{"$f":"$E842-F842-G842-H842-J842-K842","v":{"$error":"#DIV/0!"}},{"$error":"#DIV/0!"},{"$f":"(S$868/60)*$C842","v":{"$error":"#DIV/0!"}},{"$error":"#DIV/0!"},{"$f":"S$864","v":{"$error":"#DIV/0!"}},{"$f":"MIN(P842,$E842-O842-R842-IF(Invoer!$E$15<Q841,N842,0))","v":{"$error":"#DIV/0!"}},{"$error":"#DIV/0!"},{"$f":"$E842-M842-N842-O842-Q842-R842","v":{"$error":"#DIV/0!"}},{"$error":"#DIV/0!"},{"$error":"#DIV/0!"},{"$error":"#DIV/0!"},{"$f":"Z$864","v":{"$error":"#DIV/0!"}},{"$f":"MIN(W842,$E842-V842-Y842-IF(Invoer!$F$15<X841,U842,0))","v":{"$error":"#DIV/0!"}},{"$error":"#DIV/0!"},{"$f":"$E842-T842-U842-V842-X842-Y842","v":{"$error":"#DIV/0!"}},{"$error":"#DIV/0!"},{"$error":"#DIV/0!"},{"$error":"#DIV/0!"},{"$f":"AG$864","v":{"$error":"#DIV/0!"}},{"$f":"MIN(AD842,$E842-AC842-AF842-IF(Invoer!$G$15<AE841,AB842,0))","v":{"$error":"#DIV/0!"}},{"$error":"#DIV/0!"},{"$f":"$E842-AA842-AB842-AC842-AE842-AF842","v":{"$error":"#DIV/0!"}}]
[null,null,67,11.153128783840671,{"$f":"Klimaatscenario!B74","v":20.133214800368524},{"$error":"#DIV/0!"},{"$error":"#DIV/0!"},{"$error":"#DIV/0!"},{"$error":"#DIV/0!"},{"$f":"MIN($I843,E843-H843-K843-IF(Invoer!$D$15<Neerslagberekeningen!J842,Neerslagberekeningen!G843,0))","v":{"$error":"#DIV/0!"}},{"$error":"#DIV/0!"},{"$error":"#DIV/0!"},{"$error":"#DIV/0!"},{"$error":"#DIV/0!"},{"$error":"#DIV/0!"},{"$error":"#DIV/0!"},{"$f":"MIN(P843,$E843-O843-R843-IF(Invoer!$E$15<Q842,N843,0))","v":{"$error":"#DIV/0!"}},{"$error":"#DIV/0!"},{"$error":"#DIV/0!"},{"$error":"#DIV/0!"},{"$error":"#DIV/0!"},{"$error":"#DIV/0!"},{"$error":"#DIV/0!"},{"$f":"MIN(W843,$E843-V843-Y843-IF(Invoer!$F$15<X842,U843,0))","v":{"$error":"#DIV/0!"}},{"$error":"#DIV/0!"},{"$error":"#DIV/0!"},{"$error":"#DIV/0!"},{"$error":"#DIV/0!"},{"$error":"#DIV/0!"},{"$error":"#DIV/0!"},{"$f":"MIN(AD843,$E843-AC843-AF843-IF(Invoer!$G$15<AE842,AB843,0))","v":{"$error":"#DIV/0!"}},{"$error":"#DIV/0!"},{"$error":"#DIV/0!"}]
[null,null,68,11.153128783840671,{"$f":"Klimaatscenario!B75","v":20.200133573071568},{"$error":"#DIV/0!"},{"$error":"#DIV/0!"},{"$error":"#DIV/0!"},{"$error":"#DIV/0!"},{"$f":"MIN($I844,E844-H844-K844-IF(Invoer!$D$15<Neerslagberekeningen!J843,Neerslagberekeningen!G844,0))","v":{"$error":"#DIV/0!"}},{"$error":"#DIV/0!"},{"$error":"#DIV/0!"},{"$error":"#DIV/0!"},{"$error":"#DIV/0!"},{"$error":"#DIV/0!"},{"$error":"#DIV/0!"},{"$f":"MIN(P844,$E844-O844-R844-IF(Invoer!$E$15<Q843,N844,0))","v":{"$error":"#DIV/0!"}},{"$error":"#DIV/0!"},{"$error":"#DIV/0!"},{"$error":"#DIV/0!"},{"$error":"#DIV/0!"},{"$error":"#DIV/0!"},{"$error":"#DIV/0!"},{"$f":"MIN(W844,$E844-V844-Y844-IF(Invoer!$F$15<X843,U844,0))","v":{"$error":"#DIV/0!"}},{"$error":"#DIV/0!"},{"$error":"#DIV/0!"},{"$error":"#DIV/0!"},{"$error":"#DIV/0!"},{"$error":"#DIV/0!"},{"$error":"#DIV/0!"},{"$f":"MIN(AD844,$E844-AC844-AF844-IF(Invoer!$G$15<AE843,AB844,0))","v":{"$error":"#DIV/0!"}},{"$error":"#DIV/0!"},{"$error":"#DIV/0!"}]
[null,null,69,{"$f":"((((((E845-E844)/(C845-C844))/60)/1000)*10000)*1000)","v":11.153128783840671},{"$f":"Klimaatscenario!B76","v":20.267052345774612},{"$error":"#DIV/0!"},{"$error":"#DIV/0!"},{"$error":"#DIV/0!"},{"$error":"#DIV/0!"},{"$f":"MIN($I845,E845-H845-K845-IF(Invoer!$D$15<Neerslagberekeningen!J844,Neerslagberekeningen!G845,0))","v":{"$error":"#DIV/0!"}},{"$error":"#DIV/0!"},{"$error":"#DIV/0!"},{"$error":"#DIV/0!"},{"$error":"#DIV/0!"},{"$error":"#DIV/0!"},{"$error":"#DIV/0!"},{"$f":"MIN(P845,$E845-O845-R845-IF(Invoer!$E$15<Q844,N845,0))","v":{"$error":"#DIV/0!"}},{"$error":"#DIV/0!"},{"$error":"#DIV/0!"},{"$error":"#DIV/0!"},{"$error":"#DIV/0!"},{"$error":"#DIV/0!"},{"$error":"#DIV/0!"},{"$f":"MIN(W845,$E845-V845-Y845-IF(Invoer!$F$15<X844,U845,0))","v":{"$error":"#DIV/0!"}},{"$error":"#DIV/0!"},{"$error":"#DIV/0!"},{"$error":"#DIV/0!"},{"$error":"#DIV/0!"},{"$error":"#DIV/0!"},{"$error":"#DIV/0!"},{"$f":"MIN(AD845,$E845-AC845-AF845-IF(Invoer!$G$15<AE844,AB845,0))","v":{"$error":"#DIV/0!"}},{"$error":"#DIV/0!"},{"$error":"#DIV/0!"}]
[null,null,70,11.153128783840671,{"$f":"Klimaatscenario!B77","v":20.333971118477656},{"$error":"#DIV/0!"},{"$error":"#DIV/0!"},{"$error":"#DIV/0!"},{"$error":"#DIV/0!"},{"$f":"MIN($I846,E846-H846-K846-IF(Invoer!$D$15<Neerslagberekeningen!J845,Neerslagberekeningen!G846,0))","v":{"$error":"#DIV/0!"}},{"$error":"#DIV/0!"},{"$error":"#DIV/0!"},{"$error":"#DIV/0!"},{"$error":"#DIV/0!"},{"$error":"#DIV/0!"},{"$error":"#DIV/0!"},{"$f":"MIN(P846,$E846-O846-R846-IF(Invoer!$E$15<Q845,N846,0))","v":{"$error":"#DIV/0!"}},{"$error":"#DIV/0!"},{"$error":"#DIV/0!"},{"$error":"#DIV/0!"},{"$error":"#DIV/0!"},{"$error":"#DIV/0!"},{"$error":"#DIV/0!"},{"$f":"MIN(W846,$E846-V846-Y846-IF(Invoer!$F$15<X845,U846,0))","v":{"$error":"#DIV/0!"}},{"$error":"#DIV/0!"},{"$error":"#DIV/0!"},{"$error":"#DIV/0!"},{"$error":"#DIV/0!"},{"$error":"#DIV/0!"},{"$error":"#DIV/0!"},{"$f":"MIN(AD846,$E846-AC846-AF846-IF(Invoer!$G$15<AE845,AB846,0))","v":{"$error":"#DIV/0!"}},{"$error":"#DIV/0!"},{"$error":"#DIV/0!"}]
[null,null,71,11.153128783840671,{"$f":"Klimaatscenario!B78","v":20.4008898911807},{"$error":"#DIV/0!"},{"$error":"#DIV/0!"},{"$error":"#DIV/0!"},{"$error":"#DIV/0!"},{"$f":"MIN($I847,E847-H847-K847-IF(Invoer!$D$15<Neerslagberekeningen!J846,Neerslagberekeningen!G847,0))","v":{"$error":"#DIV/0!"}},{"$error":"#DIV/0!"},{"$error":"#DIV/0!"},{"$error":"#DIV/0!"},{"$error":"#DIV/0!"},{"$error":"#DIV/0!"},{"$error":"#DIV/0!"},{"$f":"MIN(P847,$E847-O847-R847-IF(Invoer!$E$15<Q846,N847,0))","v":{"$error":"#DIV/0!"}},{"$error":"#DIV/0!"},{"$error":"#DIV/0!"},{"$error":"#DIV/0!"},{"$error":"#DIV/0!"},{"$error":"#DIV/0!"},{"$error":"#DIV/0!"},{"$f":"MIN(W847,$E847-V847-Y847-IF(Invoer!$F$15<X846,U847,0))","v":{"$error":"#DIV/0!"}},{"$error":"#DIV/0!"},{"$error":"#DIV/0!"},{"$error":"#DIV/0!"},{"$error":"#DIV/0!"},{"$error":"#DIV/0!"},{"$error":"#DIV/0!"},{"$f":"MIN(AD847,$E847-AC847-AF847-IF(Invoer!$G$15<AE846,AB847,0))","v":{"$error":"#DIV/0!"}},{"$error":"#DIV/0!"},{"$error":"#DIV/0!"}]
[null,null,72,11.153128783840671,{"$f":"Klimaatscenario!B79","v":20.467808663883744},{"$error":"#DIV/0!"},{"$error":"#DIV/0!"},{"$error":"#DIV/0!"},{"$error":"#DIV/0!"},{"$f":"MIN($I848,E848-H848-K848-IF(Invoer!$D$15<Neerslagberekeningen!J847,Neerslagberekeningen!G848,0))","v":{"$error":"#DIV/0!"}},{"$error":"#DIV/0!"},{"$error":"#DIV/0!"},{"$error":"#DIV/0!"},{"$error":"#DIV/0!"},{"$error":"#DIV/0!"},{"$error":"#DIV/0!"},{"$f":"MIN(P848,$E848-O848-R848-IF(Invoer!$E$15<Q847,N848,0))","v":{"$error":"#DIV/0!"}},{"$error":"#DIV/0!"},{"$error":"#DIV/0!"},{"$error":"#DIV/0!"},{"$error":"#DIV/0!"},{"$error":"#DIV/0!"},{"$error":"#DIV/0!"},{"$f":"MIN(W848,$E848-V848-Y848-IF(Invoer!$F$15<X847,U848,0))","v":{"$error":"#DIV/0!"}},{"$f":"($T$338/60)*$C848","v":{"$error":"#DIV/0!"}},{"$error":"#DIV/0!"},{"$error":"#DIV/0!"},{"$error":"#DIV/0!"},{"$error":"#DIV/0!"},{"$error":"#DIV/0!"},{"$f":"MIN(AD848,$E848-AC848-AF848-IF(Invoer!$G$15<AE847,AB848,0))","v":{"$error":"#DIV/0!"}},{"$error":"#DIV/0!"},{"$error":"#DIV/0!"}]
[null,null,73,11.15312878384008,{"$f":"Klimaatscenario!B80","v":20.534727436586785},{"$error":"#DIV/0!"},{"$error":"#DIV/0!"},{"$error":"#DIV/0!"},{"$error":"#DIV/0!"},{"$f":"MIN($I849,E849-H849-K849-IF(Invoer!$D$15<Neerslagberekeningen!J848,Neerslagberekeningen!G849,0))","v":{"$error":"#DIV/0!"}},{"$error":"#DIV/0!"},{"$error":"#DIV/0!"},{"$error":"#DIV/0!"},{"$error":"#DIV/0!"},{"$error":"#DIV/0!"},{"$error":"#DIV/0!"},{"$f":"MIN(P849,$E849-O849-R849-IF(Invoer!$E$15<Q848,N849,0))","v":{"$error":"#DIV/0!"}},{"$error":"#DIV/0!"},{"$error":"#DIV/0!"},{"$error":"#DIV/0!"},{"$error":"#DIV/0!"},{"$error":"#DIV/0!"},{"$error":"#DIV/0!"},{"$f":"MIN(W849,$E849-V849-Y849-IF(Invoer!$F$15<X848,U849,0))","v":{"$error":"#DIV/0!"}},{"$error":"#DIV/0!"},{"$error":"#DIV/0!"},{"$error":"#DIV/0!"},{"$error":"#DIV/0!"},{"$error":"#DIV/0!"},{"$error":"#DIV/0!"},{"$f":"MIN(AD849,$E849-AC849-AF849-IF(Invoer!$G$15<AE848,AB849,0))","v":{"$error":"#DIV/0!"}},{"$error":"#DIV/0!"},{"$error":"#DIV/0!"}]
[null,null,74,11.153128783840671,{"$f":"Klimaatscenario!B81","v":20.601646209289829},{"$error":"#DIV/0!"},{"$error":"#DIV/0!"},{"$error":"#DIV/0!"},{"$error":"#DIV/0!"},{"$f":"MIN($I850,E850-H850-K850-IF(Invoer!$D$15<Neerslagberekeningen!J849,Neerslagberekeningen!G850,0))","v":{"$error":"#DIV/0!"}},{"$error":"#DIV/0!"},{"$error":"#DIV/0!"},{"$error":"#DIV/0!"},{"$error":"#DIV/0!"},{"$error":"#DIV/0!"},{"$error":"#DIV/0!"},{"$f":"MIN(P850,$E850-O850-R850-IF(Invoer!$E$15<Q849,N850,0))","v":{"$error":"#DIV/0!"}},{"$error":"#DIV/0!"},{"$error":"#DIV/0!"},{"$error":"#DIV/0!"},{"$error":"#DIV/0!"},{"$error":"#DIV/0!"},{"$error":"#DIV/0!"},{"$f":"MIN(W850,$E850-V850-Y850-IF(Invoer!$F$15<X849,U850,0))","v":{"$error":"#DIV/0!"}},{"$error":"#DIV/0!"},{"$error":"#DIV/0!"},{"$error":"#DIV/0!"},{"$error":"#DIV/0!"},{"$error":"#DIV/0!"},{"$error":"#DIV/0!"},{"$f":"MIN(AD850,$E850-AC850-AF850-IF(Invoer!$G$15<AE849,AB850,0))","v":{"$error":"#DIV/0!"}},{"$error":"#DIV/0!"},{"$error":"#DIV/0!"}]
[null,null,75,{"$f":"((((((E851-E850)/(C851-C850))/60)/1000)*10000)*1000)","v":11.153128783840671},{"$f":"Klimaatscenario!B82","v":20.668564981992873},{"$error":"#DIV/0!"},{"$error":"#DIV/0!"},{"$error":"#DIV/0!"},{"$error":"#DIV/0!"},{"$f":"MIN($I851,E851-H851-K851-IF(Invoer!$D$15<Neerslagberekeningen!J850,Neerslagberekeningen!G851,0))","v":{"$error":"#DIV/0!"}},{"$f":"($J$338/60)*$C851","v":{"$error":"#DIV/0!"}},{"$error":"#DIV/0!"},{"$error":"#DIV/0!"},{"$error":"#DIV/0!"},{"$error":"#DIV/0!"},{"$error":"#DIV/0!"},{"$f":"MIN(P851,$E851-O851-R851-IF(Invoer!$E$15<Q850,N851,0))","v":{"$error":"#DIV/0!"}},{"$f":"($O$338/60)*$C851","v":{"$error":"#DIV/0!"}},{"$error":"#DIV/0!"},{"$error":"#DIV/0!"},{"$error":"#DIV/0!"},{"$error":"#DIV/0!"},{"$error":"#DIV/0!"},{"$f":"MIN(W851,$E851-V851-Y851-IF(Invoer!$F$15<X850,U851,0))","v":{"$error":"#DIV/0!"}},{"$f":"($T$338/60)*$C851","v":{"$error":"#DIV/0!"}},{"$error":"#DIV/0!"},{"$error":"#DIV/0!"},{"$error":"#DIV/0!"},{"$error":"#DIV/0!"},{"$error":"#DIV/0!"},{"$f":"MIN(AD851,$E851-AC851-AF851-IF(Invoer!$G$15<AE850,AB851,0))","v":{"$error":"#DIV/0!"}},{"$f":"($Y$338/60)*$C851","v":{"$error":"#DIV/0!"}},{"$error":"#DIV/0!"}]
[null,null,{"$f":"Klimaatscenario!A83","v":120},{"$f":"((((((E852-E851)/(C852-C851))/60)/1000)*10000)*1000)","v":11.153128783840607},{"$f":"Klimaatscenario!B83","v":23.679909753629836},{"$f":"((L$865*60*($C852-$C851))/10000)+F851","v":{"$error":"#DIV/0!"}},{"$error":"#DIV/0!"},{"$error":"#DIV/0!"},{"$error":"#DIV/0!"},{"$f":"MIN($I852,E852-H852-K852-IF(Invoer!$D$15<Neerslagberekeningen!J851,Neerslagberekeningen!G852,0))","v":{"$error":"#DIV/0!"}},{"$f":"($J$338/60)*$C852","v":{"$error":"#DIV/0!"}},{"$error":"#DIV/0!"},{"$f":"((S$865*60*($C852-$C851))/10000)+M851","v":{"$error":"#DIV/0!"}},{"$error":"#DIV/0!"},{"$error":"#DIV/0!"},{"$error":"#DIV/0!"},{"$f":"MIN(P852,$E852-O852-R852-IF(Invoer!$E$15<Q851,N852,0))","v":{"$error":"#DIV/0!"}},{"$f":"($O$338/60)*$C852","v":{"$error":"#DIV/0!"}},{"$error":"#DIV/0!"},{"$f":"((Z$865*60*($C852-$C851))/10000)+T851","v":{"$error":"#DIV/0!"}},{"$error":"#DIV/0!"},{"$error":"#DIV/0!"},{"$error":"#DIV/0!"},{"$f":"MIN(W852,$E852-V852-Y852-IF(Invoer!$F$15<X851,U852,0))","v":{"$error":"#DIV/0!"}},{"$f":"($T$338/60)*$C852","v":{"$error":"#DIV/0!"}},{"$error":"#DIV/0!"},{"$f":"((AG$865*60*($C852-$C851))/10000)+AA851","v":{"$error":"#DIV/0!"}},{"$error":"#DIV/0!"},{"$error":"#DIV/0!"},{"$error":"#DIV/0!"},{"$f":"MIN(AD852,$E852-AC852-AF852-IF(Invoer!$G$15<AE851,AB852,0))","v":{"$error":"#DIV/0!"}},{"$f":"($Y$338/60)*$C852","v":{"$error":"#DIV/0!"}},{"$error":"#DIV/0!"}]
[null,null,{"$f":"Klimaatscenario!A84","v":240},6.2419591002164712,{"$f":"Klimaatscenario!B84","v":28.174120305785696},{"$error":"#DIV/0!"},{"$error":"#DIV/0!"},{"$error":"#DIV/0!"},{"$error":"#DIV/0!"},{"$f":"MIN($I853,E853-H853-K853-IF(Invoer!$D$15<Neerslagberekeningen!J852,Neerslagberekeningen!G853,0))","v":{"$error":"#DIV/0!"}},{"$error":"#DIV/0!"},{"$error":"#DIV/0!"},{"$error":"#DIV/0!"},{"$error":"#DIV/0!"},{"$error":"#DIV/0!"},{"$error":"#DIV/0!"},{"$f":"MIN(P853,$E853-O853-R853-IF(Invoer!$E$15<Q852,N853,0))","v":{"$error":"#DIV/0!"}},{"$f":"($O$338/60)*$C853","v":{"$error":"#DIV/0!"}},{"$error":"#DIV/0!"},{"$error":"#DIV/0!"},{"$error":"#DIV/0!"},{"$error":"#DIV/0!"},{"$error":"#DIV/0!"},{"$f":"MIN(W853,$E853-V853-Y853-IF(Invoer!$F$15<X852,U853,0))","v":{"$error":"#DIV/0!"}},{"$f":"($T$338/60)*$C853","v":{"$error":"#DIV/0!"}},{"$error":"#DIV/0!"},{"$error":"#DIV/0!"},{"$error":"#DIV/0!"},{"$error":"#DIV/0!"},{"$error":"#DIV/0!"},{"$f":"MIN(AD853,$E853-AC853-AF853-IF(Invoer!$G$15<AE852,AB853,0))","v":{"$error":"#DIV/0!"}},{"$f":"($Y$338/60)*$C853","v":{"$error":"#DIV/0!"}},{"$error":"#DIV/0!"}]
[null,null,{"$f":"Klimaatscenario!A85","v":480},3.3684725598099705,{"$f":"Klimaatscenario!B85","v":33.024720791912053},{"$error":"#DIV/0!"},{"$error":"#DIV/0!"},{"$error":"#DIV/0!"},{"$error":"#DIV/0!"},{"$f":"MIN($I854,E854-H854-K854-IF(Invoer!$D$15<Neerslagberekeningen!J853,Neerslagberekeningen!G854,0))","v":{"$error":"#DIV/0!"}},{"$error":"#DIV/0!"},{"$error":"#DIV/0!"},{"$error":"#DIV/0!"},{"$error":"#DIV/0!"},{"$error":"#DIV/0!"},{"$error":"#DIV/0!"},{"$f":"MIN(P854,$E854-O854-R854-IF(Invoer!$E$15<Q853,N854,0))","v":{"$error":"#DIV/0!"}},{"$f":"($O$338/60)*$C854","v":{"$error":"#DIV/0!"}},{"$error":"#DIV/0!"},{"$error":"#DIV/0!"},{"$error":"#DIV/0!"},{"$error":"#DIV/0!"},{"$error":"#DIV/0!"},{"$f":"MIN(W854,$E854-V854-Y854-IF(Invoer!$F$15<X853,U854,0))","v":{"$error":"#DIV/0!"}},{"$f":"($T$338/60)*$C854","v":{"$error":"#DIV/0!"}},{"$error":"#DIV/0!"},{"$error":"#DIV/0!"},{"$error":"#DIV/0!"},{"$error":"#DIV/0!"},{"$error":"#DIV/0!"},{"$f":"MIN(AD854,$E854-AC854-AF854-IF(Invoer!$G$15<AE853,AB854,0))","v":{"$error":"#DIV/0!"}},{"$f":"($Y$338/60)*$C854","v":{"$error":"#DIV/0!"}},{"$error":"#DIV/0!"}]
[null,null,{"$f":"Klimaatscenario!A86","v":720},2.0004724741819628,{"$f":"Klimaatscenario!B86","v":35.905401154734079},{"$error":"#DIV/0!"},{"$error":"#DIV/0!"},{"$error":"#DIV/0!"},{"$error":"#DIV/0!"},{"$f":"MIN($I855,E855-H855-K855-IF(Invoer!$D$15<Neerslagberekeningen!J854,Neerslagberekeningen!G855,0))","v":{"$error":"#DIV/0!"}},{"$error":"#DIV/0!"},{"$error":"#DIV/0!"},{"$error":"#DIV/0!"},{"$error":"#DIV/0!"},{"$error":"#DIV/0!"},{"$error":"#DIV/0!"},{"$f":"MIN(P855,$E855-O855-R855-IF(Invoer!$E$15<Q854,N855,0))","v":{"$error":"#DIV/0!"}},{"$error":"#DIV/0!"},{"$error":"#DIV/0!"},{"$error":"#DIV/0!"},{"$error":"#DIV/0!"},{"$error":"#DIV/0!"},{"$error":"#DIV/0!"},{"$f":"MIN(W855,$E855-V855-Y855-IF(Invoer!$F$15<X854,U855,0))","v":{"$error":"#DIV/0!"}},{"$error":"#DIV/0!"},{"$error":"#DIV/0!"},{"$error":"#DIV/0!"},{"$error":"#DIV/0!"},{"$error":"#DIV/0!"},{"$error":"#DIV/0!"},{"$f":"MIN(AD855,$E855-AC855-AF855-IF(Invoer!$G$15<AE854,AB855,0))","v":{"$error":"#DIV/0!"}},{"$error":"#DIV/0!"},{"$error":"#DIV/0!"}]
[null,null,{"$f":"Klimaatscenario!A87","v":1440},1.3426934367500494,{"$f":"Klimaatscenario!B87","v":41.705836801494293},{"$error":"#DIV/0!"},{"$error":"#DIV/0!"},{"$error":"#DIV/0!"},{"$error":"#DIV/0!"},{"$f":"MIN($I856,E856-H856-K856-IF(Invoer!$D$15<Neerslagberekeningen!J855,Neerslagberekeningen!G856,0))","v":{"$error":"#DIV/0!"}},{"$error":"#DIV/0!"},{"$error":"#DIV/0!"},{"$error":"#DIV/0!"},{"$error":"#DIV/0!"},{"$error":"#DIV/0!"},{"$error":"#DIV/0!"},{"$f":"MIN(P856,$E856-O856-R856-IF(Invoer!$E$15<Q855,N856,0))","v":{"$error":"#DIV/0!"}},{"$error":"#DIV/0!"},{"$error":"#DIV/0!"},{"$error":"#DIV/0!"},{"$error":"#DIV/0!"},{"$error":"#DIV/0!"},{"$error":"#DIV/0!"},{"$f":"MIN(W856,$E856-V856-Y856-IF(Invoer!$F$15<X855,U856,0))","v":{"$error":"#DIV/0!"}},{"$error":"#DIV/0!"},{"$error":"#DIV/0!"},{"$error":"#DIV/0!"},{"$error":"#DIV/0!"},{"$error":"#DIV/0!"},{"$error":"#DIV/0!"},{"$f":"MIN(AD856,$E856-AC856-AF856-IF(Invoer!$G$15<AE855,AB856,0))","v":{"$error":"#DIV/0!"}},{"$error":"#DIV/0!"},{"$error":"#DIV/0!"}]
[null,null,{"$f":"Klimaatscenario!A88","v":2880},1.1821334895576199,{"$f":"Klimaatscenario!B88","v":51.919470151272129},{"$error":"#DIV/0!"},{"$error":"#DIV/0!"},{"$error":"#DIV/0!"},{"$error":"#DIV/0!"},{"$f":"MIN($I857,E857-H857-K857-IF(Invoer!$D$15<Neerslagberekeningen!J856,Neerslagberekeningen!G857,0))","v":{"$error":"#DIV/0!"}},{"$error":"#DIV/0!"},{"$error":"#DIV/0!"},{"$error":"#DIV/0!"},{"$error":"#DIV/0!"},{"$error":"#DIV/0!"},{"$error":"#DIV/0!"},{"$f":"MIN(P857,$E857-O857-R857-IF(Invoer!$E$15<Q856,N857,0))","v":{"$error":"#DIV/0!"}},{"$error":"#DIV/0!"},{"$error":"#DIV/0!"},{"$error":"#DIV/0!"},{"$error":"#DIV/0!"},{"$error":"#DIV/0!"},{"$error":"#DIV/0!"},{"$f":"MIN(W857,$E857-V857-Y857-IF(Invoer!$F$15<X856,U857,0))","v":{"$error":"#DIV/0!"}},{"$error":"#DIV/0!"},{"$error":"#DIV/0!"},{"$error":"#DIV/0!"},{"$error":"#DIV/0!"},{"$error":"#DIV/0!"},{"$error":"#DIV/0!"},{"$f":"MIN(AD857,$E857-AC857-AF857-IF(Invoer!$G$15<AE856,AB857,0))","v":{"$error":"#DIV/0!"}},{"$error":"#DIV/0!"},{"$error":"#DIV/0!"}]
[null,null,{"$f":"Klimaatscenario!A89","v":5760},0.83484102220408252,{"$f":"Klimaatscenario!B89","v":66.345523014958673},{"$error":"#DIV/0!"},{"$error":"#DIV/0!"},{"$error":"#DIV/0!"},{"$error":"#DIV/0!"},{"$f":"MIN($I858,E858-H858-K858-IF(Invoer!$D$15<Neerslagberekeningen!J857,Neerslagberekeningen!G858,0))","v":{"$error":"#DIV/0!"}},{"$error":"#DIV/0!"},{"$error":"#DIV/0!"},{"$error":"#DIV/0!"},{"$error":"#DIV/0!"},{"$error":"#DIV/0!"},{"$error":"#DIV/0!"},{"$f":"MIN(P858,$E858-O858-R858-IF(Invoer!$E$15<Q857,N858,0))","v":{"$error":"#DIV/0!"}},{"$error":"#DIV/0!"},{"$error":"#DIV/0!"},{"$error":"#DIV/0!"},{"$error":"#DIV/0!"},{"$error":"#DIV/0!"},{"$error":"#DIV/0!"},{"$f":"MIN(W858,$E858-V858-Y858-IF(Invoer!$F$15<X857,U858,0))","v":{"$error":"#DIV/0!"}},{"$error":"#DIV/0!"},{"$error":"#DIV/0!"},{"$error":"#DIV/0!"},{"$error":"#DIV/0!"},{"$error":"#DIV/0!"},{"$error":"#DIV/0!"},{"$f":"MIN(AD858,$E858-AC858-AF858-IF(Invoer!$G$15<AE857,AB858,0))","v":{"$error":"#DIV/0!"}},{"$error":"#DIV/0!"},{"$error":"#DIV/0!"}]
[null,null,{"$f":"Klimaatscenario!A90","v":11520},0.6162601934742552,{"$f":"Klimaatscenario!B90","v":87.643475301428936},{"$error":"#DIV/0!"},{"$error":"#DIV/0!"},{"$error":"#DIV/0!"},{"$error":"#DIV/0!"},{"$f":"MIN($I859,E859-H859-K859-IF(Invoer!$D$15<Neerslagberekeningen!J858,Neerslagberekeningen!G859,0))","v":{"$error":"#DIV/0!"}},{"$error":"#DIV/0!"},{"$error":"#DIV/0!"},{"$error":"#DIV/0!"},{"$error":"#DIV/0!"},{"$error":"#DIV/0!"},{"$error":"#DIV/0!"},{"$f":"MIN(P859,$E859-O859-R859-IF(Invoer!$E$15<Q858,N859,0))","v":{"$error":"#DIV/0!"}},{"$error":"#DIV/0!"},{"$error":"#DIV/0!"},{"$error":"#DIV/0!"},{"$error":"#DIV/0!"},{"$error":"#DIV/0!"},{"$error":"#DIV/0!"},{"$f":"MIN(W859,$E859-V859-Y859-IF(Invoer!$F$15<X858,U859,0))","v":{"$error":"#DIV/0!"}},{"$error":"#DIV/0!"},{"$error":"#DIV/0!"},{"$error":"#DIV/0!"},{"$error":"#DIV/0!"},{"$error":"#DIV/0!"},{"$error":"#DIV/0!"},{"$f":"MIN(AD859,$E859-AC859-AF859-IF(Invoer!$G$15<AE858,AB859,0))","v":{"$error":"#DIV/0!"}},{"$error":"#DIV/0!"},{"$error":"#DIV/0!"}]
[null,null,{"$f":"Klimaatscenario!A91","v":12960},0.53386640448800038,{"$f":"Klimaatscenario!B91","v":92.256081036205259},{"$error":"#DIV/0!"},{"$error":"#DIV/0!"},{"$error":"#DIV/0!"},{"$error":"#DIV/0!"},{"$f":"MIN($I860,E860-H860-K860-IF(Invoer!$D$15<Neerslagberekeningen!J859,Neerslagberekeningen!G860,0))","v":{"$error":"#DIV/0!"}},{"$error":"#DIV/0!"},{"$error":"#DIV/0!"},{"$error":"#DIV/0!"},{"$error":"#DIV/0!"},{"$error":"#DIV/0!"},{"$error":"#DIV/0!"},{"$f":"MIN(P860,$E860-O860-R860-IF(Invoer!$E$15<Q859,N860,0))","v":{"$error":"#DIV/0!"}},{"$error":"#DIV/0!"},{"$error":"#DIV/0!"},{"$error":"#DIV/0!"},{"$error":"#DIV/0!"},{"$error":"#DIV/0!"},{"$error":"#DIV/0!"},{"$f":"MIN(W860,$E860-V860-Y860-IF(Invoer!$F$15<X859,U860,0))","v":{"$error":"#DIV/0!"}},{"$error":"#DIV/0!"},{"$error":"#DIV/0!"},{"$error":"#DIV/0!"},{"$error":"#DIV/0!"},{"$error":"#DIV/0!"},{"$error":"#DIV/0!"},{"$f":"MIN(AD860,$E860-AC860-AF860-IF(Invoer!$G$15<AE859,AB860,0))","v":{"$error":"#DIV/0!"}},{"$error":"#DIV/0!"},{"$error":"#DIV/0!"}]
[]
[null,null,"Berging blokmethode, maximale waterstand op straat [mm]",null,null,null,null,null,null,null,null,{"$f":"MAX(L776:L860)","v":{"$error":"#DIV/0!"}},null,null,null,null,null,null,{"$f":"MAX(S776:S860)","v":{"$error":"#DIV/0!"}},null,null,null,null,null,null,{"$f":"MAX(Z776:Z860)","v":{"$error":"#DIV/0!"}},null,null,null,null,null,null,{"$f":"MAX(AG776:AG860)","v":{"$error":"#DIV/0!"}}]
[null,null,"Berging blokmethode, maximale waterstand in de berging [mm]",null,null,null,null,null,null,null,null,{"$f":"MAX(J776:J860)","v":{"$error":"#DIV/0!"}},null,null,null,null,null,null,{"$f":"MAX(Q776:Q860)","v":{"$error":"#DIV/0!"}},null,null,null,null,null,null,{"$f":"MAX(X776:X860)","v":{"$error":"#DIV/0!"}},null,null,null,null,null,null,{"$f":"MAX(AE776:AE860)","v":{"$error":"#DIV/0!"}}]
[null,null,"Berging in de voorziening [mm neerslagoppervlak]",null,null,null,null,null,null,null,null,{"$f":"(Invoer!$D$14*Invoer!$D$21)/Invoer!Neerslag_oppervlak","v":{"$error":"#DIV/0!"}},null,null,null,null,null,null,{"$f":"(Invoer!$E$14*Invoer!$E$21)/Invoer!Neerslag_oppervlak","v":{"$error":"#DIV/0!"}},null,null,null,null,null,null,{"$f":"(Invoer!$F$14*Invoer!$F$21)/Invoer!Neerslag_oppervlak","v":{"$error":"#DIV/0!"}},null,null,null,null,null,null,{"$f":"(Invoer!$G$14*Invoer!$G$21)/Invoer!Neerslag_oppervlak","v":{"$error":"#DIV/0!"}}]
[null,null,"Afvoercapaciteit riool [l/s/ha neerslagoppervlak]",null,null,null,null,null,null,null,null,{"$f":"((Invoer!$D$11*Invoer!$D$21)/Invoer!Neerslag_oppervlak)*10000/60/60","v":{"$error":"#DIV/0!"}},null,null,null,null,null,null,{"$f":"((Invoer!$E$11*Invoer!$E$21)/Invoer!Neerslag_oppervlak)*10000/60/60","v":{"$error":"#DIV/0!"}},null,null,null,null,null,null,{"$f":"((Invoer!$F$11*Invoer!$F$21)/Invoer!Neerslag_oppervlak)*10000/60/60","v":{"$error":"#DIV/0!"}},null,null,null,null,null,null,{"$f":"((Invoer!$G$11*Invoer!$G$21)/Invoer!Neerslag_oppervlak)*10000/60/60","v":{"$error":"#DIV/0!"}}]
[null,null,"Infiltratiecapaciteit onverhard [mm/uur neerslagoppervlak]",null,null,null,null,null,null,null,null,{"$f":"(Invoer!$D$16*Invoer!$D$23)/Invoer!Neerslag_oppervlak","v":{"$error":"#DIV/0!"}},null,null,null,null,null,null,{"$f":"(Invoer!$E$16*Invoer!$E$23)/Invoer!Neerslag_oppervlak","v":{"$error":"#DIV/0!"}},null,null,null,null,null,null,{"$f":"(Invoer!$F$16*Invoer!$F$23)/Invoer!Neerslag_oppervlak","v":{"$error":"#DIV/0!"}},null,null,null,null,null,null,{"$f":"(Invoer!$G$16*Invoer!$G$23)/Invoer!Neerslag_oppervlak","v":{"$error":"#DIV/0!"}}]
[null,null,"Toename/Afname laatste kwartier",null,null,null,null,null,null,null,null,{"$f":"L851-L837","v":{"$error":"#DIV/0!"}},null,null,null,null,null,null,{"$f":"S851-S837","v":{"$error":"#DIV/0!"}},null,null,null,null,null,null,{"$f":"Z851-Z837","v":{"$error":"#DIV/0!"}},null,null,null,null,null,null,{"$f":"AG851-AG837","v":{"$error":"#DIV/0!"}}]
[null,null,"Afvoer vanuit berging voorziening, geen infiltratie [mm/uur neerslagoppervlak]",null,null,null,null,null,null,null,null,{"$f":"(Invoer!$D$12*Invoer!$D$21)/Invoer!Neerslag_oppervlak-L869","v":{"$error":"#DIV/0!"}},null,null,null,null,null,null,{"$f":"(Invoer!$E$12*Invoer!$E$21)/Invoer!Neerslag_oppervlak-S869","v":{"$error":"#DIV/0!"}},null,null,null,null,null,null,{"$f":"(Invoer!$F$12*Invoer!$F$21)/Invoer!Neerslag_oppervlak-Z869","v":{"$error":"#DIV/0!"}},null,null,null,null,null,null,{"$f":"(Invoer!$G$12*Invoer!$G$21)/Invoer!Neerslag_oppervlak-AG869","v":{"$error":"#DIV/0!"}}]
[null,null,"Infiltratiecapaciteit vanuit berging voorziening [mm/uur neerslagoppervlak]",null,null,null,null,null,null,null,null,{"$f":"(Invoer!$D$13*Invoer!$D$21)/Invoer!Neerslag_oppervlak","v":{"$error":"#DIV/0!"}},null,null,null,null,null,null,{"$f":"(Invoer!$E$13*Invoer!$E$21)/Invoer!Neerslag_oppervlak","v":{"$error":"#DIV/0!"}},null,null,null,null,null,null,{"$f":"(Invoer!$F$13*Invoer!$F$21)/Invoer!Neerslag_oppervlak","v":{"$error":"#DIV/0!"}},null,null,null,null,null,null,{"$f":"(Invoer!$G$13*Invoer!$G$21)/Invoer!Neerslag_oppervlak","v":{"$error":"#DIV/0!"}}]

{"sheet":"Klimaatscenario","index":6,"n_rows":113,"n_cols":132,"rows_kept":113,"cut":false,"hidden":false,"merged":[]}
[null,null,null,null,null,null,null,null,null,null,"Auteurs: M.M. Rouvoet BBE (Versie 1) & ing. A.J. Bruijns (Versie 2) & Msc. N. van der Lee (versie 3)"]
[null,null,"Achtergrondberekeningen",null,null,null,null,null,null,null,"Productiedatum:  versie 1, december 2016; Versie 2.9, november 2020, Versie 3.1, januari 2023"]
[null,null,null,null,null,null,null,null,null,null,null,null,null,null,null,null,null,null,null,null,null,null,null,null,null,null,null,null,null,null,null,null,null,null,null,null,null,null,null,null,null,null,null,null,null,null,null,null,null,null,null,null,null,null,null,null,null,null,null,null,null,null,null,null,null,null,null,null,null,null,null,null,null,null,null,"Werd gebruikt in de MKBA tool tot 2.9"]
[null,null,"invoer voor gekozen klimaat scenario, Achtergrondberekeningen verwijst hiernaar"]
[null,null,"Wanneer men de gekleurde vakken naar een ander scenario laat verwijzen, wordt de rest van de tabel dynamisch lineair geïnterpoleerd",null,null,null,null,null,null,null,null,null,null,null,null,null,null,null,null,null,null,null,null,null,null,null,null,null,null,null,null,null,null,null,null,null,null,null,null,null,null,null,null,null,null,null,null,null,null,null,null,null,null,null,"Komt uit de tool tot versie 2.9"]
["Duur [min]","Neerslag bui T=1 [mm]","Neerslag bui T=5 [mm]","Neerslag bui T=10 [mm]","Neerslag bui T=20 [mm]","Neerslag bui T=50 [mm]","Neerslag bui T=100 [mm]","Neerslag bui T=200 [mm]","Neerslag bui T=250 [mm]","Neerslag bui T=500 [mm]","Neerslag bui T=1000 [mm]","Neerslag bui T=2000 [mm]","Neerslag bui T=4000 [mm]","Neerslag bui T=10000 [mm]",null,null,null,"2050_upper",null,"KNMI 2019",null,"U kunt deze publicatie vinden op https://www.stowa.nl/publicaties/neerslagstatistiek-en-reeksen-voor-het-waterbeheer-2019",null,null,null,null,null,null,null,null,null,null,null,null,null,null,null,null,null,null,null,null,null,null,null,null,null,null,null,null,null,null,"Buishand nieuw",null,null,null,null,null,null,null,null,null,null,null,null,null,null,null,null,null,null,null,null,null,null,"Meteoconsult (Buishand * 1.4)"]
[0,0,0,0,0,0,0,0,0,0,0,0,0,0,null,null,"Duur (uur)",0.16666666666666666,0.5,1,2,4,8,12,24,48,96,192,216,null,null,null,null,null,null,null,null,null,null,null,null,null,null,null,null,null,null,null,null,null,null,null,"D minuten",5,10,15,30,60,120,null,null,null,null,null,null,null,null,null,null,null,null,null,null,null,null,"D minuten",5,10,15,30,60,120]
[1,{"$f":"B$17/10*$A8","v":1.2341652728236447},{"$f":"C$17/10*$A8","v":1.8268670974556087},{"$f":"D$17/10*$A8","v":2.1229538621055273},2.4620405207807456,2.9956389725938579,3.4792183118978963,4.046401560661371,4.2492498200338655,4.950913609405398,5.7756828827576348,6.5184536982017862,7.2816780587163423,8.2906057835829756,null,null,"Herhalingstijd (jaar)","Neerslagvolume (mm)",null,null,null,null,null,null,null,null,null,null,null,null,null,null,null,null,null,null,null,null,null,null,null,null,null,null,null,null,null,null,null,null,null,null,"T=0.5 jaar",4,5,6,8,10,13,null,null,null,null,null,null,null,null,null,null,null,null,null,null,null,null,"T=0.5 jaar",{"$f":"BB8*1.4","v":5.6},{"$f":"BC8*1.4","v":7},8.3999999999999986,11.2,14,18.2]
[2,{"$f":"B$17/10*$A9","v":2.4683305456472895},3.6537341949112174,4.2459077242110546,4.9240810415614913,5.9912779451877158,6.9584366237957926,8.092803121322742,8.4984996400677311,9.9018272188107961,11.55136576551527,13.036907396403572,14.563356117432685,16.581211567165951,null,null,0.5,9.7928834208959223,12.652068914161239,15.244476939909973,18.575843103319766,22.360286606927712,26.398649321233115,28.756304374507035,34.068799047714705,43.072255225808512,55.873142465887256,74.908139884135991,79.047907159379093,null,null,null,null,null,null,null,null,null,null,null,null,null,null,null,null,null,null,null,null,null,null,null,1,5,7,9,11,14,17,null,null,null,null,null,null,null,null,null,null,null,null,null,null,null,null,1,{"$f":"BB9*1.4","v":7},9.7999999999999989,12.6,15.399999999999999,19.599999999999998,23.799999999999997]
[3,3.7024958184709345,5.4806012923668259,6.3688615863165818,7.3861215623422369,8.9869169177815742,10.43765493569369,12.139204681984113,12.747749460101597,14.852740828216195,17.327048648272903,19.55536109460536,21.845034176149028,24.871817350748927,null,null,1,12.341652728236447,16.333466623282906,19.664783391447219,23.679909753629836,28.174120305785696,33.024720791912053,35.905401154734079,41.705836801494293,51.919470151272129,66.345523014958673,87.643475301428936,92.256081036205259,null,null,null,null,null,null,null,null,null,null,null,null,null,null,null,null,null,null,null,null,null,null,null,2,1,10,11,14,18,21,null,null,null,null,null,null,null,null,null,null,null,null,null,null,null,null,2,1.4,14,15.399999999999999,19.599999999999998,25.2,29.4]
[4,4.936661091294579,7.3074683898224349,8.4918154484221091,9.8481620831229826,11.982555890375432,13.916873247591585,16.185606242645484,16.996999280135462,19.803654437621592,23.102731531030539,26.073814792807145,29.126712234865369,33.162423134331902,null,null,2,14.807862635253235,20.105462943221767,24.282076600167898,29.045228936546369,34.247096154327281,39.816611872560955,43.112871499060859,50.096080798253446,61.398014825843795,77.20092419206118,100.31274007687357,105.29357528861961,null,null,null,null,null,null,null,null,null,null,null,null,null,null,null,null,null,null,null,null,null,null,null,5,9,13,15,19,23,26,null,null,null,null,null,null,null,null,null,null,null,null,null,null,null,null,5,12.6,18.2,21,26.599999999999998,32.199999999999996,36.4]
[5,6.1708263641182235,9.1343354872780438,10.614769310527636,12.310202603903729,14.978194862969289,17.396091559489481,20.232007803306857,21.246249100169329,24.754568047026989,28.878414413788175,32.59226849100893,36.408390293581711,41.453028917914878,null,null,5,18.268670974556088,25.682677430476495,31.230739109738288,37.166487786588299,43.383942774350892,49.853206079358067,53.594974062326521,62.479853193874149,74.98102024385777,92.171297578872512,116.97694732303009,122.28968796685511,null,null,null,null,null,null,null,null,null,null,null,null,null,null,null,null,null,null,null,null,null,null,null,10,11,15,18,23,27,31,null,null,null,null,null,null,null,null,null,null,null,null,null,null,null,null,10,15.399999999999999,21,25.2,32.199999999999996,37.799999999999997,43.4]
[6,7.4049916369418689,10.961202584733652,12.737723172633164,14.772243124684474,17.973833835563148,20.87530987138738,24.278409363968226,25.495498920203193,29.70548165643239,34.654097296545807,39.110722189210719,43.690068352298056,49.743634701497854,null,null,10,21.229538621055273,30.676573222641846,37.548875227777415,44.588040858770917,51.688809684850376,58.832206529717041,62.84008514266641,72.937815711466101,86.119624992578878,103.98829549123938,129.5268385544702,134.97641276019161,null,null,null,null,null,null,null,null,null,null,null,null,null,null,null,null,null,null,null,null,null,null,null,20,12,18,21,27,32,36,null,null,null,null,null,null,null,null,null,null,null,null,null,null,null,null,20,16.799999999999997,25.2,29.4,37.799999999999997,44.8,50.4]
[7,8.6391569097655125,12.788069682189262,14.860677034738691,17.234283645465219,20.969472808157004,24.354528183285275,28.324810924629595,29.744748740237057,34.656395265837787,40.429780179303442,45.629175887412501,50.971746411014394,58.034240485080829,null,null,20,24.620405207807455,36.611938516487811,45.152789869911921,53.556675835406821,61.680953988085847,69.496402289185113,73.693477556949375,84.44084339512078,98.06324489865024,116.24897379813123,142.03202946829032,147.52202269526734,null,null,null,null,null,null,null,null,null,null,null,null,null,null,null,null,null,null,null,null,null,null,null,50,15,21,26,32,38,42,null,null,null,null,null,null,null,null,null,null,null,null,null,null,null,null,50,21,29.4,36.4,44.8,53.199999999999996,58.8]
[8,9.8733221825891579,14.61493677964487,16.983630896844218,19.696324166245965,23.965111780750863,27.833746495183171,32.371212485290968,33.993998560270924,39.607308875243184,46.205463062061078,52.14762958561429,58.253424469730739,66.324846268663805,null,null,25,25.822197141558945,38.765640928804352,47.933886051491882,56.845433683933713,65.334937071727637,73.364452690075993,77.601407948624441,88.383503838112006,102.08917180720191,120.29336988998573,146.04864826266751,151.53139985677819,null,null,null,null,null,null,null,null,null,null,null,null,null,null,null,null,null,null,null,null,null,null,null,100,17,25,29,37,43,48,null,null,null,null,null,null,null,null,null,null,null,null,null,null,null,null,100,23.799999999999997,35,40.599999999999994,51.8,60.199999999999996,67.199999999999989]
[9,11.107487455412803,16.44180387710048,19.106584758949744,22.158364687026712,26.960750753344723,31.312964807081066,36.417614045952341,38.243248380304792,44.558222484648581,51.981145944818714,58.666083283816079,65.535102528447084,74.615452052246781,null,null,50,29.956389725938578,46.355442601075531,57.815078577530706,68.561708479169198,78.315502695566607,86.990840045914723,91.265434189239315,101.43200883446342,115.18853575246217,133.16801958791513,158.49778018472449,163.89588038182305,null,null,null,null,null,null,null,null,null,null,null,null,null,null,null,null,null,null,null,null,null,null,null,200,{"$f":"NA()","v":{"$error":"#N/A"}},28,33,42,49,54,null,null,null,null,null,null,null,null,null,null,null,null,null,null,null,null,200,{"$error":"#N/A"},39.199999999999996,46.199999999999996,58.8,68.599999999999994,75.599999999999994]
[10,{"$f":"T24","v":12.341652728236447},{"$f":"V24","v":18.268670974556088},{"$f":"W24","v":21.229538621055273},24.620405207807455,{"$f":"Z24","v":29.956389725938578},{"$f":"AA24","v":34.792183118978961},{"$f":"AB24","v":40.464015606613707},42.492498200338659,49.509136094053979,57.756828827576349,65.18453698201786,72.816780587163422,82.906057835829756,null,null,100,34.792183118978961,55.554856089954662,69.936567308168208,82.991042535911788,94.235813524522797,103.49944005016168,107.63874358429851,115.78712771987342,129.23674141755239,146.52838711240267,170.90603668420832,176.1265347494284,null,null,null,null,null,null,null,null,null,null,null,null,null,null,null,null,null,null,null,null,null,null,null,250,{"$f":"NA()","v":{"$error":"#N/A"}},29,34,43,51,56,null,null,null,null,null,null,null,null,null,null,null,null,null,null,null,null,250,{"$error":"#N/A"},40.599999999999994,47.599999999999994,60.199999999999996,71.399999999999991,78.399999999999991]
[11,{"$f":"(B$37-B$17)/($A$37-$A$17)*($A18-$A$17)+B$17","v":12.541243422988771},{"$f":"(C$37-C$17)/($A$37-$A$17)*($A18-$A$17)+C$17","v":18.639371297352106},{"$f":"(D$37-D$17)/($A$37-$A$17)*($A18-$A$17)+D$17","v":21.701890351134601},25.219981873241473,30.776342369695428,35.830316767527748,41.777487012155042,43.909066171676827,51.299347260212201,60.016786179320107,67.849995993280288,75.903915685719497,86.550618401121469,null,null,200,40.464015606613707,66.733443717440466,84.8429474457472,98.622226843854094,107.20396225885649,114.1239445813188,117.2000888060858,131.58026616450084,144.30300676546281,160.39335474848656,183.27434215964439,188.2256433744765,null,null,null,null,null,null,null,null,null,null,null,null,null,null,null,null,null,null,null,null,null,null,null,500,{"$f":"NA()","v":{"$error":"#N/A"}},32,39,49,57,62,null,null,null,null,null,null,null,null,null,null,null,null,null,null,null,null,500,{"$error":"#N/A"},44.8,54.599999999999994,68.599999999999994,79.8,86.8]
[12,{"$f":"(B$37-B$17)/($A$37-$A$17)*($A19-$A$17)+B$17","v":12.740834117741093},19.010071620148128,22.174242081213929,25.819558538675491,31.596295013452274,36.868450416076534,43.090958417696385,45.325634143014994,53.089558426370424,62.276743531063865,70.515455004542716,78.991050784275558,90.195178966413181,null,null,250,42.492498200338659,70.823857627101987,90.339580048353838,104.89623221697039,113.49727073768152,120.18318072993542,123.01112054489836,136.99390696005486,149.38195164858192,164.96743749258616,187.24766636134532,192.09303258983201,null,null,null,null,null,null,null,null,null,null,null,null,null,null,null,null,null,null,null,null,null,null,null,1000,{"$f":"NA()","v":{"$error":"#N/A"}},36,43,54,64,69,null,null,null,null,null,null,null,null,null,null,null,null,null,null,null,null,1000,{"$error":"#N/A"},50.4,60.199999999999996,75.599999999999994,89.6,96.6]
[13,12.940424812493415,19.380771942944151,22.646593811293258,26.419135204109509,32.416247657209119,37.906584064625314,44.40442982323772,46.742202114353162,54.879769592528646,64.536700882807622,73.180914015805143,82.078185882831633,93.839739531704893,null,null,500,49.509136094053979,85.313359417218436,109.96771373782731,127.26525057919896,135.70205703494113,141.28858770602929,143.07728571651427,154.91200920430677,165.90865928817391,179.52944753485241,199.56420760617121,204.02130044548431,null,null,null,null,null,null,null,null,null,null,null,null,null,null,null,null,null,null,null,null,null,null,null,null,"T=",null,null,null,null,null,null,null,null,null,null,null,"extrapolaties oude MKBA tool",null,null,null,null,null,null,null,null,null,null,"T=0.5 jaar",null,null,null,null,null,null,null,null,null,null,null,"extrapolaties oude MKBA tool"]
[14,13.140015507245739,19.751472265740169,23.118945541372586,27.018711869543527,33.236200300965969,38.9447177131741,45.717901228779056,48.158770085691323,56.669980758686869,66.796658234551387,75.846373027067557,85.165320981387694,97.484300096996606,null,null,1000,57.756828827576349,102.95597586245152,134.15327070846018,154.76438739993822,162.58120488572479,166.35454206522229,166.60473846879393,174.62581611168687,183.63377174548086,194.64229206444,211.8421984764048,215.82241425473083,null,null,null,null,null,null,null,null,null,null,null,null,null,null,null,null,null,null,null,null,null,null,null,"D minuten",0.5,1,2,5,10,20,50,100,200,250,500,1000,2000,4000,10000,null,null,null,null,null,null,null,"D minuten",0.5,1,2,5,10,20,50,100,200,250,500,1000,2000,4000,10000]
[15,13.339606201998063,20.122172588536188,23.591297271451914,27.618288534977545,34.056152944722818,39.982851361722886,47.031372634320398,49.575338057029491,58.460191924845091,69.056615586295138,78.511832038329985,88.252456079943769,101.1288606622883,null,null,null,null,null,null,null,null,null,null,null,null,null,null,null,null,null,"extrapolaties",null,null,null,null,null,null,null,null,null,null,null,null,null,null,null,null,null,null,null,null,5,4,5,1,9,11,12,15,17,{"$f":"NA()","v":{"$error":"#N/A"}},{"$f":"NA()","v":{"$error":"#N/A"}},{"$f":"NA()","v":{"$error":"#N/A"}},{"$f":"NA()","v":{"$error":"#N/A"}},19.98,21.978000000000005,23.956020000000009,null,null,null,null,null,null,null,5,{"$f":"BB22*1.4","v":5.6},{"$f":"BC22*1.4","v":7},1.4,12.6,15.399999999999999,16.799999999999997,21,23.799999999999997,{"$error":"#N/A"},{"$error":"#N/A"},{"$error":"#N/A"},{"$error":"#N/A"},27.972000000000001,30.769200000000005,33.53842800000001]
[16,13.539196896750385,20.49287291133221,24.063649001531246,28.217865200411563,34.87610558847966,41.020985010271673,48.344844039861734,50.991906028367659,60.250403091003321,71.316572938038902,81.177291049592412,91.33959117849983,104.77342122758003,null,null,"Duur (uur)","Herhalingstijd (jaar)",0.5,1,2,5,10,20,25,50,100,200,250,500,1000,2000,4000,10000,null,null,null,null,null,null,null,null,null,null,null,null,null,null,null,null,null,null,10,5,7,10,13,15,18,21,25,28,29,32,36,39.96,43.95600000000001,47.912040000000019,null,null,null,null,null,null,null,10,{"$f":"BB23*1.4","v":7},9.7999999999999989,14,18.2,21,25.2,29.4,35,39.199999999999996,40.599999999999994,44.8,50.4,55.944000000000003,61.53840000000001,67.076856000000021]
[17,13.738787591502707,20.863573234128232,24.536000731610574,28.817441865845581,35.69605823223651,42.059118658820459,49.658315445403076,52.408473999705826,62.040614257161536,73.576530289782653,83.84275006085484,94.426726277055906,108.41798179287173,null,null,0.16666666666666666,"Neerslagvolume (mm)",9.7928834208959223,12.341652728236447,14.807862635253235,18.268670974556088,21.229538621055273,24.620405207807455,25.822197141558945,29.956389725938578,34.792183118978961,40.464015606613707,42.492498200338659,49.509136094053979,57.756828827576349,{"$f":"11.011*LN(AF23) - 18.509","v":65.18453698201786},{"$f":"11.011*LN(AG23) - 18.509","v":72.816780587163422},82.906057835829756,null,null,null,null,null,null,null,null,null,null,null,null,null,null,null,null,null,null,15,6,9,11,15,18,21,26,29,33,34,39,43,47.730000000000004,52.503000000000014,57.228270000000016,null,null,null,null,null,null,null,15,8.3999999999999986,12.6,15.399999999999999,21,25.2,29.4,36.4,40.599999999999994,46.199999999999996,47.599999999999994,54.599999999999994,60.199999999999996,66.822000000000003,73.504200000000012,80.119578000000018]
[18,13.938378286255031,21.234273556924251,25.008352461689903,{"$f":"(E$37-E$17)/($A$37-$A$17)*($A25-$A$17)+E$17","v":29.417018531279595},{"$f":"(F$37-F$17)/($A$37-$A$17)*($A25-$A$17)+F$17","v":36.516010875993359},43.097252307369246,50.971786850944412,53.825041971043987,63.830825423319766,75.836487641526418,86.508209072117268,97.513861375611981,112.06254235816344,null,null,0.5,null,12.652068914161239,16.333466623282906,20.105462943221767,25.682677430476495,30.676573222641846,36.611938516487811,38.765640928804352,46.355442601075531,55.554856089954662,66.733443717440466,70.823857627101987,85.313359417218436,102.95597586245152,{"$f":"23.178*LN(AF23) - 57.68","v":118.49371720726637},{"$f":"23.178*LN(AG23) - 57.68","v":134.5594825582848},155.79726914166397,null,null,null,null,null,null,null,null,null,null,null,null,null,null,null,null,null,null,30,8,11,14,19,23,27,32,37,42,43,49,54,59.940000000000005,65.934000000000012,71.868060000000014,null,null,null,null,null,null,null,30,11.2,15.399999999999999,19.599999999999998,26.599999999999998,32.199999999999996,37.799999999999997,44.8,51.8,58.8,60.199999999999996,68.599999999999994,75.599999999999994,83.915999999999997,92.307600000000008,100.61528400000002]
[19,14.137968981007354,21.604973879720269,25.480704191769231,30.016595196713617,37.335963519750209,44.135385955918025,52.285258256485747,55.241609942382155,65.621036589477981,78.096444993270183,89.173668083379681,100.60099647416804,115.70710292345515,null,null,1,null,15.244476939909973,19.664783391447219,24.282076600167898,31.230739109738288,37.548875227777415,45.152789869911921,47.933886051491882,57.815078577530706,69.936567308168208,84.8429474457472,90.339580048353838,109.96771373782731,134.15327070846018,{"$f":"31.605*LN(AF23) - 84.925","v":155.30152223382754},{"$f":"31.605*LN(AG23) - 84.925","v":177.20843887542458},206.16780745630729,null,null,null,null,null,null,null,null,null,null,null,null,null,null,null,null,null,null,60,10,14,18,23,27,32,38,43,49,51,57,64,71.040000000000006,78.14400000000002,85.176960000000022,null,null,null,null,null,null,null,60,14,19.599999999999998,25.2,32.199999999999996,37.799999999999997,44.8,53.199999999999996,60.199999999999996,68.599999999999994,71.399999999999991,79.8,89.6,99.456000000000003,109.40160000000002,119.24774400000003]
[20,14.337559675759676,21.975674202516291,25.953055921848559,30.616171862147631,38.155916163507058,45.173519604466811,53.598729662027083,56.658177913720323,67.411247755636211,80.356402345013933,91.839127094642123,103.6881315727241,119.35166348874687,null,null,2,null,18.575843103319766,23.679909753629836,29.045228936546369,37.166487786588299,44.588040858770917,53.556675835406821,56.845433683933713,68.561708479169198,82.991042535911788,98.622226843854094,104.89623221697039,127.26525057919896,154.76438739993822,{"$f":"35.972*LN(AF23) - 94.578","v":178.8416632746478},{"$f":"35.972*LN(AG23) - 94.578","v":203.77555365375017},236.73636386072727,null,null,null,null,null,null,null,null,null,null,null,null,null,null,null,null,null,null,120,13,17,21,26,31,36,42,48,54,56,62,69,null,null,null,null,null,null,null,null,null,null,120,18.2,23.799999999999997,29.4,36.4,43.4,50.4,58.8,67.199999999999989,75.599999999999994,78.399999999999991,86.8,96.6]
[21,14.537150370511998,22.346374525312314,26.425407651927888,31.215748527581649,38.9758688072639,46.211653253015598,54.912201067568425,58.074745885058491,69.201458921794426,82.616359696757698,94.504586105904536,106.77526667128018,122.99622405403858,null,null,4,null,22.360286606927712,28.174120305785696,34.247096154327281,43.383942774350892,51.688809684850376,61.680953988085847,65.334937071727637,78.315502695566607,94.235813524522797,107.20396225885649,113.49727073768152,135.70205703494113,162.58120488572479]
[22,14.736741065264322,22.717074848108332,26.897759382007216,31.815325193015667,39.79582145102075,47.249786901564384,56.225672473109761,59.491313856396658,70.991670087952656,84.876317048501448,97.170045117166964,109.86240176983625,126.64078461933029,null,null,8,null,26.398649321233115,33.024720791912053,39.816611872560955,49.853206079358067,58.832206529717041,69.496402289185113,73.364452690075993,86.990840045914723,103.49944005016168,114.1239445813188,120.18318072993542,141.28858770602929,166.35454206522229,null,null,null,null,null,null,null,null,null,null,null,null,null,null,null,null,null,null,null,null,null,null,null,null,null,null,null,null,null,null,null,null,null,null,null,null,null,null,null,null,null,null,null,null,null,null,null,null,null,null,null,null,null,null,"slechts de laatste drie meenemen lijkt het meest op de oude interpolatiemethode"]
[23,14.936331760016646,23.087775170904351,27.370111112086544,32.414901858449689,40.615774094777599,48.287920550113171,57.539143878651103,60.907881827734826,72.781881254110885,87.136274400245213,99.835504128429392,112.94953686839233,130.285345184622,null,null,12,null,28.756304374507035,35.905401154734079,43.112871499060859,53.594974062326521,62.84008514266641,73.693477556949375,77.601407948624441,91.265434189239315,107.63874358429851,117.2000888060858,123.01112054489836,143.07728571651427,166.60473846879393]
[24,15.135922454768968,23.458475493700373,27.842462842165872,33.014478523883703,41.435726738534441,49.32605419866195,58.852615284192439,62.324449799072994,74.572092420269101,89.396231751988978,102.50096313969182,116.03667196694839,133.9299057499137,null,null,24,null,34.068799047714705,41.705836801494293,50.096080798253446,62.479853193874149,72.937815711466101,84.44084339512078,88.383503838112006,101.43200883446342,115.78712771987342,131.58026616450084,136.99390696005486,154.91200920430677,174.62581611168687]
[25,15.33551314952129,23.829175816496395,28.314814572245204,33.614055189317725,42.255679382291291,50.364187847210736,60.166086689733774,63.741017770411155,76.362303586427316,91.656189103732729,105.16642215095425,119.12380706550445,137.57446631520543,null,null,48,null,43.072255225808512,51.919470151272129,61.398014825843795,74.98102024385777,86.119624992578878,98.06324489865024,102.08917180720191,115.18853575246217,129.23674141755239,144.30300676546281,149.38195164858192,165.90865928817391,183.63377174548086]
[26,15.535103844273614,24.199876139292414,28.787166302324529,34.213631854751739,43.07563202604814,51.402321495759523,61.47955809527511,65.15758574174933,78.152514752585546,93.916146455476479,107.83188116221666,122.21094216406053,141.21902688049713,null,null,96,null,55.873142465887256,66.345523014958673,77.20092419206118,92.171297578872512,103.98829549123938,116.24897379813123,120.29336988998573,133.16801958791513,146.52838711240267,160.39335474848656,164.96743749258616,179.52944753485241,194.64229206444]
[27,15.734694539025938,24.570576462088432,29.259518032403861,34.813208520185754,43.89558466980499,52.440455144308309,62.793029500816452,66.574153713087497,79.942725918743776,96.176103807220244,110.4973401734791,125.2980772626166,144.86358744578885,null,null,192,null,74.908139884135991,87.643475301428936,100.31274007687357,116.97694732303009,129.5268385544702,142.03202946829032,146.04864826266751,158.49778018472449,170.90603668420832,183.27434215964439,187.24766636134532,199.56420760617121,211.8421984764048]
[28,15.93428523377826,24.941276784884455,29.731869762483186,35.412785185619775,44.715537313561839,53.478588792857096,64.10650090635778,67.990721684425651,81.732937084901991,98.436061158964009,113.16279918474152,128.38521236117265,148.50814801108055,null,null,216,null,79.047907159379093,92.256081036205259,105.29357528861961,122.28968796685511,134.97641276019161,147.52202269526734,151.53139985677819,163.89588038182305,176.1265347494284,188.2256433744765,192.09303258983201,204.02130044548431,215.82241425473083]
[29,16.133875928530582,25.311977107680477,30.204221492562517,36.012361851053797,45.535489957318681,54.516722441405875,65.41997231189913,69.407289655763819,83.523148251060206,100.69601851070776,115.82825819600394,131.47234745972872,152.15270857637228,null,"Duur [min]",null,"Neerslag bui T=5 [mm]","Buishand Nieuw (2006)","2050 upper",null,null,null,null,null,null,null,null,"Neerslag bui T=10 [mm]","Buishand Nieuw (2006)","2050 upper",null,null,null,null,null,null,null,null,"Neerslag bui T=20 [mm]","Buishand Nieuw (2006)","2050 upper",null,null,null,null,null,null,null,"Neerslag bui T=50 [mm]","Buishand Nieuw (2006)","2050 upper",null,null,null,null,null,null,null,"Neerslag bui T=100 [mm]","Buishand Nieuw (2006)","2050 upper",null,null,null,null,null,null,null,"Neerslag bui T=200 [mm]","Buishand Nieuw (2006)","2050 upper",null,null,null,null,null,null,null,"Neerslag bui T=250 [mm]","Buishand Nieuw (2006)","2050 upper",null,null,null,null,null,null,null,"Neerslag bui T=500 [mm]","Buishand Nieuw (2006)","2050 upper",null,null,null,null,null,null,null,"Neerslag bui T=1000 [mm]","Buishand Nieuw (2006)","2050 upper",null,null,null,null,null,null,null,"Neerslag bui T=2000 [mm]","Buishand Nieuw (2006)","2050 upper",null,null,null,null,null,null,null,"Neerslag bui T=4000 [mm]","Buishand Nieuw (2006)","2050 upper",null,null,null,null,null,null,null,"Neerslag bui T=10000 [mm]","Buishand Nieuw (2006)","2050 upper"]
[30,{"$f":"T25","v":16.333466623282906},{"$f":"V25","v":25.682677430476495},{"$f":"W25","v":30.676573222641846},36.611938516487811,{"$f":"Z25","v":46.355442601075531},{"$f":"AA25","v":55.554856089954662},66.733443717440466,70.823857627101987,85.313359417218436,102.95597586245152,118.49371720726637,134.5594825582848,155.79726914166397,null,0,null,0,{"$f":"R37/1.4","v":0},null,null,null,null,null,null,null,null,null,0,{"$f":"AC37/1.4","v":0},null,null,null,null,null,null,null,null,null,0,{"$f":"AN37/1.4","v":0},null,null,null,null,null,null,null,null,0,{"$f":"AX37/1.4","v":0},null,null,null,null,null,null,null,null,0,{"$f":"BH37/1.4","v":0},null,null,null,null,null,null,null,null,0,{"$f":"BR37/1.4","v":0},null,null,null,null,null,null,null,null,0,{"$f":"CB37/1.4","v":0},null,null,null,null,null,null,null,null,0,{"$f":"CL37/1.4","v":0},null,null,null,null,null,null,null,null,0,{"$f":"CV37/1.4","v":0},null,null,null,null,null,null,null,null,0,{"$f":"DF37/1.4","v":0},null,null,null,null,null,null,null,null,0,{"$f":"DP37/1.4","v":0},null,null,null,null,null,null,null,null,0,{"$f":"DZ37/1.4","v":0}]
[31,{"$f":"(B$67-B$37)/($A$67-$A$37)*($A38-$A$37)+B$37","v":16.444510515555049},{"$f":"(C$67-C$37)/($A$67-$A$37)*($A38-$A$37)+C$37","v":25.867612819785222},{"$f":"(D$67-D$37)/($A$67-$A$37)*($A38-$A$37)+D$37","v":30.905649956146366},36.896633561601945,46.73743046695737,56.034246463895116,67.337093841717362,71.47438170781038,86.135171227905403,103.99588569065182,119.72064404148507,135.98111443552278,157.47628708548541,null,1,null,2.52,{"$f":"R38/1.4","v":1.8},null,null,null,null,null,null,null,null,null,3.0799999999999996,{"$f":"AC38/1.4","v":2.1999999999999997},null,null,null,null,null,null,null,null,null,3.3599999999999994,{"$f":"AN38/1.4","v":2.4},null,null,null,null,null,null,null,null,4.2,{"$f":"AX38/1.4","v":3.0000000000000004},null,null,null,null,null,null,null,null,4.76,{"$f":"BH38/1.4","v":3.4},null,null,null,null,null,null,null,null,3.9199999999999995,{"$f":"BR38/1.4","v":2.8},null,null,null,null,null,null,null,null,4.0599999999999996,{"$f":"CB38/1.4","v":2.9},null,null,null,null,null,null,null,null,4.4799999999999995,{"$f":"CL38/1.4","v":3.1999999999999997},null,null,null,null,null,null,null,null,5.04,{"$f":"CV38/1.4","v":3.6},null,null,null,null,null,null,null,null,5.5944000000000003,{"$f":"DF38/1.4","v":3.9960000000000004},null,null,null,null,null,null,null,null,6.1538400000000006,{"$f":"DP38/1.4","v":4.3956000000000008},null,null,null,null,null,null,null,null,6.7076856000000022,{"$f":"DZ38/1.4","v":4.7912040000000022}]
[32,{"$f":"(B$67-B$37)/($A$67-$A$37)*($A39-$A$37)+B$37","v":16.555554407827195},26.052548209093949,31.134726689650883,37.181328606716086,47.11941833283921,56.513636837835563,67.940743965994244,72.124905788518774,86.956983038592355,105.0357955188521,120.94757087570379,137.4027463127608,159.15530502930687,null,2,null,5.04,3.6,null,null,null,null,null,null,null,null,null,6.1599999999999993,4.3999999999999995,null,null,null,null,null,null,null,null,null,6.7199999999999989,4.8,null,null,null,null,null,null,null,null,8.4,6.0000000000000009,null,null,null,null,null,null,null,null,9.52,6.8,null,null,null,null,null,null,null,null,7.839999999999999,5.6,null,null,null,null,null,null,null,null,8.1199999999999992,5.8,null,null,null,null,null,null,null,null,8.9599999999999991,6.3999999999999995,null,null,null,null,null,null,null,null,10.08,7.2,null,null,null,null,null,null,null,null,11.188800000000001,7.9920000000000009,null,null,null,null,null,null,null,null,12.307680000000001,8.7912000000000017,null,null,null,null,null,null,null,null,13.415371200000004,9.5824080000000045]
[33,16.666598300099338,26.237483598402676,31.363803423155403,37.46602365183022,47.50140619872105,56.993027211776017,68.54439409027114,72.775429869227168,87.778794849279322,106.07570534705239,122.17449770992249,138.82437818999878,160.83432297312831,null,3,null,7.5600000000000005,5.4,null,null,null,null,null,null,null,null,null,9.2399999999999984,6.6,null,null,null,null,null,null,null,null,null,10.079999999999998,7.1999999999999993,null,null,null,null,null,null,null,null,12.600000000000001,9.0000000000000018,null,null,null,null,null,null,null,null,14.28,10.200000000000001,null,null,null,null,null,null,null,null,11.759999999999998,8.3999999999999986,null,null,null,null,null,null,null,null,12.18,8.7000000000000011,null,null,null,null,null,null,null,null,13.439999999999998,9.6,null,null,null,null,null,null,null,null,15.120000000000001,10.8,null,null,null,null,null,null,null,null,16.783200000000001,11.988000000000001,null,null,null,null,null,null,null,null,18.46152,13.186800000000002,null,null,null,null,null,null,null,null,20.123056800000008,14.373612000000007]
[34,16.777642192371481,26.422418987711399,31.592880156659923,37.750718696944361,47.883394064602889,57.472417585716471,69.148044214548037,73.425953949935561,88.600606659966289,107.11561517525269,123.40142454414119,140.24601006723677,162.51334091694974,null,4,null,10.08,7.2,null,null,null,null,null,null,null,null,null,12.319999999999999,8.7999999999999989,null,null,null,null,null,null,null,null,null,13.439999999999998,9.6,null,null,null,null,null,null,null,null,16.8,12.000000000000002,null,null,null,null,null,null,null,null,19.04,13.6,null,null,null,null,null,null,null,null,15.679999999999998,11.2,null,null,null,null,null,null,null,null,16.239999999999998,11.6,null,null,null,null,null,null,null,null,17.919999999999998,12.799999999999999,null,null,null,null,null,null,null,null,20.16,14.4,null,null,null,null,null,null,null,null,22.377600000000001,15.984000000000002,null,null,null,null,null,null,null,null,24.615360000000003,17.582400000000003,null,null,null,null,null,null,null,null,26.830742400000009,19.164816000000009]
[35,16.888686084643624,26.607354377020126,31.82195689016444,38.035413742058495,48.265381930484729,57.951807959656918,69.751694338824919,74.076478030643955,89.422418470653241,108.15552500345296,124.62835137835989,141.66764194447475,164.19235886077121,null,5,null,12.6,9,null,null,null,null,null,null,null,null,null,15.399999999999999,11,null,null,null,null,null,null,null,null,null,16.799999999999997,11.999999999999998,null,null,null,null,null,null,null,null,21,15.000000000000002,null,null,null,null,null,null,null,null,23.799999999999997,17,null,null,null,null,null,null,null,null,19.599999999999998,14,null,null,null,null,null,null,null,null,20.299999999999997,14.499999999999998,null,null,null,null,null,null,null,null,22.4,16,null,null,null,null,null,null,null,null,25.2,18,null,null,null,null,null,null,null,null,27.972000000000001,19.98,null,null,null,null,null,null,null,null,30.769200000000005,21.978000000000005,null,null,null,null,null,null,null,null,33.53842800000001,23.956020000000009]
[36,16.99972997691577,26.792289766328853,32.051033623668957,38.320108787172636,48.647369796366569,58.431198333597372,70.355344463101815,74.727002111352363,90.244230281340208,109.19543483165326,125.85527821257861,143.08927382171277,165.87137680459264,null,6,null,13.719999999999999,9.7999999999999989,null,null,null,null,null,null,null,null,null,16.52,11.8,null,null,null,null,null,null,null,null,null,18.479999999999997,13.2,null,null,null,null,null,null,null,null,22.68,16.2,null,null,null,null,null,null,null,null,26.04,18.600000000000001,null,null,null,null,null,null,null,null,23.519999999999996,16.799999999999997,null,null,null,null,null,null,null,null,24.359999999999996,17.399999999999999,null,null,null,null,null,null,null,null,26.88,19.2,null,null,null,null,null,null,null,null,30.24,21.6,null,null,null,null,null,null,null,null,33.566400000000002,23.976000000000003,null,null,null,null,null,null,null,null,36.923040000000007,26.373600000000007,null,null,null,null,null,null,null,null,40.246113600000015,28.747224000000013]
[37,17.110773869187913,26.97722515563758,32.280110357173477,38.60480383228677,49.029357662248401,58.910588707537819,70.958994587378697,75.377526192060756,91.066042092027175,110.23534465985355,127.08220504679731,144.51090569895075,167.55039474841408,null,7,null,14.839999999999998,10.6,null,null,null,null,null,null,null,null,null,17.64,12.600000000000001,null,null,null,null,null,null,null,null,null,20.159999999999997,14.399999999999999,null,null,null,null,null,null,null,null,24.36,17.400000000000002,null,null,null,null,null,null,null,null,28.28,20.200000000000003,null,null,null,null,null,null,null,null,27.439999999999994,19.599999999999998,null,null,null,null,null,null,null,null,28.419999999999995,20.299999999999997,null,null,null,null,null,null,null,null,31.36,22.400000000000002,null,null,null,null,null,null,null,null,35.28,25.200000000000003,null,null,null,null,null,null,null,null,39.160800000000002,27.972000000000001,null,null,null,null,null,null,null,null,43.07688000000001,30.769200000000009,null,null,null,null,null,null,null,null,46.95379920000002,33.538428000000017]
[38,17.221817761460056,27.162160544946307,32.509187090677997,38.889498877400904,49.411345528130241,59.389979081478273,71.562644711655594,76.02805027276915,91.887853902714141,111.27525448805383,128.30913188101601,145.93253757618874,169.22941269223551,null,8,null,15.959999999999997,11.399999999999999,null,null,null,null,null,null,null,null,null,18.760000000000002,13.400000000000002,null,null,null,null,null,null,null,null,null,21.839999999999996,15.599999999999998,null,null,null,null,null,null,null,null,26.04,18.600000000000001,null,null,null,null,null,null,null,null,30.520000000000003,21.800000000000004,null,null,null,null,null,null,null,null,31.359999999999992,22.399999999999995,null,null,null,null,null,null,null,null,32.479999999999997,23.2,null,null,null,null,null,null,null,null,35.839999999999996,25.599999999999998,null,null,null,null,null,null,null,null,40.32,28.8,null,null,null,null,null,null,null,null,44.755200000000002,31.968000000000004,null,null,null,null,null,null,null,null,49.230720000000012,35.164800000000014,null,null,null,null,null,null,null,null,53.661484800000025,38.329632000000018]
[39,17.332861653732198,27.347095934255034,32.738263824182518,39.174193922515045,49.79333339401208,59.869369455418727,72.16629483593249,76.678574353477543,92.709665713401094,112.31516431625413,129.53605871523473,147.35416945342672,170.90843063605698,null,9,null,17.079999999999998,12.2,null,null,null,null,null,null,null,null,null,19.880000000000003,14.200000000000003,null,null,null,null,null,null,null,null,null,23.519999999999996,16.799999999999997,null,null,null,null,null,null,null,null,27.72,19.8,null,null,null,null,null,null,null,null,32.760000000000005,23.400000000000006,null,null,null,null,null,null,null,null,35.279999999999994,25.199999999999996,null,null,null,null,null,null,null,null,36.54,26.1,null,null,null,null,null,null,null,null,40.319999999999993,28.799999999999997,null,null,null,null,null,null,null,null,45.36,32.4,null,null,null,null,null,null,null,null,50.349600000000002,35.964000000000006,null,null,null,null,null,null,null,null,55.384560000000015,39.560400000000016,null,null,null,null,null,null,null,null,60.36917040000003,43.120836000000025]
[40,17.443905546004345,27.532031323563761,32.967340557687038,39.458888967629179,50.17532125989392,60.348759829359174,72.769944960209372,77.329098434185937,93.531477524088061,113.35507414445441,130.76298554945342,148.77580133066473,172.58744857987841,null,10,null,18.2,13,18.268670974556088,null,null,null,null,null,null,null,null,21,15.000000000000002,21.229538621055273,null,null,null,null,null,null,null,null,25.2,18,24.620405207807455,null,null,null,null,null,null,null,29.4,21,29.956389725938578,null,null,null,null,null,null,null,35,25,34.792183118978961,null,null,null,null,null,null,null,39.199999999999996,28,40.464015606613707,null,null,null,null,null,null,null,40.599999999999994,28.999999999999996,42.492498200338659,null,null,null,null,null,null,null,44.8,32,49.509136094053979,null,null,null,null,null,null,null,50.4,36,57.756828827576349,null,null,null,null,null,null,null,55.944000000000003,39.96,null,null,null,null,null,null,null,null,61.53840000000001,43.95600000000001,null,null,null,null,null,null,null,null,67.076856000000021,47.912040000000019]
[41,17.554949438276488,27.716966712872484,33.196417291191551,39.74358401274332,50.55730912577576,60.828150203299629,73.373595084486269,77.979622514894331,94.353289334775027,114.3949839726547,131.98991238367213,150.19743320790272,174.26646652369985,null,11,null,18.759999999999998,13.399999999999999,null,null,null,null,null,null,null,null,null,21.84,15.600000000000001,null,null,null,null,null,null,null,null,null,26.04,18.600000000000001,null,null,null,null,null,null,null,null,30.799999999999997,22,null,null,null,null,null,null,null,null,36.119999999999997,25.8,null,null,null,null,null,null,null,null,40.599999999999994,28.999999999999996,null,null,null,null,null,null,null,null,41.999999999999993,29.999999999999996,null,null,null,null,null,null,null,null,46.76,33.4,null,null,null,null,null,null,null,null,52.36,37.4,null,null,null,null,null,null,null,null,58.119600000000005,41.51400000000001,null,null,null,null,null,null,null,null,63.931560000000012,45.665400000000012,null,null,null,null,null,null,null,null,69.68540040000002,49.775286000000015]
[42,17.665993330548631,27.901902102181211,33.425494024696071,40.028279057857453,50.939296991657599,61.307540577240083,73.977245208763165,78.630146595602724,95.17510114546198,115.43489380085499,133.21683921789085,151.6190650851407,175.94548446752128,null,12,null,19.319999999999997,13.799999999999999,null,null,null,null,null,null,null,null,null,22.68,16.2,null,null,null,null,null,null,null,null,null,26.88,19.2,null,null,null,null,null,null,null,null,32.199999999999996,23,null,null,null,null,null,null,null,null,37.239999999999995,26.599999999999998,null,null,null,null,null,null,null,null,41.999999999999993,29.999999999999996,null,null,null,null,null,null,null,null,43.399999999999991,30.999999999999996,null,null,null,null,null,null,null,null,48.72,34.800000000000004,null,null,null,null,null,null,null,null,54.32,38.800000000000004,null,null,null,null,null,null,null,null,60.295200000000008,43.068000000000012,null,null,null,null,null,null,null,null,66.324720000000013,47.374800000000015,null,null,null,null,null,null,null,null,72.29394480000002,51.638532000000019]
[43,17.777037222820773,28.086837491489938,33.654570758200592,40.312974102971594,51.321284857539439,61.78693095118053,74.580895333040047,79.280670676311118,95.996912956148947,116.47480362905527,134.44376605210954,153.04069696237872,177.62450241134275,null,13,null,19.879999999999995,14.199999999999998,null,null,null,null,null,null,null,null,null,23.52,16.8,null,null,null,null,null,null,null,null,null,27.72,19.8,null,null,null,null,null,null,null,null,33.599999999999994,23.999999999999996,null,null,null,null,null,null,null,null,38.359999999999992,27.399999999999995,null,null,null,null,null,null,null,null,43.399999999999991,30.999999999999996,null,null,null,null,null,null,null,null,44.79999999999999,31.999999999999996,null,null,null,null,null,null,null,null,50.68,36.200000000000003,null,null,null,null,null,null,null,null,56.28,40.200000000000003,null,null,null,null,null,null,null,null,62.470800000000011,44.622000000000014,null,null,null,null,null,null,null,null,68.717880000000008,49.08420000000001,null,null,null,null,null,null,null,null,74.902489200000019,53.501778000000016]
[44,17.88808111509292,28.271772880798665,33.883647491705112,40.597669148085728,51.703272723421279,62.266321325120984,75.184545457316943,79.931194757019512,96.818724766835913,117.51471345725557,135.67069288632825,154.4623288396167,179.30352035516418,null,14,null,20.439999999999994,14.599999999999996,null,null,null,null,null,null,null,null,null,24.36,17.400000000000002,null,null,null,null,null,null,null,null,null,28.56,20.400000000000002,null,null,null,null,null,null,null,null,34.999999999999993,24.999999999999996,null,null,null,null,null,null,null,null,39.47999999999999,28.199999999999996,null,null,null,null,null,null,null,null,44.79999999999999,31.999999999999996,null,null,null,null,null,null,null,null,46.199999999999989,32.999999999999993,null,null,null,null,null,null,null,null,52.64,37.6,null,null,null,null,null,null,null,null,58.24,41.6,null,null,null,null,null,null,null,null,64.646400000000014,46.176000000000016,null,null,null,null,null,null,null,null,71.111040000000003,50.793600000000005,null,null,null,null,null,null,null,null,77.511033600000019,55.36502400000002]
[45,17.999125007365063,28.456708270107391,34.112724225209632,40.882364193199862,52.085260589303118,62.745711699061431,75.78819558159384,80.581718837727919,97.64053657752288,118.55462328545586,136.89761972054697,155.88396071685469,180.98253829898562,null,15,null,21,15.000000000000002,null,null,null,null,null,null,null,null,null,25.2,18,null,null,null,null,null,null,null,null,null,29.4,21,null,null,null,null,null,null,null,null,36.4,26,null,null,null,null,null,null,null,null,40.599999999999994,28.999999999999996,null,null,null,null,null,null,null,null,46.199999999999996,33,null,null,null,null,null,null,null,null,47.599999999999994,34,null,null,null,null,null,null,null,null,54.599999999999994,39,null,null,null,null,null,null,null,null,60.199999999999996,43,null,null,null,null,null,null,null,null,66.822000000000003,47.730000000000004,null,null,null,null,null,null,null,null,73.504200000000012,52.503000000000014,null,null,null,null,null,null,null,null,80.119578000000018,57.228270000000016]
[46,18.110168899637205,28.641643659416118,34.341800958714153,41.167059238314003,52.467248455184958,63.225102073001885,76.391845705870722,81.232242918436313,98.462348388209833,119.59453311365614,138.12454655476566,157.30559259409267,182.66155624280708,null,16,null,21.373333333333335,15.266666666666669,null,null,null,null,null,null,null,null,null,25.666666666666664,18.333333333333332,null,null,null,null,null,null,null,null,null,29.959999999999997,21.4,null,null,null,null,null,null,null,null,36.96,26.400000000000002,null,null,null,null,null,null,null,null,41.346666666666664,29.533333333333335,null,null,null,null,null,null,null,null,47.04,33.6,null,null,null,null,null,null,null,null,48.44,34.6,null,null,null,null,null,null,null,null,55.533333333333324,39.666666666666664,null,null,null,null,null,null,null,null,61.226666666666659,43.733333333333334,null,null,null,null,null,null,null,null,67.961600000000004,48.544000000000004,null,null,null,null,null,null,null,null,74.757760000000005,53.398400000000009,null,null,null,null,null,null,null,null,81.485958400000015,58.204256000000015]
[47,18.221212791909352,28.826579048724845,34.570877692218666,41.451754283428137,52.849236321066797,63.704492446942339,76.995495830147618,81.882766999144707,99.284160198896799,120.63444294185643,139.35147338898437,158.72722447133066,184.34057418662852,null,17,null,21.74666666666667,15.533333333333337,null,null,null,null,null,null,null,null,null,26.133333333333329,18.666666666666664,null,null,null,null,null,null,null,null,null,30.519999999999996,21.799999999999997,null,null,null,null,null,null,null,null,37.520000000000003,26.800000000000004,null,null,null,null,null,null,null,null,42.093333333333334,30.06666666666667,null,null,null,null,null,null,null,null,47.88,34.200000000000003,null,null,null,null,null,null,null,null,49.28,35.200000000000003,null,null,null,null,null,null,null,null,56.466666666666654,40.333333333333329,null,null,null,null,null,null,null,null,62.253333333333323,44.466666666666661,null,null,null,null,null,null,null,null,69.101200000000006,49.358000000000004,null,null,null,null,null,null,null,null,76.011319999999998,54.293800000000005,null,null,null,null,null,null,null,null,82.852338800000012,59.180242000000014]
[48,18.332256684181495,29.011514438033572,34.799954425723186,41.736449328542278,53.231224186948637,64.183882820882786,77.5991459544245,82.5332910798531,100.10597200958377,121.67435277005671,140.57840022320306,160.14885634856867,186.01959213044995,null,18,null,22.120000000000005,15.800000000000004,null,null,null,null,null,null,null,null,null,26.599999999999994,18.999999999999996,null,null,null,null,null,null,null,null,null,31.079999999999995,22.2,null,null,null,null,null,null,null,null,38.080000000000005,27.200000000000006,null,null,null,null,null,null,null,null,42.84,30.600000000000005,null,null,null,null,null,null,null,null,48.720000000000006,34.800000000000004,null,null,null,null,null,null,null,null,50.120000000000005,35.800000000000004,null,null,null,null,null,null,null,null,57.399999999999984,40.999999999999993,null,null,null,null,null,null,null,null,63.279999999999987,45.199999999999996,null,null,null,null,null,null,null,null,70.240800000000007,50.172000000000011,null,null,null,null,null,null,null,null,77.264879999999991,55.1892,null,null,null,null,null,null,null,null,84.21871920000001,60.156228000000013]
[49,18.443300576453638,29.196449827342299,35.029031159227706,42.021144373656412,53.613212052830477,64.663273194823233,78.202796078701397,83.183815160561494,100.92778382027072,122.71426259825701,141.80532705742178,161.57048822580666,187.69861007427141,null,19,null,22.493333333333339,16.066666666666674,null,null,null,null,null,null,null,null,null,27.066666666666659,19.333333333333329,null,null,null,null,null,null,null,null,null,31.639999999999993,22.599999999999998,null,null,null,null,null,null,null,null,38.640000000000008,27.600000000000009,null,null,null,null,null,null,null,null,43.586666666666673,31.13333333333334,null,null,null,null,null,null,null,null,49.560000000000009,35.400000000000006,null,null,null,null,null,null,null,null,50.960000000000008,36.400000000000006,null,null,null,null,null,null,null,null,58.333333333333314,41.666666666666657,null,null,null,null,null,null,null,null,64.306666666666658,45.93333333333333,null,null,null,null,null,null,null,null,71.380400000000009,50.986000000000011,null,null,null,null,null,null,null,null,78.518439999999984,56.084599999999995,null,null,null,null,null,null,null,null,85.585099600000007,61.132214000000012]
[50,18.55434446872578,29.381385216651022,35.258107892732227,42.305839418770553,53.995199918712316,65.142663568763695,78.806446202978293,83.834339241269888,101.74959563095769,123.7541724264573,143.03225389164049,162.99212010304464,189.37762801809285,null,20,null,22.866666666666674,16.333333333333339,null,null,null,null,null,null,null,null,null,27.533333333333324,19.666666666666661,null,null,null,null,null,null,null,null,null,32.199999999999996,23,null,null,null,null,null,null,null,null,39.20000000000001,28.000000000000007,null,null,null,null,null,null,null,null,44.333333333333343,31.666666666666675,null,null,null,null,null,null,null,null,50.400000000000013,36.000000000000014,null,null,null,null,null,null,null,null,51.800000000000011,37.000000000000007,null,null,null,null,null,null,null,null,59.266666666666644,42.333333333333321,null,null,null,null,null,null,null,null,65.333333333333329,46.666666666666664,null,null,null,null,null,null,null,null,72.52000000000001,51.800000000000011,null,null,null,null,null,null,null,null,79.771999999999977,56.97999999999999,null,null,null,null,null,null,null,null,86.951480000000004,62.108200000000004]
[51,18.665388360997927,29.566320605959749,35.487184626236747,42.590534463884687,54.377187784594156,65.622053942704142,79.410096327255175,84.484863321978281,102.57140744164465,124.79408225465758,144.25918072585918,164.41375198028265,191.05664596191428,null,21,null,23.240000000000009,16.600000000000009,null,null,null,null,null,null,null,null,null,27.999999999999989,19.999999999999993,null,null,null,null,null,null,null,null,null,32.76,23.4,null,null,null,null,null,null,null,null,39.760000000000012,28.400000000000009,null,null,null,null,null,null,null,null,45.080000000000013,32.20000000000001,null,null,null,null,null,null,null,null,51.240000000000016,36.600000000000016,null,null,null,null,null,null,null,null,52.640000000000015,37.600000000000016,null,null,null,null,null,null,null,null,60.199999999999974,42.999999999999986,null,null,null,null,null,null,null,null,66.36,47.400000000000006,null,null,null,null,null,null,null,null,73.659600000000012,52.614000000000011,null,null,null,null,null,null,null,null,81.02555999999997,57.875399999999985,null,null,null,null,null,null,null,null,88.317860400000001,63.084186000000003]
[52,18.77643225327007,29.751255995268476,35.716261359741267,42.875229508998828,54.759175650475996,66.101444316644603,80.013746451532072,85.135387402686675,103.39321925233162,125.83399208285788,145.4861075600779,165.83538385752064,192.73566390573575,null,22,null,23.613333333333344,16.866666666666674,null,null,null,null,null,null,null,null,null,28.466666666666654,20.333333333333325,null,null,null,null,null,null,null,null,null,33.32,23.8,null,null,null,null,null,null,null,null,40.320000000000014,28.800000000000011,null,null,null,null,null,null,null,null,45.826666666666682,32.733333333333348,null,null,null,null,null,null,null,null,52.08000000000002,37.200000000000017,null,null,null,null,null,null,null,null,53.480000000000018,38.200000000000017,null,null,null,null,null,null,null,null,61.133333333333304,43.66666666666665,null,null,null,null,null,null,null,null,67.38666666666667,48.13333333333334,null,null,null,null,null,null,null,null,74.799200000000013,53.428000000000011,null,null,null,null,null,null,null,null,82.279119999999963,58.77079999999998,null,null,null,null,null,null,null,null,89.684240799999998,64.060172000000009]
[53,18.887476145542212,29.936191384577203,35.94533809324578,43.159924554112962,55.141163516357835,66.58083469058505,80.617396575808954,85.785911483395068,104.21503106301857,126.87390191105817,146.71303439429659,167.25701573475862,194.41468184955718,null,23,null,23.986666666666679,17.133333333333344,null,null,null,null,null,null,null,null,null,28.933333333333319,20.666666666666657,null,null,null,null,null,null,null,null,null,33.880000000000003,24.200000000000003,null,null,null,null,null,null,null,null,40.880000000000017,29.200000000000014,null,null,null,null,null,null,null,null,46.573333333333352,33.26666666666668,null,null,null,null,null,null,null,null,52.920000000000023,37.800000000000018,null,null,null,null,null,null,null,null,54.320000000000022,38.800000000000018,null,null,null,null,null,null,null,null,62.066666666666634,44.333333333333314,null,null,null,null,null,null,null,null,68.413333333333341,48.866666666666674,null,null,null,null,null,null,null,null,75.938800000000015,54.242000000000012,null,null,null,null,null,null,null,null,83.532679999999957,59.666199999999975,null,null,null,null,null,null,null,null,91.050621199999995,65.036158]
[54,18.998520037814355,30.12112677388593,36.174414826750301,43.444619599227096,55.523151382239668,67.060225064525497,81.22104670008585,86.436435564103476,105.03684287370554,127.91381173925845,147.9399612285153,168.67864761199661,196.09369979337862,null,24,null,24.360000000000014,17.400000000000009,null,null,null,null,null,null,null,null,null,29.399999999999984,20.999999999999989,null,null,null,null,null,null,null,null,null,34.440000000000005,24.600000000000005,null,null,null,null,null,null,null,null,41.440000000000019,29.600000000000016,null,null,null,null,null,null,null,null,47.320000000000022,33.800000000000018,null,null,null,null,null,null,null,null,53.760000000000026,38.40000000000002,null,null,null,null,null,null,null,null,55.160000000000025,39.40000000000002,null,null,null,null,null,null,null,null,62.999999999999964,44.999999999999979,null,null,null,null,null,null,null,null,69.440000000000012,49.600000000000009,null,null,null,null,null,null,null,null,77.078400000000016,55.056000000000012,null,null,null,null,null,null,null,null,84.78623999999995,60.56159999999997,null,null,null,null,null,null,null,null,92.417001599999992,66.012143999999992]
[55,19.109563930086502,30.306062163194657,36.403491560254821,43.729314644341237,55.905139248121507,67.539615438465944,81.824696824362746,87.086959644811856,105.85865468439249,128.95372156745873,149.16688806273402,170.10027948923462,197.77271773720008,null,25,null,24.733333333333348,17.666666666666679,null,null,null,null,null,null,null,null,null,29.866666666666649,21.333333333333321,null,null,null,null,null,null,null,null,null,35.000000000000007,25.000000000000007,null,null,null,null,null,null,null,null,42.000000000000021,30.000000000000018,null,null,null,null,null,null,null,null,48.066666666666691,34.33333333333335,null,null,null,null,null,null,null,null,54.60000000000003,39.000000000000021,null,null,null,null,null,null,null,null,56.000000000000028,40.000000000000021,null,null,null,null,null,null,null,null,63.933333333333294,45.666666666666643,null,null,null,null,null,null,null,null,70.466666666666683,50.33333333333335,null,null,null,null,null,null,null,null,78.218000000000018,55.870000000000019,null,null,null,null,null,null,null,null,86.039799999999943,61.456999999999965,null,null,null,null,null,null,null,null,93.783381999999989,66.988129999999998]
[56,19.220607822358645,30.49099755250338,36.632568293759341,44.014009689455371,56.287127114003347,68.019005812406405,82.428346948639643,87.737483725520264,106.68046649507946,129.99363139565904,150.39381489695273,171.52191136647261,199.45173568102152,null,26,null,25.106666666666683,17.933333333333348,null,null,null,null,null,null,null,null,null,30.333333333333314,21.666666666666654,null,null,null,null,null,null,null,null,null,35.560000000000009,25.400000000000009,null,null,null,null,null,null,null,null,42.560000000000024,30.40000000000002,null,null,null,null,null,null,null,null,48.813333333333361,34.866666666666688,null,null,null,null,null,null,null,null,55.440000000000033,39.600000000000023,null,null,null,null,null,null,null,null,56.840000000000032,40.600000000000023,null,null,null,null,null,null,null,null,64.866666666666632,46.333333333333314,null,null,null,null,null,null,null,null,71.493333333333354,51.066666666666684,null,null,null,null,null,null,null,null,79.357600000000019,56.684000000000019,null,null,null,null,null,null,null,null,87.293359999999936,62.35239999999996,null,null,null,null,null,null,null,null,95.149762399999986,67.96411599999999]
[57,19.331651714630787,30.675932941812107,36.861645027263862,44.298704734569512,56.669114979885187,68.498396186346852,83.031997072916525,88.388007806228657,107.50227830576642,131.03354122385932,151.62074173117142,172.94354324371059,201.13075362484295,null,27,null,25.480000000000018,18.200000000000014,null,null,null,null,null,null,null,null,null,30.799999999999979,21.999999999999986,null,null,null,null,null,null,null,null,null,36.120000000000012,25.800000000000011,null,null,null,null,null,null,null,null,43.120000000000026,30.800000000000022,null,null,null,null,null,null,null,null,49.560000000000031,35.400000000000027,null,null,null,null,null,null,null,null,56.280000000000037,40.200000000000031,null,null,null,null,null,null,null,null,57.680000000000035,41.200000000000031,null,null,null,null,null,null,null,null,65.799999999999969,46.999999999999979,null,null,null,null,null,null,null,null,72.520000000000024,51.800000000000018,null,null,null,null,null,null,null,null,80.497200000000021,57.498000000000019,null,null,null,null,null,null,null,null,88.546919999999929,63.247799999999955,null,null,null,null,null,null,null,null,96.516142799999983,68.940101999999996]
[58,19.44269560690293,30.860868331120834,37.090721760768375,44.583399779683646,57.051102845767026,68.977786560287299,83.635647197193421,89.038531886937051,108.32409011645339,132.07345105205962,152.84766856539014,174.36517512094861,202.80977156866439,null,28,null,25.853333333333353,18.466666666666683,null,null,null,null,null,null,null,null,null,31.266666666666644,22.333333333333318,null,null,null,null,null,null,null,null,null,36.680000000000014,26.20000000000001,null,null,null,null,null,null,null,null,43.680000000000028,31.200000000000021,null,null,null,null,null,null,null,null,50.3066666666667,35.933333333333358,null,null,null,null,null,null,null,null,57.12000000000004,40.800000000000033,null,null,null,null,null,null,null,null,58.520000000000039,41.800000000000033,null,null,null,null,null,null,null,null,66.733333333333306,47.66666666666665,null,null,null,null,null,null,null,null,73.546666666666695,52.53333333333336,null,null,null,null,null,null,null,null,81.636800000000022,58.312000000000019,null,null,null,null,null,null,null,null,89.800479999999922,64.14319999999995,null,null,null,null,null,null,null,null,97.88252319999998,69.916087999999988]
[59,19.553739499175077,31.045803720429561,37.319798494272895,44.86809482479778,57.433090711648866,69.457176934227761,84.239297321470303,89.689055967645444,109.14590192714036,133.1133608802599,154.07459539960882,175.78680699818659,204.48878951248582,null,29,null,26.226666666666688,18.733333333333348,null,null,null,null,null,null,null,null,null,31.733333333333309,22.66666666666665,null,null,null,null,null,null,null,null,null,37.240000000000016,26.600000000000012,null,null,null,null,null,null,null,null,44.24000000000003,31.600000000000023,null,null,null,null,null,null,null,null,51.05333333333337,36.466666666666697,null,null,null,null,null,null,null,null,57.960000000000043,41.400000000000034,null,null,null,null,null,null,null,null,59.360000000000042,42.400000000000034,null,null,null,null,null,null,null,null,67.666666666666643,48.333333333333321,null,null,null,null,null,null,null,null,74.573333333333366,53.266666666666694,null,null,null,null,null,null,null,null,82.776400000000024,59.126000000000019,null,null,null,null,null,null,null,null,91.054039999999915,65.038599999999946,null,null,null,null,null,null,null,null,99.248903599999977,70.892073999999994]
[60,{"$f":"T26","v":19.664783391447219},{"$f":"V26","v":31.230739109738288},{"$f":"W26","v":37.548875227777415},45.152789869911921,{"$f":"Z26","v":57.815078577530706},{"$f":"AA26","v":69.936567308168208},84.8429474457472,90.339580048353838,109.96771373782731,134.15327070846018,155.30152223382754,177.20843887542458,206.16780745630729,null,30,null,26.599999999999998,19,25.682677430476495,null,null,null,null,null,null,null,null,32.199999999999996,23,30.676573222641846,null,null,null,null,null,null,null,null,37.799999999999997,27,36.611938516487811,null,null,null,null,null,null,null,44.8,32,46.355442601075531,null,null,null,null,null,null,null,51.8,37,55.554856089954662,null,null,null,null,null,null,null,58.8,42,66.733443717440466,null,null,null,null,null,null,null,60.199999999999996,43,70.823857627101987,null,null,null,null,null,null,null,68.599999999999994,49,85.313359417218436,null,null,null,null,null,null,null,75.599999999999994,54,102.95597586245152,null,null,null,null,null,null,null,83.915999999999997,59.940000000000005,null,null,null,null,null,null,null,null,92.307600000000008,65.934000000000012,null,null,null,null,null,null,null,null,100.61528400000002,71.868060000000014]
[61,{"$f":"(B$83-B$67)/($A$83-$A$67)*($A68-$A$67)+B$67","v":19.731702164150263},{"$f":"(C$83-C$67)/($A$83-$A$67)*($A68-$A$67)+C$67","v":31.329668254352455},{"$f":"(D$83-D$67)/($A$83-$A$67)*($A68-$A$67)+D$67","v":37.666194654960641},45.292854636003504,57.994189075891349,70.154141895297272,85.072602102382319,90.582190917830786,110.25600601851684,134.49678931998483,155.6938579178412,177.65122412173,206.67728339638094,null,31,null,26.786666666666665,19.133333333333333,null,null,null,null,null,null,null,null,null,32.386666666666663,23.133333333333333,null,null,null,null,null,null,null,null,null,38.033333333333331,27.166666666666668,null,null,null,null,null,null,null,null,45.08,32.200000000000003,null,null,null,null,null,null,null,null,52.08,37.200000000000003,null,null,null,null,null,null,null,null,59.126666666666665,42.233333333333334,null,null,null,null,null,null,null,null,60.573333333333331,43.266666666666666,null,null,null,null,null,null,null,null,68.973333333333329,49.266666666666666,null,null,null,null,null,null,null,null,76.066666666666663,54.333333333333336,null,null,null,null,null,null,null,null,84.433999999999997,60.31,null,null,null,null,null,null,null,null,92.877400000000009,66.341000000000008,null,null,null,null,null,null,null,null,101.23636600000002,72.311690000000013]
[62,{"$f":"(B$83-B$67)/($A$83-$A$67)*($A69-$A$67)+B$67","v":19.798620936853307},31.42859739896662,37.783514082143867,45.432919402095081,58.173299574251992,70.371716482426322,85.302256759017425,90.82480178730772,110.54429829920636,134.84030793150944,156.08619360185489,178.09400936803542,207.18675933645463,null,32,null,26.973333333333333,19.266666666666666,null,null,null,null,null,null,null,null,null,32.573333333333331,23.266666666666666,null,null,null,null,null,null,null,null,null,38.266666666666666,27.333333333333336,null,null,null,null,null,null,null,null,45.36,32.4,null,null,null,null,null,null,null,null,52.36,37.4,null,null,null,null,null,null,null,null,59.453333333333333,42.466666666666669,null,null,null,null,null,null,null,null,60.946666666666665,43.533333333333339,null,null,null,null,null,null,null,null,69.346666666666664,49.533333333333331,null,null,null,null,null,null,null,null,76.533333333333331,54.666666666666671,null,null,null,null,null,null,null,null,84.951999999999998,60.68,null,null,null,null,null,null,null,null,93.447200000000009,66.748000000000005,null,null,null,null,null,null,null,null,101.85744800000002,72.755320000000012]
[63,19.865539709556352,31.527526543580787,37.900833509327093,45.572984168186665,58.352410072612628,70.589291069555387,85.531911415652544,91.067412656784668,110.83259057989589,135.18382654303409,156.47852928586855,178.53679461434086,207.69623527652828,null,33,null,27.16,19.400000000000002,null,null,null,null,null,null,null,null,null,32.76,23.4,null,null,null,null,null,null,null,null,null,38.5,27.5,null,null,null,null,null,null,null,null,45.64,32.6,null,null,null,null,null,null,null,null,52.64,37.6,null,null,null,null,null,null,null,null,59.78,42.7,null,null,null,null,null,null,null,null,61.32,43.800000000000004,null,null,null,null,null,null,null,null,69.72,49.800000000000004,null,null,null,null,null,null,null,null,77,55,null,null,null,null,null,null,null,null,85.47,61.050000000000004,null,null,null,null,null,null,null,null,94.01700000000001,67.155000000000015,null,null,null,null,null,null,null,null,102.47853000000002,73.198950000000025]
[64,19.932458482259396,31.626455688194955,38.018152936510319,45.713048934278248,58.531520570973271,70.806865656684451,85.761566072287664,91.310023526261602,111.12088286058543,135.52734515455873,156.87086496988223,178.97957986064628,208.20571121660194,null,34,null,27.346666666666668,19.533333333333335,null,null,null,null,null,null,null,null,null,32.946666666666665,23.533333333333335,null,null,null,null,null,null,null,null,null,38.733333333333334,27.666666666666668,null,null,null,null,null,null,null,null,45.92,32.800000000000004,null,null,null,null,null,null,null,null,52.92,37.800000000000004,null,null,null,null,null,null,null,null,60.106666666666669,42.933333333333337,null,null,null,null,null,null,null,null,61.693333333333335,44.06666666666667,null,null,null,null,null,null,null,null,70.093333333333334,50.06666666666667,null,null,null,null,null,null,null,null,77.466666666666669,55.333333333333336,null,null,null,null,null,null,null,null,85.988,61.42,null,null,null,null,null,null,null,null,94.586800000000011,67.562000000000012,null,null,null,null,null,null,null,null,103.09961200000002,73.642580000000024]
[65,19.999377254962436,31.725384832809123,38.135472363693538,45.853113700369832,58.710631069333914,71.024440243813501,85.991220728922769,91.552634395738551,111.40917514127494,135.87086376608335,157.26320065389589,179.4223651069517,208.71518715667563,null,35,null,27.533333333333335,19.666666666666668,null,null,null,null,null,null,null,null,null,33.133333333333333,23.666666666666668,null,null,null,null,null,null,null,null,null,38.966666666666669,27.833333333333336,null,null,null,null,null,null,null,null,46.2,33.000000000000007,null,null,null,null,null,null,null,null,53.2,38.000000000000007,null,null,null,null,null,null,null,null,60.433333333333337,43.166666666666671,null,null,null,null,null,null,null,null,62.06666666666667,44.333333333333336,null,null,null,null,null,null,null,null,70.466666666666669,50.333333333333336,null,null,null,null,null,null,null,null,77.933333333333337,55.666666666666671,null,null,null,null,null,null,null,null,86.506,61.790000000000006,null,null,null,null,null,null,null,null,95.156600000000012,67.969000000000008,null,null,null,null,null,null,null,null,103.72069400000002,74.086210000000023]
[66,20.06629602766548,31.824313977423287,38.252791790876763,45.993178466461409,58.889741567694557,71.242014830942566,86.220875385557889,91.795245265215499,111.69746742196448,136.21438237760799,157.65553633790955,179.86515035325715,209.22466309674928,null,36,null,27.720000000000002,19.800000000000004,null,null,null,null,null,null,null,null,null,33.32,23.8,null,null,null,null,null,null,null,null,null,39.200000000000003,28.000000000000004,null,null,null,null,null,null,null,null,46.480000000000004,33.200000000000003,null,null,null,null,null,null,null,null,53.480000000000004,38.200000000000003,null,null,null,null,null,null,null,null,60.760000000000005,43.400000000000006,null,null,null,null,null,null,null,null,62.440000000000005,44.600000000000009,null,null,null,null,null,null,null,null,70.84,50.600000000000009,null,null,null,null,null,null,null,null,78.400000000000006,56.000000000000007,null,null,null,null,null,null,null,null,87.024000000000001,62.160000000000004,null,null,null,null,null,null,null,null,95.726400000000012,68.376000000000019,null,null,null,null,null,null,null,null,104.34177600000002,74.529840000000021]
[67,20.133214800368524,31.923243122037455,38.370111218059989,46.133243232552992,59.0688520660552,71.45958941807163,86.450530042193009,92.037856134692433,111.98575970265401,136.55790098913263,158.04787202192324,180.30793559956257,209.73413903682294,null,37,null,27.90666666666667,19.933333333333337,null,null,null,null,null,null,null,null,null,33.506666666666668,23.933333333333337,null,null,null,null,null,null,null,null,null,39.433333333333337,28.166666666666671,null,null,null,null,null,null,null,null,46.760000000000005,33.400000000000006,null,null,null,null,null,null,null,null,53.760000000000005,38.400000000000006,null,null,null,null,null,null,null,null,61.086666666666673,43.63333333333334,null,null,null,null,null,null,null,null,62.81333333333334,44.866666666666674,null,null,null,null,null,null,null,null,71.213333333333338,50.866666666666674,null,null,null,null,null,null,null,null,78.866666666666674,56.333333333333343,null,null,null,null,null,null,null,null,87.542000000000002,62.530000000000008,null,null,null,null,null,null,null,null,96.296200000000013,68.783000000000015,null,null,null,null,null,null,null,null,104.96285800000003,74.97347000000002]
[68,20.200133573071568,32.022172266651623,38.487430645243215,46.273307998644576,59.247962564415836,71.67716400520068,86.680184698828114,92.280467004169381,112.27405198334353,136.90141960065725,158.4402077059369,180.75072084586799,210.24361497689662,null,38,null,28.093333333333337,20.06666666666667,null,null,null,null,null,null,null,null,null,33.693333333333335,24.06666666666667,null,null,null,null,null,null,null,null,null,39.666666666666671,28.333333333333339,null,null,null,null,null,null,null,null,47.040000000000006,33.600000000000009,null,null,null,null,null,null,null,null,54.040000000000006,38.600000000000009,null,null,null,null,null,null,null,null,61.413333333333341,43.866666666666674,null,null,null,null,null,null,null,null,63.186666666666675,45.13333333333334,null,null,null,null,null,null,null,null,71.586666666666673,51.13333333333334,null,null,null,null,null,null,null,null,79.333333333333343,56.666666666666679,null,null,null,null,null,null,null,null,88.06,62.900000000000006,null,null,null,null,null,null,null,null,96.866000000000014,69.190000000000012,null,null,null,null,null,null,null,null,105.58394000000003,75.417100000000019]
[69,20.267052345774612,32.121101411265791,38.604750072426441,46.413372764736152,59.427073062776479,71.894738592329745,86.909839355463234,92.523077873646315,112.56234426403306,137.24493821218189,158.83254338995059,181.19350609217341,210.75309091697028,null,39,null,28.280000000000005,20.200000000000006,null,null,null,null,null,null,null,null,null,33.880000000000003,24.200000000000003,null,null,null,null,null,null,null,null,null,39.900000000000006,28.500000000000007,null,null,null,null,null,null,null,null,47.320000000000007,33.800000000000004,null,null,null,null,null,null,null,null,54.320000000000007,38.800000000000004,null,null,null,null,null,null,null,null,61.740000000000009,44.100000000000009,null,null,null,null,null,null,null,null,63.560000000000009,45.400000000000013,null,null,null,null,null,null,null,null,71.960000000000008,51.400000000000006,null,null,null,null,null,null,null,null,79.800000000000011,57.000000000000014,null,null,null,null,null,null,null,null,88.578000000000003,63.27,null,null,null,null,null,null,null,null,97.435800000000015,69.597000000000008,null,null,null,null,null,null,null,null,106.20502200000003,75.860730000000018]
[70,20.333971118477656,32.220030555879958,38.722069499609667,46.553437530827736,59.606183561137122,72.112313179458809,87.139494012098353,92.765688743123263,112.85063654472259,137.58845682370651,159.22487907396425,181.63629133847883,211.26256685704396,null,40,null,28.466666666666672,20.333333333333339,null,null,null,null,null,null,null,null,null,34.06666666666667,24.333333333333336,null,null,null,null,null,null,null,null,null,40.13333333333334,28.666666666666675,null,null,null,null,null,null,null,null,47.600000000000009,34.000000000000007,null,null,null,null,null,null,null,null,54.600000000000009,39.000000000000007,null,null,null,null,null,null,null,null,62.066666666666677,44.333333333333343,null,null,null,null,null,null,null,null,63.933333333333344,45.666666666666679,null,null,null,null,null,null,null,null,72.333333333333343,51.666666666666679,null,null,null,null,null,null,null,null,80.26666666666668,57.33333333333335,null,null,null,null,null,null,null,null,89.096000000000004,63.640000000000008,null,null,null,null,null,null,null,null,98.005600000000015,70.004000000000019,null,null,null,null,null,null,null,null,106.82610400000003,76.304360000000031]
[71,20.4008898911807,32.318959700494126,38.839388926792893,46.69350229691932,59.785294059497765,72.329887766587859,87.369148668733459,93.008299612600212,113.13892882541211,137.93197543523115,159.61721475797793,182.07907658478427,211.77204279711762,null,41,null,28.65333333333334,20.466666666666672,null,null,null,null,null,null,null,null,null,34.253333333333337,24.466666666666672,null,null,null,null,null,null,null,null,null,40.366666666666674,28.833333333333339,null,null,null,null,null,null,null,null,47.88000000000001,34.20000000000001,null,null,null,null,null,null,null,null,54.88000000000001,39.20000000000001,null,null,null,null,null,null,null,null,62.393333333333345,44.566666666666677,null,null,null,null,null,null,null,null,64.306666666666672,45.933333333333337,null,null,null,null,null,null,null,null,72.706666666666678,51.933333333333344,null,null,null,null,null,null,null,null,80.733333333333348,57.666666666666679,null,null,null,null,null,null,null,null,89.614000000000004,64.010000000000005,null,null,null,null,null,null,null,null,98.575400000000016,70.411000000000016,null,null,null,null,null,null,null,null,107.44718600000003,76.74799000000003]
[72,20.467808663883744,32.417888845108287,38.956708353976119,46.833567063010904,59.964404557858401,72.547462353716924,87.598803325368578,93.250910482077146,113.42722110610164,138.2754940467558,160.00955044199159,182.52186183108969,212.28151873719128,null,42,null,28.840000000000007,20.600000000000005,null,null,null,null,null,null,null,null,null,34.440000000000005,24.600000000000005,null,null,null,null,null,null,null,null,null,40.600000000000009,29.000000000000007,null,null,null,null,null,null,null,null,48.160000000000011,34.400000000000013,null,null,null,null,null,null,null,null,55.160000000000011,39.400000000000013,null,null,null,null,null,null,null,null,62.720000000000013,44.800000000000011,null,null,null,null,null,null,null,null,64.680000000000007,46.20000000000001,null,null,null,null,null,null,null,null,73.080000000000013,52.20000000000001,null,null,null,null,null,null,null,null,81.200000000000017,58.000000000000014,null,null,null,null,null,null,null,null,90.132000000000005,64.38000000000001,null,null,null,null,null,null,null,null,99.145200000000017,70.818000000000012,null,null,null,null,null,null,null,null,108.06826800000003,77.191620000000029]
[73,20.534727436586785,32.516817989722455,39.074027781159337,46.97363182910248,60.143515056219044,72.765036940845988,87.828457982003698,93.493521351554094,113.71551338679117,138.61901265828041,160.40188612600525,182.96464707739511,212.79099467726496,null,43,null,29.026666666666674,20.733333333333341,null,null,null,null,null,null,null,null,null,34.626666666666672,24.733333333333338,null,null,null,null,null,null,null,null,null,40.833333333333343,29.166666666666675,null,null,null,null,null,null,null,null,48.440000000000012,34.600000000000009,null,null,null,null,null,null,null,null,55.440000000000012,39.600000000000009,null,null,null,null,null,null,null,null,63.046666666666681,45.033333333333346,null,null,null,null,null,null,null,null,65.053333333333342,46.466666666666676,null,null,null,null,null,null,null,null,73.453333333333347,52.466666666666683,null,null,null,null,null,null,null,null,81.666666666666686,58.33333333333335,null,null,null,null,null,null,null,null,90.65,64.750000000000014,null,null,null,null,null,null,null,null,99.715000000000018,71.225000000000023,null,null,null,null,null,null,null,null,108.68935000000003,77.635250000000028]
[74,20.601646209289829,32.615747134336623,39.191347208342563,47.113696595194064,60.322625554579687,72.982611527975038,88.058112638638804,93.736132221031028,114.00380566748069,138.96253126980505,160.79422181001894,183.40743232370056,213.30047061733862,null,44,null,29.213333333333342,20.866666666666674,null,null,null,null,null,null,null,null,null,34.81333333333334,24.866666666666674,null,null,null,null,null,null,null,null,null,41.066666666666677,29.333333333333343,null,null,null,null,null,null,null,null,48.720000000000013,34.800000000000011,null,null,null,null,null,null,null,null,55.720000000000013,39.800000000000011,null,null,null,null,null,null,null,null,63.373333333333349,45.26666666666668,null,null,null,null,null,null,null,null,65.426666666666677,46.733333333333341,null,null,null,null,null,null,null,null,73.826666666666682,52.733333333333348,null,null,null,null,null,null,null,null,82.133333333333354,58.666666666666686,null,null,null,null,null,null,null,null,91.168000000000006,65.12,null,null,null,null,null,null,null,null,100.28480000000002,71.632000000000019,null,null,null,null,null,null,null,null,109.31043200000003,78.078880000000026]
[75,20.668564981992873,32.71467627895079,39.308666635525789,47.253761361285648,60.501736052940331,73.200186115104103,88.287767295273923,93.978743090507976,114.29209794817022,139.3060498813297,161.1865574940326,183.85021757000598,213.80994655741227,null,45,null,29.400000000000009,21.000000000000007,null,null,null,null,null,null,null,null,null,35.000000000000007,25.000000000000007,null,null,null,null,null,null,null,null,null,41.300000000000011,29.500000000000011,null,null,null,null,null,null,null,null,49.000000000000014,35.000000000000014,null,null,null,null,null,null,null,null,56.000000000000014,40.000000000000014,null,null,null,null,null,null,null,null,63.700000000000017,45.500000000000014,null,null,null,null,null,null,null,null,65.800000000000011,47.000000000000014,null,null,null,null,null,null,null,null,74.200000000000017,53.000000000000014,null,null,null,null,null,null,null,null,82.600000000000023,59.000000000000021,null,null,null,null,null,null,null,null,91.686000000000007,65.490000000000009,null,null,null,null,null,null,null,null,100.85460000000002,72.039000000000016,null,null,null,null,null,null,null,null,109.93151400000004,78.522510000000025]
[{"$f":"Q27*60","v":120},{"$f":"T27","v":23.679909753629836},{"$f":"V27","v":37.166487786588299},{"$f":"W27","v":44.588040858770917},53.556675835406821,{"$f":"Z27","v":68.561708479169198},{"$f":"AA27","v":82.991042535911788},98.622226843854094,104.89623221697039,127.26525057919896,154.76438739993822,178.8416632746478,203.77555365375017,236.73636386072727,null,46,null,29.586666666666677,21.133333333333344,null,null,null,null,null,null,null,null,null,35.186666666666675,25.13333333333334,null,null,null,null,null,null,null,null,null,41.533333333333346,29.666666666666679,null,null,null,null,null,null,null,null,49.280000000000015,35.20000000000001,null,null,null,null,null,null,null,null,56.280000000000015,40.200000000000017,null,null,null,null,null,null,null,null,64.026666666666685,45.733333333333348,null,null,null,null,null,null,null,null,66.173333333333346,47.26666666666668,null,null,null,null,null,null,null,null,74.573333333333352,53.26666666666668,null,null,null,null,null,null,null,null,83.066666666666691,59.333333333333357,null,null,null,null,null,null,null,null,92.204000000000008,65.860000000000014,null,null,null,null,null,null,null,null,101.42440000000002,72.446000000000012,null,null,null,null,null,null,null,null,110.55259600000004,78.966140000000024]
[{"$f":"Q28*60","v":240},{"$f":"T28","v":28.174120305785696},{"$f":"V28","v":43.383942774350892},{"$f":"W28","v":51.688809684850376},{"$f":"X28","v":61.680953988085847},{"$f":"Z28","v":78.315502695566607},{"$f":"AA28","v":94.235813524522797},{"$f":"AB28","v":107.20396225885649},{"$f":"AC28","v":113.49727073768152},{"$f":"AD28","v":135.70205703494113},{"$f":"AE28","v":162.58120488572479},null,null,null,null,47,null,29.773333333333344,21.266666666666676,null,null,null,null,null,null,null,null,null,35.373333333333342,25.266666666666673,null,null,null,null,null,null,null,null,null,41.76666666666668,29.833333333333346,null,null,null,null,null,null,null,null,49.560000000000016,35.400000000000013,null,null,null,null,null,null,null,null,56.560000000000016,40.400000000000013,null,null,null,null,null,null,null,null,64.353333333333353,45.966666666666683,null,null,null,null,null,null,null,null,66.546666666666681,47.533333333333346,null,null,null,null,null,null,null,null,74.946666666666687,53.533333333333353,null,null,null,null,null,null,null,null,83.53333333333336,59.666666666666693,null,null,null,null,null,null,null,null,92.722000000000008,66.23,null,null,null,null,null,null,null,null,101.99420000000002,72.853000000000023,null,null,null,null,null,null,null,null,111.17367800000004,79.409770000000037]
[480,{"$f":"T29","v":33.024720791912053},49.853206079358067,58.832206529717041,69.496402289185113,86.990840045914723,103.49944005016168,114.1239445813188,120.18318072993542,141.28858770602929,166.35454206522229,null,null,null,null,48,null,29.960000000000012,21.400000000000009,null,null,null,null,null,null,null,null,null,35.560000000000009,25.400000000000009,null,null,null,null,null,null,null,null,null,42.000000000000014,30.000000000000011,null,null,null,null,null,null,null,null,49.840000000000018,35.600000000000016,null,null,null,null,null,null,null,null,56.840000000000018,40.600000000000016,null,null,null,null,null,null,null,null,64.680000000000021,46.200000000000017,null,null,null,null,null,null,null,null,66.920000000000016,47.800000000000011,null,null,null,null,null,null,null,null,75.320000000000022,53.800000000000018,null,null,null,null,null,null,null,null,84.000000000000028,60.000000000000021,null,null,null,null,null,null,null,null,93.240000000000009,66.600000000000009,null,null,null,null,null,null,null,null,102.56400000000002,73.260000000000019,null,null,null,null,null,null,null,null,111.79476000000004,79.853400000000036]
[720,{"$f":"T30","v":35.905401154734079},53.594974062326521,62.84008514266641,73.693477556949375,91.265434189239315,107.63874358429851,117.2000888060858,123.01112054489836,143.07728571651427,166.60473846879393,null,null,null,null,49,null,30.146666666666679,21.533333333333342,null,null,null,null,null,null,null,null,null,35.746666666666677,25.533333333333342,null,null,null,null,null,null,null,null,null,42.233333333333348,30.166666666666679,null,null,null,null,null,null,null,null,50.120000000000019,35.800000000000018,null,null,null,null,null,null,null,null,57.120000000000019,40.800000000000018,null,null,null,null,null,null,null,null,65.006666666666689,46.433333333333351,null,null,null,null,null,null,null,null,67.293333333333351,48.066666666666684,null,null,null,null,null,null,null,null,75.693333333333356,54.066666666666684,null,null,null,null,null,null,null,null,84.466666666666697,60.333333333333357,null,null,null,null,null,null,null,null,93.75800000000001,66.970000000000013,null,null,null,null,null,null,null,null,103.13380000000002,73.667000000000016,null,null,null,null,null,null,null,null,112.41584200000004,80.297030000000035]
[1440,41.705836801494293,62.479853193874149,72.937815711466101,84.44084339512078,101.43200883446342,115.78712771987342,131.58026616450084,136.99390696005486,154.91200920430677,174.62581611168687,null,null,null,null,50,null,30.333333333333346,21.666666666666679,null,null,null,null,null,null,null,null,null,35.933333333333344,25.666666666666675,null,null,null,null,null,null,null,null,null,42.466666666666683,30.333333333333346,null,null,null,null,null,null,null,null,50.40000000000002,36.000000000000014,null,null,null,null,null,null,null,null,57.40000000000002,41.000000000000014,null,null,null,null,null,null,null,null,65.333333333333357,46.666666666666686,null,null,null,null,null,null,null,null,67.666666666666686,48.33333333333335,null,null,null,null,null,null,null,null,76.066666666666691,54.333333333333357,null,null,null,null,null,null,null,null,84.933333333333366,60.666666666666693,null,null,null,null,null,null,null,null,94.27600000000001,67.340000000000018,null,null,null,null,null,null,null,null,103.70360000000002,74.074000000000026,null,null,null,null,null,null,null,null,113.03692400000004,80.740660000000034]
[{"$f":"Q32*60","v":2880},51.919470151272129,74.98102024385777,86.119624992578878,98.06324489865024,115.18853575246217,129.23674141755239,144.30300676546281,149.38195164858192,165.90865928817391,183.63377174548086,null,null,null,null,51,null,30.520000000000014,21.800000000000011,null,null,null,null,null,null,null,null,null,36.120000000000012,25.800000000000011,null,null,null,null,null,null,null,null,null,42.700000000000017,30.500000000000014,null,null,null,null,null,null,null,null,50.680000000000021,36.200000000000017,null,null,null,null,null,null,null,null,57.680000000000021,41.200000000000017,null,null,null,null,null,null,null,null,65.660000000000025,46.90000000000002,null,null,null,null,null,null,null,null,68.04000000000002,48.600000000000016,null,null,null,null,null,null,null,null,76.440000000000026,54.600000000000023,null,null,null,null,null,null,null,null,85.400000000000034,61.000000000000028,null,null,null,null,null,null,null,null,94.794000000000011,67.710000000000008,null,null,null,null,null,null,null,null,104.27340000000002,74.481000000000023,null,null,null,null,null,null,null,null,113.65800600000004,81.184290000000033]
[5760,66.345523014958673,92.171297578872512,103.98829549123938,116.24897379813123,133.16801958791513,146.52838711240267,160.39335474848656,164.96743749258616,179.52944753485241,194.64229206444,null,null,null,null,52,null,30.706666666666681,21.933333333333344,null,null,null,null,null,null,null,null,null,36.306666666666679,25.933333333333344,null,null,null,null,null,null,null,null,null,42.933333333333351,30.666666666666682,null,null,null,null,null,null,null,null,50.960000000000022,36.40000000000002,null,null,null,null,null,null,null,null,57.960000000000022,41.40000000000002,null,null,null,null,null,null,null,null,65.986666666666693,47.133333333333354,null,null,null,null,null,null,null,null,68.413333333333355,48.866666666666688,null,null,null,null,null,null,null,null,76.813333333333361,54.866666666666688,null,null,null,null,null,null,null,null,85.866666666666703,61.333333333333364,null,null,null,null,null,null,null,null,95.312000000000012,68.080000000000013,null,null,null,null,null,null,null,null,104.84320000000002,74.888000000000019,null,null,null,null,null,null,null,null,114.27908800000004,81.627920000000032]
[11520,{"$f":"T34","v":87.643475301428936},116.97694732303009,129.5268385544702,142.03202946829032,158.49778018472449,170.90603668420832,183.27434215964439,187.24766636134532,199.56420760617121,211.8421984764048,null,null,null,null,53,null,30.893333333333349,22.066666666666681,null,null,null,null,null,null,null,null,null,36.493333333333347,26.066666666666677,null,null,null,null,null,null,null,null,null,43.166666666666686,30.83333333333335,null,null,null,null,null,null,null,null,51.240000000000023,36.600000000000016,null,null,null,null,null,null,null,null,58.240000000000023,41.600000000000023,null,null,null,null,null,null,null,null,66.313333333333361,47.366666666666688,null,null,null,null,null,null,null,null,68.78666666666669,49.133333333333354,null,null,null,null,null,null,null,null,77.186666666666696,55.133333333333354,null,null,null,null,null,null,null,null,86.333333333333371,61.6666666666667,null,null,null,null,null,null,null,null,95.830000000000013,68.450000000000017,null,null,null,null,null,null,null,null,105.41300000000003,75.295000000000016,null,null,null,null,null,null,null,null,114.90017000000005,82.071550000000045]
[12960,92.256081036205259,122.28968796685511,134.97641276019161,147.52202269526734,163.89588038182305,176.1265347494284,188.2256433744765,192.09303258983201,204.02130044548431,215.82241425473083,null,null,null,null,54,null,31.080000000000016,22.200000000000014,null,null,null,null,null,null,null,null,null,36.680000000000014,26.20000000000001,null,null,null,null,null,null,null,null,null,43.40000000000002,31.000000000000018,null,null,null,null,null,null,null,null,51.520000000000024,36.800000000000018,null,null,null,null,null,null,null,null,58.520000000000024,41.800000000000018,null,null,null,null,null,null,null,null,66.640000000000029,47.600000000000023,null,null,null,null,null,null,null,null,69.160000000000025,49.40000000000002,null,null,null,null,null,null,null,null,77.560000000000031,55.400000000000027,null,null,null,null,null,null,null,null,86.80000000000004,62.000000000000036,null,null,null,null,null,null,null,null,96.348000000000013,68.820000000000007,null,null,null,null,null,null,null,null,105.98280000000003,75.702000000000027,null,null,null,null,null,null,null,null,115.52125200000005,82.515180000000043]
[null,null,null,null,null,null,null,null,null,null,null,null,null,null,null,55,null,31.266666666666683,22.333333333333346,null,null,null,null,null,null,null,null,null,36.866666666666681,26.333333333333346,null,null,null,null,null,null,null,null,null,43.633333333333354,31.166666666666682,null,null,null,null,null,null,null,null,51.800000000000026,37.000000000000021,null,null,null,null,null,null,null,null,58.800000000000026,42.000000000000021,null,null,null,null,null,null,null,null,66.966666666666697,47.833333333333357,null,null,null,null,null,null,null,null,69.53333333333336,49.666666666666686,null,null,null,null,null,null,null,null,77.933333333333366,55.666666666666693,null,null,null,null,null,null,null,null,87.266666666666708,62.333333333333364,null,null,null,null,null,null,null,null,96.866000000000014,69.190000000000012,null,null,null,null,null,null,null,null,106.55260000000003,76.109000000000023,null,null,null,null,null,null,null,null,116.14233400000005,82.958810000000042]
[null,null,null,null,null,null,null,null,null,null,null,null,null,null,null,56,null,31.453333333333351,22.466666666666679,null,null,null,null,null,null,null,null,null,37.053333333333349,26.466666666666679,null,null,null,null,null,null,null,null,null,43.866666666666688,31.33333333333335,null,null,null,null,null,null,null,null,52.080000000000027,37.200000000000024,null,null,null,null,null,null,null,null,59.080000000000027,42.200000000000024,null,null,null,null,null,null,null,null,67.293333333333365,48.066666666666691,null,null,null,null,null,null,null,null,69.906666666666695,49.933333333333358,null,null,null,null,null,null,null,null,78.3066666666667,55.933333333333358,null,null,null,null,null,null,null,null,87.733333333333377,62.6666666666667,null,null,null,null,null,null,null,null,97.384000000000015,69.560000000000016,null,null,null,null,null,null,null,null,107.12240000000003,76.51600000000002,null,null,null,null,null,null,null,null,116.76341600000005,83.402440000000041]
[null,null,null,null,null,null,null,null,null,null,null,null,null,null,null,57,null,31.640000000000018,22.600000000000016,null,null,null,null,null,null,null,null,null,37.240000000000016,26.600000000000012,null,null,null,null,null,null,null,null,null,44.100000000000023,31.500000000000018,null,null,null,null,null,null,null,null,52.360000000000028,37.40000000000002,null,null,null,null,null,null,null,null,59.360000000000028,42.40000000000002,null,null,null,null,null,null,null,null,67.620000000000033,48.300000000000026,null,null,null,null,null,null,null,null,70.28000000000003,50.200000000000024,null,null,null,null,null,null,null,null,78.680000000000035,56.200000000000031,null,null,null,null,null,null,null,null,88.200000000000045,63.000000000000036,null,null,null,null,null,null,null,null,97.902000000000015,69.930000000000021,null,null,null,null,null,null,null,null,107.69220000000003,76.92300000000003,null,null,null,null,null,null,null,null,117.38449800000005,83.84607000000004]
[null,null,null,null,null,null,null,null,null,null,null,null,null,null,null,58,null,31.826666666666686,22.733333333333348,null,null,null,null,null,null,null,null,null,37.426666666666684,26.733333333333348,null,null,null,null,null,null,null,null,null,44.333333333333357,31.666666666666686,null,null,null,null,null,null,null,null,52.640000000000029,37.600000000000023,null,null,null,null,null,null,null,null,59.640000000000029,42.600000000000023,null,null,null,null,null,null,null,null,67.946666666666701,48.53333333333336,null,null,null,null,null,null,null,null,70.653333333333364,50.46666666666669,null,null,null,null,null,null,null,null,79.05333333333337,56.466666666666697,null,null,null,null,null,null,null,null,88.666666666666714,63.333333333333371,null,null,null,null,null,null,null,null,98.420000000000016,70.300000000000011,null,null,null,null,null,null,null,null,108.26200000000003,77.330000000000027,null,null,null,null,null,null,null,null,118.00558000000005,84.289700000000039]
[null,null,null,null,null,null,null,null,null,null,null,null,null,null,null,59,null,32.01333333333335,22.866666666666681,null,null,null,null,null,null,null,null,null,37.613333333333351,26.866666666666681,null,null,null,null,null,null,null,null,null,44.566666666666691,31.833333333333353,null,null,null,null,null,null,null,null,52.92000000000003,37.800000000000026,null,null,null,null,null,null,null,null,59.92000000000003,42.800000000000026,null,null,null,null,null,null,null,null,68.273333333333369,48.766666666666694,null,null,null,null,null,null,null,null,71.026666666666699,50.733333333333363,null,null,null,null,null,null,null,null,79.426666666666705,56.733333333333363,null,null,null,null,null,null,null,null,89.133333333333383,63.666666666666707,null,null,null,null,null,null,null,null,98.938000000000017,70.670000000000016,null,null,null,null,null,null,null,null,108.83180000000003,77.737000000000023,null,null,null,null,null,null,null,null,118.62666200000005,84.733330000000038]
[null,null,null,null,null,null,null,null,null,null,null,null,null,null,null,60,null,32.199999999999996,23,31.230739109738288,null,null,null,null,null,null,null,null,37.799999999999997,27,37.548875227777415,null,null,null,null,null,null,null,null,44.8,32,45.152789869911921,null,null,null,null,null,null,null,53.199999999999996,38,57.815078577530706,null,null,null,null,null,null,null,60.199999999999996,43,69.936567308168208,null,null,null,null,null,null,null,68.599999999999994,49,84.8429474457472,null,null,null,null,null,null,null,71.399999999999991,51,90.339580048353838,null,null,null,null,null,null,null,79.8,57,109.96771373782731,null,null,null,null,null,null,null,89.6,64,134.15327070846018,null,null,null,null,null,null,null,99.456000000000003,71.040000000000006,null,null,null,null,null,null,null,null,109.40160000000002,78.14400000000002,null,null,null,null,null,null,null,null,119.24774400000003,85.176960000000022]
[null,null,null,null,null,null,null,null,null,null,null,null,null,null,null,61,null,32.269999999999996,23.049999999999997,null,null,null,null,null,null,null,null,null,37.893333333333331,27.066666666666666,null,null,null,null,null,null,null,null,null,44.893333333333331,32.06666666666667,null,null,null,null,null,null,null,null,53.293333333333329,38.066666666666663,null,null,null,null,null,null,null,null,60.316666666666663,43.083333333333336,null,null,null,null,null,null,null,null,68.716666666666654,49.083333333333329,null,null,null,null,null,null,null,null,71.516666666666652,51.083333333333329,null,null,null,null,null,null,null,null,79.916666666666657,57.083333333333329,null,null,null,null,null,null,null,null,89.716666666666654,64.083333333333329,null,null,null,null,null,null,null,null,99.585499999999996,71.132500000000007,null,null,null,null,null,null,null,null,109.54405000000001,78.245750000000015,null,null,null,null,null,null,null,null,119.40301450000003,85.287867500000019]
[null,null,null,null,null,null,null,null,null,null,null,null,null,null,null,62,null,32.339999999999996,23.099999999999998,null,null,null,null,null,null,null,null,null,37.986666666666665,27.133333333333333,null,null,null,null,null,null,null,null,null,44.986666666666665,32.133333333333333,null,null,null,null,null,null,null,null,53.386666666666663,38.133333333333333,null,null,null,null,null,null,null,null,60.43333333333333,43.166666666666664,null,null,null,null,null,null,null,null,68.833333333333314,49.166666666666657,null,null,null,null,null,null,null,null,71.633333333333312,51.166666666666657,null,null,null,null,null,null,null,null,80.033333333333317,57.166666666666657,null,null,null,null,null,null,null,null,89.833333333333314,64.166666666666657,null,null,null,null,null,null,null,null,99.714999999999989,71.224999999999994,null,null,null,null,null,null,null,null,109.68650000000001,78.347500000000011,null,null,null,null,null,null,null,null,119.55828500000003,85.398775000000029]
[null,null,null,null,null,null,null,null,null,null,null,null,null,null,null,63,null,32.409999999999997,23.15,null,null,null,null,null,null,null,null,null,38.08,27.2,null,null,null,null,null,null,null,null,null,45.08,32.200000000000003,null,null,null,null,null,null,null,null,53.48,38.200000000000003,null,null,null,null,null,null,null,null,60.55,43.25,null,null,null,null,null,null,null,null,68.949999999999974,49.249999999999986,null,null,null,null,null,null,null,null,71.749999999999972,51.249999999999986,null,null,null,null,null,null,null,null,80.149999999999977,57.249999999999986,null,null,null,null,null,null,null,null,89.949999999999974,64.249999999999986,null,null,null,null,null,null,null,null,99.844499999999982,71.317499999999995,null,null,null,null,null,null,null,null,109.82895000000001,78.449250000000006,null,null,null,null,null,null,null,null,119.71355550000003,85.509682500000025]
[null,null,null,null,null,null,null,null,null,null,null,null,null,null,null,64,null,32.479999999999997,23.2,null,null,null,null,null,null,null,null,null,38.173333333333332,27.266666666666666,null,null,null,null,null,null,null,null,null,45.173333333333332,32.266666666666666,null,null,null,null,null,null,null,null,53.573333333333331,38.266666666666666,null,null,null,null,null,null,null,null,60.666666666666664,43.333333333333336,null,null,null,null,null,null,null,null,69.066666666666634,49.333333333333314,null,null,null,null,null,null,null,null,71.866666666666632,51.333333333333314,null,null,null,null,null,null,null,null,80.266666666666637,57.333333333333314,null,null,null,null,null,null,null,null,90.066666666666634,64.333333333333314,null,null,null,null,null,null,null,null,99.973999999999975,71.409999999999982,null,null,null,null,null,null,null,null,109.9714,78.551000000000002,null,null,null,null,null,null,null,null,119.86882600000003,85.620590000000021]
[null,null,null,null,null,null,null,null,null,null,null,null,null,null,null,65,null,32.549999999999997,{"$f":"R102/1.4","v":23.25},null,null,null,null,null,null,null,null,null,38.266666666666666,{"$f":"AC102/1.4","v":27.333333333333336},null,null,null,null,null,null,null,null,null,45.266666666666666,{"$f":"AN102/1.4","v":32.333333333333336},null,null,null,null,null,null,null,null,53.666666666666664,{"$f":"AX102/1.4","v":38.333333333333336},null,null,null,null,null,null,null,null,60.783333333333331,{"$f":"BH102/1.4","v":43.416666666666671},null,null,null,null,null,null,null,null,69.183333333333294,{"$f":"BR102/1.4","v":49.416666666666643},null,null,null,null,null,null,null,null,71.983333333333292,{"$f":"CB102/1.4","v":51.416666666666643},null,null,null,null,null,null,null,null,80.383333333333297,{"$f":"CL102/1.4","v":57.416666666666643},null,null,null,null,null,null,null,null,90.183333333333294,{"$f":"CV102/1.4","v":64.416666666666643},null,null,null,null,null,null,null,null,100.10349999999997,{"$f":"DF102/1.4","v":71.502499999999984},null,null,null,null,null,null,null,null,110.11385,{"$f":"DP102/1.4","v":78.652749999999997},null,null,null,null,null,null,null,null,120.02409650000003,{"$f":"DZ102/1.4","v":85.731497500000032}]
[null,null,null,null,null,null,null,null,null,null,null,null,null,null,null,66,null,32.619999999999997,23.3,null,null,null,null,null,null,null,null,null,38.36,27.400000000000002,null,null,null,null,null,null,null,null,null,45.36,32.4,null,null,null,null,null,null,null,null,53.76,38.4,null,null,null,null,null,null,null,null,60.9,43.5,null,null,null,null,null,null,null,null,69.299999999999955,49.499999999999972,null,null,null,null,null,null,null,null,72.099999999999952,51.499999999999972,null,null,null,null,null,null,null,null,80.499999999999957,57.499999999999972,null,null,null,null,null,null,null,null,90.299999999999955,64.499999999999972,null,null,null,null,null,null,null,null,100.23299999999996,71.59499999999997,null,null,null,null,null,null,null,null,110.2563,78.754500000000007,null,null,null,null,null,null,null,null,120.17936700000003,85.842405000000028]
[null,null,null,null,null,null,null,null,null,null,null,null,null,null,null,67,null,32.69,23.35,null,null,null,null,null,null,null,null,null,38.453333333333333,27.466666666666669,null,null,null,null,null,null,null,null,null,45.453333333333333,32.466666666666669,null,null,null,null,null,null,null,null,53.853333333333332,38.466666666666669,null,null,null,null,null,null,null,null,61.016666666666666,43.583333333333336,null,null,null,null,null,null,null,null,69.416666666666615,49.5833333333333,null,null,null,null,null,null,null,null,72.216666666666612,51.5833333333333,null,null,null,null,null,null,null,null,80.616666666666617,57.5833333333333,null,null,null,null,null,null,null,null,90.416666666666615,64.5833333333333,null,null,null,null,null,null,null,null,100.36249999999995,71.687499999999972,null,null,null,null,null,null,null,null,110.39874999999999,78.856250000000003,null,null,null,null,null,null,null,null,120.33463750000003,85.953312500000024]
[null,null,null,null,null,null,null,null,null,null,null,null,null,null,null,68,null,32.76,23.4,null,null,null,null,null,null,null,null,null,38.546666666666667,27.533333333333335,null,null,null,null,null,null,null,null,null,45.546666666666667,32.533333333333339,null,null,null,null,null,null,null,null,53.946666666666665,38.533333333333331,null,null,null,null,null,null,null,null,61.133333333333333,43.666666666666671,null,null,null,null,null,null,null,null,69.533333333333275,49.666666666666629,null,null,null,null,null,null,null,null,72.333333333333272,51.666666666666629,null,null,null,null,null,null,null,null,80.733333333333277,57.666666666666629,null,null,null,null,null,null,null,null,90.533333333333275,64.666666666666629,null,null,null,null,null,null,null,null,100.49199999999995,71.779999999999973,null,null,null,null,null,null,null,null,110.54119999999999,78.957999999999998,null,null,null,null,null,null,null,null,120.48990800000003,86.06422000000002]
[null,null,null,null,null,null,null,null,null,null,null,null,null,null,null,69,null,32.83,23.45,null,null,null,null,null,null,null,null,null,38.64,27.6,null,null,null,null,null,null,null,null,null,45.64,32.6,null,null,null,null,null,null,null,null,54.04,38.6,null,null,null,null,null,null,null,null,61.25,43.75,null,null,null,null,null,null,null,null,69.649999999999935,49.749999999999957,null,null,null,null,null,null,null,null,72.449999999999932,51.749999999999957,null,null,null,null,null,null,null,null,80.849999999999937,57.749999999999957,null,null,null,null,null,null,null,null,90.649999999999935,64.749999999999957,null,null,null,null,null,null,null,null,100.62149999999994,71.87249999999996,null,null,null,null,null,null,null,null,110.68364999999999,79.059749999999994,null,null,null,null,null,null,null,null,120.64517850000003,86.175127500000031]
[null,null,null,null,null,null,null,null,null,null,null,null,null,null,null,70,null,32.9,23.5,null,null,null,null,null,null,null,null,null,38.733333333333334,27.666666666666668,null,null,null,null,null,null,null,null,null,45.733333333333334,32.666666666666671,null,null,null,null,null,null,null,null,54.133333333333333,38.666666666666671,null,null,null,null,null,null,null,null,61.366666666666667,43.833333333333336,null,null,null,null,null,null,null,null,69.766666666666595,49.833333333333286,null,null,null,null,null,null,null,null,72.566666666666592,51.833333333333286,null,null,null,null,null,null,null,null,80.966666666666598,57.833333333333286,null,null,null,null,null,null,null,null,90.766666666666595,64.833333333333286,null,null,null,null,null,null,null,null,100.75099999999993,71.964999999999961,null,null,null,null,null,null,null,null,110.82609999999998,79.16149999999999,null,null,null,null,null,null,null,null,120.80044900000003,86.286035000000027]
[null,null,null,null,null,null,null,null,null,null,null,null,null,null,null,71,null,32.97,23.55,null,null,null,null,null,null,null,null,null,38.826666666666668,27.733333333333334,null,null,null,null,null,null,null,null,null,45.826666666666668,32.733333333333334,null,null,null,null,null,null,null,null,54.226666666666667,38.733333333333334,null,null,null,null,null,null,null,null,61.483333333333334,43.916666666666671,null,null,null,null,null,null,null,null,69.883333333333255,49.916666666666615,null,null,null,null,null,null,null,null,72.683333333333252,51.916666666666615,null,null,null,null,null,null,null,null,81.083333333333258,57.916666666666615,null,null,null,null,null,null,null,null,90.883333333333255,64.916666666666615,null,null,null,null,null,null,null,null,100.88049999999993,72.057499999999948,null,null,null,null,null,null,null,null,110.96854999999998,79.263249999999985,null,null,null,null,null,null,null,null,120.95571950000003,86.396942500000023]
[null,null,null,null,null,null,null,null,null,null,null,null,null,null,null,72,null,33.04,23.6,null,null,null,null,null,null,null,null,null,38.92,27.800000000000004,null,null,null,null,null,null,null,null,null,45.92,32.800000000000004,null,null,null,null,null,null,null,null,54.32,38.800000000000004,null,null,null,null,null,null,null,null,61.6,44.000000000000007,null,null,null,null,null,null,null,null,69.999999999999915,49.999999999999943,null,null,null,null,null,null,null,null,72.799999999999912,51.999999999999943,null,null,null,null,null,null,null,null,81.199999999999918,57.999999999999943,null,null,null,null,null,null,null,null,90.999999999999915,64.999999999999943,null,null,null,null,null,null,null,null,101.00999999999992,72.149999999999949,null,null,null,null,null,null,null,null,111.11099999999998,79.364999999999981,null,null,null,null,null,null,null,null,121.11099000000003,86.507850000000033]
[null,null,null,null,null,null,null,null,null,null,null,null,null,null,null,73,null,33.11,23.650000000000002,null,null,null,null,null,null,null,null,null,39.013333333333335,27.866666666666671,null,null,null,null,null,null,null,null,null,46.013333333333335,32.866666666666667,null,null,null,null,null,null,null,null,54.413333333333334,38.866666666666667,null,null,null,null,null,null,null,null,61.716666666666669,44.083333333333336,null,null,null,null,null,null,null,null,70.116666666666575,50.083333333333272,null,null,null,null,null,null,null,null,72.916666666666572,52.083333333333272,null,null,null,null,null,null,null,null,81.316666666666578,58.083333333333272,null,null,null,null,null,null,null,null,91.116666666666575,65.083333333333272,null,null,null,null,null,null,null,null,101.13949999999991,72.242499999999936,null,null,null,null,null,null,null,null,111.25344999999997,79.46674999999999,null,null,null,null,null,null,null,null,121.26626050000003,86.618757500000029]
[null,null,null,null,null,null,null,null,null,null,null,null,null,null,null,74,null,33.18,23.700000000000003,null,null,null,null,null,null,null,null,null,39.106666666666669,27.933333333333337,null,null,null,null,null,null,null,null,null,46.106666666666669,32.933333333333337,null,null,null,null,null,null,null,null,54.506666666666668,38.933333333333337,null,null,null,null,null,null,null,null,61.833333333333336,44.166666666666671,null,null,null,null,null,null,null,null,70.233333333333235,50.1666666666666,null,null,null,null,null,null,null,null,73.033333333333232,52.1666666666666,null,null,null,null,null,null,null,null,81.433333333333238,58.1666666666666,null,null,null,null,null,null,null,null,91.233333333333235,65.1666666666666,null,null,null,null,null,null,null,null,101.26899999999991,72.334999999999937,null,null,null,null,null,null,null,null,111.39589999999997,79.568499999999986,null,null,null,null,null,null,null,null,121.42153100000003,86.729665000000026]
[null,null,null,null,null,null,null,null,null,null,null,null,null,null,null,75,null,33.25,23.75,null,null,null,null,null,null,null,null,null,39.199999999999996,28,null,null,null,null,null,null,null,null,null,46.199999999999996,33,null,null,null,null,null,null,null,null,54.599999999999994,39,null,null,null,null,null,null,null,null,61.949999999999996,44.25,null,null,null,null,null,null,null,null,70.349999999999994,50.25,null,null,null,null,null,null,null,null,73.149999999999991,52.25,null,null,null,null,null,null,null,null,81.55,58.25,null,null,null,null,null,null,null,null,91.35,65.25,null,null,null,null,null,null,null,null,101.3985,72.427500000000009,null,null,null,null,null,null,null,null,111.53835000000001,79.67025000000001,null,null,null,null,null,null,null,null,121.57680150000003,86.840572500000022]
[null,null,null,null,null,null,null,null,null,null,null,null,null,null,null,120,null,null,null,37.166487786588299,null,null,null,null,null,null,null,null,null,null,44.588040858770917,null,null,null,null,null,null,null,null,null,null,53.556675835406821,null,null,null,null,null,null,null,null,null,68.561708479169198,null,null,null,null,null,null,null,null,null,82.991042535911788,null,null,null,null,null,null,null,null,null,98.622226843854094,null,null,null,null,null,null,null,null,null,104.89623221697039,null,null,null,null,null,null,null,null,null,127.26525057919896,null,null,null,null,null,null,null,null,null,154.76438739993822]

{"sheet":"Inrichtingskosten","index":7,"n_rows":707,"n_cols":13,"rows_kept":707,"cut":false,"hidden":false,"merged":[[4,10,5,12]]}
["Database: Inrichtingskosten",null,null,null,null,null,null,"Invoer indexfactort"]
[null,null,null,null,null,null,null,2015,1]
["Versie: 11-02-2023",null,null,null,null,null,null,2016,1.01]
["Hogeschool van Amsterdam",null,null,null,null,null,null,2017,1.0201]
["Indexfactor",{"$f":"Introductie!C7","v":2015},{"$f":"VLOOKUP(B5,H2:I5,2)","v":1},null,null,null,null,2018,1.0303009999999999,null,"Eigenwaarde"]
[]
[null,null,null,null,null,null,null,"Prijs per eenheid","Indexprijs",null,"Eigenwaarde","Eigenwaarde","Eigenwaarde"]
["Algemene categorie","Kostencategorie","Object","Kenmerk","Soort","Maatregel","Eenheid",2015,{"$f":"B5","v":2015},"Bron","Prijs","Uitgangspunt","Bron"]
["Elementen verharding","Aanleg","Asfaltverharding",null,"A,MA,ME","Verharding aanbrengen","m²",50,{"$f":"IF(Invoer!$D$8=\"Aan\",IF($K9>0,$K9,($H9*Indexfactor_1)),($H9*Indexfactor_1))","v":50},"Conform D1100 03-2015"]
["Elementen verharding","Verwijderen","Asfaltverharding",null,"A,MA,ME","Verharding verwijderen","m²",5,{"$f":"IF(Invoer!$D$8=\"Aan\",IF($K10>0,$K10,($H10*Indexfactor_1)),($H10*Indexfactor_1))","v":5},"Conform D1100 03-2015"]
["Elementen verharding","Vervangen","Asfaltverharding",null,"A,MA,ME","Verharding verwijderen en aanbrengen","m²",55,{"$f":"IF(Invoer!$D$8=\"Aan\",IF($K11>0,$K11,($H11*Indexfactor_1)),($H11*Indexfactor_1))","v":55},"Conform D1100 03-2015"]
["Groenvoorziening","Aanleg","Boom in beplanting",null,"A,MA,ME","Aanvoer + verwerken","st",180,{"$f":"IF(Invoer!$D$8=\"Aan\",IF($K12>0,$K12,($H12*Indexfactor_1)),($H12*Indexfactor_1))","v":180},"Ervaringscijfer gemeente Almere 2015"]
["Groenvoorziening","Vervangen","Boom in beplanting",null,"A,MA,ME","Aanvoer + verwerken","st",180,{"$f":"IF(Invoer!$D$8=\"Aan\",IF($K13>0,$K13,($H13*Indexfactor_1)),($H13*Indexfactor_1))","v":180},"Ervaringscijfer gemeente Almere 2015"]
["Groenvoorziening","Vervangen","Boom in beplanting",null,"A,ME","Verwijderen","st",100,{"$f":"IF(Invoer!$D$8=\"Aan\",IF($K14>0,$K14,($H14*Indexfactor_1)),($H14*Indexfactor_1))","v":100},"Ervaringscijfer gemeente Almere 2015"]
["Groenvoorziening","Verwijderen","Boom in beplanting",null,"A,ME","Verwijderen","st",100,{"$f":"IF(Invoer!$D$8=\"Aan\",IF($K15>0,$K15,($H15*Indexfactor_1)),($H15*Indexfactor_1))","v":100},"Ervaringscijfer gemeente Almere 2015"]
["Groenvoorziening","Aanleg","Boom in gazon",null,"A,MA,ME","Aanvoer + verwerken","st",180,{"$f":"IF(Invoer!$D$8=\"Aan\",IF($K16>0,$K16,($H16*Indexfactor_1)),($H16*Indexfactor_1))","v":180},"Ervaringscijfer gemeente Almere 2015"]
["Groenvoorziening","Vervangen","Boom in gazon",null,"A,MA,ME","Aanvoer + verwerken","st",180,{"$f":"IF(Invoer!$D$8=\"Aan\",IF($K17>0,$K17,($H17*Indexfactor_1)),($H17*Indexfactor_1))","v":180},"Ervaringscijfer gemeente Almere 2015"]
["Groenvoorziening","Vervangen","Boom in gazon",null,"A,ME","Verwijderen","st",100,{"$f":"IF(Invoer!$D$8=\"Aan\",IF($K18>0,$K18,($H18*Indexfactor_1)),($H18*Indexfactor_1))","v":100},"Ervaringscijfer gemeente Almere 2015"]
["Groenvoorziening","Verwijderen","Boom in gazon",null,"A,ME","Verwijderen","st",100,{"$f":"IF(Invoer!$D$8=\"Aan\",IF($K19>0,$K19,($H19*Indexfactor_1)),($H19*Indexfactor_1))","v":100},"Ervaringscijfer gemeente Almere 2015"]
["Groenvoorziening","Aanleg","Boom in verharding",null,"A,MA,ME","Aanvoer + verwerken","st",180,{"$f":"IF(Invoer!$D$8=\"Aan\",IF($K20>0,$K20,($H20*Indexfactor_1)),($H20*Indexfactor_1))","v":180},"Ervaringscijfer gemeente Almere 2015"]
["Groenvoorziening","Vervangen","Boom in verharding",null,"A,MA,ME","Aanvoer + verwerken","st",180,{"$f":"IF(Invoer!$D$8=\"Aan\",IF($K21>0,$K21,($H21*Indexfactor_1)),($H21*Indexfactor_1))","v":180},"Ervaringscijfer gemeente Almere 2015"]
["Groenvoorziening","Vervangen","Boom in verharding",null,"A,ME","Verwijderen","st",100,{"$f":"IF(Invoer!$D$8=\"Aan\",IF($K22>0,$K22,($H22*Indexfactor_1)),($H22*Indexfactor_1))","v":100},"Ervaringscijfer gemeente Almere 2015"]
["Groenvoorziening","Verwijderen","Boom in verharding",null,"A,ME","Verwijderen","st",100,{"$f":"IF(Invoer!$D$8=\"Aan\",IF($K23>0,$K23,($H23*Indexfactor_1)),($H23*Indexfactor_1))","v":100},"Ervaringscijfer gemeente Almere 2015"]
["Groenvoorziening","Vervangen","Bosplantsoen",null,"A","Planten door hovenier","m²",2.31,{"$f":"IF(Invoer!$D$8=\"Aan\",IF($K24>0,$K24,($H24*Indexfactor_1)),($H24*Indexfactor_1))","v":2.31},"Conform Bouwkostenonline 2016, van bouwformatie.nl, nb; afgeschermd tot er duidelijkheid is over openbaar maken van deze gegevens.`"]
["Groenvoorziening","Vervangen","Bosplantsoen",null,"A","Lossen en inkuilen plantmateriaal","m²",1.85,{"$f":"IF(Invoer!$D$8=\"Aan\",IF($K25>0,$K25,($H25*Indexfactor_1)),($H25*Indexfactor_1))","v":1.85},"Conform Bouwkostenonline 2016, van bouwformatie.nl, nb; afgeschermd tot er duidelijkheid is over openbaar maken van deze gegevens.`"]
["Groenvoorziening","Vervangen","Bosplantsoen",null,"A","Afvoeren en ontgraven plantmateriaal","m²",8.33,{"$f":"IF(Invoer!$D$8=\"Aan\",IF($K26>0,$K26,($H26*Indexfactor_1)),($H26*Indexfactor_1))","v":8.33},"Conform Bouwkostenonline 2016, van bouwformatie.nl, nb; afgeschermd tot er duidelijkheid is over openbaar maken van deze gegevens.`"]
["Groenvoorziening","Vervangen","Bosplantsoen",null,"ME","Afvoeren en ontgraven plantmateriaal","m²",9.36,{"$f":"IF(Invoer!$D$8=\"Aan\",IF($K27>0,$K27,($H27*Indexfactor_1)),($H27*Indexfactor_1))","v":9.36},"Conform Bouwkostenonline 2016, van bouwformatie.nl, nb; afgeschermd tot er duidelijkheid is over openbaar maken van deze gegevens.`"]
["Groenvoorziening","Verwijderen","Bosplantsoen",null,"A","Afvoeren en ontgraven plantmateriaal","m²",8.33,{"$f":"IF(Invoer!$D$8=\"Aan\",IF($K28>0,$K28,($H28*Indexfactor_1)),($H28*Indexfactor_1))","v":8.33},"Conform Bouwkostenonline 2016, van bouwformatie.nl, nb; afgeschermd tot er duidelijkheid is over openbaar maken van deze gegevens.`"]
["Groenvoorziening","Verwijderen","Bosplantsoen",null,"ME","Afvoeren en ontgraven plantmateriaal","m²",9.36,{"$f":"IF(Invoer!$D$8=\"Aan\",IF($K29>0,$K29,($H29*Indexfactor_1)),($H29*Indexfactor_1))","v":9.36},"Conform Bouwkostenonline 2016, van bouwformatie.nl, nb; afgeschermd tot er duidelijkheid is over openbaar maken van deze gegevens.`"]
["Riolering","Aanleg","Buis beton 1000","Gewapend","MA","Materiaal","m",146.00285959836057,{"$f":"IF(Invoer!$D$8=\"Aan\",IF($K30>0,$K30,($H30*Indexfactor_1)),($H30*Indexfactor_1))","v":146.00285959836057},"Conform D1100 03-2015"]
["Riolering","Aanleg","Buis beton 1000","Gewapend","A","Leggen","m",14.175034912462191,{"$f":"IF(Invoer!$D$8=\"Aan\",IF($K31>0,$K31,($H31*Indexfactor_1)),($H31*Indexfactor_1))","v":14.175034912462191},"Conform D1100 03-2015"]
["Riolering","Aanleg","Buis beton 1000","Gewapend","A,MA,ME","Grondverzet","m",76.545188527295835,{"$f":"IF(Invoer!$D$8=\"Aan\",IF($K32>0,$K32,($H32*Indexfactor_1)),($H32*Indexfactor_1))","v":76.545188527295835},"Conform D1100 03-2015"]
["Riolering","Aanleg","Buis beton 1000","Gewapend","MA","Aankoop nieuwe grond","m",14.175034912462191,{"$f":"IF(Invoer!$D$8=\"Aan\",IF($K33>0,$K33,($H33*Indexfactor_1)),($H33*Indexfactor_1))","v":14.175034912462191},"Conform D1100 03-2015"]
["Riolering","Aanleg","Buis beton 1000","Gewapend","A,MA,ME","Fundering buis","m",12.757531421215973,{"$f":"IF(Invoer!$D$8=\"Aan\",IF($K34>0,$K34,($H34*Indexfactor_1)),($H34*Indexfactor_1))","v":12.757531421215973},"Conform D1100 03-2015"]
["Riolering","Vervangen","Buis beton 1000","Gewapend","MA","Materiaal","m",146.00285959836057,{"$f":"IF(Invoer!$D$8=\"Aan\",IF($K35>0,$K35,($H35*Indexfactor_1)),($H35*Indexfactor_1))","v":146.00285959836057},"Conform D1100 03-2015"]
["Riolering","Vervangen","Buis beton 1000","Gewapend","A","Plaatsen","m",14.175034912462191,{"$f":"IF(Invoer!$D$8=\"Aan\",IF($K36>0,$K36,($H36*Indexfactor_1)),($H36*Indexfactor_1))","v":14.175034912462191},"Conform D1100 03-2015"]
["Riolering","Vervangen","Buis beton 1000","Gewapend","A,MA,ME","Verwijderen","m",11.340027929969754,{"$f":"IF(Invoer!$D$8=\"Aan\",IF($K37>0,$K37,($H37*Indexfactor_1)),($H37*Indexfactor_1))","v":11.340027929969754},"Conform D1100 03-2015"]
["Riolering","Vervangen","Buis beton 1000","Gewapend","A,MA,ME","Verwerking van puin","m",111.98277580845132,{"$f":"IF(Invoer!$D$8=\"Aan\",IF($K38>0,$K38,($H38*Indexfactor_1)),($H38*Indexfactor_1))","v":111.98277580845132},"Conform D1100 03-2015"]
["Riolering","Vervangen","Buis beton 1000","Gewapend","A,ME","Grondverzet","m",77.962692018542057,{"$f":"IF(Invoer!$D$8=\"Aan\",IF($K39>0,$K39,($H39*Indexfactor_1)),($H39*Indexfactor_1))","v":77.962692018542057},"Conform D1100 03-2015"]
["Riolering","Vervangen","Buis beton 1000","Gewapend","MA","Aankoop nieuwe grond","m",15.592538403708412,{"$f":"IF(Invoer!$D$8=\"Aan\",IF($K40>0,$K40,($H40*Indexfactor_1)),($H40*Indexfactor_1))","v":15.592538403708412},"Conform D1100 03-2015"]
["Riolering","Vervangen","Buis beton 1000","Gewapend","A,MA,ME","Fundering buis","m",12.757531421215973,{"$f":"IF(Invoer!$D$8=\"Aan\",IF($K41>0,$K41,($H41*Indexfactor_1)),($H41*Indexfactor_1))","v":12.757531421215973},"Conform D1100 03-2015"]
["Riolering","Verwijderen","Buis beton 1000","Gewapend","A,MA,ME","Verwijderen","m",11.340027929969754,{"$f":"IF(Invoer!$D$8=\"Aan\",IF($K42>0,$K42,($H42*Indexfactor_1)),($H42*Indexfactor_1))","v":11.340027929969754},"Conform D1100 03-2015"]
["Riolering","Verwijderen","Buis beton 1000","Gewapend","A,MA,ME","Verwerking van puin","m",111.98277580845132,{"$f":"IF(Invoer!$D$8=\"Aan\",IF($K43>0,$K43,($H43*Indexfactor_1)),($H43*Indexfactor_1))","v":111.98277580845132},"Conform D1100 03-2015"]
["Riolering","Verwijderen","Buis beton 1000","Gewapend","A,ME","Grondverzet","m",77.962692018542057,{"$f":"IF(Invoer!$D$8=\"Aan\",IF($K44>0,$K44,($H44*Indexfactor_1)),($H44*Indexfactor_1))","v":77.962692018542057},"Conform D1100 03-2015"]
["Riolering","Verwijderen","Buis beton 1000","Gewapend","MA","Aankoop nieuwe grond","m",15.592538403708412,{"$f":"IF(Invoer!$D$8=\"Aan\",IF($K45>0,$K45,($H45*Indexfactor_1)),($H45*Indexfactor_1))","v":15.592538403708412},"Conform D1100 03-2015"]
["Riolering","Aanleg","Buis beton 1250","Gewapend","MA","Materiaal","m",195.26817902496427,{"$f":"IF(Invoer!$D$8=\"Aan\",IF($K46>0,$K46,($H46*Indexfactor_1)),($H46*Indexfactor_1))","v":195.26817902496427},"Conform D1100 03-2015"]
["Riolering","Aanleg","Buis beton 1250","Gewapend","A","Leggen","m",18.958075633491678,{"$f":"IF(Invoer!$D$8=\"Aan\",IF($K47>0,$K47,($H47*Indexfactor_1)),($H47*Indexfactor_1))","v":18.958075633491678},"Conform D1100 03-2015"]
["Riolering","Aanleg","Buis beton 1250","Gewapend","A,MA,ME","Grondverzet","m",102.37360842085506,{"$f":"IF(Invoer!$D$8=\"Aan\",IF($K48>0,$K48,($H48*Indexfactor_1)),($H48*Indexfactor_1))","v":102.37360842085506},"Conform D1100 03-2015"]
["Riolering","Aanleg","Buis beton 1250","Gewapend","MA","Aankoop nieuwe grond","m",18.958075633491678,{"$f":"IF(Invoer!$D$8=\"Aan\",IF($K49>0,$K49,($H49*Indexfactor_1)),($H49*Indexfactor_1))","v":18.958075633491678},"Conform D1100 03-2015"]
["Riolering","Aanleg","Buis beton 1250","Gewapend","A,MA,ME","Fundering buis","m",17.062268070142508,{"$f":"IF(Invoer!$D$8=\"Aan\",IF($K50>0,$K50,($H50*Indexfactor_1)),($H50*Indexfactor_1))","v":17.062268070142508},"Conform D1100 03-2015"]
["Riolering","Vervangen","Buis beton 1250","Gewapend","MA","Materiaal","m",195.26817902496427,{"$f":"IF(Invoer!$D$8=\"Aan\",IF($K51>0,$K51,($H51*Indexfactor_1)),($H51*Indexfactor_1))","v":195.26817902496427},"Conform D1100 03-2015"]
["Riolering","Vervangen","Buis beton 1250","Gewapend","A","Plaatsen","m",18.958075633491678,{"$f":"IF(Invoer!$D$8=\"Aan\",IF($K52>0,$K52,($H52*Indexfactor_1)),($H52*Indexfactor_1))","v":18.958075633491678},"Conform D1100 03-2015"]
["Riolering","Vervangen","Buis beton 1250","Gewapend","A,MA,ME","Verwijderen","m",15.166460506793342,{"$f":"IF(Invoer!$D$8=\"Aan\",IF($K53>0,$K53,($H53*Indexfactor_1)),($H53*Indexfactor_1))","v":15.166460506793342},"Conform D1100 03-2015"]
["Riolering","Vervangen","Buis beton 1250","Gewapend","A,MA,ME","Verwerking van puin","m",149.76879750458426,{"$f":"IF(Invoer!$D$8=\"Aan\",IF($K54>0,$K54,($H54*Indexfactor_1)),($H54*Indexfactor_1))","v":149.76879750458426},"Conform D1100 03-2015"]
["Riolering","Vervangen","Buis beton 1250","Gewapend","A,ME","Grondverzet","m",104.26941598420423,{"$f":"IF(Invoer!$D$8=\"Aan\",IF($K55>0,$K55,($H55*Indexfactor_1)),($H55*Indexfactor_1))","v":104.26941598420423},"Conform D1100 03-2015"]
["Riolering","Vervangen","Buis beton 1250","Gewapend","MA","Aankoop nieuwe grond","m",20.853883196840847,{"$f":"IF(Invoer!$D$8=\"Aan\",IF($K56>0,$K56,($H56*Indexfactor_1)),($H56*Indexfactor_1))","v":20.853883196840847},"Conform D1100 03-2015"]
["Riolering","Vervangen","Buis beton 1250","Gewapend","A,MA,ME","Fundering buis","m",17.062268070142508,{"$f":"IF(Invoer!$D$8=\"Aan\",IF($K57>0,$K57,($H57*Indexfactor_1)),($H57*Indexfactor_1))","v":17.062268070142508},"Conform D1100 03-2015"]
["Riolering","Verwijderen","Buis beton 1250","Gewapend","A,MA,ME","Verwijderen","m",15.166460506793342,{"$f":"IF(Invoer!$D$8=\"Aan\",IF($K58>0,$K58,($H58*Indexfactor_1)),($H58*Indexfactor_1))","v":15.166460506793342},"Conform D1100 03-2015"]
["Riolering","Verwijderen","Buis beton 1250","Gewapend","A,MA,ME","Verwerking van puin","m",149.76879750458426,{"$f":"IF(Invoer!$D$8=\"Aan\",IF($K59>0,$K59,($H59*Indexfactor_1)),($H59*Indexfactor_1))","v":149.76879750458426},"Conform D1100 03-2015"]
["Riolering","Verwijderen","Buis beton 1250","Gewapend","A,ME","Grondverzet","m",104.26941598420423,{"$f":"IF(Invoer!$D$8=\"Aan\",IF($K60>0,$K60,($H60*Indexfactor_1)),($H60*Indexfactor_1))","v":104.26941598420423},"Conform D1100 03-2015"]
["Riolering","Verwijderen","Buis beton 1250","Gewapend","MA","Aankoop nieuwe grond","m",20.853883196840847,{"$f":"IF(Invoer!$D$8=\"Aan\",IF($K61>0,$K61,($H61*Indexfactor_1)),($H61*Indexfactor_1))","v":20.853883196840847},"Conform D1100 03-2015"]
["Riolering","Aanleg","Buis beton 300","Ongewapend","MA","Materiaal","m",14,{"$f":"IF(Invoer!$D$8=\"Aan\",IF($K62>0,$K62,($H62*Indexfactor_1)),($H62*Indexfactor_1))","v":14},"Conform D1100 03-2015"]
["Riolering","Aanleg","Buis beton 300","Ongewapend","A","Leggen","m",6,{"$f":"IF(Invoer!$D$8=\"Aan\",IF($K63>0,$K63,($H63*Indexfactor_1)),($H63*Indexfactor_1))","v":6},"Conform D1100 03-2015"]
["Riolering","Aanleg","Buis beton 300","Ongewapend","A,MA,ME","Grondverzet","m",21,{"$f":"IF(Invoer!$D$8=\"Aan\",IF($K64>0,$K64,($H64*Indexfactor_1)),($H64*Indexfactor_1))","v":21},"Conform D1100 03-2015"]
["Riolering","Aanleg","Buis beton 300","Ongewapend","MA","Aankoop nieuwe grond","m",4,{"$f":"IF(Invoer!$D$8=\"Aan\",IF($K65>0,$K65,($H65*Indexfactor_1)),($H65*Indexfactor_1))","v":4},"Conform D1100 03-2015"]
["Riolering","Aanleg","Buis beton 300","Ongewapend","A,MA,ME","Fundering buis","m",9,{"$f":"IF(Invoer!$D$8=\"Aan\",IF($K66>0,$K66,($H66*Indexfactor_1)),($H66*Indexfactor_1))","v":9},"Conform D1100 03-2015"]
["Riolering","Vervangen","Buis beton 300","Ongewapend","MA","Materiaal","m",14,{"$f":"IF(Invoer!$D$8=\"Aan\",IF($K67>0,$K67,($H67*Indexfactor_1)),($H67*Indexfactor_1))","v":14},"Conform D1100 03-2015"]
["Riolering","Vervangen","Buis beton 300","Ongewapend","A","Plaatsen","m",6,{"$f":"IF(Invoer!$D$8=\"Aan\",IF($K68>0,$K68,($H68*Indexfactor_1)),($H68*Indexfactor_1))","v":6},"Conform D1100 03-2015"]
["Riolering","Vervangen","Buis beton 300","Ongewapend","A,MA,ME","Verwijderen","m",4,{"$f":"IF(Invoer!$D$8=\"Aan\",IF($K69>0,$K69,($H69*Indexfactor_1)),($H69*Indexfactor_1))","v":4},"Conform D1100 03-2015"]
["Riolering","Vervangen","Buis beton 300","Ongewapend","A,MA,ME","Verwerking van puin","m",23,{"$f":"IF(Invoer!$D$8=\"Aan\",IF($K70>0,$K70,($H70*Indexfactor_1)),($H70*Indexfactor_1))","v":23},"Conform D1100 03-2015"]
["Riolering","Vervangen","Buis beton 300","Ongewapend","A,ME","Grondverzet","m",22,{"$f":"IF(Invoer!$D$8=\"Aan\",IF($K71>0,$K71,($H71*Indexfactor_1)),($H71*Indexfactor_1))","v":22},"Conform D1100 03-2015"]
["Riolering","Vervangen","Buis beton 300","Ongewapend","MA","Aankoop nieuwe grond","m",4,{"$f":"IF(Invoer!$D$8=\"Aan\",IF($K72>0,$K72,($H72*Indexfactor_1)),($H72*Indexfactor_1))","v":4},"Conform D1100 03-2015"]
["Riolering","Vervangen","Buis beton 300","Ongewapend","A,MA,ME","Fundering buis","m",9,{"$f":"IF(Invoer!$D$8=\"Aan\",IF($K73>0,$K73,($H73*Indexfactor_1)),($H73*Indexfactor_1))","v":9},"Conform D1100 03-2015"]
["Riolering","Verwijderen","Buis beton 300","Ongewapend","A,MA,ME","Verwijderen","m",4,{"$f":"IF(Invoer!$D$8=\"Aan\",IF($K74>0,$K74,($H74*Indexfactor_1)),($H74*Indexfactor_1))","v":4},"Conform D1100 03-2015"]
["Riolering","Verwijderen","Buis beton 300","Ongewapend","A,MA,ME","Verwerking van puin","m",23,{"$f":"IF(Invoer!$D$8=\"Aan\",IF($K75>0,$K75,($H75*Indexfactor_1)),($H75*Indexfactor_1))","v":23},"Conform D1100 03-2015"]
["Riolering","Verwijderen","Buis beton 300","Ongewapend","A,ME","Grondverzet","m",22,{"$f":"IF(Invoer!$D$8=\"Aan\",IF($K76>0,$K76,($H76*Indexfactor_1)),($H76*Indexfactor_1))","v":22},"Conform D1100 03-2015"]
["Riolering","Verwijderen","Buis beton 300","Ongewapend","MA","Aankoop nieuwe grond","m",4,{"$f":"IF(Invoer!$D$8=\"Aan\",IF($K77>0,$K77,($H77*Indexfactor_1)),($H77*Indexfactor_1))","v":4},"Conform D1100 03-2015"]
["Riolering","Aanleg","Buis beton 400","Ongewapend","MA","Materiaal","m",16.516317788791088,{"$f":"IF(Invoer!$D$8=\"Aan\",IF($K78>0,$K78,($H78*Indexfactor_1)),($H78*Indexfactor_1))","v":16.516317788791088},"Conform D1100 03-2015"]
["Riolering","Aanleg","Buis beton 400","Ongewapend","A","Leggen","m",7.0784219094818948,{"$f":"IF(Invoer!$D$8=\"Aan\",IF($K79>0,$K79,($H79*Indexfactor_1)),($H79*Indexfactor_1))","v":7.0784219094818948},"Conform D1100 03-2015"]
["Riolering","Aanleg","Buis beton 400","Ongewapend","A,MA,ME","Grondverzet","m",24.774476683186634,{"$f":"IF(Invoer!$D$8=\"Aan\",IF($K80>0,$K80,($H80*Indexfactor_1)),($H80*Indexfactor_1))","v":24.774476683186634},"Conform D1100 03-2015"]
["Riolering","Aanleg","Buis beton 400","Ongewapend","MA","Aankoop nieuwe grond","m",4.7189479396545968,{"$f":"IF(Invoer!$D$8=\"Aan\",IF($K81>0,$K81,($H81*Indexfactor_1)),($H81*Indexfactor_1))","v":4.7189479396545968},"Conform D1100 03-2015"]
["Riolering","Aanleg","Buis beton 400","Ongewapend","A,MA,ME","Fundering buis","m",10.617632864222843,{"$f":"IF(Invoer!$D$8=\"Aan\",IF($K82>0,$K82,($H82*Indexfactor_1)),($H82*Indexfactor_1))","v":10.617632864222843},"Conform D1100 03-2015"]
["Riolering","Vervangen","Buis beton 400","Ongewapend","MA","Materiaal","m",16.516317788791088,{"$f":"IF(Invoer!$D$8=\"Aan\",IF($K83>0,$K83,($H83*Indexfactor_1)),($H83*Indexfactor_1))","v":16.516317788791088},"Conform D1100 03-2015"]
["Riolering","Vervangen","Buis beton 400","Ongewapend","A","Plaatsen","m",7.0784219094818948,{"$f":"IF(Invoer!$D$8=\"Aan\",IF($K84>0,$K84,($H84*Indexfactor_1)),($H84*Indexfactor_1))","v":7.0784219094818948},"Conform D1100 03-2015"]
["Riolering","Vervangen","Buis beton 400","Ongewapend","A,MA,ME","Verwijderen","m",4.7189479396545968,{"$f":"IF(Invoer!$D$8=\"Aan\",IF($K85>0,$K85,($H85*Indexfactor_1)),($H85*Indexfactor_1))","v":4.7189479396545968},"Conform D1100 03-2015"]
["Riolering","Vervangen","Buis beton 400","Ongewapend","A,MA,ME","Verwerking van puin","m",27.133950653013933,{"$f":"IF(Invoer!$D$8=\"Aan\",IF($K86>0,$K86,($H86*Indexfactor_1)),($H86*Indexfactor_1))","v":27.133950653013933},"Conform D1100 03-2015"]
["Riolering","Vervangen","Buis beton 400","Ongewapend","A,ME","Grondverzet","m",25.954213668100284,{"$f":"IF(Invoer!$D$8=\"Aan\",IF($K87>0,$K87,($H87*Indexfactor_1)),($H87*Indexfactor_1))","v":25.954213668100284},"Conform D1100 03-2015"]
["Riolering","Vervangen","Buis beton 400","Ongewapend","MA","Aankoop nieuwe grond","m",4.7189479396545968,{"$f":"IF(Invoer!$D$8=\"Aan\",IF($K88>0,$K88,($H88*Indexfactor_1)),($H88*Indexfactor_1))","v":4.7189479396545968},"Conform D1100 03-2015"]
["Riolering","Vervangen","Buis beton 400","Ongewapend","A,MA,ME","Fundering buis","m",10.617632864222843,{"$f":"IF(Invoer!$D$8=\"Aan\",IF($K89>0,$K89,($H89*Indexfactor_1)),($H89*Indexfactor_1))","v":10.617632864222843},"Conform D1100 03-2015"]
["Riolering","Verwijderen","Buis beton 400","Ongewapend","A,MA,ME","Verwijderen","m",4.7189479396545968,{"$f":"IF(Invoer!$D$8=\"Aan\",IF($K90>0,$K90,($H90*Indexfactor_1)),($H90*Indexfactor_1))","v":4.7189479396545968},"Conform D1100 03-2015"]
["Riolering","Verwijderen","Buis beton 400","Ongewapend","A,MA,ME","Verwerking van puin","m",27.133950653013933,{"$f":"IF(Invoer!$D$8=\"Aan\",IF($K91>0,$K91,($H91*Indexfactor_1)),($H91*Indexfactor_1))","v":27.133950653013933},"Conform D1100 03-2015"]
["Riolering","Verwijderen","Buis beton 400","Ongewapend","A,ME","Grondverzet","m",25.954213668100284,{"$f":"IF(Invoer!$D$8=\"Aan\",IF($K92>0,$K92,($H92*Indexfactor_1)),($H92*Indexfactor_1))","v":25.954213668100284},"Conform D1100 03-2015"]
["Riolering","Verwijderen","Buis beton 400","Ongewapend","MA","Aankoop nieuwe grond","m",4.7189479396545968,{"$f":"IF(Invoer!$D$8=\"Aan\",IF($K93>0,$K93,($H93*Indexfactor_1)),($H93*Indexfactor_1))","v":4.7189479396545968},"Conform D1100 03-2015"]
["Riolering","Aanleg","Buis beton 500","Ongewapend","MA","Materiaal","m",19.484910950024101,{"$f":"IF(Invoer!$D$8=\"Aan\",IF($K94>0,$K94,($H94*Indexfactor_1)),($H94*Indexfactor_1))","v":19.484910950024101},"Conform D1100 03-2015"]
["Riolering","Aanleg","Buis beton 500","Ongewapend","A","Leggen","m",8.3506761214388874,{"$f":"IF(Invoer!$D$8=\"Aan\",IF($K95>0,$K95,($H95*Indexfactor_1)),($H95*Indexfactor_1))","v":8.3506761214388874},"Conform D1100 03-2015"]
["Riolering","Aanleg","Buis beton 500","Ongewapend","A,MA,ME","Grondverzet","m",29.227366425036102,{"$f":"IF(Invoer!$D$8=\"Aan\",IF($K96>0,$K96,($H96*Indexfactor_1)),($H96*Indexfactor_1))","v":29.227366425036102},"Conform D1100 03-2015"]
["Riolering","Aanleg","Buis beton 500","Ongewapend","MA","Aankoop nieuwe grond","m",5.567117414292591,{"$f":"IF(Invoer!$D$8=\"Aan\",IF($K97>0,$K97,($H97*Indexfactor_1)),($H97*Indexfactor_1))","v":5.567117414292591},"Conform D1100 03-2015"]
["Riolering","Aanleg","Buis beton 500","Ongewapend","A,MA,ME","Fundering buis","m",12.526014182158329,{"$f":"IF(Invoer!$D$8=\"Aan\",IF($K98>0,$K98,($H98*Indexfactor_1)),($H98*Indexfactor_1))","v":12.526014182158329},"Conform D1100 03-2015"]
["Riolering","Vervangen","Buis beton 500","Ongewapend","MA","Materiaal","m",19.484910950024069,{"$f":"IF(Invoer!$D$8=\"Aan\",IF($K99>0,$K99,($H99*Indexfactor_1)),($H99*Indexfactor_1))","v":19.484910950024069},"Conform D1100 03-2015"]
["Riolering","Vervangen","Buis beton 500","Ongewapend","A","Plaatsen","m",8.3506761214388874,{"$f":"IF(Invoer!$D$8=\"Aan\",IF($K100>0,$K100,($H100*Indexfactor_1)),($H100*Indexfactor_1))","v":8.3506761214388874},"Conform D1100 03-2015"]
["Riolering","Vervangen","Buis beton 500","Ongewapend","A,MA,ME","Verwijderen","m",5.567117414292591,{"$f":"IF(Invoer!$D$8=\"Aan\",IF($K101>0,$K101,($H101*Indexfactor_1)),($H101*Indexfactor_1))","v":5.567117414292591},"Conform D1100 03-2015"]
["Riolering","Vervangen","Buis beton 500","Ongewapend","A,MA,ME","Verwerking van puin","m",32.0109251321824,{"$f":"IF(Invoer!$D$8=\"Aan\",IF($K102>0,$K102,($H102*Indexfactor_1)),($H102*Indexfactor_1))","v":32.0109251321824},"Conform D1100 03-2015"]
["Riolering","Vervangen","Buis beton 500","Ongewapend","A,ME","Grondverzet","m",30.619145778609251,{"$f":"IF(Invoer!$D$8=\"Aan\",IF($K103>0,$K103,($H103*Indexfactor_1)),($H103*Indexfactor_1))","v":30.619145778609251},"Conform D1100 03-2015"]
["Riolering","Vervangen","Buis beton 500","Ongewapend","MA","Aankoop nieuwe grond","m",5.567117414292591,{"$f":"IF(Invoer!$D$8=\"Aan\",IF($K104>0,$K104,($H104*Indexfactor_1)),($H104*Indexfactor_1))","v":5.567117414292591},"Conform D1100 03-2015"]
["Riolering","Vervangen","Buis beton 500","Ongewapend","A,MA,ME","Fundering buis","m",12.526014182158329,{"$f":"IF(Invoer!$D$8=\"Aan\",IF($K105>0,$K105,($H105*Indexfactor_1)),($H105*Indexfactor_1))","v":12.526014182158329},"Conform D1100 03-2015"]
["Riolering","Verwijderen","Buis beton 500","Ongewapend","A,MA,ME","Verwijderen","m",5.567117414292591,{"$f":"IF(Invoer!$D$8=\"Aan\",IF($K106>0,$K106,($H106*Indexfactor_1)),($H106*Indexfactor_1))","v":5.567117414292591},"Conform D1100 03-2015"]
["Riolering","Verwijderen","Buis beton 500","Ongewapend","A,MA,ME","Verwerking van puin","m",32.0109251321824,{"$f":"IF(Invoer!$D$8=\"Aan\",IF($K107>0,$K107,($H107*Indexfactor_1)),($H107*Indexfactor_1))","v":32.0109251321824},"Conform D1100 03-2015"]
["Riolering","Verwijderen","Buis beton 500","Ongewapend","A,ME","Grondverzet","m",30.619145778609251,{"$f":"IF(Invoer!$D$8=\"Aan\",IF($K108>0,$K108,($H108*Indexfactor_1)),($H108*Indexfactor_1))","v":30.619145778609251},"Conform D1100 03-2015"]
["Riolering","Verwijderen","Buis beton 500","Ongewapend","MA","Aankoop nieuwe grond","m",5.567117414292591,{"$f":"IF(Invoer!$D$8=\"Aan\",IF($K109>0,$K109,($H109*Indexfactor_1)),($H109*Indexfactor_1))","v":5.567117414292591},"Conform D1100 03-2015"]
["Riolering","Aanleg","Buis beton 600","Ongewapend","MA","Materiaal","m",22.987070095492346,{"$f":"IF(Invoer!$D$8=\"Aan\",IF($K110>0,$K110,($H110*Indexfactor_1)),($H110*Indexfactor_1))","v":22.987070095492346},"Conform D1100 03-2015"]
["Riolering","Aanleg","Buis beton 600","Ongewapend","A","Leggen","m",9.8516014694967193,{"$f":"IF(Invoer!$D$8=\"Aan\",IF($K111>0,$K111,($H111*Indexfactor_1)),($H111*Indexfactor_1))","v":9.8516014694967193},"Conform D1100 03-2015"]
["Riolering","Aanleg","Buis beton 600","Ongewapend","A,MA,ME","Grondverzet","m",34.48060514323852,{"$f":"IF(Invoer!$D$8=\"Aan\",IF($K112>0,$K112,($H112*Indexfactor_1)),($H112*Indexfactor_1))","v":34.48060514323852},"Conform D1100 03-2015"]
["Riolering","Aanleg","Buis beton 600","Ongewapend","MA","Aankoop nieuwe grond","m",6.5677343129978132,{"$f":"IF(Invoer!$D$8=\"Aan\",IF($K113>0,$K113,($H113*Indexfactor_1)),($H113*Indexfactor_1))","v":6.5677343129978132},"Conform D1100 03-2015"]
["Riolering","Aanleg","Buis beton 600","Ongewapend","A,MA,ME","Fundering buis","m",14.77740220424508,{"$f":"IF(Invoer!$D$8=\"Aan\",IF($K114>0,$K114,($H114*Indexfactor_1)),($H114*Indexfactor_1))","v":14.77740220424508},"Conform D1100 03-2015"]
["Riolering","Vervangen","Buis beton 600","Ongewapend","MA","Materiaal","m",22.987070095492346,{"$f":"IF(Invoer!$D$8=\"Aan\",IF($K115>0,$K115,($H115*Indexfactor_1)),($H115*Indexfactor_1))","v":22.987070095492346},"Conform D1100 03-2015"]
["Riolering","Vervangen","Buis beton 600","Ongewapend","A","Plaatsen","m",9.8516014694967193,{"$f":"IF(Invoer!$D$8=\"Aan\",IF($K116>0,$K116,($H116*Indexfactor_1)),($H116*Indexfactor_1))","v":9.8516014694967193},"Conform D1100 03-2015"]
["Riolering","Vervangen","Buis beton 600","Ongewapend","A,MA,ME","Verwijderen","m",6.5677343129978132,{"$f":"IF(Invoer!$D$8=\"Aan\",IF($K117>0,$K117,($H117*Indexfactor_1)),($H117*Indexfactor_1))","v":6.5677343129978132},"Conform D1100 03-2015"]
["Riolering","Vervangen","Buis beton 600","Ongewapend","A,MA,ME","Verwerking van puin","m",37.764472299737427,{"$f":"IF(Invoer!$D$8=\"Aan\",IF($K118>0,$K118,($H118*Indexfactor_1)),($H118*Indexfactor_1))","v":37.764472299737427},"Conform D1100 03-2015"]
["Riolering","Vervangen","Buis beton 600","Ongewapend","A,ME","Grondverzet","m",36.12253872148797,{"$f":"IF(Invoer!$D$8=\"Aan\",IF($K119>0,$K119,($H119*Indexfactor_1)),($H119*Indexfactor_1))","v":36.12253872148797},"Conform D1100 03-2015"]
["Riolering","Vervangen","Buis beton 600","Ongewapend","MA","Aankoop nieuwe grond","m",6.5677343129978132,{"$f":"IF(Invoer!$D$8=\"Aan\",IF($K120>0,$K120,($H120*Indexfactor_1)),($H120*Indexfactor_1))","v":6.5677343129978132},"Conform D1100 03-2015"]
["Riolering","Vervangen","Buis beton 600","Ongewapend","A,MA,ME","Fundering buis","m",14.77740220424508,{"$f":"IF(Invoer!$D$8=\"Aan\",IF($K121>0,$K121,($H121*Indexfactor_1)),($H121*Indexfactor_1))","v":14.77740220424508},"Conform D1100 03-2015"]
["Riolering","Verwijderen","Buis beton 600","Ongewapend","A,MA,ME","Verwijderen","m",6.5677343129978132,{"$f":"IF(Invoer!$D$8=\"Aan\",IF($K122>0,$K122,($H122*Indexfactor_1)),($H122*Indexfactor_1))","v":6.5677343129978132},"Conform D1100 03-2015"]
["Riolering","Verwijderen","Buis beton 600","Ongewapend","A,MA,ME","Verwerking van puin","m",37.764472299737427,{"$f":"IF(Invoer!$D$8=\"Aan\",IF($K123>0,$K123,($H123*Indexfactor_1)),($H123*Indexfactor_1))","v":37.764472299737427},"Conform D1100 03-2015"]
["Riolering","Verwijderen","Buis beton 600","Ongewapend","A,ME","Grondverzet","m",36.12253872148797,{"$f":"IF(Invoer!$D$8=\"Aan\",IF($K124>0,$K124,($H124*Indexfactor_1)),($H124*Indexfactor_1))","v":36.12253872148797},"Conform D1100 03-2015"]
["Riolering","Verwijderen","Buis beton 600","Ongewapend","MA","Aankoop nieuwe grond","m",6.5677343129978132,{"$f":"IF(Invoer!$D$8=\"Aan\",IF($K125>0,$K125,($H125*Indexfactor_1)),($H125*Indexfactor_1))","v":6.5677343129978132},"Conform D1100 03-2015"]
["Riolering","Aanleg","Buis beton 700","Gewapend","MA","Materiaal","m",103,{"$f":"IF(Invoer!$D$8=\"Aan\",IF($K126>0,$K126,($H126*Indexfactor_1)),($H126*Indexfactor_1))","v":103},"Conform D1100 03-2015"]
["Riolering","Aanleg","Buis beton 700","Gewapend","A","Leggen","m",10,{"$f":"IF(Invoer!$D$8=\"Aan\",IF($K127>0,$K127,($H127*Indexfactor_1)),($H127*Indexfactor_1))","v":10},"Conform D1100 03-2015"]
["Riolering","Aanleg","Buis beton 700","Gewapend","A,MA,ME","Grondverzet","m",54,{"$f":"IF(Invoer!$D$8=\"Aan\",IF($K128>0,$K128,($H128*Indexfactor_1)),($H128*Indexfactor_1))","v":54},"Conform D1100 03-2015"]
["Riolering","Aanleg","Buis beton 700","Gewapend","MA","Aankoop nieuwe grond","m",10,{"$f":"IF(Invoer!$D$8=\"Aan\",IF($K129>0,$K129,($H129*Indexfactor_1)),($H129*Indexfactor_1))","v":10},"Conform D1100 03-2015"]
["Riolering","Aanleg","Buis beton 700","Gewapend","A,MA,ME","Fundering buis","m",9,{"$f":"IF(Invoer!$D$8=\"Aan\",IF($K130>0,$K130,($H130*Indexfactor_1)),($H130*Indexfactor_1))","v":9},"Conform D1100 03-2015"]
["Riolering","Vervangen","Buis beton 700","Gewapend","MA","Materiaal","m",103,{"$f":"IF(Invoer!$D$8=\"Aan\",IF($K131>0,$K131,($H131*Indexfactor_1)),($H131*Indexfactor_1))","v":103},"Conform D1100 03-2015"]
["Riolering","Vervangen","Buis beton 700","Gewapend","A","Plaatsen","m",10,{"$f":"IF(Invoer!$D$8=\"Aan\",IF($K132>0,$K132,($H132*Indexfactor_1)),($H132*Indexfactor_1))","v":10},"Conform D1100 03-2015"]
["Riolering","Vervangen","Buis beton 700","Gewapend","A,MA,ME","Verwijderen","m",8,{"$f":"IF(Invoer!$D$8=\"Aan\",IF($K133>0,$K133,($H133*Indexfactor_1)),($H133*Indexfactor_1))","v":8},"Conform D1100 03-2015"]
["Riolering","Vervangen","Buis beton 700","Gewapend","A,MA,ME","Verwerking van puin","m",79,{"$f":"IF(Invoer!$D$8=\"Aan\",IF($K134>0,$K134,($H134*Indexfactor_1)),($H134*Indexfactor_1))","v":79},"Conform D1100 03-2015"]
["Riolering","Vervangen","Buis beton 700","Gewapend","A,ME","Grondverzet","m",55,{"$f":"IF(Invoer!$D$8=\"Aan\",IF($K135>0,$K135,($H135*Indexfactor_1)),($H135*Indexfactor_1))","v":55},"Conform D1100 03-2015"]
["Riolering","Vervangen","Buis beton 700","Gewapend","MA","Aankoop nieuwe grond","m",11,{"$f":"IF(Invoer!$D$8=\"Aan\",IF($K136>0,$K136,($H136*Indexfactor_1)),($H136*Indexfactor_1))","v":11},"Conform D1100 03-2015"]
["Riolering","Vervangen","Buis beton 700","Gewapend","A,MA,ME","Fundering buis","m",9,{"$f":"IF(Invoer!$D$8=\"Aan\",IF($K137>0,$K137,($H137*Indexfactor_1)),($H137*Indexfactor_1))","v":9},"Conform D1100 03-2015"]
["Riolering","Verwijderen","Buis beton 700","Gewapend","A,MA,ME","Verwijderen","m",8,{"$f":"IF(Invoer!$D$8=\"Aan\",IF($K138>0,$K138,($H138*Indexfactor_1)),($H138*Indexfactor_1))","v":8},"Conform D1100 03-2015"]
["Riolering","Verwijderen","Buis beton 700","Gewapend","A,MA,ME","Verwerking van puin","m",79,{"$f":"IF(Invoer!$D$8=\"Aan\",IF($K139>0,$K139,($H139*Indexfactor_1)),($H139*Indexfactor_1))","v":79},"Conform D1100 03-2015"]
["Riolering","Verwijderen","Buis beton 700","Gewapend","A,ME","Grondverzet","m",55,{"$f":"IF(Invoer!$D$8=\"Aan\",IF($K140>0,$K140,($H140*Indexfactor_1)),($H140*Indexfactor_1))","v":55},"Conform D1100 03-2015"]
["Riolering","Verwijderen","Buis beton 700","Gewapend","MA","Aankoop nieuwe grond","m",11,{"$f":"IF(Invoer!$D$8=\"Aan\",IF($K141>0,$K141,($H141*Indexfactor_1)),($H141*Indexfactor_1))","v":11},"Conform D1100 03-2015"]
["Hemelwatersysteem","Aanleg","Centrale wadi",null,"MA","Materiaal","m²",12,{"$f":"IF(Invoer!$D$8=\"Aan\",IF($K142>0,$K142,($H142*Indexfactor_1)),($H142*Indexfactor_1))","v":12},"Conform D1100 03-2015"]
["Hemelwatersysteem","Aanleg","Centrale wadi",null,"A,ME","Ontgraven","m²",9.4499999999999993,{"$f":"IF(Invoer!$D$8=\"Aan\",IF($K143>0,$K143,($H143*Indexfactor_1)),($H143*Indexfactor_1))","v":9.4499999999999993},"Conform D1100 03-2015"]
["Hemelwatersysteem","Aanleg","Centrale wadi",null,"A,ME","Aanbrengen grind, filterdoek en drain","m²",3.15,{"$f":"IF(Invoer!$D$8=\"Aan\",IF($K144>0,$K144,($H144*Indexfactor_1)),($H144*Indexfactor_1))","v":3.15},"Conform D1100 03-2015"]
["Hemelwatersysteem","Aanleg","Centrale wadi",null,"A,ME","Aanbrengen met humus verrijkt zand","m²",3.78,{"$f":"IF(Invoer!$D$8=\"Aan\",IF($K145>0,$K145,($H145*Indexfactor_1)),($H145*Indexfactor_1))","v":3.78},"Conform D1100 03-2015"]
["Hemelwatersysteem","Aanleg","Centrale wadi",null,"A,ME","Afwerking","m²",2.75,{"$f":"IF(Invoer!$D$8=\"Aan\",IF($K146>0,$K146,($H146*Indexfactor_1)),($H146*Indexfactor_1))","v":2.75},"Conform D1100 03-2015"]
["Hemelwatersysteem","Aanleg","Centrale wadi",null,"A,ME","Overige","m²",1.65,{"$f":"IF(Invoer!$D$8=\"Aan\",IF($K147>0,$K147,($H147*Indexfactor_1)),($H147*Indexfactor_1))","v":1.65},"Conform D1100 03-2015"]
["Hemelwatersysteem","Aanleg","Centrale wadi",null,"A,ME","Vervoeren vrijgekomen materialen","m²",1.41,{"$f":"IF(Invoer!$D$8=\"Aan\",IF($K148>0,$K148,($H148*Indexfactor_1)),($H148*Indexfactor_1))","v":1.41},"Conform Bouwkostenonline 2016, van bouwformatie.nl, nb; afgeschermd tot er duidelijkheid is over openbaar maken van deze gegevens.`"]
["Hemelwatersysteem","Aanleg","Centrale wadi",null,"A,ME","Storten vrijgekomen materialen","m²",1.65,{"$f":"IF(Invoer!$D$8=\"Aan\",IF($K149>0,$K149,($H149*Indexfactor_1)),($H149*Indexfactor_1))","v":1.65},"Conform Bouwkostenonline 2016, van bouwformatie.nl, nb; afgeschermd tot er duidelijkheid is over openbaar maken van deze gegevens.`"]
["Hemelwatersysteem","Vervangen","Centrale wadi",null,"MA","Materiaal","m²",12,{"$f":"IF(Invoer!$D$8=\"Aan\",IF($K150>0,$K150,($H150*Indexfactor_1)),($H150*Indexfactor_1))","v":12},"Conform D1100 03-2015"]
["Hemelwatersysteem","Vervangen","Centrale wadi",null,"A,ME","Ontgraven","m²",5.91,{"$f":"IF(Invoer!$D$8=\"Aan\",IF($K151>0,$K151,($H151*Indexfactor_1)),($H151*Indexfactor_1))","v":5.91},"Conform D1100 03-2015"]
["Hemelwatersysteem","Vervangen","Centrale wadi",null,"A,ME","Aanbrengen grind, filterdoek en drain","m²",3.15,{"$f":"IF(Invoer!$D$8=\"Aan\",IF($K152>0,$K152,($H152*Indexfactor_1)),($H152*Indexfactor_1))","v":3.15},"Conform D1100 03-2015"]
["Hemelwatersysteem","Vervangen","Centrale wadi",null,"A,ME","Aanbrengen met humus verrijkt zand","m²",3.78,{"$f":"IF(Invoer!$D$8=\"Aan\",IF($K153>0,$K153,($H153*Indexfactor_1)),($H153*Indexfactor_1))","v":3.78},"Conform D1100 03-2015"]
["Hemelwatersysteem","Vervangen","Centrale wadi",null,"A,ME","Afwerking","m²",2.75,{"$f":"IF(Invoer!$D$8=\"Aan\",IF($K154>0,$K154,($H154*Indexfactor_1)),($H154*Indexfactor_1))","v":2.75},"Conform D1100 03-2015"]
["Hemelwatersysteem","Vervangen","Centrale wadi",null,"A,ME","Overige","m²",1.65,{"$f":"IF(Invoer!$D$8=\"Aan\",IF($K155>0,$K155,($H155*Indexfactor_1)),($H155*Indexfactor_1))","v":1.65},"Conform D1100 03-2015"]
["Hemelwatersysteem","Vervangen","Centrale wadi",null,"A,ME","Vervoeren vrijgekomen materialen","m²",0.7,{"$f":"IF(Invoer!$D$8=\"Aan\",IF($K156>0,$K156,($H156*Indexfactor_1)),($H156*Indexfactor_1))","v":0.7},"Conform Bouwkostenonline 2016, van bouwformatie.nl, nb; afgeschermd tot er duidelijkheid is over openbaar maken van deze gegevens.`"]
["Hemelwatersysteem","Vervangen","Centrale wadi",null,"A,ME","Storten vrijgekomen materialen","m²",0.82,{"$f":"IF(Invoer!$D$8=\"Aan\",IF($K157>0,$K157,($H157*Indexfactor_1)),($H157*Indexfactor_1))","v":0.82},"Conform Bouwkostenonline 2016, van bouwformatie.nl, nb; afgeschermd tot er duidelijkheid is over openbaar maken van deze gegevens.`"]
["Elementen verharding","Aanleg","Doorlatende verharding",null,"MA","Materiaal","m²",42,{"$f":"IF(Invoer!$D$8=\"Aan\",IF($K158>0,$K158,($H158*Indexfactor_1)),($H158*Indexfactor_1))","v":42},"Conform D1100 03-2015"]
["Elementen verharding","Aanleg","Doorlatende verharding",null,"A","Grond ontgraven uit wegcunet","m²",5,{"$f":"IF(Invoer!$D$8=\"Aan\",IF($K159>0,$K159,($H159*Indexfactor_1)),($H159*Indexfactor_1))","v":5},"Conform D1100 03-2015"]
["Elementen verharding","Aanleg","Doorlatende verharding",null,"A","Aanbrengen verhardingslaag","m²",4,{"$f":"IF(Invoer!$D$8=\"Aan\",IF($K160>0,$K160,($H160*Indexfactor_1)),($H160*Indexfactor_1))","v":4},"Conform D1100 03-2015"]
["Elementen verharding","Aanleg","Doorlatende verharding",null,"A","Aanlegkosten parrerende klinkerverharding","m²",16,{"$f":"IF(Invoer!$D$8=\"Aan\",IF($K161>0,$K161,($H161*Indexfactor_1)),($H161*Indexfactor_1))","v":16},"Conform D1100 03-2015"]
["Elementen verharding","Vervangen","Doorlatende verharding",null,"MA","Materiaal","m²",42,{"$f":"IF(Invoer!$D$8=\"Aan\",IF($K162>0,$K162,($H162*Indexfactor_1)),($H162*Indexfactor_1))","v":42},"Conform D1100 03-2015"]
["Elementen verharding","Vervangen","Doorlatende verharding",null,"A","Grond ontgraven uit wegcunet","m²",5,{"$f":"IF(Invoer!$D$8=\"Aan\",IF($K163>0,$K163,($H163*Indexfactor_1)),($H163*Indexfactor_1))","v":5},"Conform D1100 03-2015"]
["Elementen verharding","Vervangen","Doorlatende verharding",null,"A","Aanbrengen verhardingslaag","m²",4,{"$f":"IF(Invoer!$D$8=\"Aan\",IF($K164>0,$K164,($H164*Indexfactor_1)),($H164*Indexfactor_1))","v":4},"Conform D1100 03-2015"]
["Elementen verharding","Vervangen","Doorlatende verharding",null,"A","Aanlegkosten parrerende klinkerverharding","m²",16,{"$f":"IF(Invoer!$D$8=\"Aan\",IF($K165>0,$K165,($H165*Indexfactor_1)),($H165*Indexfactor_1))","v":16},"Conform D1100 03-2015"]
["Elementen verharding","Vervangen","Doorlatende verharding",null,"A","Openbreken bestrating","m²",2,{"$f":"IF(Invoer!$D$8=\"Aan\",IF($K166>0,$K166,($H166*Indexfactor_1)),($H166*Indexfactor_1))","v":2},"Conform D1100 03-2015"]
["Elementen verharding","Verwijderen","Doorlatende verharding",null,"A,ME","Openbreken bestrating","m²",2,{"$f":"IF(Invoer!$D$8=\"Aan\",IF($K167>0,$K167,($H167*Indexfactor_1)),($H167*Indexfactor_1))","v":2},"Conform D1100 03-2015"]
["Riolering","Aanleg","Drainage",null,"A,ME","Ontgraven","m",5.07,{"$f":"IF(Invoer!$D$8=\"Aan\",IF($K168>0,$K168,($H168*Indexfactor_1)),($H168*Indexfactor_1))","v":5.07},"Conform Bouwkostenonline 2016, van bouwformatie.nl, nb; afgeschermd tot er duidelijkheid is over openbaar maken van deze gegevens.`"]
["Riolering","Aanleg","Drainage",null,"A","Sleuf aanvullen","m",3.43,{"$f":"IF(Invoer!$D$8=\"Aan\",IF($K169>0,$K169,($H169*Indexfactor_1)),($H169*Indexfactor_1))","v":3.43},"Conform Bouwkostenonline 2016, van bouwformatie.nl, nb; afgeschermd tot er duidelijkheid is over openbaar maken van deze gegevens.`"]
["Riolering","Aanleg","Drainage",null,"A","Plaatsen drainage materiaal","m",{"$f":"1.37+0.82","v":2.19},{"$f":"IF(Invoer!$D$8=\"Aan\",IF($K170>0,$K170,($H170*Indexfactor_1)),($H170*Indexfactor_1))","v":2.19},"Conform Bouwkostenonline 2016, van bouwformatie.nl, nb; afgeschermd tot er duidelijkheid is over openbaar maken van deze gegevens.`"]
["Riolering","Aanleg","Drainage",null,"MA","Materiaal buis 65mm +put(50m)","m",{"$f":"(43.07/50)+2.04","v":2.9014000000000002},{"$f":"IF(Invoer!$D$8=\"Aan\",IF($K171>0,$K171,($H171*Indexfactor_1)),($H171*Indexfactor_1))","v":2.9014000000000002},"Conform Bouwkostenonline 2016, van bouwformatie.nl, nb; afgeschermd tot er duidelijkheid is over openbaar maken van deze gegevens.`"]
["Riolering","Vervangen","Drainage",null,"A,ME","Ontgraven","m",5.07,{"$f":"IF(Invoer!$D$8=\"Aan\",IF($K172>0,$K172,($H172*Indexfactor_1)),($H172*Indexfactor_1))","v":5.07},"Conform Bouwkostenonline 2016, van bouwformatie.nl, nb; afgeschermd tot er duidelijkheid is over openbaar maken van deze gegevens.`"]
["Riolering","Vervangen","Drainage",null,"A,ME","Drainage verwijderen","m",3.34,{"$f":"IF(Invoer!$D$8=\"Aan\",IF($K173>0,$K173,($H173*Indexfactor_1)),($H173*Indexfactor_1))","v":3.34},"Conform Bouwkostenonline 2016, van bouwformatie.nl, nb; afgeschermd tot er duidelijkheid is over openbaar maken van deze gegevens.`"]
["Riolering","Vervangen","Drainage",null,"A","Sleuf aanvullen","m",3.43,{"$f":"IF(Invoer!$D$8=\"Aan\",IF($K174>0,$K174,($H174*Indexfactor_1)),($H174*Indexfactor_1))","v":3.43},"Conform Bouwkostenonline 2016, van bouwformatie.nl, nb; afgeschermd tot er duidelijkheid is over openbaar maken van deze gegevens.`"]
["Riolering","Vervangen","Drainage",null,"A","Plaatsen drainage materiaal","m",{"$f":"1.37+0.82","v":2.19},{"$f":"IF(Invoer!$D$8=\"Aan\",IF($K175>0,$K175,($H175*Indexfactor_1)),($H175*Indexfactor_1))","v":2.19},"Conform Bouwkostenonline 2016, van bouwformatie.nl, nb; afgeschermd tot er duidelijkheid is over openbaar maken van deze gegevens.`"]
["Riolering","Vervangen","Drainage",null,"MA","Materiaal buis 65mm +put(50m)","m",{"$f":"(43.07/50)+1.16","v":2.0213999999999999},{"$f":"IF(Invoer!$D$8=\"Aan\",IF($K176>0,$K176,($H176*Indexfactor_1)),($H176*Indexfactor_1))","v":2.0213999999999999},"Conform Bouwkostenonline 2016, van bouwformatie.nl, nb; afgeschermd tot er duidelijkheid is over openbaar maken van deze gegevens.`"]
["Elementen verharding","Aanleg","Fietspad van betonstraatstenen",null,"A,MA,ME","Verharding aanvoer en verwerken","m²",23.65,{"$f":"IF(Invoer!$D$8=\"Aan\",IF($K177>0,$K177,($H177*Indexfactor_1)),($H177*Indexfactor_1))","v":23.65},"Ervaringscijfer gemeente Almere 2015"]
["Elementen verharding","Vervangen","Fietspad van betonstraatstenen",null,"A,ME","Opnemen en afvoeren","m²",2.5,{"$f":"IF(Invoer!$D$8=\"Aan\",IF($K178>0,$K178,($H178*Indexfactor_1)),($H178*Indexfactor_1))","v":2.5},"Ervaringscijfer gemeente Almere 2015"]
["Elementen verharding","Vervangen","Fietspad van betonstraatstenen",null,"A,MA,ME","Verharding aanvoer en verwerken","m²",23.65,{"$f":"IF(Invoer!$D$8=\"Aan\",IF($K179>0,$K179,($H179*Indexfactor_1)),($H179*Indexfactor_1))","v":23.65},"Ervaringscijfer gemeente Almere 2015"]
["Elementen verharding","Verwijderen","Fietspad van betonstraatstenen",null,"A,ME","Opnemen en afvoeren","m²",2.5,{"$f":"IF(Invoer!$D$8=\"Aan\",IF($K180>0,$K180,($H180*Indexfactor_1)),($H180*Indexfactor_1))","v":2.5},"Ervaringscijfer gemeente Almere 2015"]
["Groenvoorziening","Aanleg","Gazon",null,"A,MA,ME","Aanvoer en verwerken","m²",1.2,{"$f":"IF(Invoer!$D$8=\"Aan\",IF($K181>0,$K181,($H181*Indexfactor_1)),($H181*Indexfactor_1))","v":1.2},"Ervaringscijfer gemeente Almere 2015"]
["Groenvoorziening","Vervangen","Gazon",null,"A,MA,ME","Opnemen, afvoeren, aanvoer en verwerken","m²",1.5,{"$f":"IF(Invoer!$D$8=\"Aan\",IF($K182>0,$K182,($H182*Indexfactor_1)),($H182*Indexfactor_1))","v":1.5},"Ervaringscijfer gemeente Almere 2015"]
["Hemelwatersysteem","Aanleg","Gesloten grindgoot","0,5 * 1 meter","A","Grondploeg (2man)","m",66.540000000000006,{"$f":"IF(Invoer!$D$8=\"Aan\",IF($K183>0,$K183,($H183*Indexfactor_1)),($H183*Indexfactor_1))","v":66.540000000000006},"Conform Bouwkostenonline 2016, van bouwformatie.nl, nb; afgeschermd tot er duidelijkheid is over openbaar maken van deze gegevens.`"]
["Hemelwatersysteem","Aanleg","Gesloten grindgoot","0,5 * 1 meter","MA","Grind 8/16 mm","m",32,{"$f":"IF(Invoer!$D$8=\"Aan\",IF($K184>0,$K184,($H184*Indexfactor_1)),($H184*Indexfactor_1))","v":32},"Conform Bouwkostenonline 2016, van bouwformatie.nl, nb; afgeschermd tot er duidelijkheid is over openbaar maken van deze gegevens.`"]
["Hemelwatersysteem","Aanleg","Gesloten grindgoot","0,5 * 1 meter","MA","Filterdoek","m",5,{"$f":"IF(Invoer!$D$8=\"Aan\",IF($K185>0,$K185,($H185*Indexfactor_1)),($H185*Indexfactor_1))","v":5},"Conform Bouwkostenonline 2016, van bouwformatie.nl, nb; afgeschermd tot er duidelijkheid is over openbaar maken van deze gegevens.`"]
["Hemelwatersysteem","Aanleg","Gesloten grindgoot","0,5 * 1 meter","ME","Rupsgraafmachine 750l","m",64.209999999999994,{"$f":"IF(Invoer!$D$8=\"Aan\",IF($K186>0,$K186,($H186*Indexfactor_1)),($H186*Indexfactor_1))","v":64.209999999999994},"Conform Bouwkostenonline 2016, van bouwformatie.nl, nb; afgeschermd tot er duidelijkheid is over openbaar maken van deze gegevens.`"]
["Hemelwatersysteem","Aanleg","Gesloten grindgoot","0,5 * 1 meter","A","Grondploeg (2man) dichtstraten","m",9.0500000000000007,{"$f":"IF(Invoer!$D$8=\"Aan\",IF($K187>0,$K187,($H187*Indexfactor_1)),($H187*Indexfactor_1))","v":9.0500000000000007},"Conform Bouwkostenonline 2016, van bouwformatie.nl, nb; afgeschermd tot er duidelijkheid is over openbaar maken van deze gegevens.`"]
["Hemelwatersysteem","Aanleg","Gesloten grindgoot","0,5 * 1 meter","MA","Betonklinkers d80mm","m",8.17,{"$f":"IF(Invoer!$D$8=\"Aan\",IF($K188>0,$K188,($H188*Indexfactor_1)),($H188*Indexfactor_1))","v":8.17},"Conform Bouwkostenonline 2016, van bouwformatie.nl, nb; afgeschermd tot er duidelijkheid is over openbaar maken van deze gegevens.`"]
["Hemelwatersysteem","Aanleg","Gesloten grindgoot","0,5 * 1 meter","ME","shovel 1200l","m",0.73,{"$f":"IF(Invoer!$D$8=\"Aan\",IF($K189>0,$K189,($H189*Indexfactor_1)),($H189*Indexfactor_1))","v":0.73},"Conform Bouwkostenonline 2016, van bouwformatie.nl, nb; afgeschermd tot er duidelijkheid is over openbaar maken van deze gegevens.`"]
["Hemelwatersysteem","Vervangen","Gesloten grindgoot","0,5 * 1 meter","A","Grondploeg (2man)","m",83.18,{"$f":"IF(Invoer!$D$8=\"Aan\",IF($K190>0,$K190,($H190*Indexfactor_1)),($H190*Indexfactor_1))","v":83.18},"Conform Bouwkostenonline 2016, van bouwformatie.nl, nb; afgeschermd tot er duidelijkheid is over openbaar maken van deze gegevens.`"]
["Hemelwatersysteem","Vervangen","Gesloten grindgoot","0,5 * 1 meter","MA","Grind 8/16 mm","m",32,{"$f":"IF(Invoer!$D$8=\"Aan\",IF($K191>0,$K191,($H191*Indexfactor_1)),($H191*Indexfactor_1))","v":32},"Conform Bouwkostenonline 2016, van bouwformatie.nl, nb; afgeschermd tot er duidelijkheid is over openbaar maken van deze gegevens.`"]
["Hemelwatersysteem","Vervangen","Gesloten grindgoot","0,5 * 1 meter","MA","Filterdoek","m",5,{"$f":"IF(Invoer!$D$8=\"Aan\",IF($K192>0,$K192,($H192*Indexfactor_1)),($H192*Indexfactor_1))","v":5},"Conform Bouwkostenonline 2016, van bouwformatie.nl, nb; afgeschermd tot er duidelijkheid is over openbaar maken van deze gegevens.`"]
["Hemelwatersysteem","Vervangen","Gesloten grindgoot","0,5 * 1 meter","ME","Rupsgraafmachine 750l","m",32.1,{"$f":"IF(Invoer!$D$8=\"Aan\",IF($K193>0,$K193,($H193*Indexfactor_1)),($H193*Indexfactor_1))","v":32.1},"Conform Bouwkostenonline 2016, van bouwformatie.nl, nb; afgeschermd tot er duidelijkheid is over openbaar maken van deze gegevens.`"]
["Hemelwatersysteem","Vervangen","Gesloten grindgoot","0,5 * 1 meter","ME","Afvoeren grind","m",1.17,{"$f":"IF(Invoer!$D$8=\"Aan\",IF($K194>0,$K194,($H194*Indexfactor_1)),($H194*Indexfactor_1))","v":1.17},"Conform Bouwkostenonline 2016, van bouwformatie.nl, nb; afgeschermd tot er duidelijkheid is over openbaar maken van deze gegevens.`"]
["Hemelwatersysteem","Vervangen","Gesloten grindgoot","0,5 * 1 meter","MA","Stortenkosten grind","m",2.75,{"$f":"IF(Invoer!$D$8=\"Aan\",IF($K195>0,$K195,($H195*Indexfactor_1)),($H195*Indexfactor_1))","v":2.75},"Conform Bouwkostenonline 2016, van bouwformatie.nl, nb; afgeschermd tot er duidelijkheid is over openbaar maken van deze gegevens.`"]
["Hemelwatersysteem","Vervangen","Gesloten grindgoot","0,5 * 1 meter","A","Straatmakers-ploeg (2man)","m",8.44,{"$f":"IF(Invoer!$D$8=\"Aan\",IF($K196>0,$K196,($H196*Indexfactor_1)),($H196*Indexfactor_1))","v":8.44},"Conform Bouwkostenonline 2016, van bouwformatie.nl, nb; afgeschermd tot er duidelijkheid is over openbaar maken van deze gegevens.`"]
["Hemelwatersysteem","Vervangen","Gesloten grindgoot","0,5 * 1 meter","ME","shovel 1200l","m",0.48,{"$f":"IF(Invoer!$D$8=\"Aan\",IF($K197>0,$K197,($H197*Indexfactor_1)),($H197*Indexfactor_1))","v":0.48},"Conform Bouwkostenonline 2016, van bouwformatie.nl, nb; afgeschermd tot er duidelijkheid is over openbaar maken van deze gegevens.`"]
["Hemelwatersysteem","Vervangen","Gesloten grindgoot","0,5 * 1 meter","ME","Trilplaat","m",0.2,{"$f":"IF(Invoer!$D$8=\"Aan\",IF($K198>0,$K198,($H198*Indexfactor_1)),($H198*Indexfactor_1))","v":0.2},"Conform Bouwkostenonline 2016, van bouwformatie.nl, nb; afgeschermd tot er duidelijkheid is over openbaar maken van deze gegevens.`"]
["Hemelwatersysteem","Vervangen","Gesloten grindgoot","0,5 * 1 meter","MA","Betonklinkers d80mm","m",8.17,{"$f":"IF(Invoer!$D$8=\"Aan\",IF($K199>0,$K199,($H199*Indexfactor_1)),($H199*Indexfactor_1))","v":8.17},"Conform Bouwkostenonline 2016, van bouwformatie.nl, nb; afgeschermd tot er duidelijkheid is over openbaar maken van deze gegevens.`"]
["Hemelwatersysteem","Vervangen","Gesloten grindgoot","0,5 * 1 meter","MA","Straatwerk afvoeren en storten","m",3.09,{"$f":"IF(Invoer!$D$8=\"Aan\",IF($K200>0,$K200,($H200*Indexfactor_1)),($H200*Indexfactor_1))","v":3.09},"Conform Bouwkostenonline 2016, van bouwformatie.nl, nb; afgeschermd tot er duidelijkheid is over openbaar maken van deze gegevens.`"]
["Hemelwatersysteem","Aanleg","Granudrain","42x175x16 per element","A,MA,ME","Materiaal","m",55,{"$f":"IF(Invoer!$D$8=\"Aan\",IF($K201>0,$K201,($H201*Indexfactor_1)),($H201*Indexfactor_1))","v":55},"Ervaringscijfer Waternet 2015"]
["Hemelwatersysteem","Aanleg","Granudrain","42x175x16 per element","A,MA,ME","Verwerken","m",95,{"$f":"IF(Invoer!$D$8=\"Aan\",IF($K202>0,$K202,($H202*Indexfactor_1)),($H202*Indexfactor_1))","v":95},"Ervaringscijfer Waternet 2015"]
["Hemelwatersysteem","Vervangen","Granudrain","42x175x16 per element","A,MA,ME","Verwerken","m",105,{"$f":"IF(Invoer!$D$8=\"Aan\",IF($K203>0,$K203,($H203*Indexfactor_1)),($H203*Indexfactor_1))","v":105},"Ervaringscijfer Waternet 2015"]
["Hemelwatersysteem","Vervangen","Granudrain","42x175x16 per element","A,MA,ME","Materiaal","m",55,{"$f":"IF(Invoer!$D$8=\"Aan\",IF($K204>0,$K204,($H204*Indexfactor_1)),($H204*Indexfactor_1))","v":55},"Ervaringscijfer Waternet 2015"]
["Groenvoorziening","Vervangen","Haag",null,"A,MA,ME","Opnemen, afvoeren, aanvoer en verwerken","m²",18,{"$f":"IF(Invoer!$D$8=\"Aan\",IF($K205>0,$K205,($H205*Indexfactor_1)),($H205*Indexfactor_1))","v":18},"Ervaringscijfer gemeente Almere 2015"]
["Groenvoorziening","Verwijderen","Haag",null,"A,MA,ME","Opnemen, afvoeren","m²",8,{"$f":"IF(Invoer!$D$8=\"Aan\",IF($K206>0,$K206,($H206*Indexfactor_1)),($H206*Indexfactor_1))","v":8},"Ervaringscijfer gemeente Almere 2015"]
["Hemelwatersysteem","Aanleg","Infiltratie kolk",null,"MA","Kolk","st",281,{"$f":"IF(Invoer!$D$8=\"Aan\",IF($K207>0,$K207,($H207*Indexfactor_1)),($H207*Indexfactor_1))","v":281},"Conform prijslijst Wavin jan-2016"]
["Hemelwatersysteem","Aanleg","Infiltratie kolk",null,"A","Plaatsen","st",8,{"$f":"IF(Invoer!$D$8=\"Aan\",IF($K208>0,$K208,($H208*Indexfactor_1)),($H208*Indexfactor_1))","v":8},"Conform D1100 03-2015"]
["Hemelwatersysteem","Vervangen","Infiltratie kolk",null,"MA","Kolk","st",281,{"$f":"IF(Invoer!$D$8=\"Aan\",IF($K209>0,$K209,($H209*Indexfactor_1)),($H209*Indexfactor_1))","v":281},"Conform prijslijst Wavin jan-2016"]
["Hemelwatersysteem","Vervangen","Infiltratie kolk",null,"A","Plaatsen","st",8,{"$f":"IF(Invoer!$D$8=\"Aan\",IF($K210>0,$K210,($H210*Indexfactor_1)),($H210*Indexfactor_1))","v":8},"Conform D1100 03-2015"]
["Hemelwatersysteem","Vervangen","Infiltratie kolk",null,"A,MA,ME","Verwijderen","st",12,{"$f":"IF(Invoer!$D$8=\"Aan\",IF($K211>0,$K211,($H211*Indexfactor_1)),($H211*Indexfactor_1))","v":12},"Conform D1100 03-2015"]
["Hemelwatersysteem","Aanleg","Infiltratiekrat gemeente makkelijk","Prijs obv 3m^3 berging ","MA","Aankoop Krat, bodem en zijplaten","st",345.83,{"$f":"IF(Invoer!$D$8=\"Aan\",IF($K206>0,$K206,($H212*Indexfactor_1)),($H212*Indexfactor_1))","v":345.83},"Conform Bouwkostenonline 2016, van bouwformatie.nl, nb; afgeschermd tot er duidelijkheid is over openbaar maken van deze gegevens.`"]
["Hemelwatersysteem","Aanleg","Infiltratiekrat gemeente makkelijk",null,"MA","Aankoop Filterdoek","st",10.453333333333333,{"$f":"IF(Invoer!$D$8=\"Aan\",IF($K207>0,$K207,($H213*Indexfactor_1)),($H213*Indexfactor_1))","v":10.453333333333333},"Conform Bouwkostenonline 2016, van bouwformatie.nl, nb; afgeschermd tot er duidelijkheid is over openbaar maken van deze gegevens.`"]
["Hemelwatersysteem","Aanleg","Infiltratiekrat gemeente makkelijk",null,"A,ME","Ontgraven kratruimte","st",9.68,{"$f":"IF(Invoer!$D$8=\"Aan\",IF($K208>0,$K208,($H214*Indexfactor_1)),($H214*Indexfactor_1))","v":9.68},"Conform Bouwkostenonline 2016, van bouwformatie.nl, nb; afgeschermd tot er duidelijkheid is over openbaar maken van deze gegevens.`"]
["Hemelwatersysteem","Aanleg","Infiltratiekrat gemeente makkelijk",null,"A,ME","Grond vervoeren ","st",6.47,{"$f":"IF(Invoer!$D$8=\"Aan\",IF($K209>0,$K209,($H215*Indexfactor_1)),($H215*Indexfactor_1))","v":6.47},"Conform Bouwkostenonline 2016, van bouwformatie.nl, nb; afgeschermd tot er duidelijkheid is over openbaar maken van deze gegevens.`"]
["Hemelwatersysteem","Aanleg","Infiltratiekrat gemeente makkelijk",null,"A,ME","Aanbrengen krat en doek","st",27.41,{"$f":"IF(Invoer!$D$8=\"Aan\",IF($K210>0,$K210,($H216*Indexfactor_1)),($H216*Indexfactor_1))","v":27.41},"Conform Bouwkostenonline 2016, van bouwformatie.nl, nb; afgeschermd tot er duidelijkheid is over openbaar maken van deze gegevens.`"]
["Hemelwatersysteem","Aanleg","Infiltratiekrat gemeente makkelijk",null,"A,ME","Grond aanbrengen","st",6.3,{"$f":"IF(Invoer!$D$8=\"Aan\",IF($K211>0,$K211,($H217*Indexfactor_1)),($H217*Indexfactor_1))","v":6.3},"Conform Bouwkostenonline 2016, van bouwformatie.nl, nb; afgeschermd tot er duidelijkheid is over openbaar maken van deze gegevens.`"]
["Hemelwatersysteem","Aanleg","Infiltratiekrat gemeente makkelijk",null,"A,ME","Afwerking","st",5.04,{"$f":"IF(Invoer!$D$8=\"Aan\",IF($K212>0,$K212,($H218*Indexfactor_1)),($H218*Indexfactor_1))","v":5.04},"Conform Bouwkostenonline 2016, van bouwformatie.nl, nb; afgeschermd tot er duidelijkheid is over openbaar maken van deze gegevens.`"]
["Hemelwatersysteem","Vervangen","Infiltratiekrat gemeente makkelijk","Prijs obv 3m^3 berging ","MA","Aankoop Krat, bodem en zijplaten","st",345.83,{"$f":"IF(Invoer!$D$8=\"Aan\",IF($K213>0,$K213,($H219*Indexfactor_1)),($H219*Indexfactor_1))","v":345.83},"Conform Bouwkostenonline 2016, van bouwformatie.nl, nb; afgeschermd tot er duidelijkheid is over openbaar maken van deze gegevens.`"]
["Hemelwatersysteem","Vervangen","Infiltratiekrat gemeente makkelijk",null,"MA","Aankoop Filterdoek","st",10.453333333333333,{"$f":"IF(Invoer!$D$8=\"Aan\",IF($K214>0,$K214,($H220*Indexfactor_1)),($H220*Indexfactor_1))","v":10.453333333333333},"Conform Bouwkostenonline 2016, van bouwformatie.nl, nb; afgeschermd tot er duidelijkheid is over openbaar maken van deze gegevens.`"]
["Hemelwatersysteem","Vervangen","Infiltratiekrat gemeente makkelijk",null,"A,ME","Ontgraven kratruimte","st",7.3,{"$f":"IF(Invoer!$D$8=\"Aan\",IF($K215>0,$K215,($H221*Indexfactor_1)),($H221*Indexfactor_1))","v":7.3},"Conform Bouwkostenonline 2016, van bouwformatie.nl, nb; afgeschermd tot er duidelijkheid is over openbaar maken van deze gegevens.`"]
["Hemelwatersysteem","Vervangen","Infiltratiekrat gemeente makkelijk",null,"A,ME","Grond aanbrengen","st",6.3,{"$f":"IF(Invoer!$D$8=\"Aan\",IF($K216>0,$K216,($H222*Indexfactor_1)),($H222*Indexfactor_1))","v":6.3},"Conform Bouwkostenonline 2016, van bouwformatie.nl, nb; afgeschermd tot er duidelijkheid is over openbaar maken van deze gegevens.`"]
["Hemelwatersysteem","Vervangen","Infiltratiekrat gemeente makkelijk",null,"A,ME","Vervangen krat en doek","st",41.12,{"$f":"IF(Invoer!$D$8=\"Aan\",IF($K217>0,$K217,($H223*Indexfactor_1)),($H223*Indexfactor_1))","v":41.12},"Conform Bouwkostenonline 2016, van bouwformatie.nl, nb; afgeschermd tot er duidelijkheid is over openbaar maken van deze gegevens.`"]
["Hemelwatersysteem","Vervangen","Infiltratiekrat gemeente makkelijk",null,"A,ME","Afwerking","st",5.04,{"$f":"IF(Invoer!$D$8=\"Aan\",IF($K219>0,$K219,($H224*Indexfactor_1)),($H224*Indexfactor_1))","v":5.04},"Conform Bouwkostenonline 2016, van bouwformatie.nl, nb; afgeschermd tot er duidelijkheid is over openbaar maken van deze gegevens.`"]
["Hemelwatersysteem","Vervangen","Infiltratiekrat gemeente makkelijk",null,"A,ME","Afvoerkosten verwijderd materiaal","st",1.38,{"$f":"IF(Invoer!$D$8=\"Aan\",IF($K220>0,$K220,($H225*Indexfactor_1)),($H225*Indexfactor_1))","v":1.38},"Conform Bouwkostenonline 2016, van bouwformatie.nl, nb; afgeschermd tot er duidelijkheid is over openbaar maken van deze gegevens.`"]
["Hemelwatersysteem","Vervangen","Infiltratiekrat gemeente makkelijk",null,"A,ME","Stortkosten verwijderd materiaal","st",2.4300000000000002,{"$f":"IF(Invoer!$D$8=\"Aan\",IF($K221>0,$K221,($H226*Indexfactor_1)),($H226*Indexfactor_1))","v":2.4300000000000002},"Conform Bouwkostenonline 2016, van bouwformatie.nl, nb; afgeschermd tot er duidelijkheid is over openbaar maken van deze gegevens.`"]
["Hemelwatersysteem","Aanleg","Infiltratiekrat particulier makkelijk","Prijs obv 3m^3 berging ","MA","Aankoop Krat, bodem en zijplaten","st",345.83,{"$f":"IF(Invoer!$D$8=\"Aan\",IF($K221>0,$K221,($H227*Indexfactor_1)),($H227*Indexfactor_1))","v":345.83},"Conform Bouwkostenonline 2016, van bouwformatie.nl, nb; afgeschermd tot er duidelijkheid is over openbaar maken van deze gegevens.`"]
["Hemelwatersysteem","Aanleg","Infiltratiekrat particulier makkelijk",null,"MA","Aankoop Filterdoek","st",10.453333333333333,{"$f":"IF(Invoer!$D$8=\"Aan\",IF($K222>0,$K222,($H228*Indexfactor_1)),($H228*Indexfactor_1))","v":10.453333333333333},"Conform Bouwkostenonline 2016, van bouwformatie.nl, nb; afgeschermd tot er duidelijkheid is over openbaar maken van deze gegevens.`"]
["Hemelwatersysteem","Aanleg","Infiltratiekrat particulier makkelijk",null,"A,ME","Ontgraven kratruimte","st",9.68,{"$f":"IF(Invoer!$D$8=\"Aan\",IF($K223>0,$K223,($H229*Indexfactor_1)),($H229*Indexfactor_1))","v":9.68},"Conform Bouwkostenonline 2016, van bouwformatie.nl, nb; afgeschermd tot er duidelijkheid is over openbaar maken van deze gegevens.`"]
["Hemelwatersysteem","Aanleg","Infiltratiekrat particulier makkelijk",null,"A,ME","Grond vervoeren ","st",6.47,{"$f":"IF(Invoer!$D$8=\"Aan\",IF($K224>0,$K224,($H230*Indexfactor_1)),($H230*Indexfactor_1))","v":6.47},"Conform Bouwkostenonline 2016, van bouwformatie.nl, nb; afgeschermd tot er duidelijkheid is over openbaar maken van deze gegevens.`"]
["Hemelwatersysteem","Aanleg","Infiltratiekrat particulier makkelijk",null,"A,ME","Aanbrengen krat en doek","st",27.41,{"$f":"IF(Invoer!$D$8=\"Aan\",IF($K225>0,$K225,($H231*Indexfactor_1)),($H231*Indexfactor_1))","v":27.41},"Conform Bouwkostenonline 2016, van bouwformatie.nl, nb; afgeschermd tot er duidelijkheid is over openbaar maken van deze gegevens.`"]
["Hemelwatersysteem","Aanleg","Infiltratiekrat particulier makkelijk",null,"A,ME","Grond aanbrengen","st",6.3,{"$f":"IF(Invoer!$D$8=\"Aan\",IF($K226>0,$K226,($H232*Indexfactor_1)),($H232*Indexfactor_1))","v":6.3},"Conform Bouwkostenonline 2016, van bouwformatie.nl, nb; afgeschermd tot er duidelijkheid is over openbaar maken van deze gegevens.`"]
["Hemelwatersysteem","Aanleg","Infiltratiekrat particulier makkelijk",null,"A,ME","Afwerking","st",5.04,{"$f":"IF(Invoer!$D$8=\"Aan\",IF($K227>0,$K227,($H233*Indexfactor_1)),($H233*Indexfactor_1))","v":5.04},"Conform Bouwkostenonline 2016, van bouwformatie.nl, nb; afgeschermd tot er duidelijkheid is over openbaar maken van deze gegevens.`"]
["Hemelwatersysteem","Vervangen","Infiltratiekrat particulier makkelijk","Prijs obv 3m^3 berging ","MA","Aankoop Krat, bodem en zijplaten","st",345.83,{"$f":"IF(Invoer!$D$8=\"Aan\",IF($K228>0,$K228,($H234*Indexfactor_1)),($H234*Indexfactor_1))","v":345.83},"Conform Bouwkostenonline 2016, van bouwformatie.nl, nb; afgeschermd tot er duidelijkheid is over openbaar maken van deze gegevens.`"]
["Hemelwatersysteem","Vervangen","Infiltratiekrat particulier makkelijk",null,"MA","Aankoop Filterdoek","st",10.453333333333333,{"$f":"IF(Invoer!$D$8=\"Aan\",IF($K229>0,$K229,($H235*Indexfactor_1)),($H235*Indexfactor_1))","v":10.453333333333333},"Conform Bouwkostenonline 2016, van bouwformatie.nl, nb; afgeschermd tot er duidelijkheid is over openbaar maken van deze gegevens.`"]
["Hemelwatersysteem","Vervangen","Infiltratiekrat particulier makkelijk",null,"A,ME","Ontgraven kratruimte","st",7.3,{"$f":"IF(Invoer!$D$8=\"Aan\",IF($K230>0,$K230,($H236*Indexfactor_1)),($H236*Indexfactor_1))","v":7.3},"Conform Bouwkostenonline 2016, van bouwformatie.nl, nb; afgeschermd tot er duidelijkheid is over openbaar maken van deze gegevens.`"]
["Hemelwatersysteem","Vervangen","Infiltratiekrat particulier makkelijk",null,"A,ME","Grond aanbrengen","st",6.3,{"$f":"IF(Invoer!$D$8=\"Aan\",IF($K231>0,$K231,($H237*Indexfactor_1)),($H237*Indexfactor_1))","v":6.3},"Conform Bouwkostenonline 2016, van bouwformatie.nl, nb; afgeschermd tot er duidelijkheid is over openbaar maken van deze gegevens.`"]
["Hemelwatersysteem","Vervangen","Infiltratiekrat particulier makkelijk",null,"A,ME","Vervangen krat en doek","st",41.12,{"$f":"IF(Invoer!$D$8=\"Aan\",IF($K232>0,$K232,($H238*Indexfactor_1)),($H238*Indexfactor_1))","v":41.12},"Conform Bouwkostenonline 2016, van bouwformatie.nl, nb; afgeschermd tot er duidelijkheid is over openbaar maken van deze gegevens.`"]
["Hemelwatersysteem","Vervangen","Infiltratiekrat particulier makkelijk",null,"A,ME","Afwerking","st",5.04,{"$f":"IF(Invoer!$D$8=\"Aan\",IF($K234>0,$K234,($H239*Indexfactor_1)),($H239*Indexfactor_1))","v":5.04},"Conform Bouwkostenonline 2016, van bouwformatie.nl, nb; afgeschermd tot er duidelijkheid is over openbaar maken van deze gegevens.`"]
["Hemelwatersysteem","Vervangen","Infiltratiekrat particulier makkelijk",null,"A,ME","Afvoerkosten verwijderd materiaal","st",1.38,{"$f":"IF(Invoer!$D$8=\"Aan\",IF($K235>0,$K235,($H240*Indexfactor_1)),($H240*Indexfactor_1))","v":1.38},"Conform Bouwkostenonline 2016, van bouwformatie.nl, nb; afgeschermd tot er duidelijkheid is over openbaar maken van deze gegevens.`"]
["Hemelwatersysteem","Vervangen","Infiltratiekrat particulier makkelijk",null,"A,ME","Stortkosten verwijderd materiaal","st",2.4300000000000002,{"$f":"IF(Invoer!$D$8=\"Aan\",IF($K236>0,$K236,($H241*Indexfactor_1)),($H241*Indexfactor_1))","v":2.4300000000000002},"Conform Bouwkostenonline 2016, van bouwformatie.nl, nb; afgeschermd tot er duidelijkheid is over openbaar maken van deze gegevens.`"]
["Hemelwatersysteem","Aanleg","Infiltratiekrat particulier moeilijk","Prijs obv 3m^3 berging ","MA","Aankoop Krat, bodem en zijplaten","st",345.83,{"$f":"IF(Invoer!$D$8=\"Aan\",IF($K236>0,$K236,($H242*Indexfactor_1)),($H242*Indexfactor_1))","v":345.83},"Conform Bouwkostenonline 2016, van bouwformatie.nl, nb; afgeschermd tot er duidelijkheid is over openbaar maken van deze gegevens.`"]
["Hemelwatersysteem","Aanleg","Infiltratiekrat particulier moeilijk",null,"MA","Aankoop Filterdoek","st",10.453333333333333,{"$f":"IF(Invoer!$D$8=\"Aan\",IF($K237>0,$K237,($H243*Indexfactor_1)),($H243*Indexfactor_1))","v":10.453333333333333},"Conform Bouwkostenonline 2016, van bouwformatie.nl, nb; afgeschermd tot er duidelijkheid is over openbaar maken van deze gegevens.`"]
["Hemelwatersysteem","Aanleg","Infiltratiekrat particulier moeilijk",null,"A,ME","Ontgraven kratruimte","st",94.3,{"$f":"IF(Invoer!$D$8=\"Aan\",IF($K238>0,$K238,($H244*Indexfactor_1)),($H244*Indexfactor_1))","v":94.3},"Conform Bouwkostenonline 2016, van bouwformatie.nl, nb; afgeschermd tot er duidelijkheid is over openbaar maken van deze gegevens.`"]
["Hemelwatersysteem","Aanleg","Infiltratiekrat particulier moeilijk",null,"A,ME","Grond vervoeren ","st",6.47,{"$f":"IF(Invoer!$D$8=\"Aan\",IF($K239>0,$K239,($H245*Indexfactor_1)),($H245*Indexfactor_1))","v":6.47},"Conform Bouwkostenonline 2016, van bouwformatie.nl, nb; afgeschermd tot er duidelijkheid is over openbaar maken van deze gegevens.`"]
["Hemelwatersysteem","Aanleg","Infiltratiekrat particulier moeilijk",null,"A,ME","Aanbrengen krat en doek","st",27.41,{"$f":"IF(Invoer!$D$8=\"Aan\",IF($K240>0,$K240,($H246*Indexfactor_1)),($H246*Indexfactor_1))","v":27.41},"Conform Bouwkostenonline 2016, van bouwformatie.nl, nb; afgeschermd tot er duidelijkheid is over openbaar maken van deze gegevens.`"]
["Hemelwatersysteem","Aanleg","Infiltratiekrat particulier moeilijk",null,"A,ME","Grond aanbrengen","st",71.14,{"$f":"IF(Invoer!$D$8=\"Aan\",IF($K241>0,$K241,($H247*Indexfactor_1)),($H247*Indexfactor_1))","v":71.14},"Conform Bouwkostenonline 2016, van bouwformatie.nl, nb; afgeschermd tot er duidelijkheid is over openbaar maken van deze gegevens.`"]
["Hemelwatersysteem","Aanleg","Infiltratiekrat particulier moeilijk",null,"A,ME","Afwerking","st",5.04,{"$f":"IF(Invoer!$D$8=\"Aan\",IF($K242>0,$K242,($H248*Indexfactor_1)),($H248*Indexfactor_1))","v":5.04},"Conform Bouwkostenonline 2016, van bouwformatie.nl, nb; afgeschermd tot er duidelijkheid is over openbaar maken van deze gegevens.`"]
["Hemelwatersysteem","Vervangen","Infiltratiekrat particulier moeilijk","Prijs obv 3m^3 berging ","MA","Aankoop Krat, bodem en zijplaten","st",345.83,{"$f":"IF(Invoer!$D$8=\"Aan\",IF($K243>0,$K243,($H249*Indexfactor_1)),($H249*Indexfactor_1))","v":345.83},"Conform Bouwkostenonline 2016, van bouwformatie.nl, nb; afgeschermd tot er duidelijkheid is over openbaar maken van deze gegevens.`"]
["Hemelwatersysteem","Vervangen","Infiltratiekrat particulier moeilijk",null,"MA","Aankoop Filterdoek","st",10.453333333333333,{"$f":"IF(Invoer!$D$8=\"Aan\",IF($K244>0,$K244,($H250*Indexfactor_1)),($H250*Indexfactor_1))","v":10.453333333333333},"Conform Bouwkostenonline 2016, van bouwformatie.nl, nb; afgeschermd tot er duidelijkheid is over openbaar maken van deze gegevens.`"]
["Hemelwatersysteem","Vervangen","Infiltratiekrat particulier moeilijk",null,"A,ME","Ontgraven kratruimte","st",71.14,{"$f":"IF(Invoer!$D$8=\"Aan\",IF($K245>0,$K245,($H251*Indexfactor_1)),($H251*Indexfactor_1))","v":71.14},"Conform Bouwkostenonline 2016, van bouwformatie.nl, nb; afgeschermd tot er duidelijkheid is over openbaar maken van deze gegevens.`"]
["Hemelwatersysteem","Vervangen","Infiltratiekrat particulier moeilijk",null,"A,ME","Grond aanbrengen","st",71.14,{"$f":"IF(Invoer!$D$8=\"Aan\",IF($K246>0,$K246,($H252*Indexfactor_1)),($H252*Indexfactor_1))","v":71.14},"Conform Bouwkostenonline 2016, van bouwformatie.nl, nb; afgeschermd tot er duidelijkheid is over openbaar maken van deze gegevens.`"]
["Hemelwatersysteem","Vervangen","Infiltratiekrat particulier moeilijk",null,"A,ME","Vervangen krat en doek","st",41.12,{"$f":"IF(Invoer!$D$8=\"Aan\",IF($K247>0,$K247,($H253*Indexfactor_1)),($H253*Indexfactor_1))","v":41.12},"Conform Bouwkostenonline 2016, van bouwformatie.nl, nb; afgeschermd tot er duidelijkheid is over openbaar maken van deze gegevens.`"]
["Hemelwatersysteem","Vervangen","Infiltratiekrat particulier moeilijk",null,"A,ME","Afwerking","st",5.04,{"$f":"IF(Invoer!$D$8=\"Aan\",IF($K249>0,$K249,($H254*Indexfactor_1)),($H254*Indexfactor_1))","v":5.04},"Conform Bouwkostenonline 2016, van bouwformatie.nl, nb; afgeschermd tot er duidelijkheid is over openbaar maken van deze gegevens.`"]
["Hemelwatersysteem","Vervangen","Infiltratiekrat particulier moeilijk",null,"A,ME","Afvoerkosten verwijderd materiaal","st",1.38,{"$f":"IF(Invoer!$D$8=\"Aan\",IF($K250>0,$K250,($H255*Indexfactor_1)),($H255*Indexfactor_1))","v":1.38},"Conform Bouwkostenonline 2016, van bouwformatie.nl, nb; afgeschermd tot er duidelijkheid is over openbaar maken van deze gegevens.`"]
["Hemelwatersysteem","Vervangen","Infiltratiekrat particulier moeilijk",null,"A,ME","Stortkosten verwijderd materiaal","st",2.4300000000000002,{"$f":"IF(Invoer!$D$8=\"Aan\",IF($K251>0,$K251,($H256*Indexfactor_1)),($H256*Indexfactor_1))","v":2.4300000000000002},"Conform Bouwkostenonline 2016, van bouwformatie.nl, nb; afgeschermd tot er duidelijkheid is over openbaar maken van deze gegevens.`"]
["Hemelwatersysteem","Aanleg","Infiltratiekrat perceelaansluiting makkelijk",null,"MA","Aankoop PVC buis 125mm","st",13.02,{"$f":"IF(Invoer!$D$8=\"Aan\",IF($K257>0,$K257,($H257*Indexfactor_1)),($H257*Indexfactor_1))","v":13.02},"Conform Bouwkostenonline 2016, van bouwformatie.nl, nb; afgeschermd tot er duidelijkheid is over openbaar maken van deze gegevens.`"]
["Hemelwatersysteem","Aanleg","Infiltratiekrat perceelaansluiting makkelijk",null,"MA","Aankoop PVC bocht 125mm","st",6.69,{"$f":"IF(Invoer!$D$8=\"Aan\",IF($K258>0,$K258,($H258*Indexfactor_1)),($H258*Indexfactor_1))","v":6.69},"Conform Bouwkostenonline 2016, van bouwformatie.nl, nb; afgeschermd tot er duidelijkheid is over openbaar maken van deze gegevens.`"]
["Hemelwatersysteem","Aanleg","Infiltratiekrat perceelaansluiting makkelijk",null,"MA","Aankoop Zandvangput","st",67.77,{"$f":"IF(Invoer!$D$8=\"Aan\",IF($K259>0,$K259,($H259*Indexfactor_1)),($H259*Indexfactor_1))","v":67.77},"Conform Bouwkostenonline 2016, van bouwformatie.nl, nb; afgeschermd tot er duidelijkheid is over openbaar maken van deze gegevens.`"]
["Hemelwatersysteem","Aanleg","Infiltratiekrat perceelaansluiting makkelijk",null,"MA","Aankoop Bladvanger","st",13.67,{"$f":"IF(Invoer!$D$8=\"Aan\",IF($K260>0,$K260,($H260*Indexfactor_1)),($H260*Indexfactor_1))","v":13.67},"Conform Bouwkostenonline 2016, van bouwformatie.nl, nb; afgeschermd tot er duidelijkheid is over openbaar maken van deze gegevens.`"]
["Hemelwatersysteem","Aanleg","Infiltratiekrat perceelaansluiting makkelijk",null,"A,ME","Ontgraven en aanbrengen PVC sleuf","st",6.94,{"$f":"IF(Invoer!$D$8=\"Aan\",IF($K261>0,$K261,($H261*Indexfactor_1)),($H261*Indexfactor_1))","v":6.94},"Conform Bouwkostenonline 2016, van bouwformatie.nl, nb; afgeschermd tot er duidelijkheid is over openbaar maken van deze gegevens.`"]
["Hemelwatersysteem","Vervangen","Infiltratiekrat perceelaansluiting makkelijk",null,"MA","Aankoop PVC buis 125mm","st",13.02,{"$f":"IF(Invoer!$D$8=\"Aan\",IF($K262>0,$K262,($H262*Indexfactor_1)),($H262*Indexfactor_1))","v":13.02},"Conform Bouwkostenonline 2016, van bouwformatie.nl, nb; afgeschermd tot er duidelijkheid is over openbaar maken van deze gegevens.`"]
["Hemelwatersysteem","Vervangen","Infiltratiekrat perceelaansluiting makkelijk",null,"MA","Aankoop PVC bocht 125mm","st",6.69,{"$f":"IF(Invoer!$D$8=\"Aan\",IF($K263>0,$K263,($H263*Indexfactor_1)),($H263*Indexfactor_1))","v":6.69},"Conform Bouwkostenonline 2016, van bouwformatie.nl, nb; afgeschermd tot er duidelijkheid is over openbaar maken van deze gegevens.`"]
["Hemelwatersysteem","Vervangen","Infiltratiekrat perceelaansluiting makkelijk",null,"MA","Aankoop Zandvangput","st",67.77,{"$f":"IF(Invoer!$D$8=\"Aan\",IF($K264>0,$K264,($H264*Indexfactor_1)),($H264*Indexfactor_1))","v":67.77},"Conform Bouwkostenonline 2016, van bouwformatie.nl, nb; afgeschermd tot er duidelijkheid is over openbaar maken van deze gegevens.`"]
["Hemelwatersysteem","Vervangen","Infiltratiekrat perceelaansluiting makkelijk",null,"MA","Aankoop Bladvanger","st",13.67,{"$f":"IF(Invoer!$D$8=\"Aan\",IF($K265>0,$K265,($H265*Indexfactor_1)),($H265*Indexfactor_1))","v":13.67},"Conform Bouwkostenonline 2016, van bouwformatie.nl, nb; afgeschermd tot er duidelijkheid is over openbaar maken van deze gegevens.`"]
["Hemelwatersysteem","Vervangen","Infiltratiekrat perceelaansluiting makkelijk",null,"A,ME","Ontgraven en vervangen PVC","st",9.68,{"$f":"IF(Invoer!$D$8=\"Aan\",IF($K266>0,$K266,($H266*Indexfactor_1)),($H266*Indexfactor_1))","v":9.68},"Conform Bouwkostenonline 2016, van bouwformatie.nl, nb; afgeschermd tot er duidelijkheid is over openbaar maken van deze gegevens.`"]
["Hemelwatersysteem","Aanleg","Infiltratiekrat perceelaansluiting moeilijk",null,"MA","Aankoop PVC buis 125mm","st",13.02,{"$f":"IF(Invoer!$D$8=\"Aan\",IF($K267>0,$K267,($H267*Indexfactor_1)),($H267*Indexfactor_1))","v":13.02},"Conform Bouwkostenonline 2016, van bouwformatie.nl, nb; afgeschermd tot er duidelijkheid is over openbaar maken van deze gegevens.`"]
["Hemelwatersysteem","Aanleg","Infiltratiekrat perceelaansluiting moeilijk",null,"MA","Aankoop PVC bocht 125mm","st",6.69,{"$f":"IF(Invoer!$D$8=\"Aan\",IF($K268>0,$K268,($H268*Indexfactor_1)),($H268*Indexfactor_1))","v":6.69},"Conform Bouwkostenonline 2016, van bouwformatie.nl, nb; afgeschermd tot er duidelijkheid is over openbaar maken van deze gegevens.`"]
["Hemelwatersysteem","Aanleg","Infiltratiekrat perceelaansluiting moeilijk",null,"MA","Aankoop Zandvangput","st",67.77,{"$f":"IF(Invoer!$D$8=\"Aan\",IF($K269>0,$K269,($H269*Indexfactor_1)),($H269*Indexfactor_1))","v":67.77},"Conform Bouwkostenonline 2016, van bouwformatie.nl, nb; afgeschermd tot er duidelijkheid is over openbaar maken van deze gegevens.`"]
["Hemelwatersysteem","Aanleg","Infiltratiekrat perceelaansluiting moeilijk",null,"MA","Aankoop Bladvanger","st",13.67,{"$f":"IF(Invoer!$D$8=\"Aan\",IF($K270>0,$K270,($H270*Indexfactor_1)),($H270*Indexfactor_1))","v":13.67},"Conform Bouwkostenonline 2016, van bouwformatie.nl, nb; afgeschermd tot er duidelijkheid is over openbaar maken van deze gegevens.`"]
["Hemelwatersysteem","Aanleg","Infiltratiekrat perceelaansluiting moeilijk",null,"A,ME","Ontgraven en aanbrengen PVC sleuf","st",82.24,{"$f":"IF(Invoer!$D$8=\"Aan\",IF($K271>0,$K271,($H271*Indexfactor_1)),($H271*Indexfactor_1))","v":82.24},"Conform Bouwkostenonline 2016, van bouwformatie.nl, nb; afgeschermd tot er duidelijkheid is over openbaar maken van deze gegevens.`"]
["Hemelwatersysteem","Vervangen","Infiltratiekrat perceelaansluiting moeilijk",null,"MA","Aankoop PVC buis 125mm","st",13.02,{"$f":"IF(Invoer!$D$8=\"Aan\",IF($K272>0,$K272,($H272*Indexfactor_1)),($H272*Indexfactor_1))","v":13.02},"Conform Bouwkostenonline 2016, van bouwformatie.nl, nb; afgeschermd tot er duidelijkheid is over openbaar maken van deze gegevens.`"]
["Hemelwatersysteem","Vervangen","Infiltratiekrat perceelaansluiting moeilijk",null,"MA","Aankoop PVC bocht 125mm","st",6.69,{"$f":"IF(Invoer!$D$8=\"Aan\",IF($K273>0,$K273,($H273*Indexfactor_1)),($H273*Indexfactor_1))","v":6.69},"Conform Bouwkostenonline 2016, van bouwformatie.nl, nb; afgeschermd tot er duidelijkheid is over openbaar maken van deze gegevens.`"]
["Hemelwatersysteem","Vervangen","Infiltratiekrat perceelaansluiting moeilijk",null,"MA","Aankoop Zandvangput","st",67.77,{"$f":"IF(Invoer!$D$8=\"Aan\",IF($K274>0,$K274,($H274*Indexfactor_1)),($H274*Indexfactor_1))","v":67.77},"Conform Bouwkostenonline 2016, van bouwformatie.nl, nb; afgeschermd tot er duidelijkheid is over openbaar maken van deze gegevens.`"]
["Hemelwatersysteem","Vervangen","Infiltratiekrat perceelaansluiting moeilijk",null,"MA","Aankoop Bladvanger","st",13.67,{"$f":"IF(Invoer!$D$8=\"Aan\",IF($K275>0,$K275,($H275*Indexfactor_1)),($H275*Indexfactor_1))","v":13.67},"Conform Bouwkostenonline 2016, van bouwformatie.nl, nb; afgeschermd tot er duidelijkheid is over openbaar maken van deze gegevens.`"]
["Hemelwatersysteem","Vervangen","Infiltratiekrat perceelaansluiting moeilijk",null,"A,ME","Ontgraven en vervangen PVC","st",82.24,{"$f":"IF(Invoer!$D$8=\"Aan\",IF($K276>0,$K276,($H276*Indexfactor_1)),($H276*Indexfactor_1))","v":82.24},"Conform Bouwkostenonline 2016, van bouwformatie.nl, nb; afgeschermd tot er duidelijkheid is over openbaar maken van deze gegevens.`"]
["Riolering","Aanleg","Kolk",null,"MA","Kolk","st",105,{"$f":"IF(Invoer!$D$8=\"Aan\",IF($K277>0,$K277,($H277*Indexfactor_1)),($H277*Indexfactor_1))","v":105},"Conform D1100 03-2015"]
["Riolering","Aanleg","Kolk",null,"MA","Leidingen","st",74,{"$f":"IF(Invoer!$D$8=\"Aan\",IF($K278>0,$K278,($H278*Indexfactor_1)),($H278*Indexfactor_1))","v":74},"Conform D1100 03-2015"]
["Riolering","Aanleg","Kolk",null,"A","Plaatsen","st",8,{"$f":"IF(Invoer!$D$8=\"Aan\",IF($K279>0,$K279,($H279*Indexfactor_1)),($H279*Indexfactor_1))","v":8},"Conform D1100 03-2015"]
["Riolering","Vervangen","Kolk",null,"MA","Kolk","st",105,{"$f":"IF(Invoer!$D$8=\"Aan\",IF($K280>0,$K280,($H280*Indexfactor_1)),($H280*Indexfactor_1))","v":105},"Conform D1100 03-2015"]
["Riolering","Vervangen","Kolk",null,"MA","Leidingen","st",74,{"$f":"IF(Invoer!$D$8=\"Aan\",IF($K281>0,$K281,($H281*Indexfactor_1)),($H281*Indexfactor_1))","v":74},"Conform D1100 03-2015"]
["Riolering","Vervangen","Kolk",null,"A","Plaatsen","st",8,{"$f":"IF(Invoer!$D$8=\"Aan\",IF($K282>0,$K282,($H282*Indexfactor_1)),($H282*Indexfactor_1))","v":8},"Conform D1100 03-2015"]
["Riolering","Vervangen","Kolk",null,"A,MA,ME","Verwijderen","st",12,{"$f":"IF(Invoer!$D$8=\"Aan\",IF($K283>0,$K283,($H283*Indexfactor_1)),($H283*Indexfactor_1))","v":12},"Conform D1100 03-2015"]
["Riolering","Verwijderen","Kolk",null,"A,MA,ME","Verwijderen","st",12,{"$f":"IF(Invoer!$D$8=\"Aan\",IF($K284>0,$K284,($H284*Indexfactor_1)),($H284*Indexfactor_1))","v":12},"Conform D1100 03-2015"]
["Hemelwatersysteem","Aanleg","Molgoot",null,"A","Arbeidskosten","m",{"$f":"2.74+4.15","v":6.8900000000000006},{"$f":"IF(Invoer!$D$8=\"Aan\",IF($K285>0,$K285,($H285*Indexfactor_1)),($H285*Indexfactor_1))","v":6.8900000000000006},"Conform Bouwkostenonline 2016, van bouwformatie.nl, nb; afgeschermd tot er duidelijkheid is over openbaar maken van deze gegevens.`"]
["Hemelwatersysteem","Aanleg","Molgoot",null,"MA","Materiaal","m",{"$f":"13+4.73","v":17.73},{"$f":"IF(Invoer!$D$8=\"Aan\",IF($K286>0,$K286,($H286*Indexfactor_1)),($H286*Indexfactor_1))","v":17.73},"Conform Bouwkostenonline 2016, van bouwformatie.nl, nb; afgeschermd tot er duidelijkheid is over openbaar maken van deze gegevens.`"]
["Hemelwatersysteem","Aanleg","Molgoot",null,"ME","Materieel","m",{"$f":"1.1+5.5","v":6.6},{"$f":"IF(Invoer!$D$8=\"Aan\",IF($K287>0,$K287,($H287*Indexfactor_1)),($H287*Indexfactor_1))","v":6.6},"Conform Bouwkostenonline 2016, van bouwformatie.nl, nb; afgeschermd tot er duidelijkheid is over openbaar maken van deze gegevens.`"]
["Hemelwatersysteem","Vervangen","Molgoot",null,"A","Arbeidskosten","m",{"$f":"2.74+4.15","v":6.8900000000000006},{"$f":"IF(Invoer!$D$8=\"Aan\",IF($K288>0,$K288,($H288*Indexfactor_1)),($H288*Indexfactor_1))","v":6.8900000000000006},"Conform Bouwkostenonline 2016, van bouwformatie.nl, nb; afgeschermd tot er duidelijkheid is over openbaar maken van deze gegevens.`"]
["Hemelwatersysteem","Vervangen","Molgoot",null,"MA","Materiaal","m",{"$f":"13+4.73","v":17.73},{"$f":"IF(Invoer!$D$8=\"Aan\",IF($K289>0,$K289,($H289*Indexfactor_1)),($H289*Indexfactor_1))","v":17.73},"Conform Bouwkostenonline 2016, van bouwformatie.nl, nb; afgeschermd tot er duidelijkheid is over openbaar maken van deze gegevens.`"]
["Hemelwatersysteem","Vervangen","Molgoot",null,"ME","Materieel","m",{"$f":"1.1+5.5","v":6.6},{"$f":"IF(Invoer!$D$8=\"Aan\",IF($K290>0,$K290,($H290*Indexfactor_1)),($H290*Indexfactor_1))","v":6.6},"Conform Bouwkostenonline 2016, van bouwformatie.nl, nb; afgeschermd tot er duidelijkheid is over openbaar maken van deze gegevens.`"]
["Hemelwatersysteem","Vervangen","Molgoot",null,"A,ME","Openbreken molgoot","m",3.87,{"$f":"IF(Invoer!$D$8=\"Aan\",IF($K291>0,$K291,($H291*Indexfactor_1)),($H291*Indexfactor_1))","v":3.87},"Conform Bouwkostenonline 2016, van bouwformatie.nl, nb; afgeschermd tot er duidelijkheid is over openbaar maken van deze gegevens.`"]
["Hemelwatersysteem","Vervangen","Molgoot",null,"A,ME","Afvoeren en storten vrijgekomen materiaal","m",0.7,{"$f":"IF(Invoer!$D$8=\"Aan\",IF($K292>0,$K292,($H292*Indexfactor_1)),($H292*Indexfactor_1))","v":0.7},"Conform Bouwkostenonline 2016, van bouwformatie.nl, nb; afgeschermd tot er duidelijkheid is over openbaar maken van deze gegevens.`"]
["Hemelwatersysteem","Aanleg","Onderhoudsarme wadi (inc. beplanting)",null,"MA","Materiaal","m²",12,{"$f":"IF(Invoer!$D$8=\"Aan\",IF($K293>0,$K293,($H293*Indexfactor_1)),($H293*Indexfactor_1))","v":12},"Conform D1100 03-2015"]
["Hemelwatersysteem","Aanleg","Onderhoudsarme wadi (inc. beplanting)",null,"A,ME","Ontgraven","m²",9.4499999999999993,{"$f":"IF(Invoer!$D$8=\"Aan\",IF($K294>0,$K294,($H294*Indexfactor_1)),($H294*Indexfactor_1))","v":9.4499999999999993},"Conform D1100 03-2015"]
["Hemelwatersysteem","Aanleg","Onderhoudsarme wadi (inc. beplanting)",null,"A,ME","Aanbrengen grind, filterdoek en drain","m²",3.15,{"$f":"IF(Invoer!$D$8=\"Aan\",IF($K295>0,$K295,($H295*Indexfactor_1)),($H295*Indexfactor_1))","v":3.15},"Conform D1100 03-2015"]
["Hemelwatersysteem","Aanleg","Onderhoudsarme wadi (inc. beplanting)",null,"A,ME","Aanbrengen met humus verrijkt zand","m²",3.78,{"$f":"IF(Invoer!$D$8=\"Aan\",IF($K296>0,$K296,($H296*Indexfactor_1)),($H296*Indexfactor_1))","v":3.78},"Conform D1100 03-2015"]
["Hemelwatersysteem","Aanleg","Onderhoudsarme wadi (inc. beplanting)",null,"A,ME","Afwerking","m²",2.75,{"$f":"IF(Invoer!$D$8=\"Aan\",IF($K297>0,$K297,($H297*Indexfactor_1)),($H297*Indexfactor_1))","v":2.75},"Conform D1100 03-2015"]
["Hemelwatersysteem","Aanleg","Onderhoudsarme wadi (inc. beplanting)",null,"A,ME","Overige","m²",1.65,{"$f":"IF(Invoer!$D$8=\"Aan\",IF($K298>0,$K298,($H298*Indexfactor_1)),($H298*Indexfactor_1))","v":1.65},"Conform D1100 03-2015"]
["Hemelwatersysteem","Aanleg","Onderhoudsarme wadi (inc. beplanting)",null,"A,ME","Vervoeren vrijgekomen materialen","m²",1.41,{"$f":"IF(Invoer!$D$8=\"Aan\",IF($K299>0,$K299,($H299*Indexfactor_1)),($H299*Indexfactor_1))","v":1.41},"Conform Bouwkostenonline 2016, van bouwformatie.nl, nb; afgeschermd tot er duidelijkheid is over openbaar maken van deze gegevens.`"]
["Hemelwatersysteem","Aanleg","Onderhoudsarme wadi (inc. beplanting)",null,"A,ME","Storten vrijgekomen materialen","m²",1.65,{"$f":"IF(Invoer!$D$8=\"Aan\",IF($K300>0,$K300,($H300*Indexfactor_1)),($H300*Indexfactor_1))","v":1.65},"Conform Bouwkostenonline 2016, van bouwformatie.nl, nb; afgeschermd tot er duidelijkheid is over openbaar maken van deze gegevens.`"]
["Hemelwatersysteem","Vervangen","Onderhoudsarme wadi (inc. beplanting)",null,"MA","Materiaal","m²",12,{"$f":"IF(Invoer!$D$8=\"Aan\",IF($K301>0,$K301,($H301*Indexfactor_1)),($H301*Indexfactor_1))","v":12},"Conform D1100 03-2015"]
["Hemelwatersysteem","Vervangen","Onderhoudsarme wadi (inc. beplanting)",null,"A,ME","Ontgraven","m²",5.91,{"$f":"IF(Invoer!$D$8=\"Aan\",IF($K302>0,$K302,($H302*Indexfactor_1)),($H302*Indexfactor_1))","v":5.91},"Conform D1100 03-2015"]
["Hemelwatersysteem","Vervangen","Onderhoudsarme wadi (inc. beplanting)",null,"A,ME","Aanbrengen grind, filterdoek en drain","m²",3.15,{"$f":"IF(Invoer!$D$8=\"Aan\",IF($K303>0,$K303,($H303*Indexfactor_1)),($H303*Indexfactor_1))","v":3.15},"Conform D1100 03-2015"]
["Hemelwatersysteem","Vervangen","Onderhoudsarme wadi (inc. beplanting)",null,"A,ME","Aanbrengen met humus verrijkt zand","m²",3.78,{"$f":"IF(Invoer!$D$8=\"Aan\",IF($K304>0,$K304,($H304*Indexfactor_1)),($H304*Indexfactor_1))","v":3.78},"Conform D1100 03-2015"]
["Hemelwatersysteem","Vervangen","Onderhoudsarme wadi (inc. beplanting)",null,"A,ME","Afwerking","m²",2.75,{"$f":"IF(Invoer!$D$8=\"Aan\",IF($K305>0,$K305,($H305*Indexfactor_1)),($H305*Indexfactor_1))","v":2.75},"Conform D1100 03-2015"]
["Hemelwatersysteem","Vervangen","Onderhoudsarme wadi (inc. beplanting)",null,"A,ME","Overige","m²",1.65,{"$f":"IF(Invoer!$D$8=\"Aan\",IF($K306>0,$K306,($H306*Indexfactor_1)),($H306*Indexfactor_1))","v":1.65},"Conform D1100 03-2015"]
["Hemelwatersysteem","Vervangen","Onderhoudsarme wadi (inc. beplanting)",null,"A,ME","Vervoeren vrijgekomen materialen","m²",0.7,{"$f":"IF(Invoer!$D$8=\"Aan\",IF($K307>0,$K307,($H307*Indexfactor_1)),($H307*Indexfactor_1))","v":0.7},"Conform Bouwkostenonline 2016, van bouwformatie.nl, nb; afgeschermd tot er duidelijkheid is over openbaar maken van deze gegevens.`"]
["Hemelwatersysteem","Vervangen","Onderhoudsarme wadi (inc. beplanting)",null,"A,ME","Storten vrijgekomen materialen","m²",0.82,{"$f":"IF(Invoer!$D$8=\"Aan\",IF($K308>0,$K308,($H308*Indexfactor_1)),($H308*Indexfactor_1))","v":0.82},"Conform Bouwkostenonline 2016, van bouwformatie.nl, nb; afgeschermd tot er duidelijkheid is over openbaar maken van deze gegevens.`"]
["Hemelwatersysteem","Vervangen","Onderhoudsarme wadi (inc. beplanting)","O.b.v. Bosplantsoen","A","Planten door hovenier","m²",2.31,{"$f":"IF(Invoer!$D$8=\"Aan\",IF($K309>0,$K309,($H309*Indexfactor_1)),($H309*Indexfactor_1))","v":2.31},"Conform Bouwkostenonline 2016, van bouwformatie.nl, nb; afgeschermd tot er duidelijkheid is over openbaar maken van deze gegevens.`"]
["Hemelwatersysteem","Vervangen","Onderhoudsarme wadi (inc. beplanting)","O.b.v. Bosplantsoen","A","Lossen en inkuilen plantmateriaal","m²",1.85,{"$f":"IF(Invoer!$D$8=\"Aan\",IF($K310>0,$K310,($H310*Indexfactor_1)),($H310*Indexfactor_1))","v":1.85},"Conform Bouwkostenonline 2016, van bouwformatie.nl, nb; afgeschermd tot er duidelijkheid is over openbaar maken van deze gegevens.`"]
["Hemelwatersysteem","Vervangen","Onderhoudsarme wadi (inc. beplanting)","O.b.v. Bosplantsoen","A","Afvoeren en ontgraven plantmateriaal","m²",8.33,{"$f":"IF(Invoer!$D$8=\"Aan\",IF($K311>0,$K311,($H311*Indexfactor_1)),($H311*Indexfactor_1))","v":8.33},"Conform Bouwkostenonline 2016, van bouwformatie.nl, nb; afgeschermd tot er duidelijkheid is over openbaar maken van deze gegevens.`"]
["Hemelwatersysteem","Vervangen","Onderhoudsarme wadi (inc. beplanting)","O.b.v. Bosplantsoen","ME","Afvoeren en ontgraven plantmateriaal","m²",9.36,{"$f":"IF(Invoer!$D$8=\"Aan\",IF($K312>0,$K312,($H312*Indexfactor_1)),($H312*Indexfactor_1))","v":9.36},"Conform Bouwkostenonline 2016, van bouwformatie.nl, nb; afgeschermd tot er duidelijkheid is over openbaar maken van deze gegevens.`"]
["Hemelwatersysteem","Verwijderen","Onderhoudsarme wadi (inc. beplanting)","O.b.v. Bosplantsoen","A","Afvoeren en ontgraven plantmateriaal","m²",8.33,{"$f":"IF(Invoer!$D$8=\"Aan\",IF($K313>0,$K313,($H313*Indexfactor_1)),($H313*Indexfactor_1))","v":8.33},"Conform Bouwkostenonline 2016, van bouwformatie.nl, nb; afgeschermd tot er duidelijkheid is over openbaar maken van deze gegevens.`"]
["Hemelwatersysteem","Verwijderen","Onderhoudsarme wadi (inc. beplanting)","O.b.v. Bosplantsoen","ME","Afvoeren en ontgraven plantmateriaal","m²",9.36,{"$f":"IF(Invoer!$D$8=\"Aan\",IF($K314>0,$K314,($H314*Indexfactor_1)),($H314*Indexfactor_1))","v":9.36},"Conform Bouwkostenonline 2016, van bouwformatie.nl, nb; afgeschermd tot er duidelijkheid is over openbaar maken van deze gegevens.`"]
["Hemelwatersysteem","Aanleg","Open grindgoot","0,5 * 1 meter","A","Grondploeg (2man)","m",66.540000000000006,{"$f":"IF(Invoer!$D$8=\"Aan\",IF($K315>0,$K315,($H315*Indexfactor_1)),($H315*Indexfactor_1))","v":66.540000000000006},"Conform Bouwkostenonline 2016, van bouwformatie.nl, nb; afgeschermd tot er duidelijkheid is over openbaar maken van deze gegevens.`"]
["Hemelwatersysteem","Aanleg","Open grindgoot","0,5 * 1 meter","MA","Grind 8/16 mm","m",32,{"$f":"IF(Invoer!$D$8=\"Aan\",IF($K316>0,$K316,($H316*Indexfactor_1)),($H316*Indexfactor_1))","v":32},"Conform Bouwkostenonline 2016, van bouwformatie.nl, nb; afgeschermd tot er duidelijkheid is over openbaar maken van deze gegevens.`"]
["Hemelwatersysteem","Aanleg","Open grindgoot","0,5 * 1 meter","MA","Filterdoek","m",5,{"$f":"IF(Invoer!$D$8=\"Aan\",IF($K317>0,$K317,($H317*Indexfactor_1)),($H317*Indexfactor_1))","v":5},"Conform Bouwkostenonline 2016, van bouwformatie.nl, nb; afgeschermd tot er duidelijkheid is over openbaar maken van deze gegevens.`"]
["Hemelwatersysteem","Aanleg","Open grindgoot","0,5 * 1 meter","ME","Rupsgraafmachine 750l","m",64.209999999999994,{"$f":"IF(Invoer!$D$8=\"Aan\",IF($K318>0,$K318,($H318*Indexfactor_1)),($H318*Indexfactor_1))","v":64.209999999999994},"Conform Bouwkostenonline 2016, van bouwformatie.nl, nb; afgeschermd tot er duidelijkheid is over openbaar maken van deze gegevens.`"]
["Hemelwatersysteem","Vervangen","Open grindgoot","0,5 * 1 meter","A","Grondploeg (2man)","m",83.18,{"$f":"IF(Invoer!$D$8=\"Aan\",IF($K319>0,$K319,($H319*Indexfactor_1)),($H319*Indexfactor_1))","v":83.18},"Conform Bouwkostenonline 2016, van bouwformatie.nl, nb; afgeschermd tot er duidelijkheid is over openbaar maken van deze gegevens.`"]
["Hemelwatersysteem","Vervangen","Open grindgoot","0,5 * 1 meter","MA","Grind 8/16 mm","m",32,{"$f":"IF(Invoer!$D$8=\"Aan\",IF($K320>0,$K320,($H320*Indexfactor_1)),($H320*Indexfactor_1))","v":32},"Conform Bouwkostenonline 2016, van bouwformatie.nl, nb; afgeschermd tot er duidelijkheid is over openbaar maken van deze gegevens.`"]
["Hemelwatersysteem","Vervangen","Open grindgoot","0,5 * 1 meter","MA","Filterdoek","m",5,{"$f":"IF(Invoer!$D$8=\"Aan\",IF($K321>0,$K321,($H321*Indexfactor_1)),($H321*Indexfactor_1))","v":5},"Conform Bouwkostenonline 2016, van bouwformatie.nl, nb; afgeschermd tot er duidelijkheid is over openbaar maken van deze gegevens.`"]
["Hemelwatersysteem","Vervangen","Open grindgoot","0,5 * 1 meter","ME","Rupsgraafmachine 750l","m",32.1,{"$f":"IF(Invoer!$D$8=\"Aan\",IF($K322>0,$K322,($H322*Indexfactor_1)),($H322*Indexfactor_1))","v":32.1},"Conform Bouwkostenonline 2016, van bouwformatie.nl, nb; afgeschermd tot er duidelijkheid is over openbaar maken van deze gegevens.`"]
["Hemelwatersysteem","Vervangen","Open grindgoot","0,5 * 1 meter","ME","Afvoeren vrijgekomen materiaal","m",1.17,{"$f":"IF(Invoer!$D$8=\"Aan\",IF($K323>0,$K323,($H323*Indexfactor_1)),($H323*Indexfactor_1))","v":1.17},"Conform Bouwkostenonline 2016, van bouwformatie.nl, nb; afgeschermd tot er duidelijkheid is over openbaar maken van deze gegevens.`"]
["Hemelwatersysteem","Vervangen","Open grindgoot","0,5 * 1 meter","ME","Stortkosten","m",2.75,{"$f":"IF(Invoer!$D$8=\"Aan\",IF($K324>0,$K324,($H324*Indexfactor_1)),($H324*Indexfactor_1))","v":2.75},"Conform Bouwkostenonline 2016, van bouwformatie.nl, nb; afgeschermd tot er duidelijkheid is over openbaar maken van deze gegevens.`"]
["Straatmeubilair","Vervangen","Paal beton",null,"A,MA,ME","Opnemen, afvoeren, aanvoer en verwerken","st",210,{"$f":"IF(Invoer!$D$8=\"Aan\",IF($K325>0,$K325,($H325*Indexfactor_1)),($H325*Indexfactor_1))","v":210},"Ervaringscijfer gemeente Almere 2015"]
["Straatmeubilair","Verwijderen","Paal beton",null,"A,MA,ME","Opnemen, afvoeren, aanvoer en verwerken","st",60,{"$f":"IF(Invoer!$D$8=\"Aan\",IF($K326>0,$K326,($H326*Indexfactor_1)),($H326*Indexfactor_1))","v":60},"Ervaringscijfer gemeente Almere 2015"]
["Riolering","Aanleg","Perceelaansluiting",null,"MA","Materiaal","st",168,{"$f":"IF(Invoer!$D$8=\"Aan\",IF($K327>0,$K327,($H327*Indexfactor_1)),($H327*Indexfactor_1))","v":168},"Conform D1100 03-2015"]
["Riolering","Aanleg","Perceelaansluiting",null,"A","Leggen","st",15,{"$f":"IF(Invoer!$D$8=\"Aan\",IF($K328>0,$K328,($H328*Indexfactor_1)),($H328*Indexfactor_1))","v":15},"Conform D1100 03-2015"]
["Riolering","Vervangen","Perceelaansluiting",null,"MA","Materiaal","st",168,{"$f":"IF(Invoer!$D$8=\"Aan\",IF($K329>0,$K329,($H329*Indexfactor_1)),($H329*Indexfactor_1))","v":168},"Conform D1100 03-2015"]
["Riolering","Vervangen","Perceelaansluiting",null,"A","Leggen","st",15,{"$f":"IF(Invoer!$D$8=\"Aan\",IF($K330>0,$K330,($H330*Indexfactor_1)),($H330*Indexfactor_1))","v":15},"Conform D1100 03-2015"]
["Riolering","Vervangen","Perceelaansluiting",null,"A,MA,ME","Verwijderen","st",22,{"$f":"IF(Invoer!$D$8=\"Aan\",IF($K331>0,$K331,($H331*Indexfactor_1)),($H331*Indexfactor_1))","v":22},"Conform D1100 03-2015"]
["Riolering","Vervangen","Perceelaansluiting",null,"A,MA,ME","Verwerking van puin","st",5,{"$f":"IF(Invoer!$D$8=\"Aan\",IF($K332>0,$K332,($H332*Indexfactor_1)),($H332*Indexfactor_1))","v":5},"Conform D1100 03-2015"]
["Riolering","Verwijderen","Perceelaansluiting",null,"A,MA,ME","Verwijderen","st",22,{"$f":"IF(Invoer!$D$8=\"Aan\",IF($K333>0,$K333,($H333*Indexfactor_1)),($H333*Indexfactor_1))","v":22},"Conform D1100 03-2015"]
["Riolering","Verwijderen","Perceelaansluiting",null,"A,MA,ME","Verwerking van puin","st",5,{"$f":"IF(Invoer!$D$8=\"Aan\",IF($K334>0,$K334,($H334*Indexfactor_1)),($H334*Indexfactor_1))","v":5},"Conform D1100 03-2015"]
["Hemelwatersysteem","Aanleg","Regenton","150 - 200L","A,MA,ME","Stukprijs","st",40,{"$f":"IF(Invoer!$D$8=\"Aan\",IF($K335>0,$K335,($H335*Indexfactor_1)),($H335*Indexfactor_1))","v":40},"Conform D1100 03-2015"]
["Hemelwatersysteem","Vervangen","Regenton","150 - 200L","A,MA,ME","Stukprijs","st",40,{"$f":"IF(Invoer!$D$8=\"Aan\",IF($K336>0,$K336,($H336*Indexfactor_1)),($H336*Indexfactor_1))","v":40},"Conform D1100 03-2015"]
["Riolering","Aanleg","Rioolput beton 1000","1500x1500x3000","MA","Stukprijs","st",4894.9531308622381,{"$f":"IF(Invoer!$D$8=\"Aan\",IF($K337>0,$K337,($H337*Indexfactor_1)),($H337*Indexfactor_1))","v":4894.9531308622381},"Conform D1100 03-2015"]
["Riolering","Aanleg","Rioolput beton 1000","1500x1500x3000","MA","Materiaalprijs","st",1082.7546095916471,{"$f":"IF(Invoer!$D$8=\"Aan\",IF($K338>0,$K338,($H338*Indexfactor_1)),($H338*Indexfactor_1))","v":1082.7546095916471},"Conform D1100 03-2015"]
["Riolering","Aanleg","Rioolput beton 1000","1500x1500x3000","A","Plaatsen","st",270.68865239791177,{"$f":"IF(Invoer!$D$8=\"Aan\",IF($K339>0,$K339,($H339*Indexfactor_1)),($H339*Indexfactor_1))","v":270.68865239791177},"Conform D1100 03-2015"]
["Riolering","Aanleg","Rioolput beton 1000","1500x1500x3000","A,ME","Grondverzet","st",40.603297859686769,{"$f":"IF(Invoer!$D$8=\"Aan\",IF($K340>0,$K340,($H340*Indexfactor_1)),($H340*Indexfactor_1))","v":40.603297859686769},"Conform D1100 03-2015"]
["Riolering","Vervangen","Rioolput beton 1000","1500x1500x3000","MA","Stukprijs","st",4894.9531308622381,{"$f":"IF(Invoer!$D$8=\"Aan\",IF($K341>0,$K341,($H341*Indexfactor_1)),($H341*Indexfactor_1))","v":4894.9531308622381},"Conform D1100 03-2015"]
["Riolering","Vervangen","Rioolput beton 1000","1500x1500x3000","MA","Materiaalprijs","st",1082.7546095916471,{"$f":"IF(Invoer!$D$8=\"Aan\",IF($K342>0,$K342,($H342*Indexfactor_1)),($H342*Indexfactor_1))","v":1082.7546095916471},"Conform D1100 03-2015"]
["Riolering","Vervangen","Rioolput beton 1000","1500x1500x3000","A","Plaatsen","st",270.68865239791177,{"$f":"IF(Invoer!$D$8=\"Aan\",IF($K343>0,$K343,($H343*Indexfactor_1)),($H343*Indexfactor_1))","v":270.68865239791177},"Conform D1100 03-2015"]
["Riolering","Vervangen","Rioolput beton 1000","1500x1500x3000","A,MA,ME","Verwijderen","st",193.99353421850344,{"$f":"IF(Invoer!$D$8=\"Aan\",IF($K344>0,$K344,($H344*Indexfactor_1)),($H344*Indexfactor_1))","v":193.99353421850344},"Conform D1100 03-2015"]
["Riolering","Vervangen","Rioolput beton 1000","1500x1500x3000","A,MA,ME","Verwerking van puin","st",1204.5645031707074,{"$f":"IF(Invoer!$D$8=\"Aan\",IF($K345>0,$K345,($H345*Indexfactor_1)),($H345*Indexfactor_1))","v":1204.5645031707074},"Conform D1100 03-2015"]
["Riolering","Vervangen","Rioolput beton 1000","1500x1500x3000","A,ME","Grondverzet","st",40.603297859686769,{"$f":"IF(Invoer!$D$8=\"Aan\",IF($K346>0,$K346,($H346*Indexfactor_1)),($H346*Indexfactor_1))","v":40.603297859686769},"Conform D1100 03-2015"]
["Riolering","Vervangen","Rioolput beton 1000","1500x1500x3000","MA","Aankoop nieuwe grond","st",4.0603297859686771,{"$f":"IF(Invoer!$D$8=\"Aan\",IF($K347>0,$K347,($H347*Indexfactor_1)),($H347*Indexfactor_1))","v":4.0603297859686771},"Conform D1100 03-2015"]
["Riolering","Verwijderen","Rioolput beton 1000","1500x1500x3000","A,MA,ME","Verwijderen","st",193.99353421850344,{"$f":"IF(Invoer!$D$8=\"Aan\",IF($K348>0,$K348,($H348*Indexfactor_1)),($H348*Indexfactor_1))","v":193.99353421850344},"Conform D1100 03-2015"]
["Riolering","Verwijderen","Rioolput beton 1000","1500x1500x3000","A,MA,ME","Verwerking van puin","st",1204.5645031707074,{"$f":"IF(Invoer!$D$8=\"Aan\",IF($K349>0,$K349,($H349*Indexfactor_1)),($H349*Indexfactor_1))","v":1204.5645031707074},"Conform D1100 03-2015"]
["Riolering","Verwijderen","Rioolput beton 1000","1500x1500x3000","A,ME","Grondverzet","st",40.603297859686769,{"$f":"IF(Invoer!$D$8=\"Aan\",IF($K350>0,$K350,($H350*Indexfactor_1)),($H350*Indexfactor_1))","v":40.603297859686769},"Conform D1100 03-2015"]
["Riolering","Verwijderen","Rioolput beton 1000","1500x1500x3000","MA","Aankoop nieuwe grond","st",60.75,{"$f":"IF(Invoer!$D$8=\"Aan\",IF($K351>0,$K351,($H351*Indexfactor_1)),($H351*Indexfactor_1))","v":60.75},"Conform D1100 03-2015"]
["Riolering","Aanleg","Rioolput beton 1250","1750x1750x3500","MA","Stukprijs","st",7126.6151070932938,{"$f":"IF(Invoer!$D$8=\"Aan\",IF($K352>0,$K352,($H352*Indexfactor_1)),($H352*Indexfactor_1))","v":7126.6151070932938},"Conform D1100 03-2015"]
["Riolering","Aanleg","Rioolput beton 1250","1750x1750x3500","MA","Materiaalprijs","st",1576.3941250713274,{"$f":"IF(Invoer!$D$8=\"Aan\",IF($K353>0,$K353,($H353*Indexfactor_1)),($H353*Indexfactor_1))","v":1576.3941250713274},"Conform D1100 03-2015"]
["Riolering","Aanleg","Rioolput beton 1250","1750x1750x3500","A","Plaatsen","st",394.09853126783185,{"$f":"IF(Invoer!$D$8=\"Aan\",IF($K354>0,$K354,($H354*Indexfactor_1)),($H354*Indexfactor_1))","v":394.09853126783185},"Conform D1100 03-2015"]
["Riolering","Aanleg","Rioolput beton 1250","1750x1750x3500","A,ME","Grondverzet","st",59.114779690174778,{"$f":"IF(Invoer!$D$8=\"Aan\",IF($K355>0,$K355,($H355*Indexfactor_1)),($H355*Indexfactor_1))","v":59.114779690174778},"Conform D1100 03-2015"]
["Riolering","Vervangen","Rioolput beton 1250","1750x1750x3500","MA","Stukprijs","st",7126.6151070932938,{"$f":"IF(Invoer!$D$8=\"Aan\",IF($K356>0,$K356,($H356*Indexfactor_1)),($H356*Indexfactor_1))","v":7126.6151070932938},"Conform D1100 03-2015"]
["Riolering","Vervangen","Rioolput beton 1250","1750x1750x3500","MA","Materiaalprijs","st",1576.3941250713274,{"$f":"IF(Invoer!$D$8=\"Aan\",IF($K357>0,$K357,($H357*Indexfactor_1)),($H357*Indexfactor_1))","v":1576.3941250713274},"Conform D1100 03-2015"]
["Riolering","Vervangen","Rioolput beton 1250","1750x1750x3500","A","Plaatsen","st",394.09853126783185,{"$f":"IF(Invoer!$D$8=\"Aan\",IF($K358>0,$K358,($H358*Indexfactor_1)),($H358*Indexfactor_1))","v":394.09853126783185},"Conform D1100 03-2015"]
["Riolering","Vervangen","Rioolput beton 1250","1750x1750x3500","A,MA,ME","Verwijderen","st",282.43728074194621,{"$f":"IF(Invoer!$D$8=\"Aan\",IF($K359>0,$K359,($H359*Indexfactor_1)),($H359*Indexfactor_1))","v":282.43728074194621},"Conform D1100 03-2015"]
["Riolering","Vervangen","Rioolput beton 1250","1750x1750x3500","A,MA,ME","Verwerking van puin","st",1753.7384641418516,{"$f":"IF(Invoer!$D$8=\"Aan\",IF($K360>0,$K360,($H360*Indexfactor_1)),($H360*Indexfactor_1))","v":1753.7384641418516},"Conform D1100 03-2015"]
["Riolering","Vervangen","Rioolput beton 1250","1750x1750x3500","A,ME","Grondverzet","st",59.114779690174778,{"$f":"IF(Invoer!$D$8=\"Aan\",IF($K361>0,$K361,($H361*Indexfactor_1)),($H361*Indexfactor_1))","v":59.114779690174778},"Conform D1100 03-2015"]
["Riolering","Vervangen","Rioolput beton 1250","1750x1750x3500","MA","Aankoop nieuwe grond","st",5.9114779690174784,{"$f":"IF(Invoer!$D$8=\"Aan\",IF($K362>0,$K362,($H362*Indexfactor_1)),($H362*Indexfactor_1))","v":5.9114779690174784},"Conform D1100 03-2015"]
["Riolering","Verwijderen","Rioolput beton 1250","1750x1750x3500","A,MA,ME","Verwijderen","st",282.43728074194621,{"$f":"IF(Invoer!$D$8=\"Aan\",IF($K363>0,$K363,($H363*Indexfactor_1)),($H363*Indexfactor_1))","v":282.43728074194621},"Conform D1100 03-2015"]
["Riolering","Verwijderen","Rioolput beton 1250","1750x1750x3500","A,MA,ME","Verwerking van puin","st",1753.7384641418516,{"$f":"IF(Invoer!$D$8=\"Aan\",IF($K364>0,$K364,($H364*Indexfactor_1)),($H364*Indexfactor_1))","v":1753.7384641418516},"Conform D1100 03-2015"]
["Riolering","Verwijderen","Rioolput beton 1250","1750x1750x3500","A,ME","Grondverzet","st",59.114779690174778,{"$f":"IF(Invoer!$D$8=\"Aan\",IF($K365>0,$K365,($H365*Indexfactor_1)),($H365*Indexfactor_1))","v":59.114779690174778},"Conform D1100 03-2015"]
["Riolering","Verwijderen","Rioolput beton 1250","1750x1750x3500","MA","Aankoop nieuwe grond","st",96.46875,{"$f":"IF(Invoer!$D$8=\"Aan\",IF($K366>0,$K366,($H366*Indexfactor_1)),($H366*Indexfactor_1))","v":96.46875},"Conform D1100 03-2015"]
["Riolering","Aanleg","Rioolput beton 300","800x800x1400","MA","Stukprijs","st",1085,{"$f":"IF(Invoer!$D$8=\"Aan\",IF($K367>0,$K367,($H367*Indexfactor_1)),($H367*Indexfactor_1))","v":1085},"Conform D1100 03-2015"]
["Riolering","Aanleg","Rioolput beton 300","800x800x1400","MA","Materiaalprijs","st",240,{"$f":"IF(Invoer!$D$8=\"Aan\",IF($K368>0,$K368,($H368*Indexfactor_1)),($H368*Indexfactor_1))","v":240},"Conform D1100 03-2015"]
["Riolering","Aanleg","Rioolput beton 300","800x800x1400","A","Plaatsen","st",60,{"$f":"IF(Invoer!$D$8=\"Aan\",IF($K369>0,$K369,($H369*Indexfactor_1)),($H369*Indexfactor_1))","v":60},"Conform D1100 03-2015"]
["Riolering","Aanleg","Rioolput beton 300","800x800x1400","A,ME","Grondverzet","st",9,{"$f":"IF(Invoer!$D$8=\"Aan\",IF($K370>0,$K370,($H370*Indexfactor_1)),($H370*Indexfactor_1))","v":9},"Conform D1100 03-2015"]
["Riolering","Vervangen","Rioolput beton 300","800x800x1400","MA","Stukprijs","st",1085,{"$f":"IF(Invoer!$D$8=\"Aan\",IF($K371>0,$K371,($H371*Indexfactor_1)),($H371*Indexfactor_1))","v":1085},"Conform D1100 03-2015"]
["Riolering","Vervangen","Rioolput beton 300","800x800x1400","MA","Materiaalprijs","st",240,{"$f":"IF(Invoer!$D$8=\"Aan\",IF($K372>0,$K372,($H372*Indexfactor_1)),($H372*Indexfactor_1))","v":240},"Conform D1100 03-2015"]
["Riolering","Vervangen","Rioolput beton 300","800x800x1400","A","Plaatsen","st",60,{"$f":"IF(Invoer!$D$8=\"Aan\",IF($K373>0,$K373,($H373*Indexfactor_1)),($H373*Indexfactor_1))","v":60},"Conform D1100 03-2015"]
["Riolering","Vervangen","Rioolput beton 300","800x800x1400","A,MA,ME","Verwijderen","st",43,{"$f":"IF(Invoer!$D$8=\"Aan\",IF($K374>0,$K374,($H374*Indexfactor_1)),($H374*Indexfactor_1))","v":43},"Conform D1100 03-2015"]
["Riolering","Vervangen","Rioolput beton 300","800x800x1400","A,MA,ME","Verwerking van puin","st",267,{"$f":"IF(Invoer!$D$8=\"Aan\",IF($K375>0,$K375,($H375*Indexfactor_1)),($H375*Indexfactor_1))","v":267},"Conform D1100 03-2015"]
["Riolering","Vervangen","Rioolput beton 300","800x800x1400","A,ME","Grondverzet","st",9,{"$f":"IF(Invoer!$D$8=\"Aan\",IF($K376>0,$K376,($H376*Indexfactor_1)),($H376*Indexfactor_1))","v":9},"Conform D1100 03-2015"]
["Riolering","Vervangen","Rioolput beton 300","800x800x1400","MA","Aankoop nieuwe grond","st",0.9,{"$f":"IF(Invoer!$D$8=\"Aan\",IF($K377>0,$K377,($H377*Indexfactor_1)),($H377*Indexfactor_1))","v":0.9},"Conform D1100 03-2015"]
["Riolering","Verwijderen","Rioolput beton 300","800x800x1400","A,MA,ME","Verwijderen","st",43,{"$f":"IF(Invoer!$D$8=\"Aan\",IF($K378>0,$K378,($H378*Indexfactor_1)),($H378*Indexfactor_1))","v":43},"Conform D1100 03-2015"]
["Riolering","Verwijderen","Rioolput beton 300","800x800x1400","A,MA,ME","Verwerking van puin","st",267,{"$f":"IF(Invoer!$D$8=\"Aan\",IF($K379>0,$K379,($H379*Indexfactor_1)),($H379*Indexfactor_1))","v":267},"Conform D1100 03-2015"]
["Riolering","Verwijderen","Rioolput beton 300","800x800x1400","A,ME","Grondverzet","st",9,{"$f":"IF(Invoer!$D$8=\"Aan\",IF($K380>0,$K380,($H380*Indexfactor_1)),($H380*Indexfactor_1))","v":9},"Conform D1100 03-2015"]
["Riolering","Verwijderen","Rioolput beton 300","800x800x1400","MA","Aankoop nieuwe grond","st",8.0640000000000001,{"$f":"IF(Invoer!$D$8=\"Aan\",IF($K381>0,$K381,($H381*Indexfactor_1)),($H381*Indexfactor_1))","v":8.0640000000000001},"Conform D1100 03-2015"]
["Riolering","Aanleg","Rioolput beton 400","1000x1000x1700","MA","Stukprijs","st",1307.7937593618872,{"$f":"IF(Invoer!$D$8=\"Aan\",IF($K382>0,$K382,($H382*Indexfactor_1)),($H382*Indexfactor_1))","v":1307.7937593618872},"Conform D1100 03-2015"]
["Riolering","Aanleg","Rioolput beton 400","1000x1000x1700","MA","Materiaalprijs","st",289.28156889110869,{"$f":"IF(Invoer!$D$8=\"Aan\",IF($K383>0,$K383,($H383*Indexfactor_1)),($H383*Indexfactor_1))","v":289.28156889110869},"Conform D1100 03-2015"]
["Riolering","Aanleg","Rioolput beton 400","1000x1000x1700","A","Plaatsen","st",72.320392222777173,{"$f":"IF(Invoer!$D$8=\"Aan\",IF($K384>0,$K384,($H384*Indexfactor_1)),($H384*Indexfactor_1))","v":72.320392222777173},"Conform D1100 03-2015"]
["Riolering","Aanleg","Rioolput beton 400","1000x1000x1700","A,ME","Grondverzet","st",10.848058833416575,{"$f":"IF(Invoer!$D$8=\"Aan\",IF($K385>0,$K385,($H385*Indexfactor_1)),($H385*Indexfactor_1))","v":10.848058833416575},"Conform D1100 03-2015"]
["Riolering","Vervangen","Rioolput beton 400","1000x1000x1700","MA","Stukprijs","st",1307.7937593618872,{"$f":"IF(Invoer!$D$8=\"Aan\",IF($K386>0,$K386,($H386*Indexfactor_1)),($H386*Indexfactor_1))","v":1307.7937593618872},"Conform D1100 03-2015"]
["Riolering","Vervangen","Rioolput beton 400","1000x1000x1700","MA","Materiaalprijs","st",289.28156889110869,{"$f":"IF(Invoer!$D$8=\"Aan\",IF($K387>0,$K387,($H387*Indexfactor_1)),($H387*Indexfactor_1))","v":289.28156889110869},"Conform D1100 03-2015"]
["Riolering","Vervangen","Rioolput beton 400","1000x1000x1700","A","Plaatsen","st",72.320392222777173,{"$f":"IF(Invoer!$D$8=\"Aan\",IF($K388>0,$K388,($H388*Indexfactor_1)),($H388*Indexfactor_1))","v":72.320392222777173},"Conform D1100 03-2015"]
["Riolering","Vervangen","Rioolput beton 400","1000x1000x1700","A,MA,ME","Verwijderen","st",51.829614426323637,{"$f":"IF(Invoer!$D$8=\"Aan\",IF($K389>0,$K389,($H389*Indexfactor_1)),($H389*Indexfactor_1))","v":51.829614426323637},"Conform D1100 03-2015"]
["Riolering","Vervangen","Rioolput beton 400","1000x1000x1700","A,MA,ME","Verwerking van puin","st",321.8257453913584,{"$f":"IF(Invoer!$D$8=\"Aan\",IF($K390>0,$K390,($H390*Indexfactor_1)),($H390*Indexfactor_1))","v":321.8257453913584},"Conform D1100 03-2015"]
["Riolering","Vervangen","Rioolput beton 400","1000x1000x1700","A,ME","Grondverzet","st",10.848058833416575,{"$f":"IF(Invoer!$D$8=\"Aan\",IF($K391>0,$K391,($H391*Indexfactor_1)),($H391*Indexfactor_1))","v":10.848058833416575},"Conform D1100 03-2015"]
["Riolering","Vervangen","Rioolput beton 400","1000x1000x1700","MA","Aankoop nieuwe grond","st",1.0848058833416576,{"$f":"IF(Invoer!$D$8=\"Aan\",IF($K392>0,$K392,($H392*Indexfactor_1)),($H392*Indexfactor_1))","v":1.0848058833416576},"Conform D1100 03-2015"]
["Riolering","Verwijderen","Rioolput beton 400","1000x1000x1700","A,MA,ME","Verwijderen","st",51.829614426323637,{"$f":"IF(Invoer!$D$8=\"Aan\",IF($K393>0,$K393,($H393*Indexfactor_1)),($H393*Indexfactor_1))","v":51.829614426323637},"Conform D1100 03-2015"]
["Riolering","Verwijderen","Rioolput beton 400","1000x1000x1700","A,MA,ME","Verwerking van puin","st",321.8257453913584,{"$f":"IF(Invoer!$D$8=\"Aan\",IF($K394>0,$K394,($H394*Indexfactor_1)),($H394*Indexfactor_1))","v":321.8257453913584},"Conform D1100 03-2015"]
["Riolering","Verwijderen","Rioolput beton 400","1000x1000x1700","A,ME","Grondverzet","st",10.848058833416575,{"$f":"IF(Invoer!$D$8=\"Aan\",IF($K395>0,$K395,($H395*Indexfactor_1)),($H395*Indexfactor_1))","v":10.848058833416575},"Conform D1100 03-2015"]
["Riolering","Verwijderen","Rioolput beton 400","1000x1000x1700","MA","Aankoop nieuwe grond","st",15.299999999999999,{"$f":"IF(Invoer!$D$8=\"Aan\",IF($K396>0,$K396,($H396*Indexfactor_1)),($H396*Indexfactor_1))","v":15.299999999999999},"Conform D1100 03-2015"]
["Riolering","Aanleg","Rioolput beton 500","1000x1000x1900","MA","Stukprijs","st",1629.5742000574148,{"$f":"IF(Invoer!$D$8=\"Aan\",IF($K397>0,$K397,($H397*Indexfactor_1)),($H397*Indexfactor_1))","v":1629.5742000574148},"Conform D1100 03-2015"]
["Riolering","Aanleg","Rioolput beton 500","1000x1000x1900","MA","Materiaalprijs","st",360.45880922928995,{"$f":"IF(Invoer!$D$8=\"Aan\",IF($K398>0,$K398,($H398*Indexfactor_1)),($H398*Indexfactor_1))","v":360.45880922928995},"Conform D1100 03-2015"]
["Riolering","Aanleg","Rioolput beton 500","1000x1000x1900","A","Plaatsen","st",90.114702307322489,{"$f":"IF(Invoer!$D$8=\"Aan\",IF($K399>0,$K399,($H399*Indexfactor_1)),($H399*Indexfactor_1))","v":90.114702307322489},"Conform D1100 03-2015"]
["Riolering","Aanleg","Rioolput beton 500","1000x1000x1900","A,ME","Grondverzet","st",13.517205346098372,{"$f":"IF(Invoer!$D$8=\"Aan\",IF($K400>0,$K400,($H400*Indexfactor_1)),($H400*Indexfactor_1))","v":13.517205346098372},"Conform D1100 03-2015"]
["Riolering","Vervangen","Rioolput beton 500","1000x1000x1900","MA","Stukprijs","st",1629.5742000574148,{"$f":"IF(Invoer!$D$8=\"Aan\",IF($K401>0,$K401,($H401*Indexfactor_1)),($H401*Indexfactor_1))","v":1629.5742000574148},"Conform D1100 03-2015"]
["Riolering","Vervangen","Rioolput beton 500","1000x1000x1900","MA","Materiaalprijs","st",360.45880922928995,{"$f":"IF(Invoer!$D$8=\"Aan\",IF($K402>0,$K402,($H402*Indexfactor_1)),($H402*Indexfactor_1))","v":360.45880922928995},"Conform D1100 03-2015"]
["Riolering","Vervangen","Rioolput beton 500","1000x1000x1900","A","Plaatsen","st",90.114702307322489,{"$f":"IF(Invoer!$D$8=\"Aan\",IF($K403>0,$K403,($H403*Indexfactor_1)),($H403*Indexfactor_1))","v":90.114702307322489},"Conform D1100 03-2015"]
["Riolering","Vervangen","Rioolput beton 500","1000x1000x1900","A,MA,ME","Verwijderen","st",64.582203320247785,{"$f":"IF(Invoer!$D$8=\"Aan\",IF($K404>0,$K404,($H404*Indexfactor_1)),($H404*Indexfactor_1))","v":64.582203320247785},"Conform D1100 03-2015"]
["Riolering","Vervangen","Rioolput beton 500","1000x1000x1900","A,MA,ME","Verwerking van puin","st",401.01042526758505,{"$f":"IF(Invoer!$D$8=\"Aan\",IF($K405>0,$K405,($H405*Indexfactor_1)),($H405*Indexfactor_1))","v":401.01042526758505},"Conform D1100 03-2015"]
["Riolering","Vervangen","Rioolput beton 500","1000x1000x1900","A,ME","Grondverzet","st",13.517205346098372,{"$f":"IF(Invoer!$D$8=\"Aan\",IF($K406>0,$K406,($H406*Indexfactor_1)),($H406*Indexfactor_1))","v":13.517205346098372},"Conform D1100 03-2015"]
["Riolering","Vervangen","Rioolput beton 500","1000x1000x1900","MA","Aankoop nieuwe grond","st",1.3517205346098373,{"$f":"IF(Invoer!$D$8=\"Aan\",IF($K407>0,$K407,($H407*Indexfactor_1)),($H407*Indexfactor_1))","v":1.3517205346098373},"Conform D1100 03-2015"]
["Riolering","Verwijderen","Rioolput beton 500","1000x1000x1900","A,MA,ME","Verwijderen","st",64.582203320247785,{"$f":"IF(Invoer!$D$8=\"Aan\",IF($K408>0,$K408,($H408*Indexfactor_1)),($H408*Indexfactor_1))","v":64.582203320247785},"Conform D1100 03-2015"]
["Riolering","Verwijderen","Rioolput beton 500","1000x1000x1900","A,MA,ME","Verwerking van puin","st",401.01042526758505,{"$f":"IF(Invoer!$D$8=\"Aan\",IF($K409>0,$K409,($H409*Indexfactor_1)),($H409*Indexfactor_1))","v":401.01042526758505},"Conform D1100 03-2015"]
["Riolering","Verwijderen","Rioolput beton 500","1000x1000x1900","A,ME","Grondverzet","st",13.517205346098372,{"$f":"IF(Invoer!$D$8=\"Aan\",IF($K410>0,$K410,($H410*Indexfactor_1)),($H410*Indexfactor_1))","v":13.517205346098372},"Conform D1100 03-2015"]
["Riolering","Verwijderen","Rioolput beton 500","1000x1000x1900","MA","Aankoop nieuwe grond","st",17.099999999999998,{"$f":"IF(Invoer!$D$8=\"Aan\",IF($K411>0,$K411,($H411*Indexfactor_1)),($H411*Indexfactor_1))","v":17.099999999999998},"Conform D1100 03-2015"]
["Riolering","Aanleg","Rioolput beton 600","1250x1250x2200","MA","Stukprijs","st",2030.5281734854511,{"$f":"IF(Invoer!$D$8=\"Aan\",IF($K412>0,$K412,($H412*Indexfactor_1)),($H412*Indexfactor_1))","v":2030.5281734854511},"Conform D1100 03-2015"]
["Riolering","Aanleg","Rioolput beton 600","1250x1250x2200","MA","Materiaalprijs","st",449.1490890659062,{"$f":"IF(Invoer!$D$8=\"Aan\",IF($K413>0,$K413,($H413*Indexfactor_1)),($H413*Indexfactor_1))","v":449.1490890659062},"Conform D1100 03-2015"]
["Riolering","Aanleg","Rioolput beton 600","1250x1250x2200","A","Plaatsen","st",112.28727226647655,{"$f":"IF(Invoer!$D$8=\"Aan\",IF($K414>0,$K414,($H414*Indexfactor_1)),($H414*Indexfactor_1))","v":112.28727226647655},"Conform D1100 03-2015"]
["Riolering","Aanleg","Rioolput beton 600","1250x1250x2200","A,ME","Grondverzet","st",16.843090839971484,{"$f":"IF(Invoer!$D$8=\"Aan\",IF($K415>0,$K415,($H415*Indexfactor_1)),($H415*Indexfactor_1))","v":16.843090839971484},"Conform D1100 03-2015"]
["Riolering","Vervangen","Rioolput beton 600","1250x1250x2200","MA","Stukprijs","st",2030.5281734854511,{"$f":"IF(Invoer!$D$8=\"Aan\",IF($K416>0,$K416,($H416*Indexfactor_1)),($H416*Indexfactor_1))","v":2030.5281734854511},"Conform D1100 03-2015"]
["Riolering","Vervangen","Rioolput beton 600","1250x1250x2200","MA","Materiaalprijs","st",449.1490890659062,{"$f":"IF(Invoer!$D$8=\"Aan\",IF($K417>0,$K417,($H417*Indexfactor_1)),($H417*Indexfactor_1))","v":449.1490890659062},"Conform D1100 03-2015"]
["Riolering","Vervangen","Rioolput beton 600","1250x1250x2200","A","Plaatsen","st",112.28727226647655,{"$f":"IF(Invoer!$D$8=\"Aan\",IF($K418>0,$K418,($H418*Indexfactor_1)),($H418*Indexfactor_1))","v":112.28727226647655},"Conform D1100 03-2015"]
["Riolering","Vervangen","Rioolput beton 600","1250x1250x2200","A,MA,ME","Verwijderen","st",80.472545124308198,{"$f":"IF(Invoer!$D$8=\"Aan\",IF($K419>0,$K419,($H419*Indexfactor_1)),($H419*Indexfactor_1))","v":80.472545124308198},"Conform D1100 03-2015"]
["Riolering","Vervangen","Rioolput beton 600","1250x1250x2200","A,MA,ME","Verwerking van puin","st",499.67836158582065,{"$f":"IF(Invoer!$D$8=\"Aan\",IF($K420>0,$K420,($H420*Indexfactor_1)),($H420*Indexfactor_1))","v":499.67836158582065},"Conform D1100 03-2015"]
["Riolering","Vervangen","Rioolput beton 600","1250x1250x2200","A,ME","Grondverzet","st",16.843090839971484,{"$f":"IF(Invoer!$D$8=\"Aan\",IF($K421>0,$K421,($H421*Indexfactor_1)),($H421*Indexfactor_1))","v":16.843090839971484},"Conform D1100 03-2015"]
["Riolering","Vervangen","Rioolput beton 600","1250x1250x2200","MA","Aankoop nieuwe grond","st",1.6843090839971484,{"$f":"IF(Invoer!$D$8=\"Aan\",IF($K422>0,$K422,($H422*Indexfactor_1)),($H422*Indexfactor_1))","v":1.6843090839971484},"Conform D1100 03-2015"]
["Riolering","Verwijderen","Rioolput beton 600","1250x1250x2200","A,MA,ME","Verwijderen","st",80.472545124308198,{"$f":"IF(Invoer!$D$8=\"Aan\",IF($K423>0,$K423,($H423*Indexfactor_1)),($H423*Indexfactor_1))","v":80.472545124308198},"Conform D1100 03-2015"]
["Riolering","Verwijderen","Rioolput beton 600","1250x1250x2200","A,MA,ME","Verwerking van puin","st",499.67836158582065,{"$f":"IF(Invoer!$D$8=\"Aan\",IF($K424>0,$K424,($H424*Indexfactor_1)),($H424*Indexfactor_1))","v":499.67836158582065},"Conform D1100 03-2015"]
["Riolering","Verwijderen","Rioolput beton 600","1250x1250x2200","A,ME","Grondverzet","st",16.843090839971484,{"$f":"IF(Invoer!$D$8=\"Aan\",IF($K425>0,$K425,($H425*Indexfactor_1)),($H425*Indexfactor_1))","v":16.843090839971484},"Conform D1100 03-2015"]
["Riolering","Verwijderen","Rioolput beton 600","1250x1250x2200","MA","Aankoop nieuwe grond","st",30.9375,{"$f":"IF(Invoer!$D$8=\"Aan\",IF($K426>0,$K426,($H426*Indexfactor_1)),($H426*Indexfactor_1))","v":30.9375},"Conform D1100 03-2015"]
["Riolering","Aanleg","Rioolput beton 700","1250x1250x2400","MA","Stukprijs","st",2530.1361933521616,{"$f":"IF(Invoer!$D$8=\"Aan\",IF($K427>0,$K427,($H427*Indexfactor_1)),($H427*Indexfactor_1))","v":2530.1361933521616},"Conform D1100 03-2015"]
["Riolering","Aanleg","Rioolput beton 700","1250x1250x2400","MA","Materiaalprijs","st",559.66146212398041,{"$f":"IF(Invoer!$D$8=\"Aan\",IF($K428>0,$K428,($H428*Indexfactor_1)),($H428*Indexfactor_1))","v":559.66146212398041},"Conform D1100 03-2015"]
["Riolering","Aanleg","Rioolput beton 700","1250x1250x2400","A","Plaatsen","st",139.9153655309951,{"$f":"IF(Invoer!$D$8=\"Aan\",IF($K429>0,$K429,($H429*Indexfactor_1)),($H429*Indexfactor_1))","v":139.9153655309951},"Conform D1100 03-2015"]
["Riolering","Aanleg","Rioolput beton 700","1250x1250x2400","A,ME","Grondverzet","st",20.987304829649268,{"$f":"IF(Invoer!$D$8=\"Aan\",IF($K430>0,$K430,($H430*Indexfactor_1)),($H430*Indexfactor_1))","v":20.987304829649268},"Conform D1100 03-2015"]
["Riolering","Vervangen","Rioolput beton 700","1250x1250x2400","MA","Stukprijs","st",2530.1361933521616,{"$f":"IF(Invoer!$D$8=\"Aan\",IF($K431>0,$K431,($H431*Indexfactor_1)),($H431*Indexfactor_1))","v":2530.1361933521616},"Conform D1100 03-2015"]
["Riolering","Vervangen","Rioolput beton 700","1250x1250x2400","MA","Materiaalprijs","st",559.66146212398041,{"$f":"IF(Invoer!$D$8=\"Aan\",IF($K432>0,$K432,($H432*Indexfactor_1)),($H432*Indexfactor_1))","v":559.66146212398041},"Conform D1100 03-2015"]
["Riolering","Vervangen","Rioolput beton 700","1250x1250x2400","A","Plaatsen","st",139.9153655309951,{"$f":"IF(Invoer!$D$8=\"Aan\",IF($K433>0,$K433,($H433*Indexfactor_1)),($H433*Indexfactor_1))","v":139.9153655309951},"Conform D1100 03-2015"]
["Riolering","Vervangen","Rioolput beton 700","1250x1250x2400","A,MA,ME","Verwijderen","st",100.27267863054649,{"$f":"IF(Invoer!$D$8=\"Aan\",IF($K434>0,$K434,($H434*Indexfactor_1)),($H434*Indexfactor_1))","v":100.27267863054649},"Conform D1100 03-2015"]
["Riolering","Vervangen","Rioolput beton 700","1250x1250x2400","A,MA,ME","Verwerking van puin","st",622.62337661292827,{"$f":"IF(Invoer!$D$8=\"Aan\",IF($K435>0,$K435,($H435*Indexfactor_1)),($H435*Indexfactor_1))","v":622.62337661292827},"Conform D1100 03-2015"]
["Riolering","Vervangen","Rioolput beton 700","1250x1250x2400","A,ME","Grondverzet","st",20.987304829649268,{"$f":"IF(Invoer!$D$8=\"Aan\",IF($K436>0,$K436,($H436*Indexfactor_1)),($H436*Indexfactor_1))","v":20.987304829649268},"Conform D1100 03-2015"]
["Riolering","Vervangen","Rioolput beton 700","1250x1250x2400","MA","Aankoop nieuwe grond","st",2.0987304829649269,{"$f":"IF(Invoer!$D$8=\"Aan\",IF($K437>0,$K437,($H437*Indexfactor_1)),($H437*Indexfactor_1))","v":2.0987304829649269},"Conform D1100 03-2015"]
["Riolering","Verwijderen","Rioolput beton 700","1250x1250x2400","A,MA,ME","Verwijderen","st",100.27267863054649,{"$f":"IF(Invoer!$D$8=\"Aan\",IF($K438>0,$K438,($H438*Indexfactor_1)),($H438*Indexfactor_1))","v":100.27267863054649},"Conform D1100 03-2015"]
["Riolering","Verwijderen","Rioolput beton 700","1250x1250x2400","A,MA,ME","Verwerking van puin","st",622.62337661292827,{"$f":"IF(Invoer!$D$8=\"Aan\",IF($K439>0,$K439,($H439*Indexfactor_1)),($H439*Indexfactor_1))","v":622.62337661292827},"Conform D1100 03-2015"]
["Riolering","Verwijderen","Rioolput beton 700","1250x1250x2400","A,ME","Grondverzet","st",20.987304829649268,{"$f":"IF(Invoer!$D$8=\"Aan\",IF($K440>0,$K440,($H440*Indexfactor_1)),($H440*Indexfactor_1))","v":20.987304829649268},"Conform D1100 03-2015"]
["Riolering","Verwijderen","Rioolput beton 700","1250x1250x2400","MA","Aankoop nieuwe grond","st",33.75,{"$f":"IF(Invoer!$D$8=\"Aan\",IF($K441>0,$K441,($H441*Indexfactor_1)),($H441*Indexfactor_1))","v":33.75},"Conform D1100 03-2015"]
["Riolering","Aanleg","Rioolput beton 800","1250x1250x2600","MA","Stukprijs","st",3152.6719207850647,{"$f":"IF(Invoer!$D$8=\"Aan\",IF($K442>0,$K442,($H442*Indexfactor_1)),($H442*Indexfactor_1))","v":3152.6719207850647},"Conform D1100 03-2015"]
["Riolering","Aanleg","Rioolput beton 800","1250x1250x2600","MA","Materiaalprijs","st",697.36521750084376,{"$f":"IF(Invoer!$D$8=\"Aan\",IF($K443>0,$K443,($H443*Indexfactor_1)),($H443*Indexfactor_1))","v":697.36521750084376},"Conform D1100 03-2015"]
["Riolering","Aanleg","Rioolput beton 800","1250x1250x2600","A","Plaatsen","st",174.34130437521094,{"$f":"IF(Invoer!$D$8=\"Aan\",IF($K444>0,$K444,($H444*Indexfactor_1)),($H444*Indexfactor_1))","v":174.34130437521094},"Conform D1100 03-2015"]
["Riolering","Aanleg","Rioolput beton 800","1250x1250x2600","A,ME","Grondverzet","st",26.151195656281644,{"$f":"IF(Invoer!$D$8=\"Aan\",IF($K445>0,$K445,($H445*Indexfactor_1)),($H445*Indexfactor_1))","v":26.151195656281644},"Conform D1100 03-2015"]
["Riolering","Vervangen","Rioolput beton 800","1250x1250x2600","MA","Stukprijs","st",3152.6719207850647,{"$f":"IF(Invoer!$D$8=\"Aan\",IF($K446>0,$K446,($H446*Indexfactor_1)),($H446*Indexfactor_1))","v":3152.6719207850647},"Conform D1100 03-2015"]
["Riolering","Vervangen","Rioolput beton 800","1250x1250x2600","MA","Materiaalprijs","st",697.36521750084376,{"$f":"IF(Invoer!$D$8=\"Aan\",IF($K447>0,$K447,($H447*Indexfactor_1)),($H447*Indexfactor_1))","v":697.36521750084376},"Conform D1100 03-2015"]
["Riolering","Vervangen","Rioolput beton 800","1250x1250x2600","A","Plaatsen","st",174.34130437521094,{"$f":"IF(Invoer!$D$8=\"Aan\",IF($K448>0,$K448,($H448*Indexfactor_1)),($H448*Indexfactor_1))","v":174.34130437521094},"Conform D1100 03-2015"]
["Riolering","Vervangen","Rioolput beton 800","1250x1250x2600","A,MA,ME","Verwijderen","st",124.94460146890118,{"$f":"IF(Invoer!$D$8=\"Aan\",IF($K449>0,$K449,($H449*Indexfactor_1)),($H449*Indexfactor_1))","v":124.94460146890118},"Conform D1100 03-2015"]
["Riolering","Vervangen","Rioolput beton 800","1250x1250x2600","A,MA,ME","Verwerking van puin","st",775.81880446968876,{"$f":"IF(Invoer!$D$8=\"Aan\",IF($K450>0,$K450,($H450*Indexfactor_1)),($H450*Indexfactor_1))","v":775.81880446968876},"Conform D1100 03-2015"]
["Riolering","Vervangen","Rioolput beton 800","1250x1250x2600","A,ME","Grondverzet","st",26.151195656281644,{"$f":"IF(Invoer!$D$8=\"Aan\",IF($K451>0,$K451,($H451*Indexfactor_1)),($H451*Indexfactor_1))","v":26.151195656281644},"Conform D1100 03-2015"]
["Riolering","Vervangen","Rioolput beton 800","1250x1250x2600","MA","Aankoop nieuwe grond","st",2.6151195656281643,{"$f":"IF(Invoer!$D$8=\"Aan\",IF($K452>0,$K452,($H452*Indexfactor_1)),($H452*Indexfactor_1))","v":2.6151195656281643},"Conform D1100 03-2015"]
["Riolering","Verwijderen","Rioolput beton 800","1250x1250x2600","A,MA,ME","Verwijderen","st",124.94460146890118,{"$f":"IF(Invoer!$D$8=\"Aan\",IF($K453>0,$K453,($H453*Indexfactor_1)),($H453*Indexfactor_1))","v":124.94460146890118},"Conform D1100 03-2015"]
["Riolering","Verwijderen","Rioolput beton 800","1250x1250x2600","A,MA,ME","Verwerking van puin","st",775.81880446968876,{"$f":"IF(Invoer!$D$8=\"Aan\",IF($K454>0,$K454,($H454*Indexfactor_1)),($H454*Indexfactor_1))","v":775.81880446968876},"Conform D1100 03-2015"]
["Riolering","Verwijderen","Rioolput beton 800","1250x1250x2600","A,ME","Grondverzet","st",26.151195656281644,{"$f":"IF(Invoer!$D$8=\"Aan\",IF($K455>0,$K455,($H455*Indexfactor_1)),($H455*Indexfactor_1))","v":26.151195656281644},"Conform D1100 03-2015"]
["Riolering","Verwijderen","Rioolput beton 800","1250x1250x2600","MA","Aankoop nieuwe grond","st",36.5625,{"$f":"IF(Invoer!$D$8=\"Aan\",IF($K456>0,$K456,($H456*Indexfactor_1)),($H456*Indexfactor_1))","v":36.5625},"Conform D1100 03-2015"]
["Riolering","Aanleg","Rioolput beton 900","1500x1500x2800","MA","Stukprijs","st",3928.3815101423543,{"$f":"IF(Invoer!$D$8=\"Aan\",IF($K457>0,$K457,($H457*Indexfactor_1)),($H457*Indexfactor_1))","v":3928.3815101423543},"Conform D1100 03-2015"]
["Riolering","Aanleg","Rioolput beton 900","1500x1500x2800","MA","Materiaalprijs","st",868.95074878724881,{"$f":"IF(Invoer!$D$8=\"Aan\",IF($K458>0,$K458,($H458*Indexfactor_1)),($H458*Indexfactor_1))","v":868.95074878724881},"Conform D1100 03-2015"]
["Riolering","Aanleg","Rioolput beton 900","1500x1500x2800","A","Plaatsen","st",217.2376871968122,{"$f":"IF(Invoer!$D$8=\"Aan\",IF($K459>0,$K459,($H459*Indexfactor_1)),($H459*Indexfactor_1))","v":217.2376871968122},"Conform D1100 03-2015"]
["Riolering","Aanleg","Rioolput beton 900","1500x1500x2800","A,ME","Grondverzet","st",32.585653079521833,{"$f":"IF(Invoer!$D$8=\"Aan\",IF($K460>0,$K460,($H460*Indexfactor_1)),($H460*Indexfactor_1))","v":32.585653079521833},"Conform D1100 03-2015"]
["Riolering","Vervangen","Rioolput beton 900","1500x1500x2800","MA","Stukprijs","st",3928.3815101423543,{"$f":"IF(Invoer!$D$8=\"Aan\",IF($K461>0,$K461,($H461*Indexfactor_1)),($H461*Indexfactor_1))","v":3928.3815101423543},"Conform D1100 03-2015"]
["Riolering","Vervangen","Rioolput beton 900","1500x1500x2800","MA","Materiaalprijs","st",868.95074878724881,{"$f":"IF(Invoer!$D$8=\"Aan\",IF($K462>0,$K462,($H462*Indexfactor_1)),($H462*Indexfactor_1))","v":868.95074878724881},"Conform D1100 03-2015"]
["Riolering","Vervangen","Rioolput beton 900","1500x1500x2800","A","Plaatsen","st",217.2376871968122,{"$f":"IF(Invoer!$D$8=\"Aan\",IF($K463>0,$K463,($H463*Indexfactor_1)),($H463*Indexfactor_1))","v":217.2376871968122},"Conform D1100 03-2015"]
["Riolering","Vervangen","Rioolput beton 900","1500x1500x2800","A,MA,ME","Verwijderen","st",155.68700915771541,{"$f":"IF(Invoer!$D$8=\"Aan\",IF($K464>0,$K464,($H464*Indexfactor_1)),($H464*Indexfactor_1))","v":155.68700915771541},"Conform D1100 03-2015"]
["Riolering","Vervangen","Rioolput beton 900","1500x1500x2800","A,MA,ME","Verwerking van puin","st",966.70770802581433,{"$f":"IF(Invoer!$D$8=\"Aan\",IF($K465>0,$K465,($H465*Indexfactor_1)),($H465*Indexfactor_1))","v":966.70770802581433},"Conform D1100 03-2015"]
["Riolering","Vervangen","Rioolput beton 900","1500x1500x2800","A,ME","Grondverzet","st",32.585653079521833,{"$f":"IF(Invoer!$D$8=\"Aan\",IF($K466>0,$K466,($H466*Indexfactor_1)),($H466*Indexfactor_1))","v":32.585653079521833},"Conform D1100 03-2015"]
["Riolering","Vervangen","Rioolput beton 900","1500x1500x2800","MA","Aankoop nieuwe grond","st",3.2585653079521832,{"$f":"IF(Invoer!$D$8=\"Aan\",IF($K467>0,$K467,($H467*Indexfactor_1)),($H467*Indexfactor_1))","v":3.2585653079521832},"Conform D1100 03-2015"]
["Riolering","Verwijderen","Rioolput beton 900","1500x1500x2800","A,MA,ME","Verwijderen","st",155.68700915771541,{"$f":"IF(Invoer!$D$8=\"Aan\",IF($K468>0,$K468,($H468*Indexfactor_1)),($H468*Indexfactor_1))","v":155.68700915771541},"Conform D1100 03-2015"]
["Riolering","Verwijderen","Rioolput beton 900","1500x1500x2800","A,MA,ME","Verwerking van puin","st",966.70770802581433,{"$f":"IF(Invoer!$D$8=\"Aan\",IF($K469>0,$K469,($H469*Indexfactor_1)),($H469*Indexfactor_1))","v":966.70770802581433},"Conform D1100 03-2015"]
["Riolering","Verwijderen","Rioolput beton 900","1500x1500x2800","A,ME","Grondverzet","st",32.585653079521833,{"$f":"IF(Invoer!$D$8=\"Aan\",IF($K470>0,$K470,($H470*Indexfactor_1)),($H470*Indexfactor_1))","v":32.585653079521833},"Conform D1100 03-2015"]
["Riolering","Verwijderen","Rioolput beton 900","1500x1500x2800","MA","Aankoop nieuwe grond","st",56.699999999999996,{"$f":"IF(Invoer!$D$8=\"Aan\",IF($K471>0,$K471,($H471*Indexfactor_1)),($H471*Indexfactor_1))","v":56.699999999999996},"Conform D1100 03-2015"]
["Elementen verharding","Vervangen","Rubbertegels",null,"A,MA,ME","Opnemen, afvoeren, aanvoer en verwerken","m²",129,{"$f":"IF(Invoer!$D$8=\"Aan\",IF($K472>0,$K472,($H472*Indexfactor_1)),($H472*Indexfactor_1))","v":129},"Ervaringscijfer gemeente Almere 2015"]
["Groenvoorziening","Vervangen","Sierplantsoen",null,"A,MA,ME","Verwijderen, aankoop en aanplanten","m²",0.31,{"$f":"IF(Invoer!$D$8=\"Aan\",IF($K473>0,$K473,($H473*Indexfactor_1)),($H473*Indexfactor_1))","v":0.31},"Ervaringscijfer gemeente Almere 2015"]
["Straatmeubilair","Aanleg","Straatverlichting",null,"A,MA,ME","Opnemen, afvoeren, aanvoer en verwerken","st",0,0,"n.n.b."]
["Straatmeubilair","Vervangen","Straatverlichting",null,"A,MA,ME","Opnemen, afvoeren, aanvoer en verwerken","st",0,0,"n.n.b."]
["Hemelwatersysteem","Aanleg","Verbindingsleiding","Plastic 125mm","A","Arbeid aanleg","m",2.74,{"$f":"IF(Invoer!$D$8=\"Aan\",IF($K476>0,$K476,($H476*Indexfactor_1)),($H476*Indexfactor_1))","v":2.74},"Conform Bouwkostenonline 2016, van bouwformatie.nl, nb; afgeschermd tot er duidelijkheid is over openbaar maken van deze gegevens.`"]
["Hemelwatersysteem","Aanleg","Verbindingsleiding","Plastic 125mm","MA","Materiaal","m",6.51,{"$f":"IF(Invoer!$D$8=\"Aan\",IF($K477>0,$K477,($H477*Indexfactor_1)),($H477*Indexfactor_1))","v":6.51},"Conform Bouwkostenonline 2016, van bouwformatie.nl, nb; afgeschermd tot er duidelijkheid is over openbaar maken van deze gegevens.`"]
["Hemelwatersysteem","Aanleg","Verbindingsleiding","Plastic 125mm","ME","Materieel aanleg","m",0.73,{"$f":"IF(Invoer!$D$8=\"Aan\",IF($K478>0,$K478,($H478*Indexfactor_1)),($H478*Indexfactor_1))","v":0.73},"Conform Bouwkostenonline 2016, van bouwformatie.nl, nb; afgeschermd tot er duidelijkheid is over openbaar maken van deze gegevens.`"]
["Hemelwatersysteem","Vervangen","Verbindingsleiding","Plastic 125mm","A","Arbeid verwijderen en aanleg","m",4.8,{"$f":"IF(Invoer!$D$8=\"Aan\",IF($K479>0,$K479,($H479*Indexfactor_1)),($H479*Indexfactor_1))","v":4.8},"Conform Bouwkostenonline 2016, van bouwformatie.nl, nb; afgeschermd tot er duidelijkheid is over openbaar maken van deze gegevens.`"]
["Hemelwatersysteem","Vervangen","Verbindingsleiding","Plastic 125mm","MA","Materiaal","m",6.51,{"$f":"IF(Invoer!$D$8=\"Aan\",IF($K480>0,$K480,($H480*Indexfactor_1)),($H480*Indexfactor_1))","v":6.51},"Conform Bouwkostenonline 2016, van bouwformatie.nl, nb; afgeschermd tot er duidelijkheid is over openbaar maken van deze gegevens.`"]
["Hemelwatersysteem","Vervangen","Verbindingsleiding","Plastic 125mm","ME","Materieel verwijderen en aanleg","m",2.12,{"$f":"IF(Invoer!$D$8=\"Aan\",IF($K481>0,$K481,($H481*Indexfactor_1)),($H481*Indexfactor_1))","v":2.12},"Conform Bouwkostenonline 2016, van bouwformatie.nl, nb; afgeschermd tot er duidelijkheid is over openbaar maken van deze gegevens.`"]
["Elementen verharding","Aanleg","Voetpad/plein van betonstraatstenen",null,"A,MA,ME","Verharding aanvoer en verwerken","m²",23.65,{"$f":"IF(Invoer!$D$8=\"Aan\",IF($K482>0,$K482,($H482*Indexfactor_1)),($H482*Indexfactor_1))","v":23.65},"Ervaringscijfer gemeente Almere 2015"]
["Elementen verharding","Vervangen","Voetpad/plein van betonstraatstenen",null,"A,ME","Opnemen en afvoeren","m²",2.5,{"$f":"IF(Invoer!$D$8=\"Aan\",IF($K483>0,$K483,($H483*Indexfactor_1)),($H483*Indexfactor_1))","v":2.5},"Ervaringscijfer gemeente Almere 2015"]
["Elementen verharding","Vervangen","Voetpad/plein van betonstraatstenen",null,"A,MA,ME","Verharding aanvoer en verwerken","m²",23.65,{"$f":"IF(Invoer!$D$8=\"Aan\",IF($K484>0,$K484,($H484*Indexfactor_1)),($H484*Indexfactor_1))","v":23.65},"Ervaringscijfer gemeente Almere 2015"]
["Elementen verharding","Verwijderen","Voetpad/plein van betonstraatstenen",null,"A,ME","Opnemen en afvoeren","m²",2.5,{"$f":"IF(Invoer!$D$8=\"Aan\",IF($K485>0,$K485,($H485*Indexfactor_1)),($H485*Indexfactor_1))","v":2.5},"Ervaringscijfer gemeente Almere 2015"]
["Hemelwatersysteem","Aanleg","Wadi (meerdere kleine)",null,"MA","Materiaal","m²",8,{"$f":"IF(Invoer!$D$8=\"Aan\",IF($K486>0,$K486,($H486*Indexfactor_1)),($H486*Indexfactor_1))","v":8},"Conform D1100 03-2015"]
["Hemelwatersysteem","Aanleg","Wadi (meerdere kleine)",null,"A,ME","Ontgraven","m²",9.4499999999999993,{"$f":"IF(Invoer!$D$8=\"Aan\",IF($K487>0,$K487,($H487*Indexfactor_1)),($H487*Indexfactor_1))","v":9.4499999999999993},"Conform D1100 03-2015"]
["Hemelwatersysteem","Aanleg","Wadi (meerdere kleine)",null,"A,ME","Aanbrengen grind, filterdoek en drain","m²",3.15,{"$f":"IF(Invoer!$D$8=\"Aan\",IF($K488>0,$K488,($H488*Indexfactor_1)),($H488*Indexfactor_1))","v":3.15},"Conform D1100 03-2015"]
["Hemelwatersysteem","Aanleg","Wadi (meerdere kleine)",null,"A,ME","Aanbrengen met humus verrijkt zand","m²",3.78,{"$f":"IF(Invoer!$D$8=\"Aan\",IF($K489>0,$K489,($H489*Indexfactor_1)),($H489*Indexfactor_1))","v":3.78},"Conform D1100 03-2015"]
["Hemelwatersysteem","Aanleg","Wadi (meerdere kleine)",null,"A,ME","Afwerking","m²",2.75,{"$f":"IF(Invoer!$D$8=\"Aan\",IF($K490>0,$K490,($H490*Indexfactor_1)),($H490*Indexfactor_1))","v":2.75},"Conform D1100 03-2015"]
["Hemelwatersysteem","Aanleg","Wadi (meerdere kleine)",null,"A,ME","Overige","m²",1.65,{"$f":"IF(Invoer!$D$8=\"Aan\",IF($K491>0,$K491,($H491*Indexfactor_1)),($H491*Indexfactor_1))","v":1.65},"Conform D1100 03-2015"]
["Hemelwatersysteem","Aanleg","Wadi (meerdere kleine)",null,"A,ME","Vervoeren vrijgekomen materialen","m²",1.41,{"$f":"IF(Invoer!$D$8=\"Aan\",IF($K492>0,$K492,($H492*Indexfactor_1)),($H492*Indexfactor_1))","v":1.41},"Conform Bouwkostenonline 2016, van bouwformatie.nl, nb; afgeschermd tot er duidelijkheid is over openbaar maken van deze gegevens.`"]
["Hemelwatersysteem","Aanleg","Wadi (meerdere kleine)",null,"A,ME","Storten vrijgekomen materialen","m²",1.65,{"$f":"IF(Invoer!$D$8=\"Aan\",IF($K493>0,$K493,($H493*Indexfactor_1)),($H493*Indexfactor_1))","v":1.65},"Conform Bouwkostenonline 2016, van bouwformatie.nl, nb; afgeschermd tot er duidelijkheid is over openbaar maken van deze gegevens.`"]
["Hemelwatersysteem","Vervangen","Wadi (meerdere kleine)",null,"MA","Materiaal","m²",8,{"$f":"IF(Invoer!$D$8=\"Aan\",IF($K494>0,$K494,($H494*Indexfactor_1)),($H494*Indexfactor_1))","v":8},"Conform D1100 03-2015"]
["Hemelwatersysteem","Vervangen","Wadi (meerdere kleine)",null,"A,ME","Ontgraven","m²",5.91,{"$f":"IF(Invoer!$D$8=\"Aan\",IF($K495>0,$K495,($H495*Indexfactor_1)),($H495*Indexfactor_1))","v":5.91},"Conform D1100 03-2015"]
["Hemelwatersysteem","Vervangen","Wadi (meerdere kleine)",null,"A,ME","Aanbrengen grind, filterdoek en drain","m²",3.15,{"$f":"IF(Invoer!$D$8=\"Aan\",IF($K496>0,$K496,($H496*Indexfactor_1)),($H496*Indexfactor_1))","v":3.15},"Conform D1100 03-2015"]
["Hemelwatersysteem","Vervangen","Wadi (meerdere kleine)",null,"A,ME","Aanbrengen met humus verrijkt zand","m²",3.78,{"$f":"IF(Invoer!$D$8=\"Aan\",IF($K497>0,$K497,($H497*Indexfactor_1)),($H497*Indexfactor_1))","v":3.78},"Conform D1100 03-2015"]
["Hemelwatersysteem","Vervangen","Wadi (meerdere kleine)",null,"A,ME","Afwerking","m²",2.75,{"$f":"IF(Invoer!$D$8=\"Aan\",IF($K498>0,$K498,($H498*Indexfactor_1)),($H498*Indexfactor_1))","v":2.75},"Conform D1100 03-2015"]
["Hemelwatersysteem","Vervangen","Wadi (meerdere kleine)",null,"A,ME","Overige","m²",1.65,{"$f":"IF(Invoer!$D$8=\"Aan\",IF($K499>0,$K499,($H499*Indexfactor_1)),($H499*Indexfactor_1))","v":1.65},"Conform D1100 03-2015"]
["Hemelwatersysteem","Vervangen","Wadi (meerdere kleine)",null,"A,ME","Vervoeren vrijgekomen materialen","m²",0.7,{"$f":"IF(Invoer!$D$8=\"Aan\",IF($K500>0,$K500,($H500*Indexfactor_1)),($H500*Indexfactor_1))","v":0.7},"Conform Bouwkostenonline 2016, van bouwformatie.nl, nb; afgeschermd tot er duidelijkheid is over openbaar maken van deze gegevens.`"]
["Hemelwatersysteem","Vervangen","Wadi (meerdere kleine)",null,"A,ME","Storten vrijgekomen materialen","m²",0.82,{"$f":"IF(Invoer!$D$8=\"Aan\",IF($K501>0,$K501,($H501*Indexfactor_1)),($H501*Indexfactor_1))","v":0.82},"Conform Bouwkostenonline 2016, van bouwformatie.nl, nb; afgeschermd tot er duidelijkheid is over openbaar maken van deze gegevens.`"]
["Elementen verharding","Aanleg","Woonstraat en parkeerterrein van betonstraatstenen",null,"A,MA,ME","Verharding aanvoer en verwerken","m²",23.65,{"$f":"IF(Invoer!$D$8=\"Aan\",IF($K502>0,$K502,($H502*Indexfactor_1)),($H502*Indexfactor_1))","v":23.65},"Ervaringscijfer gemeente Almere 2015"]
["Elementen verharding","Vervangen","Woonstraat en parkeerterrein van betonstraatstenen",null,"A,ME","Opnemen en afvoeren","m²",2.5,{"$f":"IF(Invoer!$D$8=\"Aan\",IF($K503>0,$K503,($H503*Indexfactor_1)),($H503*Indexfactor_1))","v":2.5},"Ervaringscijfer gemeente Almere 2015"]
["Elementen verharding","Vervangen","Woonstraat en parkeerterrein van betonstraatstenen",null,"A,MA,ME","Verharding aanvoer en verwerken","m²",23.65,{"$f":"IF(Invoer!$D$8=\"Aan\",IF($K504>0,$K504,($H504*Indexfactor_1)),($H504*Indexfactor_1))","v":23.65},"Ervaringscijfer gemeente Almere 2015"]
["Elementen verharding","Verwijderen","Woonstraat en parkeerterrein van betonstraatstenen",null,"A,ME","Opnemen en afvoeren","m²",2.5,{"$f":"IF(Invoer!$D$8=\"Aan\",IF($K505>0,$K505,($H505*Indexfactor_1)),($H505*Indexfactor_1))","v":2.5},"Ervaringscijfer gemeente Almere 2015"]
["Hemelwatersysteem","Aanleg","Zakput","3*2 beton","MA","Aankoop zakput","st",2699,{"$f":"IF(Invoer!$D$8=\"Aan\",IF($K506>0,$K506,($H506*Indexfactor_1)),($H506*Indexfactor_1))","v":2699},"AQUAFIX Milieu offerte 2016"]
["Hemelwatersysteem","Aanleg","Zakput","3*2 beton","MA","Aankoop filterdoek","st",64,{"$f":"IF(Invoer!$D$8=\"Aan\",IF($K507>0,$K507,($H507*Indexfactor_1)),($H507*Indexfactor_1))","v":64},"Conform Bouwkostenonline 2016, van bouwformatie.nl, nb; afgeschermd tot er duidelijkheid is over openbaar maken van deze gegevens.`"]
["Hemelwatersysteem","Aanleg","Zakput","3*2 beton","MA","Aankoop grind","st",1344,{"$f":"IF(Invoer!$D$8=\"Aan\",IF($K508>0,$K508,($H508*Indexfactor_1)),($H508*Indexfactor_1))","v":1344},"Conform Bouwkostenonline 2016, van bouwformatie.nl, nb; afgeschermd tot er duidelijkheid is over openbaar maken van deze gegevens.`"]
["Hemelwatersysteem","Aanleg","Zakput","3*2 beton","A,ME","Ontgraven","st",84.4,{"$f":"IF(Invoer!$D$8=\"Aan\",IF($K509>0,$K509,($H509*Indexfactor_1)),($H509*Indexfactor_1))","v":84.4},"Conform Bouwkostenonline 2016, van bouwformatie.nl, nb; afgeschermd tot er duidelijkheid is over openbaar maken van deze gegevens.`"]
["Hemelwatersysteem","Aanleg","Zakput","3*2 beton","A","Aanbrengen put en doek","st",269.05,{"$f":"IF(Invoer!$D$8=\"Aan\",IF($K510>0,$K510,($H510*Indexfactor_1)),($H510*Indexfactor_1))","v":269.05},"Conform Bouwkostenonline 2016, van bouwformatie.nl, nb; afgeschermd tot er duidelijkheid is over openbaar maken van deze gegevens.`"]
["Hemelwatersysteem","Aanleg","Zakput","3*2 beton","A","Grond afvoeren","st",56.4,{"$f":"IF(Invoer!$D$8=\"Aan\",IF($K511>0,$K511,($H511*Indexfactor_1)),($H511*Indexfactor_1))","v":56.4},"Conform Bouwkostenonline 2016, van bouwformatie.nl, nb; afgeschermd tot er duidelijkheid is over openbaar maken van deze gegevens.`"]
["Hemelwatersysteem","Aanleg","Zakput","3*2 beton","A","Grind aanbrengen","st",38.22,{"$f":"IF(Invoer!$D$8=\"Aan\",IF($K512>0,$K512,($H512*Indexfactor_1)),($H512*Indexfactor_1))","v":38.22},"Conform Bouwkostenonline 2016, van bouwformatie.nl, nb; afgeschermd tot er duidelijkheid is over openbaar maken van deze gegevens.`"]
["Hemelwatersysteem","Vervangen","Zakput","3*2 beton","MA","Aankoop zakput","st",2699,{"$f":"IF(Invoer!$D$8=\"Aan\",IF($K513>0,$K513,($H513*Indexfactor_1)),($H513*Indexfactor_1))","v":2699},"AQUAFIX Milieu offerte 2016"]
["Hemelwatersysteem","Vervangen","Zakput","3*2 beton","MA","Aankoop filterdoek","st",64,{"$f":"IF(Invoer!$D$8=\"Aan\",IF($K514>0,$K514,($H514*Indexfactor_1)),($H514*Indexfactor_1))","v":64},"Conform Bouwkostenonline 2016, van bouwformatie.nl, nb; afgeschermd tot er duidelijkheid is over openbaar maken van deze gegevens.`"]
["Hemelwatersysteem","Vervangen","Zakput","3*2 beton","MA","Aankoop grind","st",1344,{"$f":"IF(Invoer!$D$8=\"Aan\",IF($K515>0,$K515,($H515*Indexfactor_1)),($H515*Indexfactor_1))","v":1344},"Conform Bouwkostenonline 2016, van bouwformatie.nl, nb; afgeschermd tot er duidelijkheid is over openbaar maken van deze gegevens.`"]
["Hemelwatersysteem","Vervangen","Zakput","3*2 beton","A,ME","Ontgraven","st",44.31,{"$f":"IF(Invoer!$D$8=\"Aan\",IF($K516>0,$K516,($H516*Indexfactor_1)),($H516*Indexfactor_1))","v":44.31},"Conform Bouwkostenonline 2016, van bouwformatie.nl, nb; afgeschermd tot er duidelijkheid is over openbaar maken van deze gegevens.`"]
["Hemelwatersysteem","Vervangen","Zakput","3*2 beton","A","Verwijderen put en doek","st",269.05,{"$f":"IF(Invoer!$D$8=\"Aan\",IF($K517>0,$K517,($H517*Indexfactor_1)),($H517*Indexfactor_1))","v":269.05},"Conform Bouwkostenonline 2016, van bouwformatie.nl, nb; afgeschermd tot er duidelijkheid is over openbaar maken van deze gegevens.`"]
["Hemelwatersysteem","Vervangen","Zakput","3*2 beton","A","Aanbrengen put en doek","st",269.05,{"$f":"IF(Invoer!$D$8=\"Aan\",IF($K518>0,$K518,($H518*Indexfactor_1)),($H518*Indexfactor_1))","v":269.05},"Conform Bouwkostenonline 2016, van bouwformatie.nl, nb; afgeschermd tot er duidelijkheid is over openbaar maken van deze gegevens.`"]
["Hemelwatersysteem","Vervangen","Zakput","3*2 beton","A","Afvoerkosten puin","st",48.03,{"$f":"IF(Invoer!$D$8=\"Aan\",IF($K519>0,$K519,($H519*Indexfactor_1)),($H519*Indexfactor_1))","v":48.03},"Conform Bouwkostenonline 2016, van bouwformatie.nl, nb; afgeschermd tot er duidelijkheid is over openbaar maken van deze gegevens.`"]
["Hemelwatersysteem","Vervangen","Zakput","3*2 beton","A","Stortkosten","st",164,{"$f":"IF(Invoer!$D$8=\"Aan\",IF($K520>0,$K520,($H520*Indexfactor_1)),($H520*Indexfactor_1))","v":164},"Conform Bouwkostenonline 2016, van bouwformatie.nl, nb; afgeschermd tot er duidelijkheid is over openbaar maken van deze gegevens.`"]
["Hemelwatersysteem","Vervangen","Zakput","3*2 beton","A","Grind aanbrengen","st",38.22,{"$f":"IF(Invoer!$D$8=\"Aan\",IF($K521>0,$K521,($H521*Indexfactor_1)),($H521*Indexfactor_1))","v":38.22},"Conform Bouwkostenonline 2016, van bouwformatie.nl, nb; afgeschermd tot er duidelijkheid is over openbaar maken van deze gegevens.`"]
["Grondwerk","Aanleg","Zand","Ophoog zand","A,MA,ME","Arbeid verwerken","m³",1.37,{"$f":"IF(Invoer!$D$8=\"Aan\",IF($K522>0,$K522,($H522*Indexfactor_1)),($H522*Indexfactor_1))","v":1.37},"Conform Bouwkostenonline 2016, van bouwformatie.nl, nb; afgeschermd tot er duidelijkheid is over openbaar maken van deze gegevens.`"]
["Grondwerk","Aanleg","Zand","Ophoog zand","A,MA,ME","Materieel verwerken","m³",2.87,{"$f":"IF(Invoer!$D$8=\"Aan\",IF($K523>0,$K523,($H523*Indexfactor_1)),($H523*Indexfactor_1))","v":2.87},"Conform Bouwkostenonline 2016, van bouwformatie.nl, nb; afgeschermd tot er duidelijkheid is over openbaar maken van deze gegevens.`"]
["Grondwerk","Aanleg","Zand","Ophoog zand","A,MA,ME","Materiaal en levering","m³",25.77,{"$f":"IF(Invoer!$D$8=\"Aan\",IF($K524>0,$K524,($H524*Indexfactor_1)),($H524*Indexfactor_1))","v":25.77},"Conform Bouwkostenonline 2016, van bouwformatie.nl, nb; afgeschermd tot er duidelijkheid is over openbaar maken van deze gegevens.`"]
["Grondwerk","Verwijderen","Zand","Ophoog zand","A,MA,ME","Arbeid ontgraven","m³",0.51,{"$f":"IF(Invoer!$D$8=\"Aan\",IF($K525>0,$K525,($H525*Indexfactor_1)),($H525*Indexfactor_1))","v":0.51},"Conform Bouwkostenonline 2016, van bouwformatie.nl, nb; afgeschermd tot er duidelijkheid is over openbaar maken van deze gegevens.`"]
["Grondwerk","Verwijderen","Zand","Ophoog zand","A,MA,ME","Materieel ontgraven","m³",1.1499999999999999,{"$f":"IF(Invoer!$D$8=\"Aan\",IF($K526>0,$K526,($H526*Indexfactor_1)),($H526*Indexfactor_1))","v":1.1499999999999999},"Conform Bouwkostenonline 2016, van bouwformatie.nl, nb; afgeschermd tot er duidelijkheid is over openbaar maken van deze gegevens.`"]
["Grondwerk","Verwijderen","Zand","Ophoog zand","A,MA,ME","Afvoeren vrijgekomen materiaal","m³",1.41,{"$f":"IF(Invoer!$D$8=\"Aan\",IF($K527>0,$K527,($H527*Indexfactor_1)),($H527*Indexfactor_1))","v":1.41},"Conform Bouwkostenonline 2016, van bouwformatie.nl, nb; afgeschermd tot er duidelijkheid is over openbaar maken van deze gegevens.`"]
["Grondwerk","Verwijderen","Zand","Ophoog zand","A,MA,ME","Stortkosten","m³",2.75,{"$f":"IF(Invoer!$D$8=\"Aan\",IF($K528>0,$K528,($H528*Indexfactor_1)),($H528*Indexfactor_1))","v":2.75},"Conform Bouwkostenonline 2016, van bouwformatie.nl, nb; afgeschermd tot er duidelijkheid is over openbaar maken van deze gegevens.`"]
["Hemelwatersysteem","Aanleg","Bergend pakket hardsteen 8/32 - geen doek","waterberging",null,"Arbeid verwerken","m³",1.37,{"$f":"IF(Invoer!$D$8=\"Aan\",IF($K529>0,$K529,($H529*Indexfactor_1)),($H529*Indexfactor_1))","v":1.37},"Op basis van Grondwerk ophoogzand, want enige indicatie in m3"]
["Hemelwatersysteem","Aanleg","Bergend pakket hardsteen 8/32 - geen doek","waterberging",null,"Materieel verwerken","m³",2.87,{"$f":"IF(Invoer!$D$8=\"Aan\",IF($K530>0,$K530,($H530*Indexfactor_1)),($H530*Indexfactor_1))","v":2.87},"Op basis van Grondwerk ophoogzand, want enige indicatie in m3"]
["Hemelwatersysteem","Aanleg","Bergend pakket hardsteen 8/32 - geen doek","waterberging",null,"Materiaal en levering","m³",{"$f":"(26*(1+Berekeningen!$C$254)^(-6))/1000*2700*0.68","v":41.770158647012572},{"$f":"IF(Invoer!$D$8=\"Aan\",IF($K531>0,$K531,($H531*Indexfactor_1)),($H531*Indexfactor_1))","v":41.770158647012572},"€26/ton gemeente Heemskerk in 2021, 2700kg/m3, 32%porositeit bij 8/32"]
["Hemelwatersysteem","Aanleg","Bergend pakket hardsteen 8/32 - geen doek","waterberging","A,MA,ME","Arbeid ontgraven","m³",0.51,{"$f":"IF(Invoer!$D$8=\"Aan\",IF($K532>0,$K532,($H532*Indexfactor_1)),($H532*Indexfactor_1))","v":0.51},"Conform Bouwkostenonline 2016, van bouwformatie.nl, nb; afgeschermd tot er duidelijkheid is over openbaar maken van deze gegevens.`"]
["Hemelwatersysteem","Aanleg","Bergend pakket hardsteen 8/32 - geen doek","waterberging","A,MA,ME","Materieel ontgraven","m³",1.1499999999999999,{"$f":"IF(Invoer!$D$8=\"Aan\",IF($K533>0,$K533,($H533*Indexfactor_1)),($H533*Indexfactor_1))","v":1.1499999999999999},"Conform Bouwkostenonline 2016, van bouwformatie.nl, nb; afgeschermd tot er duidelijkheid is over openbaar maken van deze gegevens.`"]
["Hemelwatersysteem","Aanleg","Bergend pakket hardsteen 8/32 - geen doek","waterberging","A,MA,ME","Afvoeren vrijgekomen materiaal","m³",1.41,{"$f":"IF(Invoer!$D$8=\"Aan\",IF($K534>0,$K534,($H534*Indexfactor_1)),($H534*Indexfactor_1))","v":1.41},"Conform Bouwkostenonline 2016, van bouwformatie.nl, nb; afgeschermd tot er duidelijkheid is over openbaar maken van deze gegevens.`"]
["Hemelwatersysteem","Aanleg","Bergend pakket hardsteen 8/32 - geen doek","waterberging","A,MA,ME","Stortkosten","m³",2.75,{"$f":"IF(Invoer!$D$8=\"Aan\",IF($K535>0,$K535,($H535*Indexfactor_1)),($H535*Indexfactor_1))","v":2.75},"Conform Bouwkostenonline 2016, van bouwformatie.nl, nb; afgeschermd tot er duidelijkheid is over openbaar maken van deze gegevens.`"]
["Hemelwatersysteem","vervangen","Bergend pakket hardsteen 8/32 - geen doek","waterberging",null,"Arbeid verwerken","m³",0.37,{"$f":"IF(Invoer!$D$8=\"Aan\",IF($K536>0,$K536,($H536*Indexfactor_1)),($H536*Indexfactor_1))","v":0.37},"Op basis van Grondwerk ophoogzand, want enige indicatie in m2"]
["Hemelwatersysteem","vervangen","Bergend pakket hardsteen 8/32 - geen doek","waterberging",null,"Arbeid ontgraven","m³",0.51,{"$f":"IF(Invoer!$D$8=\"Aan\",IF($K537>0,$K537,($H537*Indexfactor_1)),($H537*Indexfactor_1))","v":0.51},"Op basis van Grondwerk ophoogzand, want enige indicatie in m3"]
["Hemelwatersysteem","vervangen","Bergend pakket hardsteen 8/32 - geen doek","waterberging",null,"Materieel verwerken","m³",2.87,{"$f":"IF(Invoer!$D$8=\"Aan\",IF($K538>0,$K538,($H538*Indexfactor_1)),($H538*Indexfactor_1))","v":2.87},"Op basis van Grondwerk ophoogzand, want enige indicatie in m3"]
["Hemelwatersysteem","vervangen","Bergend pakket hardsteen 8/32 - geen doek","waterberging",null,"Materiaal en levering","m³",{"$f":"(26*(1+Berekeningen!$C$254)^(-6))/1000*2700*0.68","v":41.770158647012572},{"$f":"IF(Invoer!$D$8=\"Aan\",IF($K539>0,$K539,($H539*Indexfactor_1)),($H539*Indexfactor_1))","v":41.770158647012572},"€26/ton gemeente Heemskerk in 2021, 2700kg/m3, 32%porositeit bij 8/32"]
["Hemelwatersysteem","vervangen","Bergend pakket hardsteen 8/32 - geen doek","waterberging",null,"Afvoeren vrijgekomen materiaal","m³",1.41,{"$f":"IF(Invoer!$D$8=\"Aan\",IF($K540>0,$K540,($H540*Indexfactor_1)),($H540*Indexfactor_1))","v":1.41},"Op basis van Grondwerk ophoogzand, want enige indicatie in m3"]
["Hemelwatersysteem","vervangen","Bergend pakket hardsteen 8/32 - geen doek","waterberging",null,"Stortkosten","m³",2.75,{"$f":"IF(Invoer!$D$8=\"Aan\",IF($K541>0,$K541,($H541*Indexfactor_1)),($H541*Indexfactor_1))","v":2.75},"Op basis van Grondwerk ophoogzand, want enige indicatie in m3"]
["Hemelwatersysteem","Aanleg","Bergend pakket Betondgranulaat 12/32 - geen doek","waterberging",null,"Arbeid verwerken","m³",1.37,{"$f":"IF(Invoer!$D$8=\"Aan\",IF($K542>0,$K542,($H542*Indexfactor_1)),($H542*Indexfactor_1))","v":1.37},"Op basis van Grondwerk ophoogzand, want enige indicatie in m3"]
["Hemelwatersysteem","Aanleg","Bergend pakket Betondgranulaat 12/32 - geen doek","waterberging",null,"Materieel verwerken","m³",2.87,{"$f":"IF(Invoer!$D$8=\"Aan\",IF($K543>0,$K543,($H543*Indexfactor_1)),($H543*Indexfactor_1))","v":2.87},"Op basis van Grondwerk ophoogzand, want enige indicatie in m3"]
["Hemelwatersysteem","Aanleg","Bergend pakket Betondgranulaat 12/32 - geen doek","waterberging",null,"Materiaal en levering","m³",{"$f":"(24*(1+Berekeningen!$C$254)^(-5))/1000*2400*0.68","v":35.04409207513465},{"$f":"IF(Invoer!$D$8=\"Aan\",IF($K544>0,$K544,($H544*Indexfactor_1)),($H544*Indexfactor_1))","v":35.04409207513465},"€24/ton gemeente Heemskerk in 2020, 2400kg/m3, ?%porositeit bij 12/32 (dus zelfde als hardsteen gebruikt)"]
["Hemelwatersysteem","Aanleg","Bergend pakket Betondgranulaat 12/32 - geen doek","waterberging","A,MA,ME","Arbeid ontgraven","m³",0.51,{"$f":"IF(Invoer!$D$8=\"Aan\",IF($K545>0,$K545,($H545*Indexfactor_1)),($H545*Indexfactor_1))","v":0.51},"Conform Bouwkostenonline 2016, van bouwformatie.nl, nb; afgeschermd tot er duidelijkheid is over openbaar maken van deze gegevens.`"]
["Hemelwatersysteem","Aanleg","Bergend pakket Betondgranulaat 12/32 - geen doek","waterberging","A,MA,ME","Materieel ontgraven","m³",1.1499999999999999,{"$f":"IF(Invoer!$D$8=\"Aan\",IF($K546>0,$K546,($H546*Indexfactor_1)),($H546*Indexfactor_1))","v":1.1499999999999999},"Conform Bouwkostenonline 2016, van bouwformatie.nl, nb; afgeschermd tot er duidelijkheid is over openbaar maken van deze gegevens.`"]
["Hemelwatersysteem","Aanleg","Bergend pakket Betondgranulaat 12/32 - geen doek","waterberging","A,MA,ME","Afvoeren vrijgekomen materiaal","m³",1.41,{"$f":"IF(Invoer!$D$8=\"Aan\",IF($K547>0,$K547,($H547*Indexfactor_1)),($H547*Indexfactor_1))","v":1.41},"Conform Bouwkostenonline 2016, van bouwformatie.nl, nb; afgeschermd tot er duidelijkheid is over openbaar maken van deze gegevens.`"]
["Hemelwatersysteem","Aanleg","Bergend pakket Betondgranulaat 12/32 - geen doek","waterberging","A,MA,ME","Stortkosten","m³",2.75,{"$f":"IF(Invoer!$D$8=\"Aan\",IF($K548>0,$K548,($H548*Indexfactor_1)),($H548*Indexfactor_1))","v":2.75},"Conform Bouwkostenonline 2016, van bouwformatie.nl, nb; afgeschermd tot er duidelijkheid is over openbaar maken van deze gegevens.`"]
["Hemelwatersysteem","Vervangen","Bergend pakket Betondgranulaat 12/32 - geen doek","waterberging",null,"Arbeid verwerken","m³",0.37,{"$f":"IF(Invoer!$D$8=\"Aan\",IF($K549>0,$K549,($H549*Indexfactor_1)),($H549*Indexfactor_1))","v":0.37},"Op basis van Grondwerk ophoogzand, want enige indicatie in m2"]
["Hemelwatersysteem","Vervangen","Bergend pakket Betondgranulaat 12/32 - geen doek","waterberging",null,"Arbeid ontgraven","m³",0.51,{"$f":"IF(Invoer!$D$8=\"Aan\",IF($K550>0,$K550,($H550*Indexfactor_1)),($H550*Indexfactor_1))","v":0.51},"Op basis van Grondwerk ophoogzand, want enige indicatie in m3"]
["Hemelwatersysteem","Vervangen","Bergend pakket Betondgranulaat 12/32 - geen doek","waterberging",null,"Materieel verwerken","m³",2.87,{"$f":"IF(Invoer!$D$8=\"Aan\",IF($K551>0,$K551,($H551*Indexfactor_1)),($H551*Indexfactor_1))","v":2.87},"Op basis van Grondwerk ophoogzand, want enige indicatie in m3"]
["Hemelwatersysteem","Vervangen","Bergend pakket Betondgranulaat 12/32 - geen doek","waterberging",null,"Materiaal en levering","m³",{"$f":"(24*(1+Berekeningen!$C$254)^(-5))/1000*2400*0.68","v":35.04409207513465},{"$f":"IF(Invoer!$D$8=\"Aan\",IF($K552>0,$K552,($H552*Indexfactor_1)),($H552*Indexfactor_1))","v":35.04409207513465},"€24/ton gemeente Heemskerk in 2020, 2400kg/m3, ?%porositeit bij 12/32 (dus zelfde als hardsteen gebruikt)"]
["Hemelwatersysteem","Vervangen","Bergend pakket Betondgranulaat 12/32 - geen doek","waterberging",null,"Afvoeren vrijgekomen materiaal","m³",1.41,{"$f":"IF(Invoer!$D$8=\"Aan\",IF($K553>0,$K553,($H553*Indexfactor_1)),($H553*Indexfactor_1))","v":1.41},"Op basis van Grondwerk ophoogzand, want enige indicatie in m3"]
["Hemelwatersysteem","Vervangen","Bergend pakket Betondgranulaat 12/32 - geen doek","waterberging",null,"Stortkosten","m³",2.75,{"$f":"IF(Invoer!$D$8=\"Aan\",IF($K554>0,$K554,($H554*Indexfactor_1)),($H554*Indexfactor_1))","v":2.75},"Op basis van Grondwerk ophoogzand, want enige indicatie in m3"]
["Hemelwatersysteem","Aanleg","WAVICORE buis in bergend pakket","waterberging",null,"Materiaal en levering","m",{"$f":"(32*(1+Berekeningen!$C$254)^(-6))","v":28.000776703209361},{"$f":"IF(Invoer!$D$8=\"Aan\",IF(#REF!>0,#REF!,($H555*Indexfactor_1)),($H555*Indexfactor_1))","v":28.000776703209361},"€32/m gemeente Heemskerk in 2021"]
["Hemelwatersysteem","Vervangen","WAVICORE buis in bergend pakket","waterberging",null,"Materiaal en levering","m",{"$f":"(32*(1+Berekeningen!$C$254)^(-6))","v":28.000776703209361},{"$f":"IF(Invoer!$D$8=\"Aan\",IF(#REF!>0,#REF!,($H556*Indexfactor_1)),($H556*Indexfactor_1))","v":28.000776703209361},"€32/m gemeente Heemskerk in 2022"]
["Hemelwatersysteem","Vervangen","WAVICORE buis in bergend pakket","waterberging","A,ME","WAVICORE buis verwijderen","m",3.34,{"$f":"IF(Invoer!$D$8=\"Aan\",IF(#REF!>0,#REF!,($H557*Indexfactor_1)),($H557*Indexfactor_1))","v":3.34},"Op basis van drainagebuis"]
["Riolering","Aanleg","Tergakolk",null,"MA","Tergakolk","st",{"$f":"(345*(1+Berekeningen!$C$254)^(-7))","v":295.24046340486649},{"$f":"IF(Invoer!$D$8=\"Aan\",IF(#REF!>0,#REF!,($H558*Indexfactor_1)),($H558*Indexfactor_1))","v":295.24046340486649},"Conform D1100 03-2015"]
["Riolering","Aanleg","Tergakolk",null,"A","Plaatsen","st",8,{"$f":"IF(Invoer!$D$8=\"Aan\",IF(#REF!>0,#REF!,($H559*Indexfactor_1)),($H559*Indexfactor_1))","v":8},"Conform D1100 03-2015"]
["Riolering","Vervangen","Tergakolk",null,"MA","Tergakolk","st",{"$f":"(345*(1+Berekeningen!$C$254)^(-7))","v":295.24046340486649},{"$f":"IF(Invoer!$D$8=\"Aan\",IF($K560>0,$K560,($H560*Indexfactor_1)),($H560*Indexfactor_1))","v":295.24046340486649},"Conform D1100 03-2015"]
["Riolering","Vervangen","Tergakolk",null,"A","Plaatsen","st",8,{"$f":"IF(Invoer!$D$8=\"Aan\",IF($K561>0,$K561,($H561*Indexfactor_1)),($H561*Indexfactor_1))","v":8},"Conform D1100 03-2015"]
["Riolering","Vervangen","Tergakolk",null,"A,MA,ME","Verwijderen","st",12,{"$f":"IF(Invoer!$D$8=\"Aan\",IF($K562>0,$K562,($H562*Indexfactor_1)),($H562*Indexfactor_1))","v":12},"Conform D1100 03-2015"]
["Riolering","Verwijderen","Tergakolk",null,"A,MA,ME","Verwijderen","st",12,{"$f":"IF(Invoer!$D$8=\"Aan\",IF($K563>0,$K563,($H563*Indexfactor_1)),($H563*Indexfactor_1))","v":12},"Conform D1100 03-2015"]
["Hemelwatersysteem","Aanleg","Bufferblock",null,"MA","Aankoop BB","m²",null,{"$f":"IF(Invoer!$D$8=\"Aan\",IF(#REF!>0,#REF!,($H564*Indexfactor_1)),($H564*Indexfactor_1))","v":0}]
["Hemelwatersysteem","Aanleg","Bufferblock",null,"MA","Aankoop Filterdoek","m²",10.453333333333333,{"$f":"IF(Invoer!$D$8=\"Aan\",IF(#REF!>0,#REF!,($H565*Indexfactor_1)),($H565*Indexfactor_1))","v":10.453333333333333},"Op basis van bovenstaande infiltratiekratten"]
["Hemelwatersysteem","Aanleg","Bufferblock",null,"A,ME","Ontgraven BBruimte","m²",null,{"$f":"IF(Invoer!$D$8=\"Aan\",IF($K560>0,$K560,($H566*Indexfactor_1)),($H566*Indexfactor_1))","v":0}]
["Hemelwatersysteem","Aanleg","Bufferblock",null,"A,ME","Grond vervoeren ","m²",6.47,{"$f":"IF(Invoer!$D$8=\"Aan\",IF($K561>0,$K561,($H567*Indexfactor_1)),($H567*Indexfactor_1))","v":6.47},"Op basis van bovenstaande infiltratiekratten"]
["Hemelwatersysteem","Aanleg","Bufferblock",null,"A,ME","Aanbrengen en leveren BB en doek","m²",{"$f":"((62.5+2.75)*(1+Berekeningen!$C$254)^(-5))","v":58.379978755681563},{"$f":"IF(Invoer!$D$8=\"Aan\",IF($K562>0,$K562,($H568*Indexfactor_1)),($H568*Indexfactor_1))","v":58.379978755681563},"€62,50/m2 en €2,75/m2 gemeente Capelle a/d IJssel in 2020"]
["Hemelwatersysteem","Aanleg","Bufferblock",null,"A,ME","Grond aanbrengen","m²",6.3,{"$f":"IF(Invoer!$D$8=\"Aan\",IF($K563>0,$K563,($H569*Indexfactor_1)),($H569*Indexfactor_1))","v":6.3},"Op basis van bovenstaande infiltratiekratten"]
["Hemelwatersysteem","Aanleg","Bufferblock",null,"A,ME","Afwerking","m²",5.04,{"$f":"IF(Invoer!$D$8=\"Aan\",IF($K564>0,$K564,($H570*Indexfactor_1)),($H570*Indexfactor_1))","v":5.04},"Op basis van bovenstaande infiltratiekratten"]
["Hemelwatersysteem","Vervangen","Bufferblock",null,"MA","Aankoop BB","m²",null,{"$f":"IF(Invoer!$D$8=\"Aan\",IF($K565>0,$K565,($H571*Indexfactor_1)),($H571*Indexfactor_1))","v":0},"Op basis van bovenstaande infiltratiekratten"]
["Hemelwatersysteem","Vervangen","Bufferblock",null,"MA","Aankoop Filterdoek","m²",10.453333333333333,{"$f":"IF(Invoer!$D$8=\"Aan\",IF($K566>0,$K566,($H572*Indexfactor_1)),($H572*Indexfactor_1))","v":10.453333333333333},"Op basis van bovenstaande infiltratiekratten"]
["Hemelwatersysteem","Vervangen","Bufferblock",null,"A,ME","Ontgraven BBruimte","m²",7.3,{"$f":"IF(Invoer!$D$8=\"Aan\",IF($K567>0,$K567,($H573*Indexfactor_1)),($H573*Indexfactor_1))","v":7.3},"Op basis van bovenstaande infiltratiekratten"]
["Hemelwatersysteem","Vervangen","Bufferblock",null,"A,ME","Grond aanbrengen","m²",6.3,{"$f":"IF(Invoer!$D$8=\"Aan\",IF($K568>0,$K568,($H574*Indexfactor_1)),($H574*Indexfactor_1))","v":6.3},"Op basis van bovenstaande infiltratiekratten"]
["Hemelwatersysteem","Vervangen","Bufferblock",null,"A,ME","Vervangen BB en doek","m²",{"$f":"((62.5+2.75)*(1+Berekeningen!$C$254)^(-5))","v":58.379978755681563},{"$f":"IF(Invoer!$D$8=\"Aan\",IF($K569>0,$K569,($H575*Indexfactor_1)),($H575*Indexfactor_1))","v":58.379978755681563},"€62,50/m2 en €2,75/m2 gemeente Capelle a/d IJssel in 2020"]
["Hemelwatersysteem","Vervangen","Bufferblock",null,"A,ME","Afwerking","m²",5.04,{"$f":"IF(Invoer!$D$8=\"Aan\",IF($K571>0,$K571,($H576*Indexfactor_1)),($H576*Indexfactor_1))","v":5.04},"Op basis van bovenstaande infiltratiekratten"]
["Hemelwatersysteem","Vervangen","Bufferblock",null,"A,ME","Afvoerkosten verwijderd materiaal","m²",1.38,{"$f":"IF(Invoer!$D$8=\"Aan\",IF($K572>0,$K572,($H577*Indexfactor_1)),($H577*Indexfactor_1))","v":1.38},"Op basis van bovenstaande infiltratiekratten"]
["Hemelwatersysteem","Vervangen","Bufferblock",null,"A,ME","Stortkosten verwijderd materiaal","m²",2.4300000000000002,{"$f":"IF(Invoer!$D$8=\"Aan\",IF($K573>0,$K573,($H578*Indexfactor_1)),($H578*Indexfactor_1))","v":2.4300000000000002},"Op basis van bovenstaande infiltratiekratten"]
["Hemelwatersysteem","Aanleg","Bergend pakket lava of bims 4/32 - geen doek","waterberging",null,"Arbeid verwerken","m³",1.37,{"$f":"IF(Invoer!$D$8=\"Aan\",IF($K579>0,$K579,($H579*Indexfactor_1)),($H579*Indexfactor_1))","v":1.37},"Op basis van Grondwerk ophoogzand, want enige indicatie in m3"]
["Hemelwatersysteem","Aanleg","Bergend pakket lava of bims 4/32 - geen doek","waterberging",null,"Materieel verwerken","m³",2.87,{"$f":"IF(Invoer!$D$8=\"Aan\",IF($K580>0,$K580,($H580*Indexfactor_1)),($H580*Indexfactor_1))","v":2.87},"Op basis van Grondwerk ophoogzand, want enige indicatie in m3"]
["Hemelwatersysteem","Aanleg","Bergend pakket lava of bims 4/32 - geen doek","waterberging",null,"Materiaal en levering","m³",{"$f":"(42*(1+Berekeningen!$C$254)^(1))","v":42.945},{"$f":"IF(Invoer!$D$8=\"Aan\",IF($K581>0,$K581,($H581*Indexfactor_1)),($H581*Indexfactor_1))","v":42.945},"€42/m3 gemeente Urk in 2014"]
["Hemelwatersysteem","Aanleg","Bergend pakket lava of bims 4/32 - geen doek","waterberging","A,MA,ME","Arbeid ontgraven","m³",0.51,{"$f":"IF(Invoer!$D$8=\"Aan\",IF($K582>0,$K582,($H582*Indexfactor_1)),($H582*Indexfactor_1))","v":0.51},"Conform Bouwkostenonline 2016, van bouwformatie.nl, nb; afgeschermd tot er duidelijkheid is over openbaar maken van deze gegevens.`"]
["Hemelwatersysteem","Aanleg","Bergend pakket lava of bims 4/32 - geen doek","waterberging","A,MA,ME","Materieel ontgraven","m³",1.1499999999999999,{"$f":"IF(Invoer!$D$8=\"Aan\",IF($K583>0,$K583,($H583*Indexfactor_1)),($H583*Indexfactor_1))","v":1.1499999999999999},"Conform Bouwkostenonline 2016, van bouwformatie.nl, nb; afgeschermd tot er duidelijkheid is over openbaar maken van deze gegevens.`"]
["Hemelwatersysteem","Aanleg","Bergend pakket lava of bims 4/32 - geen doek","waterberging","A,MA,ME","Afvoeren vrijgekomen materiaal","m³",1.41,{"$f":"IF(Invoer!$D$8=\"Aan\",IF($K584>0,$K584,($H584*Indexfactor_1)),($H584*Indexfactor_1))","v":1.41},"Conform Bouwkostenonline 2016, van bouwformatie.nl, nb; afgeschermd tot er duidelijkheid is over openbaar maken van deze gegevens.`"]
["Hemelwatersysteem","Aanleg","Bergend pakket lava of bims 4/32 - geen doek","waterberging","A,MA,ME","Stortkosten","m³",2.75,{"$f":"IF(Invoer!$D$8=\"Aan\",IF($K585>0,$K585,($H585*Indexfactor_1)),($H585*Indexfactor_1))","v":2.75},"Conform Bouwkostenonline 2016, van bouwformatie.nl, nb; afgeschermd tot er duidelijkheid is over openbaar maken van deze gegevens.`"]
["Hemelwatersysteem","Vervangen","Bergend pakket lava of bims 4/32 - geen doek","waterberging",null,"Arbeid verwerken","m³",0.37,{"$f":"IF(Invoer!$D$8=\"Aan\",IF($K586>0,$K586,($H586*Indexfactor_1)),($H586*Indexfactor_1))","v":0.37},"Op basis van Grondwerk ophoogzand, want enige indicatie in m2"]
["Hemelwatersysteem","Vervangen","Bergend pakket lava of bims 4/32 - geen doek","waterberging",null,"Arbeid ontgraven","m³",0.51,{"$f":"IF(Invoer!$D$8=\"Aan\",IF($K587>0,$K587,($H587*Indexfactor_1)),($H587*Indexfactor_1))","v":0.51},"Op basis van Grondwerk ophoogzand, want enige indicatie in m3"]
["Hemelwatersysteem","Vervangen","Bergend pakket lava of bims 4/32 - geen doek","waterberging",null,"Materieel verwerken","m³",2.87,{"$f":"IF(Invoer!$D$8=\"Aan\",IF($K588>0,$K588,($H588*Indexfactor_1)),($H588*Indexfactor_1))","v":2.87},"Op basis van Grondwerk ophoogzand, want enige indicatie in m3"]
["Hemelwatersysteem","Vervangen","Bergend pakket lava of bims 4/32 - geen doek","waterberging",null,"Materiaal en levering","m³",{"$f":"(42*(1+Berekeningen!$C$254)^(1))","v":42.945},{"$f":"IF(Invoer!$D$8=\"Aan\",IF($K589>0,$K589,($H589*Indexfactor_1)),($H589*Indexfactor_1))","v":42.945},"€42/m3 gemeente Urk in 2014"]
["Hemelwatersysteem","Vervangen","Bergend pakket lava of bims 4/32 - geen doek","waterberging",null,"Afvoeren vrijgekomen materiaal","m³",1.41,{"$f":"IF(Invoer!$D$8=\"Aan\",IF($K590>0,$K590,($H590*Indexfactor_1)),($H590*Indexfactor_1))","v":1.41},"Op basis van Grondwerk ophoogzand, want enige indicatie in m3"]
["Hemelwatersysteem","Vervangen","Bergend pakket lava of bims 4/32 - geen doek","waterberging",null,"Stortkosten","m³",2.75,{"$f":"IF(Invoer!$D$8=\"Aan\",IF($K591>0,$K591,($H591*Indexfactor_1)),($H591*Indexfactor_1))","v":2.75},"Op basis van Grondwerk ophoogzand, want enige indicatie in m3"]
["Hemelwatersysteem","Aanleg","Bergend pakket ROCKFLOW - geen doek","waterberging",null,"Arbeid verwerken","m³",1.37,{"$f":"IF(Invoer!$D$8=\"Aan\",IF($K592>0,$K592,($H592*Indexfactor_1)),($H592*Indexfactor_1))","v":1.37},"Op basis van Grondwerk ophoogzand, want enige indicatie in m3"]
["Hemelwatersysteem","Aanleg","Bergend pakket ROCKFLOW - geen doek","waterberging",null,"Materieel verwerken","m³",2.87,{"$f":"IF(Invoer!$D$8=\"Aan\",IF($K593>0,$K593,($H593*Indexfactor_1)),($H593*Indexfactor_1))","v":2.87},"Op basis van Grondwerk ophoogzand, want enige indicatie in m3"]
["Hemelwatersysteem","Aanleg","Bergend pakket ROCKFLOW - geen doek","waterberging",null,"Materiaal en levering","m³",{"$f":"((225*(1+Berekeningen!$C$254)^(-5))+(277*(1+Berekeningen!$C$254)^(-7)))/2","v":219.17920587717674},{"$f":"IF(Invoer!$D$8=\"Aan\",IF($K594>0,$K594,($H594*Indexfactor_1)),($H594*Indexfactor_1))","v":219.17920587717674},"€225/m3 gemeente Zoeterwoude in 2020 en €277/m3 gemeente Amsterdam in 2022"]
["Hemelwatersysteem","Aanleg","Bergend pakket ROCKFLOW - geen doek","waterberging","A,MA,ME","Arbeid ontgraven","m³",0.51,{"$f":"IF(Invoer!$D$8=\"Aan\",IF($K595>0,$K595,($H595*Indexfactor_1)),($H595*Indexfactor_1))","v":0.51},"Conform Bouwkostenonline 2016, van bouwformatie.nl, nb; afgeschermd tot er duidelijkheid is over openbaar maken van deze gegevens.`"]
["Hemelwatersysteem","Aanleg","Bergend pakket ROCKFLOW - geen doek","waterberging","A,MA,ME","Materieel ontgraven","m³",1.1499999999999999,{"$f":"IF(Invoer!$D$8=\"Aan\",IF($K596>0,$K596,($H596*Indexfactor_1)),($H596*Indexfactor_1))","v":1.1499999999999999},"Conform Bouwkostenonline 2016, van bouwformatie.nl, nb; afgeschermd tot er duidelijkheid is over openbaar maken van deze gegevens.`"]
["Hemelwatersysteem","Aanleg","Bergend pakket ROCKFLOW - geen doek","waterberging","A,MA,ME","Afvoeren vrijgekomen materiaal","m³",1.41,{"$f":"IF(Invoer!$D$8=\"Aan\",IF($K597>0,$K597,($H597*Indexfactor_1)),($H597*Indexfactor_1))","v":1.41},"Conform Bouwkostenonline 2016, van bouwformatie.nl, nb; afgeschermd tot er duidelijkheid is over openbaar maken van deze gegevens.`"]
["Hemelwatersysteem","Aanleg","Bergend pakket ROCKFLOW - geen doek","waterberging","A,MA,ME","Stortkosten","m³",2.75,{"$f":"IF(Invoer!$D$8=\"Aan\",IF($K598>0,$K598,($H598*Indexfactor_1)),($H598*Indexfactor_1))","v":2.75},"Conform Bouwkostenonline 2016, van bouwformatie.nl, nb; afgeschermd tot er duidelijkheid is over openbaar maken van deze gegevens.`"]
["Hemelwatersysteem","Vervangen","Bergend pakket ROCKFLOW - geen doek","waterberging",null,"Arbeid verwerken","m³",0.37,{"$f":"IF(Invoer!$D$8=\"Aan\",IF($K599>0,$K599,($H599*Indexfactor_1)),($H599*Indexfactor_1))","v":0.37},"Op basis van Grondwerk ophoogzand, want enige indicatie in m2"]
["Hemelwatersysteem","Vervangen","Bergend pakket ROCKFLOW - geen doek","waterberging",null,"Arbeid ontgraven","m³",0.51,{"$f":"IF(Invoer!$D$8=\"Aan\",IF($K600>0,$K600,($H600*Indexfactor_1)),($H600*Indexfactor_1))","v":0.51},"Op basis van Grondwerk ophoogzand, want enige indicatie in m3"]
["Hemelwatersysteem","Vervangen","Bergend pakket ROCKFLOW - geen doek","waterberging",null,"Materieel verwerken","m³",2.87,{"$f":"IF(Invoer!$D$8=\"Aan\",IF($K601>0,$K601,($H601*Indexfactor_1)),($H601*Indexfactor_1))","v":2.87},"Op basis van Grondwerk ophoogzand, want enige indicatie in m3"]
["Hemelwatersysteem","Vervangen","Bergend pakket ROCKFLOW - geen doek","waterberging",null,"Materiaal en levering","m³",{"$f":"((225*(1+Berekeningen!$C$254)^(-5))+(277*(1+Berekeningen!$C$254)^(-7)))/2","v":219.17920587717674},{"$f":"IF(Invoer!$D$8=\"Aan\",IF($K602>0,$K602,($H602*Indexfactor_1)),($H602*Indexfactor_1))","v":219.17920587717674},"€225/m3 gemeente Zoeterwoude in 2020 en €277/m3 gemeente Amsterdam in 2022"]
["Hemelwatersysteem","Vervangen","Bergend pakket ROCKFLOW - geen doek","waterberging",null,"Afvoeren vrijgekomen materiaal","m³",1.41,{"$f":"IF(Invoer!$D$8=\"Aan\",IF($K603>0,$K603,($H603*Indexfactor_1)),($H603*Indexfactor_1))","v":1.41},"Op basis van Grondwerk ophoogzand, want enige indicatie in m3"]
["Hemelwatersysteem","Vervangen","Bergend pakket ROCKFLOW - geen doek","waterberging",null,"Stortkosten","m³",2.75,{"$f":"IF(Invoer!$D$8=\"Aan\",IF($K604>0,$K604,($H604*Indexfactor_1)),($H604*Indexfactor_1))","v":2.75},"Op basis van Grondwerk ophoogzand, want enige indicatie in m3"]
["Hemelwatersysteem","Aanleg","Bergend pakket AA Schelpenmix - geen doek","waterberging",null,"Arbeid verwerken","m³",1.37,{"$f":"IF(Invoer!$D$8=\"Aan\",IF($K605>0,$K605,($H605*Indexfactor_1)),($H605*Indexfactor_1))","v":1.37},"Op basis van Grondwerk ophoogzand, want enige indicatie in m3"]
["Hemelwatersysteem","Aanleg","Bergend pakket AA Schelpenmix - geen doek","waterberging",null,"Materieel verwerken","m³",2.87,{"$f":"IF(Invoer!$D$8=\"Aan\",IF($K606>0,$K606,($H606*Indexfactor_1)),($H606*Indexfactor_1))","v":2.87},"Op basis van Grondwerk ophoogzand, want enige indicatie in m3"]
["Hemelwatersysteem","Aanleg","Bergend pakket AA Schelpenmix - geen doek","waterberging",null,"Materiaal en levering","m³",{"$f":"((12.5*(1+Berekeningen!$C$254)^(-5)))","v":11.183903976184208},{"$f":"IF(Invoer!$D$8=\"Aan\",IF($K607>0,$K607,($H607*Indexfactor_1)),($H607*Indexfactor_1))","v":11.183903976184208},"€10/m2 per 1*2*0,4, dus €5 voor 1*1*0,4, dus €12,50/m3 gemeente Zoeterwoude in 2020 "]
["Hemelwatersysteem","Aanleg","Bergend pakket AA Schelpenmix - geen doek","waterberging","A,MA,ME","Arbeid ontgraven","m³",0.51,{"$f":"IF(Invoer!$D$8=\"Aan\",IF($K608>0,$K608,($H608*Indexfactor_1)),($H608*Indexfactor_1))","v":0.51},"Conform Bouwkostenonline 2016, van bouwformatie.nl, nb; afgeschermd tot er duidelijkheid is over openbaar maken van deze gegevens.`"]
["Hemelwatersysteem","Aanleg","Bergend pakket AA Schelpenmix - geen doek","waterberging","A,MA,ME","Materieel ontgraven","m³",1.1499999999999999,{"$f":"IF(Invoer!$D$8=\"Aan\",IF($K609>0,$K609,($H609*Indexfactor_1)),($H609*Indexfactor_1))","v":1.1499999999999999},"Conform Bouwkostenonline 2016, van bouwformatie.nl, nb; afgeschermd tot er duidelijkheid is over openbaar maken van deze gegevens.`"]
["Hemelwatersysteem","Aanleg","Bergend pakket AA Schelpenmix - geen doek","waterberging","A,MA,ME","Afvoeren vrijgekomen materiaal","m³",1.41,{"$f":"IF(Invoer!$D$8=\"Aan\",IF($K610>0,$K610,($H610*Indexfactor_1)),($H610*Indexfactor_1))","v":1.41},"Conform Bouwkostenonline 2016, van bouwformatie.nl, nb; afgeschermd tot er duidelijkheid is over openbaar maken van deze gegevens.`"]
["Hemelwatersysteem","Aanleg","Bergend pakket AA Schelpenmix - geen doek","waterberging","A,MA,ME","Stortkosten","m³",2.75,{"$f":"IF(Invoer!$D$8=\"Aan\",IF($K611>0,$K611,($H611*Indexfactor_1)),($H611*Indexfactor_1))","v":2.75},"Conform Bouwkostenonline 2016, van bouwformatie.nl, nb; afgeschermd tot er duidelijkheid is over openbaar maken van deze gegevens.`"]
["Hemelwatersysteem","Vervangen","Bergend pakket AA Schelpenmix - geen doek","waterberging",null,"Arbeid verwerken","m³",0.37,{"$f":"IF(Invoer!$D$8=\"Aan\",IF($K612>0,$K612,($H612*Indexfactor_1)),($H612*Indexfactor_1))","v":0.37},"Op basis van Grondwerk ophoogzand, want enige indicatie in m2"]
["Hemelwatersysteem","Vervangen","Bergend pakket AA Schelpenmix - geen doek","waterberging",null,"Arbeid ontgraven","m³",0.51,{"$f":"IF(Invoer!$D$8=\"Aan\",IF($K613>0,$K613,($H613*Indexfactor_1)),($H613*Indexfactor_1))","v":0.51},"Op basis van Grondwerk ophoogzand, want enige indicatie in m3"]
["Hemelwatersysteem","Vervangen","Bergend pakket AA Schelpenmix - geen doek","waterberging",null,"Materieel verwerken","m³",2.87,{"$f":"IF(Invoer!$D$8=\"Aan\",IF($K614>0,$K614,($H614*Indexfactor_1)),($H614*Indexfactor_1))","v":2.87},"Op basis van Grondwerk ophoogzand, want enige indicatie in m3"]
["Hemelwatersysteem","Vervangen","Bergend pakket AA Schelpenmix - geen doek","waterberging",null,"Materiaal en levering","m³",{"$f":"((12.5*(1+Berekeningen!$C$254)^(-5)))","v":11.183903976184208},{"$f":"IF(Invoer!$D$8=\"Aan\",IF($K615>0,$K615,($H615*Indexfactor_1)),($H615*Indexfactor_1))","v":11.183903976184208},"€10/m2 per 1*2*0,4, dus €5 voor 1*1*0,4, dus €12,50/m3 gemeente Zoeterwoude in 2020 "]
["Hemelwatersysteem","Vervangen","Bergend pakket AA Schelpenmix - geen doek","waterberging",null,"Afvoeren vrijgekomen materiaal","m³",1.41,{"$f":"IF(Invoer!$D$8=\"Aan\",IF($K616>0,$K616,($H616*Indexfactor_1)),($H616*Indexfactor_1))","v":1.41},"Op basis van Grondwerk ophoogzand, want enige indicatie in m3"]
["Hemelwatersysteem","Vervangen","Bergend pakket AA Schelpenmix - geen doek","waterberging",null,"Stortkosten","m³",2.75,{"$f":"IF(Invoer!$D$8=\"Aan\",IF($K617>0,$K617,($H617*Indexfactor_1)),($H617*Indexfactor_1))","v":2.75},"Op basis van Grondwerk ophoogzand, want enige indicatie in m3"]
["Hemelwatersysteem","Aanleg","AA minerals (los)  voor rond drain","waterzuivering",null,"Materiaal en levering","m",{"$f":"((7+(16.8*1000/800/(1.5*1*0.36))*(1+Berekeningen!$C$254)^(-5)))","v":41.794367925906421},{"$f":"IF(Invoer!$D$8=\"Aan\",IF($K618>0,$K618,($H618*Indexfactor_1)),($H618*Indexfactor_1))","v":41.794367925906421},"€7/m voor aanbrengen per 1,5*1*0,36 en €16,80/ton voor vervoeren, 800kg/m3 gemeente Zoeterwoude in 2020 (gewicht zie https://www.grind-split.nl/schelpen-800kg-1m3-bigbag)"]
["Hemelwatersysteem","Vervangen","AA minerals (los)  voor rond drain","waterzuivering",null,"Materiaal en levering","m",{"$f":"((7+(16.8*1000/800/(1.5*1*0.36))*(1+Berekeningen!$C$254)^(-5)))","v":41.794367925906421},{"$f":"IF(Invoer!$D$8=\"Aan\",IF($K619>0,$K619,($H619*Indexfactor_1)),($H619*Indexfactor_1))","v":41.794367925906421},"€7/m voor aanbrengen per 1,5*1*0,36 en €16,80/ton voor vervoeren, 800kg/m3 gemeente Zoeterwoude in 2020 (gewicht zie https://www.grind-split.nl/schelpen-800kg-1m3-bigbag)"]
["Hemelwatersysteem","Aanleg","Geogrid (los)",null,null,"Materiaal en levering","m²",{"$f":"(2.67*(1+Berekeningen!$C$254)^(-5))","v":2.3888818893129469},{"$f":"IF(Invoer!$D$8=\"Aan\",IF($K620>0,$K620,($H620*Indexfactor_1)),($H620*Indexfactor_1))","v":2.3888818893129469},"€2,67/m2 gemeente Zoeterwoude in 2020"]
["Hemelwatersysteem","vervangen","Geogrid (los)",null,null,"Materiaal en levering","m²",{"$f":"(2.67*(1+Berekeningen!$C$254)^(-5))","v":2.3888818893129469},{"$f":"IF(Invoer!$D$8=\"Aan\",IF($K621>0,$K621,($H621*Indexfactor_1)),($H621*Indexfactor_1))","v":2.3888818893129469},"€2,67/m2 gemeente Zoeterwoude in 2021"]
["Hemelwatersysteem","Aanleg","geotextiel (los)",null,null,"Materiaal en levering","m²",{"$f":"((2.27*(1+Berekeningen!$C$254)^(-6))+(2.75*(1+Berekeningen!$C$254)^(-5))+(2*(1+Berekeningen!$C$254)^(1)))/3","v":2.1639213240481467},{"$f":"IF(Invoer!$D$8=\"Aan\",IF($K622>0,$K622,($H622*Indexfactor_1)),($H622*Indexfactor_1))","v":2.1639213240481467},"€2,27/m2 sept 2021 Heemskerk €2,75/m2 2020 Ca/dIJ €2/m2 feb 2014 Urk Geovlies €1,54/m2 2020 Zoeterwoude"]
["Hemelwatersysteem","Vervangen","geotextiel (los)",null,null,"Materiaal en levering","m²",{"$f":"((2.27*(1+Berekeningen!$C$254)^(-6))+(2.75*(1+Berekeningen!$C$254)^(-5))+(2*(1+Berekeningen!$C$254)^(1)))/3","v":2.1639213240481467},{"$f":"IF(Invoer!$D$8=\"Aan\",IF($K623>0,$K623,($H623*Indexfactor_1)),($H623*Indexfactor_1))","v":2.1639213240481467},"€2,27/m2 sept 2021 Heemskerk €2,75/m2 2020 Ca/dIJ €2/m2 feb 2014 Urk Geovlies €1,54/m2 2020 Zoeterwoude"]
["Grondwerk","Aanleg","Drainzand","Drainzand","A,MA,ME","Arbeid verwerken","m³",1.37,{"$f":"IF(Invoer!$D$8=\"Aan\",IF($K624>0,$K624,($H624*Indexfactor_1)),($H624*Indexfactor_1))","v":1.37},"Conform Bouwkostenonline 2016, van bouwformatie.nl, nb; afgeschermd tot er duidelijkheid is over openbaar maken van deze gegevens.`"]
["Grondwerk","Aanleg","Drainzand","Drainzand","A,MA,ME","Materieel verwerken","m³",2.87,{"$f":"IF(Invoer!$D$8=\"Aan\",IF($K625>0,$K625,($H625*Indexfactor_1)),($H625*Indexfactor_1))","v":2.87},"Conform Bouwkostenonline 2016, van bouwformatie.nl, nb; afgeschermd tot er duidelijkheid is over openbaar maken van deze gegevens.`"]
["Grondwerk","Aanleg","Drainzand","Drainzand","A,MA,ME","Materiaal en levering","m³",{"$f":"25.77*1.4","v":36.077999999999996},{"$f":"IF(Invoer!$D$8=\"Aan\",IF($K626>0,$K626,($H626*Indexfactor_1)),($H626*Indexfactor_1))","v":36.077999999999996},"Op basis van de inschatting dat drainzand voor particulieren 40% meer kost dan ophoogzand."]
["Grondwerk","Verwijderen","Drainzand","Drainzand","A,MA,ME","Arbeid ontgraven","m³",0.51,{"$f":"IF(Invoer!$D$8=\"Aan\",IF($K627>0,$K627,($H627*Indexfactor_1)),($H627*Indexfactor_1))","v":0.51},"Conform Bouwkostenonline 2016, van bouwformatie.nl, nb; afgeschermd tot er duidelijkheid is over openbaar maken van deze gegevens.`"]
["Grondwerk","Verwijderen","Drainzand","Drainzand","A,MA,ME","Materieel ontgraven","m³",1.1499999999999999,{"$f":"IF(Invoer!$D$8=\"Aan\",IF($K628>0,$K628,($H628*Indexfactor_1)),($H628*Indexfactor_1))","v":1.1499999999999999},"Conform Bouwkostenonline 2016, van bouwformatie.nl, nb; afgeschermd tot er duidelijkheid is over openbaar maken van deze gegevens.`"]
["Grondwerk","Verwijderen","Drainzand","Drainzand","A,MA,ME","Afvoeren vrijgekomen materiaal","m³",1.41,{"$f":"IF(Invoer!$D$8=\"Aan\",IF($K629>0,$K629,($H629*Indexfactor_1)),($H629*Indexfactor_1))","v":1.41},"Conform Bouwkostenonline 2016, van bouwformatie.nl, nb; afgeschermd tot er duidelijkheid is over openbaar maken van deze gegevens.`"]
["Grondwerk","Verwijderen","Drainzand","Drainzand","A,MA,ME","Stortkosten","m³",2.75,{"$f":"IF(Invoer!$D$8=\"Aan\",IF($K630>0,$K630,($H630*Indexfactor_1)),($H630*Indexfactor_1))","v":2.75},"Conform Bouwkostenonline 2016, van bouwformatie.nl, nb; afgeschermd tot er duidelijkheid is over openbaar maken van deze gegevens.`"]
["Vervangen",{"$f":"IFERROR(INDEX(Inrichtingskosten!$C$9:$C$1027,MATCH(FALSE,ISNUMBER(MATCH(Inrichtingskosten!$C$9:$C$1027,$B$598:B598,0)),0)),\"\")","v":"Asfaltverharding"}]
["Verwijderen",{"$f":"IFERROR(INDEX(Inrichtingskosten!$C$9:$C$1027,MATCH(FALSE,ISNUMBER(MATCH(Inrichtingskosten!$C$9:$C$1027,$B$598:B631,0)),0)),\"\")","v":"Boom in beplanting"}]
[null,{"$f":"IFERROR(INDEX(Inrichtingskosten!$C$9:$C$1027,MATCH(FALSE,ISNUMBER(MATCH(Inrichtingskosten!$C$9:$C$1027,$B$598:B632,0)),0)),\"\")","v":"Boom in gazon"}]
[null,{"$f":"IFERROR(INDEX(Inrichtingskosten!$C$9:$C$1027,MATCH(FALSE,ISNUMBER(MATCH(Inrichtingskosten!$C$9:$C$1027,$B$598:B633,0)),0)),\"\")","v":"Boom in verharding"}]
[null,{"$f":"IFERROR(INDEX(Inrichtingskosten!$C$9:$C$1027,MATCH(FALSE,ISNUMBER(MATCH(Inrichtingskosten!$C$9:$C$1027,$B$598:B634,0)),0)),\"\")","v":"Bosplantsoen"}]
[null,{"$f":"IFERROR(INDEX(Inrichtingskosten!$C$9:$C$1027,MATCH(FALSE,ISNUMBER(MATCH(Inrichtingskosten!$C$9:$C$1027,$B$598:B635,0)),0)),\"\")","v":"Buis beton 1000"}]
[null,{"$f":"IFERROR(INDEX(Inrichtingskosten!$C$9:$C$1027,MATCH(FALSE,ISNUMBER(MATCH(Inrichtingskosten!$C$9:$C$1027,$B$598:B636,0)),0)),\"\")","v":"Buis beton 1250"}]
[null,{"$f":"IFERROR(INDEX(Inrichtingskosten!$C$9:$C$1027,MATCH(FALSE,ISNUMBER(MATCH(Inrichtingskosten!$C$9:$C$1027,$B$598:B637,0)),0)),\"\")","v":"Buis beton 300"}]
[null,{"$f":"IFERROR(INDEX(Inrichtingskosten!$C$9:$C$1027,MATCH(FALSE,ISNUMBER(MATCH(Inrichtingskosten!$C$9:$C$1027,$B$598:B638,0)),0)),\"\")","v":"Buis beton 400"}]
[null,{"$f":"IFERROR(INDEX(Inrichtingskosten!$C$9:$C$1027,MATCH(FALSE,ISNUMBER(MATCH(Inrichtingskosten!$C$9:$C$1027,$B$598:B639,0)),0)),\"\")","v":"Buis beton 500"}]
[null,{"$f":"IFERROR(INDEX(Inrichtingskosten!$C$9:$C$1027,MATCH(FALSE,ISNUMBER(MATCH(Inrichtingskosten!$C$9:$C$1027,$B$598:B640,0)),0)),\"\")","v":"Buis beton 600"}]
[null,{"$f":"IFERROR(INDEX(Inrichtingskosten!$C$9:$C$1027,MATCH(FALSE,ISNUMBER(MATCH(Inrichtingskosten!$C$9:$C$1027,$B$598:B641,0)),0)),\"\")","v":"Buis beton 700"}]
[null,{"$f":"IFERROR(INDEX(Inrichtingskosten!$C$9:$C$1027,MATCH(FALSE,ISNUMBER(MATCH(Inrichtingskosten!$C$9:$C$1027,$B$598:B642,0)),0)),\"\")","v":"Centrale wadi"}]
[null,{"$f":"IFERROR(INDEX(Inrichtingskosten!$C$9:$C$1027,MATCH(FALSE,ISNUMBER(MATCH(Inrichtingskosten!$C$9:$C$1027,$B$598:B643,0)),0)),\"\")","v":"Doorlatende verharding"}]
[null,{"$f":"IFERROR(INDEX(Inrichtingskosten!$C$9:$C$1027,MATCH(FALSE,ISNUMBER(MATCH(Inrichtingskosten!$C$9:$C$1027,$B$598:B644,0)),0)),\"\")","v":"Drainage"}]
[null,{"$f":"IFERROR(INDEX(Inrichtingskosten!$C$9:$C$1027,MATCH(FALSE,ISNUMBER(MATCH(Inrichtingskosten!$C$9:$C$1027,$B$598:B645,0)),0)),\"\")","v":"Fietspad van betonstraatstenen"}]
[null,{"$f":"IFERROR(INDEX(Inrichtingskosten!$C$9:$C$1027,MATCH(FALSE,ISNUMBER(MATCH(Inrichtingskosten!$C$9:$C$1027,$B$598:B646,0)),0)),\"\")","v":"Gazon"}]
[null,{"$f":"IFERROR(INDEX(Inrichtingskosten!$C$9:$C$1027,MATCH(FALSE,ISNUMBER(MATCH(Inrichtingskosten!$C$9:$C$1027,$B$598:B647,0)),0)),\"\")","v":"Gesloten grindgoot"}]
[null,{"$f":"IFERROR(INDEX(Inrichtingskosten!$C$9:$C$1027,MATCH(FALSE,ISNUMBER(MATCH(Inrichtingskosten!$C$9:$C$1027,$B$598:B648,0)),0)),\"\")","v":"Granudrain"}]
[null,{"$f":"IFERROR(INDEX(Inrichtingskosten!$C$9:$C$1027,MATCH(FALSE,ISNUMBER(MATCH(Inrichtingskosten!$C$9:$C$1027,$B$598:B649,0)),0)),\"\")","v":"Haag"}]
[null,{"$f":"IFERROR(INDEX(Inrichtingskosten!$C$9:$C$1027,MATCH(FALSE,ISNUMBER(MATCH(Inrichtingskosten!$C$9:$C$1027,$B$598:B650,0)),0)),\"\")","v":"Infiltratie kolk"}]
[null,{"$f":"IFERROR(INDEX(Inrichtingskosten!$C$9:$C$1027,MATCH(FALSE,ISNUMBER(MATCH(Inrichtingskosten!$C$9:$C$1027,$B$598:B651,0)),0)),\"\")","v":"Infiltratiekrat gemeente makkelijk"}]
[null,{"$f":"IFERROR(INDEX(Inrichtingskosten!$C$9:$C$1027,MATCH(FALSE,ISNUMBER(MATCH(Inrichtingskosten!$C$9:$C$1027,$B$598:B652,0)),0)),\"\")","v":"Infiltratiekrat particulier makkelijk"}]
[null,{"$f":"IFERROR(INDEX(Inrichtingskosten!$C$9:$C$1027,MATCH(FALSE,ISNUMBER(MATCH(Inrichtingskosten!$C$9:$C$1027,$B$598:B653,0)),0)),\"\")","v":"Infiltratiekrat particulier moeilijk"}]
[null,{"$f":"IFERROR(INDEX(Inrichtingskosten!$C$9:$C$1027,MATCH(FALSE,ISNUMBER(MATCH(Inrichtingskosten!$C$9:$C$1027,$B$598:B654,0)),0)),\"\")","v":"Infiltratiekrat perceelaansluiting makkelijk"}]
[null,{"$f":"IFERROR(INDEX(Inrichtingskosten!$C$9:$C$1027,MATCH(FALSE,ISNUMBER(MATCH(Inrichtingskosten!$C$9:$C$1027,$B$598:B655,0)),0)),\"\")","v":"Infiltratiekrat perceelaansluiting moeilijk"}]
[null,{"$f":"IFERROR(INDEX(Inrichtingskosten!$C$9:$C$1027,MATCH(FALSE,ISNUMBER(MATCH(Inrichtingskosten!$C$9:$C$1027,$B$598:B656,0)),0)),\"\")","v":"Kolk"}]
[null,{"$f":"IFERROR(INDEX(Inrichtingskosten!$C$9:$C$1027,MATCH(FALSE,ISNUMBER(MATCH(Inrichtingskosten!$C$9:$C$1027,$B$598:B657,0)),0)),\"\")","v":"Molgoot"}]
[null,{"$f":"IFERROR(INDEX(Inrichtingskosten!$C$9:$C$1027,MATCH(FALSE,ISNUMBER(MATCH(Inrichtingskosten!$C$9:$C$1027,$B$598:B658,0)),0)),\"\")","v":"Onderhoudsarme wadi (inc. beplanting)"}]
[null,{"$f":"IFERROR(INDEX(Inrichtingskosten!$C$9:$C$1027,MATCH(FALSE,ISNUMBER(MATCH(Inrichtingskosten!$C$9:$C$1027,$B$598:B659,0)),0)),\"\")","v":"Open grindgoot"}]
[null,{"$f":"IFERROR(INDEX(Inrichtingskosten!$C$9:$C$1027,MATCH(FALSE,ISNUMBER(MATCH(Inrichtingskosten!$C$9:$C$1027,$B$598:B660,0)),0)),\"\")","v":"Paal beton"}]
[null,{"$f":"IFERROR(INDEX(Inrichtingskosten!$C$9:$C$1027,MATCH(FALSE,ISNUMBER(MATCH(Inrichtingskosten!$C$9:$C$1027,$B$598:B661,0)),0)),\"\")","v":"Perceelaansluiting"}]
[null,{"$f":"IFERROR(INDEX(Inrichtingskosten!$C$9:$C$1027,MATCH(FALSE,ISNUMBER(MATCH(Inrichtingskosten!$C$9:$C$1027,$B$598:B662,0)),0)),\"\")","v":"Regenton"}]
[null,{"$f":"IFERROR(INDEX(Inrichtingskosten!$C$9:$C$1027,MATCH(FALSE,ISNUMBER(MATCH(Inrichtingskosten!$C$9:$C$1027,$B$598:B663,0)),0)),\"\")","v":"Rioolput beton 1000"}]
[null,{"$f":"IFERROR(INDEX(Inrichtingskosten!$C$9:$C$1027,MATCH(FALSE,ISNUMBER(MATCH(Inrichtingskosten!$C$9:$C$1027,$B$598:B664,0)),0)),\"\")","v":"Rioolput beton 1250"}]
[null,{"$f":"IFERROR(INDEX(Inrichtingskosten!$C$9:$C$1027,MATCH(FALSE,ISNUMBER(MATCH(Inrichtingskosten!$C$9:$C$1027,$B$598:B665,0)),0)),\"\")","v":"Rioolput beton 300"}]
[null,{"$f":"IFERROR(INDEX(Inrichtingskosten!$C$9:$C$1027,MATCH(FALSE,ISNUMBER(MATCH(Inrichtingskosten!$C$9:$C$1027,$B$598:B666,0)),0)),\"\")","v":"Rioolput beton 400"}]
[null,{"$f":"IFERROR(INDEX(Inrichtingskosten!$C$9:$C$1027,MATCH(FALSE,ISNUMBER(MATCH(Inrichtingskosten!$C$9:$C$1027,$B$598:B667,0)),0)),\"\")","v":"Rioolput beton 500"}]
[null,{"$f":"IFERROR(INDEX(Inrichtingskosten!$C$9:$C$1027,MATCH(FALSE,ISNUMBER(MATCH(Inrichtingskosten!$C$9:$C$1027,$B$598:B668,0)),0)),\"\")","v":"Rioolput beton 600"}]
[null,{"$f":"IFERROR(INDEX(Inrichtingskosten!$C$9:$C$1027,MATCH(FALSE,ISNUMBER(MATCH(Inrichtingskosten!$C$9:$C$1027,$B$598:B669,0)),0)),\"\")","v":"Rioolput beton 700"}]
[null,{"$f":"IFERROR(INDEX(Inrichtingskosten!$C$9:$C$1027,MATCH(FALSE,ISNUMBER(MATCH(Inrichtingskosten!$C$9:$C$1027,$B$598:B670,0)),0)),\"\")","v":"Rioolput beton 800"}]
[null,{"$f":"IFERROR(INDEX(Inrichtingskosten!$C$9:$C$1027,MATCH(FALSE,ISNUMBER(MATCH(Inrichtingskosten!$C$9:$C$1027,$B$598:B671,0)),0)),\"\")","v":"Rioolput beton 900"}]
[null,{"$f":"IFERROR(INDEX(Inrichtingskosten!$C$9:$C$1027,MATCH(FALSE,ISNUMBER(MATCH(Inrichtingskosten!$C$9:$C$1027,$B$598:B672,0)),0)),\"\")","v":"Rubbertegels"}]
[null,{"$f":"IFERROR(INDEX(Inrichtingskosten!$C$9:$C$1027,MATCH(FALSE,ISNUMBER(MATCH(Inrichtingskosten!$C$9:$C$1027,$B$598:B673,0)),0)),\"\")","v":"Sierplantsoen"}]
[null,{"$f":"IFERROR(INDEX(Inrichtingskosten!$C$9:$C$1027,MATCH(FALSE,ISNUMBER(MATCH(Inrichtingskosten!$C$9:$C$1027,$B$598:B674,0)),0)),\"\")","v":"Straatverlichting"}]
[null,{"$f":"IFERROR(INDEX(Inrichtingskosten!$C$9:$C$1027,MATCH(FALSE,ISNUMBER(MATCH(Inrichtingskosten!$C$9:$C$1027,$B$598:B675,0)),0)),\"\")","v":"Verbindingsleiding"}]
[null,{"$f":"IFERROR(INDEX(Inrichtingskosten!$C$9:$C$1027,MATCH(FALSE,ISNUMBER(MATCH(Inrichtingskosten!$C$9:$C$1027,$B$598:B676,0)),0)),\"\")","v":"Voetpad/plein van betonstraatstenen"}]
[null,{"$f":"IFERROR(INDEX(Inrichtingskosten!$C$9:$C$1027,MATCH(FALSE,ISNUMBER(MATCH(Inrichtingskosten!$C$9:$C$1027,$B$598:B677,0)),0)),\"\")","v":"Wadi (meerdere kleine)"}]
[null,{"$f":"IFERROR(INDEX(Inrichtingskosten!$C$9:$C$1027,MATCH(FALSE,ISNUMBER(MATCH(Inrichtingskosten!$C$9:$C$1027,$B$598:B678,0)),0)),\"\")","v":"Woonstraat en parkeerterrein van betonstraatstenen"}]
[null,{"$f":"IFERROR(INDEX(Inrichtingskosten!$C$9:$C$1027,MATCH(FALSE,ISNUMBER(MATCH(Inrichtingskosten!$C$9:$C$1027,$B$598:B679,0)),0)),\"\")","v":"Zakput"}]
[null,{"$f":"IFERROR(INDEX(Inrichtingskosten!$C$9:$C$1027,MATCH(FALSE,ISNUMBER(MATCH(Inrichtingskosten!$C$9:$C$1027,$B$598:B680,0)),0)),\"\")","v":"Zand"}]
[null,{"$f":"IFERROR(INDEX(Inrichtingskosten!$C$9:$C$1027,MATCH(FALSE,ISNUMBER(MATCH(Inrichtingskosten!$C$9:$C$1027,$B$598:B681,0)),0)),\"\")","v":"Bergend pakket hardsteen 8/32 - geen doek"}]
[null,{"$f":"IFERROR(INDEX(Inrichtingskosten!$C$9:$C$1027,MATCH(FALSE,ISNUMBER(MATCH(Inrichtingskosten!$C$9:$C$1027,$B$598:B682,0)),0)),\"\")","v":"Bergend pakket Betondgranulaat 12/32 - geen doek"}]
[null,{"$f":"IFERROR(INDEX(Inrichtingskosten!$C$9:$C$1027,MATCH(FALSE,ISNUMBER(MATCH(Inrichtingskosten!$C$9:$C$1027,$B$598:B683,0)),0)),\"\")","v":"WAVICORE buis in bergend pakket"}]
[null,{"$f":"IFERROR(INDEX(Inrichtingskosten!$C$9:$C$1027,MATCH(FALSE,ISNUMBER(MATCH(Inrichtingskosten!$C$9:$C$1027,$B$598:B684,0)),0)),\"\")","v":"Tergakolk"}]
[null,{"$f":"IFERROR(INDEX(Inrichtingskosten!$C$9:$C$1027,MATCH(FALSE,ISNUMBER(MATCH(Inrichtingskosten!$C$9:$C$1027,$B$598:B685,0)),0)),\"\")","v":"Bufferblock"}]
[null,{"$f":"IFERROR(INDEX(Inrichtingskosten!$C$9:$C$1027,MATCH(FALSE,ISNUMBER(MATCH(Inrichtingskosten!$C$9:$C$1027,$B$598:B686,0)),0)),\"\")","v":"Bergend pakket lava of bims 4/32 - geen doek"}]
[null,{"$f":"IFERROR(INDEX(Inrichtingskosten!$C$9:$C$1027,MATCH(FALSE,ISNUMBER(MATCH(Inrichtingskosten!$C$9:$C$1027,$B$598:B687,0)),0)),\"\")","v":"Bergend pakket ROCKFLOW - geen doek"}]
[null,{"$f":"IFERROR(INDEX(Inrichtingskosten!$C$9:$C$1027,MATCH(FALSE,ISNUMBER(MATCH(Inrichtingskosten!$C$9:$C$1027,$B$598:B688,0)),0)),\"\")","v":"Bergend pakket AA Schelpenmix - geen doek"}]
[null,{"$f":"IFERROR(INDEX(Inrichtingskosten!$C$9:$C$1027,MATCH(FALSE,ISNUMBER(MATCH(Inrichtingskosten!$C$9:$C$1027,$B$598:B689,0)),0)),\"\")","v":"AA minerals (los)  voor rond drain"}]
[null,{"$f":"IFERROR(INDEX(Inrichtingskosten!$C$9:$C$1027,MATCH(FALSE,ISNUMBER(MATCH(Inrichtingskosten!$C$9:$C$1027,$B$598:B690,0)),0)),\"\")","v":"Geogrid (los)"}]
[null,{"$f":"IFERROR(INDEX(Inrichtingskosten!$C$9:$C$1027,MATCH(FALSE,ISNUMBER(MATCH(Inrichtingskosten!$C$9:$C$1027,$B$598:B691,0)),0)),\"\")","v":"geotextiel (los)"}]
[null,{"$f":"IFERROR(INDEX(Inrichtingskosten!$C$9:$C$1027,MATCH(FALSE,ISNUMBER(MATCH(Inrichtingskosten!$C$9:$C$1027,$B$598:B692,0)),0)),\"\")","v":"Drainzand"}]
[null,{"$f":"IFERROR(INDEX(Inrichtingskosten!$C$9:$C$1027,MATCH(FALSE,ISNUMBER(MATCH(Inrichtingskosten!$C$9:$C$1027,$B$598:B693,0)),0)),\"\")","v":0}]
[null,{"$f":"IFERROR(INDEX(Inrichtingskosten!$C$9:$C$1027,MATCH(FALSE,ISNUMBER(MATCH(Inrichtingskosten!$C$9:$C$1027,$B$598:B694,0)),0)),\"\")","v":""}]
[null,{"$f":"IFERROR(INDEX(Inrichtingskosten!$C$9:$C$1027,MATCH(FALSE,ISNUMBER(MATCH(Inrichtingskosten!$C$9:$C$1027,$B$598:B695,0)),0)),\"\")","v":""}]
[null,{"$f":"IFERROR(INDEX(Inrichtingskosten!$C$9:$C$1027,MATCH(FALSE,ISNUMBER(MATCH(Inrichtingskosten!$C$9:$C$1027,$B$598:B696,0)),0)),\"\")","v":""}]
[null,{"$f":"IFERROR(INDEX(Inrichtingskosten!$C$9:$C$1027,MATCH(FALSE,ISNUMBER(MATCH(Inrichtingskosten!$C$9:$C$1027,$B$598:B697,0)),0)),\"\")","v":""}]
[null,{"$f":"IFERROR(INDEX(Inrichtingskosten!$C$9:$C$1027,MATCH(FALSE,ISNUMBER(MATCH(Inrichtingskosten!$C$9:$C$1027,$B$598:B698,0)),0)),\"\")","v":""}]
[null,{"$f":"IFERROR(INDEX(Inrichtingskosten!$C$9:$C$1027,MATCH(FALSE,ISNUMBER(MATCH(Inrichtingskosten!$C$9:$C$1027,$B$598:B699,0)),0)),\"\")","v":""}]
[null,{"$f":"IFERROR(INDEX(Inrichtingskosten!$C$9:$C$1027,MATCH(FALSE,ISNUMBER(MATCH(Inrichtingskosten!$C$9:$C$1027,$B$598:B700,0)),0)),\"\")","v":""}]
[null,{"$f":"IFERROR(INDEX(Inrichtingskosten!$C$9:$C$1027,MATCH(FALSE,ISNUMBER(MATCH(Inrichtingskosten!$C$9:$C$1027,$B$598:B701,0)),0)),\"\")","v":""}]
[null,{"$f":"IFERROR(INDEX(Inrichtingskosten!$C$9:$C$1027,MATCH(FALSE,ISNUMBER(MATCH(Inrichtingskosten!$C$9:$C$1027,$B$598:B702,0)),0)),\"\")","v":""}]
[null,{"$f":"IFERROR(INDEX(Inrichtingskosten!$C$9:$C$1027,MATCH(FALSE,ISNUMBER(MATCH(Inrichtingskosten!$C$9:$C$1027,$B$598:B703,0)),0)),\"\")","v":""}]
[null,{"$f":"IFERROR(INDEX(Inrichtingskosten!$C$9:$C$1027,MATCH(FALSE,ISNUMBER(MATCH(Inrichtingskosten!$C$9:$C$1027,$B$598:B704,0)),0)),\"\")","v":""}]
[null,{"$f":"IFERROR(INDEX(Inrichtingskosten!$C$9:$C$1027,MATCH(FALSE,ISNUMBER(MATCH(Inrichtingskosten!$C$9:$C$1027,$B$598:B705,0)),0)),\"\")","v":""}]
[null,{"$f":"IFERROR(INDEX(Inrichtingskosten!$C$9:$C$1027,MATCH(FALSE,ISNUMBER(MATCH(Inrichtingskosten!$C$9:$C$1027,$B$598:B706,0)),0)),\"\")","v":""}]

{"sheet":"Onderhoudskosten","index":8,"n_rows":325,"n_cols":17,"rows_kept":325,"cut":false,"hidden":false,"merged":[]}
["Database: Onderhoudskosten",null,null,null,null,null,null,null,null,null,"Invoer indexfactor"]
[null,null,null,null,null,null,null,null,null,null,2015,1]
["Versie: 15-12-2016",null,null,null,null,null,null,null,null,null,2016,1.01]
["Hogeschool van Amsterdam",null,null,null,null,null,null,null,null,null,2017,1.0201]
["Indexfactor",{"$f":"Introductie!C7","v":2015},{"$f":"VLOOKUP(B5,K2:L5,2)","v":1},null,null,null,null,null,null,null,2018,1.0303009999999999,null,null,null,"Eigenwaarde"]
[null,null,null,null,null,null,null,null,null,null,"Prijs per eenheid","Indexprijs",null,null,"Eigenwaarde","Eigenwaarde","Eigenwaarde"]
["Algemene categorie","Object","Kenmerk","Soort","Type","Maatregel","Eenheid","Marktprijs","Freq.","Perc. (%)",2015,{"$f":"#REF!","v":{"$error":"#REF!"}},"Bron","Opmerkingen","Prijs","Uitgangspunt","Bron"]
["Groenvoorziening","Boom in beplanting",null,"A,ME","INSP","Inspecties","st",2.44,1,33,{"$f":"H8*I8*(J8/100)","v":0.80520000000000003},{"$f":"IF(Invoer!$D$8=\"Aan\",IF($O8>0,$O8,($K8*Indexfactor_2)),($K8*Indexfactor_2))","v":0.80520000000000003},"Ervaringscijfer gemeente Almere 2015"]
["Groenvoorziening","Boom in beplanting",null,"A,ME","DVO","Controle staat bomenpalen en banden","st",0.105,1,20,2.1000000000000001E-2,{"$f":"IF(Invoer!$D$8=\"Aan\",IF($O9>0,$O9,($K9*Indexfactor_2)),($K9*Indexfactor_2))","v":2.1000000000000001E-2},"Ervaringscijfer gemeente Almere 2015"]
["Groenvoorziening","Boom in beplanting",null,"A,ME","DVO","Plagen bestrijding","st",7.33,1,2.5,0.18325000000000002,{"$f":"IF(Invoer!$D$8=\"Aan\",IF($O10>0,$O10,($K10*Indexfactor_2)),($K10*Indexfactor_2))","v":0.18325000000000002},"Ervaringscijfer gemeente Almere 2015"]
["Groenvoorziening","Boom in beplanting",null,"A,ME","DVO","Ziekte bestrijding","st",4.7300000000000004,1,5,0.23650000000000004,{"$f":"IF(Invoer!$D$8=\"Aan\",IF($O11>0,$O11,($K11*Indexfactor_2)),($K11*Indexfactor_2))","v":0.23650000000000004},"Ervaringscijfer gemeente Almere 2015"]
["Groenvoorziening","Boom in beplanting",null,"A,ME","DVO","Snoeien","st",1.1499999999999999,1,50,0.57499999999999996,{"$f":"IF(Invoer!$D$8=\"Aan\",IF($O12>0,$O12,($K12*Indexfactor_2)),($K12*Indexfactor_2))","v":0.57499999999999996},"Ervaringscijfer gemeente Almere 2015"]
["Groenvoorziening","Boom in beplanting",null,"A,ME","PO","Verwijderen boompalen","st",3.9,1,2,7.8E-2,{"$f":"IF(Invoer!$D$8=\"Aan\",IF($O13>0,$O13,($K13*Indexfactor_2)),($K13*Indexfactor_2))","v":7.8E-2},"Ervaringscijfer gemeente Almere 2015"]
["Groenvoorziening","Boom in beplanting",null,"A,ME","PO","Specifiek snoeien","st",24.58,1,0.5,0.1229,{"$f":"IF(Invoer!$D$8=\"Aan\",IF($O14>0,$O14,($K14*Indexfactor_2)),($K14*Indexfactor_2))","v":0.1229},"Ervaringscijfer gemeente Almere 2015"]
["Groenvoorziening","Boom in beplanting",null,"A,ME","PO","Vormsnoeien","st",21,1,0.5,0.105,{"$f":"IF(Invoer!$D$8=\"Aan\",IF($O15>0,$O15,($K15*Indexfactor_2)),($K15*Indexfactor_2))","v":0.105},"Ervaringscijfer gemeente Almere 2015"]
["Groenvoorziening","Boom in beplanting",null,"A,ME","PO","Begeleiding- en onderhoudsnoeien","st",21,1,15,3.15,{"$f":"IF(Invoer!$D$8=\"Aan\",IF($O16>0,$O16,($K16*Indexfactor_2)),($K16*Indexfactor_2))","v":3.15},"Ervaringscijfer gemeente Almere 2015"]
["Groenvoorziening","Boom in beplanting",null,"A,ME","PO","Bomen dunnen","st",82.8,1,1.25,1.0349999999999999,{"$f":"IF(Invoer!$D$8=\"Aan\",IF($O17>0,$O17,($K17*Indexfactor_2)),($K17*Indexfactor_2))","v":1.0349999999999999},"Ervaringscijfer gemeente Almere 2015"]
["Groenvoorziening","Boom in gazon",null,"A,ME","INSP","Inspecties","st",2.44,1,33,0.80520000000000003,{"$f":"IF(Invoer!$D$8=\"Aan\",IF($O18>0,$O18,($K18*Indexfactor_2)),($K18*Indexfactor_2))","v":0.80520000000000003},"Ervaringscijfer gemeente Almere 2015"]
["Groenvoorziening","Boom in gazon",null,"A,ME","DVO","Controle staat bomenpalen en banden","st",0.105,1,20,2.1000000000000001E-2,{"$f":"IF(Invoer!$D$8=\"Aan\",IF($O19>0,$O19,($K19*Indexfactor_2)),($K19*Indexfactor_2))","v":2.1000000000000001E-2},"Ervaringscijfer gemeente Almere 2015"]
["Groenvoorziening","Boom in gazon",null,"A,ME","DVO","Plagen bestrijding","st",7.33,1,2.5,0.18325000000000002,{"$f":"IF(Invoer!$D$8=\"Aan\",IF($O20>0,$O20,($K20*Indexfactor_2)),($K20*Indexfactor_2))","v":0.18325000000000002},"Ervaringscijfer gemeente Almere 2015"]
["Groenvoorziening","Boom in gazon",null,"A,ME","DVO","Ziekte bestrijding","st",4.7300000000000004,1,5,0.23650000000000004,{"$f":"IF(Invoer!$D$8=\"Aan\",IF($O21>0,$O21,($K21*Indexfactor_2)),($K21*Indexfactor_2))","v":0.23650000000000004},"Ervaringscijfer gemeente Almere 2015"]
["Groenvoorziening","Boom in gazon",null,"A,ME","DVO","Snoeien","st",1.1499999999999999,1,50,0.57499999999999996,{"$f":"IF(Invoer!$D$8=\"Aan\",IF($O22>0,$O22,($K22*Indexfactor_2)),($K22*Indexfactor_2))","v":0.57499999999999996},"Ervaringscijfer gemeente Almere 2015"]
["Groenvoorziening","Boom in gazon",null,"A,ME","PO","Verwijderen boompalen","st",3.9,1,2,7.8E-2,{"$f":"IF(Invoer!$D$8=\"Aan\",IF($O23>0,$O23,($K23*Indexfactor_2)),($K23*Indexfactor_2))","v":7.8E-2},"Ervaringscijfer gemeente Almere 2015"]
["Groenvoorziening","Boom in gazon",null,"A,ME","PO","Specifiek snoeien","st",24.58,1,0.5,0.1229,{"$f":"IF(Invoer!$D$8=\"Aan\",IF($O24>0,$O24,($K24*Indexfactor_2)),($K24*Indexfactor_2))","v":0.1229},"Ervaringscijfer gemeente Almere 2015"]
["Groenvoorziening","Boom in gazon",null,"A,ME","PO","Vormsnoeien","st",21,1,0.5,0.105,{"$f":"IF(Invoer!$D$8=\"Aan\",IF($O25>0,$O25,($K25*Indexfactor_2)),($K25*Indexfactor_2))","v":0.105},"Ervaringscijfer gemeente Almere 2015"]
["Groenvoorziening","Boom in gazon",null,"A,ME","PO","Begeleiding- en onderhoudsnoeien","st",21,1,15,3.15,{"$f":"IF(Invoer!$D$8=\"Aan\",IF($O26>0,$O26,($K26*Indexfactor_2)),($K26*Indexfactor_2))","v":3.15},"Ervaringscijfer gemeente Almere 2015"]
["Groenvoorziening","Boom in gazon",null,"A,ME","PO","Bomen dunnen","st",82.8,1,1.25,1.0349999999999999,{"$f":"IF(Invoer!$D$8=\"Aan\",IF($O27>0,$O27,($K27*Indexfactor_2)),($K27*Indexfactor_2))","v":1.0349999999999999},"Ervaringscijfer gemeente Almere 2015"]
["Groenvoorziening","Boom in verharding",null,"A,ME","INSP","Inspecties","st",2.44,1,50,1.22,{"$f":"IF(Invoer!$D$8=\"Aan\",IF($O28>0,$O28,($K28*Indexfactor_2)),($K28*Indexfactor_2))","v":1.22},"Ervaringscijfer gemeente Almere 2015"]
["Groenvoorziening","Boom in verharding",null,"A,ME","DVO","Controle staat bomenpalen en banden","st",0.105,1,20,2.1000000000000001E-2,{"$f":"IF(Invoer!$D$8=\"Aan\",IF($O29>0,$O29,($K29*Indexfactor_2)),($K29*Indexfactor_2))","v":2.1000000000000001E-2},"Ervaringscijfer gemeente Almere 2015"]
["Groenvoorziening","Boom in verharding",null,"A,ME","DVO","Plagen bestrijding","st",7.33,1,2.5,0.18325000000000002,{"$f":"IF(Invoer!$D$8=\"Aan\",IF($O30>0,$O30,($K30*Indexfactor_2)),($K30*Indexfactor_2))","v":0.18325000000000002},"Ervaringscijfer gemeente Almere 2015"]
["Groenvoorziening","Boom in verharding",null,"A,ME","DVO","Ziekte bestrijding","st",4.7300000000000004,1,5,0.23650000000000004,{"$f":"IF(Invoer!$D$8=\"Aan\",IF($O31>0,$O31,($K31*Indexfactor_2)),($K31*Indexfactor_2))","v":0.23650000000000004},"Ervaringscijfer gemeente Almere 2015"]
["Groenvoorziening","Boom in verharding",null,"A,ME","DVO","Snoeien","st",1.1499999999999999,1,50,0.57499999999999996,{"$f":"IF(Invoer!$D$8=\"Aan\",IF($O32>0,$O32,($K32*Indexfactor_2)),($K32*Indexfactor_2))","v":0.57499999999999996},"Ervaringscijfer gemeente Almere 2015"]
["Groenvoorziening","Boom in verharding",null,"A,ME","PO","Verwijderen boompalen","st",3.9,1,2,7.8E-2,{"$f":"IF(Invoer!$D$8=\"Aan\",IF($O33>0,$O33,($K33*Indexfactor_2)),($K33*Indexfactor_2))","v":7.8E-2},"Ervaringscijfer gemeente Almere 2015"]
["Groenvoorziening","Boom in verharding",null,"A,ME","PO","Specifiek snoeien","st",24.58,1,0.5,0.1229,{"$f":"IF(Invoer!$D$8=\"Aan\",IF($O34>0,$O34,($K34*Indexfactor_2)),($K34*Indexfactor_2))","v":0.1229},"Ervaringscijfer gemeente Almere 2015"]
["Groenvoorziening","Boom in verharding",null,"A,ME","PO","Vormsnoeien","st",21,1,0.5,0.105,{"$f":"IF(Invoer!$D$8=\"Aan\",IF($O35>0,$O35,($K35*Indexfactor_2)),($K35*Indexfactor_2))","v":0.105},"Ervaringscijfer gemeente Almere 2015"]
["Groenvoorziening","Boom in verharding",null,"A,ME","PO","Begeleiding- en onderhoudsnoeien","st",21,1,15,3.15,{"$f":"IF(Invoer!$D$8=\"Aan\",IF($O36>0,$O36,($K36*Indexfactor_2)),($K36*Indexfactor_2))","v":3.15},"Ervaringscijfer gemeente Almere 2015"]
["Groenvoorziening","Boom in verharding",null,"A,ME","PO","Bomen dunnen","st",82.8,1,1.25,1.0349999999999999,{"$f":"IF(Invoer!$D$8=\"Aan\",IF($O37>0,$O37,($K37*Indexfactor_2)),($K37*Indexfactor_2))","v":1.0349999999999999},"Ervaringscijfer gemeente Almere 2015"]
["Groenvoorziening","Bosplantsoen",null,"A,ME","DVO","Onkruidbeheersing beplantingsvak","m²",0.32569999999999999,2,1,6.5139999999999998E-3,{"$f":"IF(Invoer!$D$8=\"Aan\",IF($O38>0,$O38,($K38*Indexfactor_2)),($K38*Indexfactor_2))","v":6.5139999999999998E-3},"Ervaringscijfer gemeente Almere 2015"]
["Groenvoorziening","Bosplantsoen",null,"A,ME","DVO","Onkruidbeheersing rand beplantingsvak","m²",0.24149999999999999,2,20,9.6600000000000005E-2,{"$f":"IF(Invoer!$D$8=\"Aan\",IF($O39>0,$O39,($K39*Indexfactor_2)),($K39*Indexfactor_2))","v":9.6600000000000005E-2},"Ervaringscijfer gemeente Almere 2015"]
["Groenvoorziening","Bosplantsoen",null,"A,ME","PO","Bosplantsoen overgroei verwijderen","m²",1.5807,1,33,{"$f":"H40*I40*(J40/100)","v":0.52163100000000007},{"$f":"IF(Invoer!$D$8=\"Aan\",IF($O40>0,$O40,($K40*Indexfactor_2)),($K40*Indexfactor_2))","v":0.52163100000000007},"Ervaringscijfer gemeente Almere 2015"]
["Groenvoorziening","Bosplantsoen",null,"A,ME","PO","Dunnen bosplantsoen","m²",0.61199999999999999,1,12.5,7.6499999999999999E-2,{"$f":"IF(Invoer!$D$8=\"Aan\",IF($O41>0,$O41,($K41*Indexfactor_2)),($K41*Indexfactor_2))","v":7.6499999999999999E-2},"Ervaringscijfer gemeente Almere 2015"]
["Groenvoorziening","Bosplantsoen",null,"A,MA,ME","PO","Bijplanten bosplantsoen","m²",0.57499999999999996,1,2.5,1.4374999999999999E-2,{"$f":"IF(Invoer!$D$8=\"Aan\",IF($O42>0,$O42,($K42*Indexfactor_2)),($K42*Indexfactor_2))","v":1.4374999999999999E-2},"Ervaringscijfer gemeente Almere 2015"]
["Riolering","Buis beton 1000","Gewapend","A,ME","INSP","Inspectie vanuit put","m",{"$f":"18/40/2","v":0.22500000000000001},{"$f":"1/30","v":3.3333333333333333E-2},100,7.4999999999999997E-3,{"$f":"IF(Invoer!$D$8=\"Aan\",IF($O43>0,$O43,($K43*Indexfactor_2)),($K43*Indexfactor_2))","v":7.4999999999999997E-3},"Conform D1100 03-2015","Prijs terggrekend naar m1. Per 40 m rioolput. "]
["Riolering","Buis beton 1000","Gewapend","A,ME","INSP","Inspectie met tv unit","m",{"$f":"1400/400","v":3.5},{"$f":"1/14","v":7.1428571428571425E-2},100,0.25,{"$f":"IF(Invoer!$D$8=\"Aan\",IF($O44>0,$O44,($K44*Indexfactor_2)),($K44*Indexfactor_2))","v":0.25},"Conform D1100 03-2015","Productiesnelheid 400 meter per dag. Frequentie gelijk met reinigen"]
["Riolering","Buis beton 1000","Gewapend","A,ME","DVO","Reinigen riool","m",5,{"$f":"1/14","v":7.1428571428571425E-2},100,0.3571428571428571,{"$f":"IF(Invoer!$D$8=\"Aan\",IF($O45>0,$O45,($K45*Indexfactor_2)),($K45*Indexfactor_2))","v":0.3571428571428571},"Conform D1100 03-2015"]
["Riolering","Buis beton 1250","Gewapend","A,ME","INSP","Inspectie vanuit put","m",{"$f":"18/40/2","v":0.22500000000000001},{"$f":"1/30","v":3.3333333333333333E-2},100,7.4999999999999997E-3,{"$f":"IF(Invoer!$D$8=\"Aan\",IF($O46>0,$O46,($K46*Indexfactor_2)),($K46*Indexfactor_2))","v":7.4999999999999997E-3},"Conform D1100 03-2015","Prijs terggrekend naar m1. Per 40 m rioolput. "]
["Riolering","Buis beton 1250","Gewapend","A,ME","INSP","Inspectie met tv unit","m",{"$f":"1400/400","v":3.5},{"$f":"1/14","v":7.1428571428571425E-2},100,0.25,{"$f":"IF(Invoer!$D$8=\"Aan\",IF($O47>0,$O47,($K47*Indexfactor_2)),($K47*Indexfactor_2))","v":0.25},"Conform D1100 03-2015","Productiesnelheid 400 meter per dag. Frequentie gelijk met reinigen"]
["Riolering","Buis beton 1250","Gewapend","A,ME","DVO","Reinigen riool","m",7.7,{"$f":"1/14","v":7.1428571428571425E-2},100,0.54999999999999993,{"$f":"IF(Invoer!$D$8=\"Aan\",IF($O48>0,$O48,($K48*Indexfactor_2)),($K48*Indexfactor_2))","v":0.54999999999999993},"Conform D1100 03-2015"]
["Riolering","Buis beton 1500","Gewapend","A,ME","INSP","Inspectie vanuit put","m",{"$f":"18/40/2","v":0.22500000000000001},{"$f":"1/30","v":3.3333333333333333E-2},100,7.4999999999999997E-3,{"$f":"IF(Invoer!$D$8=\"Aan\",IF($O49>0,$O49,($K49*Indexfactor_2)),($K49*Indexfactor_2))","v":7.4999999999999997E-3},"Conform D1100 03-2015","Prijs terggrekend naar m1. Per 40 m rioolput. "]
["Riolering","Buis beton 1500","Gewapend","A,ME","INSP","Inspectie met tv unit","m",{"$f":"1400/400","v":3.5},{"$f":"1/14","v":7.1428571428571425E-2},100,0.25,{"$f":"IF(Invoer!$D$8=\"Aan\",IF($O50>0,$O50,($K50*Indexfactor_2)),($K50*Indexfactor_2))","v":0.25},"Conform D1100 03-2015","Productiesnelheid 400 meter per dag. Frequentie gelijk met reinigen"]
["Riolering","Buis beton 1500","Gewapend","A,ME","DVO","Reinigen riool","m",11.8,{"$f":"1/14","v":7.1428571428571425E-2},100,0.84285714285714286,{"$f":"IF(Invoer!$D$8=\"Aan\",IF($O51>0,$O51,($K51*Indexfactor_2)),($K51*Indexfactor_2))","v":0.84285714285714286},"Conform D1100 03-2015"]
["Riolering","Buis beton 235","Ongewapend","A,ME","INSP","Inspectie vanuit put","m",{"$f":"18/40/2","v":0.22500000000000001},{"$f":"1/30","v":3.3333333333333333E-2},100,7.4999999999999997E-3,{"$f":"IF(Invoer!$D$8=\"Aan\",IF($O52>0,$O52,($K52*Indexfactor_2)),($K52*Indexfactor_2))","v":7.4999999999999997E-3},"Conform D1100 03-2015","Prijs terggrekend naar m1. Per 40 m rioolput. "]
["Riolering","Buis beton 235","Ongewapend","A,ME","INSP","Inspectie met tv unit","m",{"$f":"1400/900","v":1.5555555555555556},{"$f":"1/7","v":0.14285714285714285},100,0.22222222222222221,{"$f":"IF(Invoer!$D$8=\"Aan\",IF($O53>0,$O53,($K53*Indexfactor_2)),($K53*Indexfactor_2))","v":0.22222222222222221},"Conform D1100 03-2015","Productiesnelheid 900 meter per dag. Frequentie gelijk met reinigen"]
["Riolering","Buis beton 235","Ongewapend","A,ME","DVO","Reinigen riool","m",1.7,{"$f":"1/7","v":0.14285714285714285},100,0.24285714285714283,{"$f":"IF(Invoer!$D$8=\"Aan\",IF($O54>0,$O54,($K54*Indexfactor_2)),($K54*Indexfactor_2))","v":0.24285714285714283},"Conform D1100 03-2015"]
["Riolering","Buis beton 250","Ongewapend","A,ME","INSP","Inspectie vanuit put","m",{"$f":"18/40/2","v":0.22500000000000001},{"$f":"1/30","v":3.3333333333333333E-2},100,7.4999999999999997E-3,{"$f":"IF(Invoer!$D$8=\"Aan\",IF($O55>0,$O55,($K55*Indexfactor_2)),($K55*Indexfactor_2))","v":7.4999999999999997E-3},"Conform D1100 03-2015","Prijs terggrekend naar m1. Per 40 m rioolput. "]
["Riolering","Buis beton 250","Ongewapend","A,ME","INSP","Inspectie met tv unit","m",{"$f":"1400/900","v":1.5555555555555556},{"$f":"1/7","v":0.14285714285714285},100,0.22222222222222221,{"$f":"IF(Invoer!$D$8=\"Aan\",IF($O56>0,$O56,($K56*Indexfactor_2)),($K56*Indexfactor_2))","v":0.22222222222222221},"Conform D1100 03-2015","Productiesnelheid 900 meter per dag. Frequentie gelijk met reinigen"]
["Riolering","Buis beton 250","Ongewapend","A,ME","DVO","Reinigen riool","m",1.7,{"$f":"1/7","v":0.14285714285714285},100,0.24285714285714283,{"$f":"IF(Invoer!$D$8=\"Aan\",IF($O57>0,$O57,($K57*Indexfactor_2)),($K57*Indexfactor_2))","v":0.24285714285714283},"Conform D1100 03-2015"]
["Riolering","Buis beton 300","Ongewapend","A,ME","INSP","Inspectie vanuit put","m",{"$f":"18/40/2","v":0.22500000000000001},{"$f":"1/30","v":3.3333333333333333E-2},100,7.4999999999999997E-3,{"$f":"IF(Invoer!$D$8=\"Aan\",IF($O58>0,$O58,($K58*Indexfactor_2)),($K58*Indexfactor_2))","v":7.4999999999999997E-3},"Conform D1100 03-2015","Prijs terggrekend naar m1. Per 40 m rioolput. "]
["Riolering","Buis beton 300","Ongewapend","A,ME","INSP","Inspectie met tv unit","m",{"$f":"1400/750","v":1.8666666666666667},{"$f":"1/7","v":0.14285714285714285},100,0.26666666666666666,{"$f":"IF(Invoer!$D$8=\"Aan\",IF($O59>0,$O59,($K59*Indexfactor_2)),($K59*Indexfactor_2))","v":0.26666666666666666},"Conform D1100 03-2015","Productiesnelheid 750 meter per dag. Frequentie gelijk met reinigen"]
["Riolering","Buis beton 300","Ongewapend","A,ME","DVO","Reinigen riool","m",1.7,{"$f":"1/7","v":0.14285714285714285},100,0.24285714285714283,{"$f":"IF(Invoer!$D$8=\"Aan\",IF($O60>0,$O60,($K60*Indexfactor_2)),($K60*Indexfactor_2))","v":0.24285714285714283},"Conform D1100 03-2015"]
["Riolering","Buis beton 400","Ongewapend","A,ME","INSP","Inspectie vanuit put","m",{"$f":"18/40/2","v":0.22500000000000001},{"$f":"1/30","v":3.3333333333333333E-2},100,7.4999999999999997E-3,{"$f":"IF(Invoer!$D$8=\"Aan\",IF($O61>0,$O61,($K61*Indexfactor_2)),($K61*Indexfactor_2))","v":7.4999999999999997E-3},"Conform D1100 03-2015","Prijs terggrekend naar m1. Per 40 m rioolput. "]
["Riolering","Buis beton 400","Ongewapend","A,ME","INSP","Inspectie met tv unit","m",{"$f":"1400/750","v":1.8666666666666667},{"$f":"1/14","v":7.1428571428571425E-2},100,0.13333333333333333,{"$f":"IF(Invoer!$D$8=\"Aan\",IF($O62>0,$O62,($K62*Indexfactor_2)),($K62*Indexfactor_2))","v":0.13333333333333333},"Conform D1100 03-2015","Productiesnelheid 750 meter per dag. Frequentie gelijk met reinigen"]
["Riolering","Buis beton 400","Ongewapend","A,ME","DVO","Reinigen riool","m",1.9,{"$f":"1/14","v":7.1428571428571425E-2},100,0.1357142857142857,{"$f":"IF(Invoer!$D$8=\"Aan\",IF($O63>0,$O63,($K63*Indexfactor_2)),($K63*Indexfactor_2))","v":0.1357142857142857},"Conform D1100 03-2015"]
["Riolering","Buis beton 500","Ongewapend","A,ME","INSP","Inspectie vanuit put","m",{"$f":"18/40/2","v":0.22500000000000001},{"$f":"1/30","v":3.3333333333333333E-2},100,7.4999999999999997E-3,{"$f":"IF(Invoer!$D$8=\"Aan\",IF($O64>0,$O64,($K64*Indexfactor_2)),($K64*Indexfactor_2))","v":7.4999999999999997E-3},"Conform D1100 03-2015","Prijs terggrekend naar m1. Per 40 m rioolput. "]
["Riolering","Buis beton 500","Ongewapend","A,ME","INSP","Inspectie met tv unit","m",{"$f":"1400/750","v":1.8666666666666667},{"$f":"1/14","v":7.1428571428571425E-2},100,0.13333333333333333,{"$f":"IF(Invoer!$D$8=\"Aan\",IF($O65>0,$O65,($K65*Indexfactor_2)),($K65*Indexfactor_2))","v":0.13333333333333333},"Conform D1100 03-2015","Productiesnelheid 750 meter per dag. Frequentie gelijk met reinigen"]
["Riolering","Buis beton 500","Ongewapend","A,ME","DVO","Reinigen riool","m",2.2000000000000002,{"$f":"1/14","v":7.1428571428571425E-2},100,0.15714285714285714,{"$f":"IF(Invoer!$D$8=\"Aan\",IF($O66>0,$O66,($K66*Indexfactor_2)),($K66*Indexfactor_2))","v":0.15714285714285714},"Conform D1100 03-2015"]
["Riolering","Buis beton 600","Ongewapend","A,ME","INSP","Inspectie vanuit put","m",{"$f":"18/40/2","v":0.22500000000000001},{"$f":"1/30","v":3.3333333333333333E-2},100,7.4999999999999997E-3,{"$f":"IF(Invoer!$D$8=\"Aan\",IF($O67>0,$O67,($K67*Indexfactor_2)),($K67*Indexfactor_2))","v":7.4999999999999997E-3},"Conform D1100 03-2015","Prijs terggrekend naar m1. Per 40 m rioolput. "]
["Riolering","Buis beton 600","Ongewapend","A,ME","INSP","Inspectie met tv unit","m",{"$f":"1400/500","v":2.8},{"$f":"1/14","v":7.1428571428571425E-2},100,0.19999999999999998,{"$f":"IF(Invoer!$D$8=\"Aan\",IF($O68>0,$O68,($K68*Indexfactor_2)),($K68*Indexfactor_2))","v":0.19999999999999998},"Conform D1100 03-2015","Productiesnelheid 500 meter per dag. Frequentie gelijk met reinigen"]
["Riolering","Buis beton 600","Ongewapend","A,ME","DVO","Reinigen riool","m",2.6,{"$f":"1/14","v":7.1428571428571425E-2},100,0.18571428571428572,{"$f":"IF(Invoer!$D$8=\"Aan\",IF($O69>0,$O69,($K69*Indexfactor_2)),($K69*Indexfactor_2))","v":0.18571428571428572},"Conform D1100 03-2015"]
["Riolering","Buis beton 700","Gewapend","A,ME","INSP","Inspectie vanuit put","m",{"$f":"18/40/2","v":0.22500000000000001},{"$f":"1/30","v":3.3333333333333333E-2},100,7.4999999999999997E-3,{"$f":"IF(Invoer!$D$8=\"Aan\",IF($O70>0,$O70,($K70*Indexfactor_2)),($K70*Indexfactor_2))","v":7.4999999999999997E-3},"Conform D1100 03-2015","Prijs terggrekend naar m1. Per 40 m rioolput. "]
["Riolering","Buis beton 700","Gewapend","A,ME","INSP","Inspectie met tv unit","m",{"$f":"1400/500","v":2.8},{"$f":"1/14","v":7.1428571428571425E-2},100,0.19999999999999998,{"$f":"IF(Invoer!$D$8=\"Aan\",IF($O71>0,$O71,($K71*Indexfactor_2)),($K71*Indexfactor_2))","v":0.19999999999999998},"Conform D1100 03-2015","Productiesnelheid 500 meter per dag. Frequentie gelijk met reinigen"]
["Riolering","Buis beton 700","Gewapend","A,ME","DVO","Reinigen riool","m",3,{"$f":"1/14","v":7.1428571428571425E-2},100,{"$f":"H72*I72*(J72/100)","v":0.21428571428571427},{"$f":"IF(Invoer!$D$8=\"Aan\",IF($O72>0,$O72,($K72*Indexfactor_2)),($K72*Indexfactor_2))","v":0.21428571428571427},"Conform D1100 03-2015"]
["Riolering","Buis beton 800","Gewapend","A,ME","INSP","Inspectie vanuit put","m",{"$f":"18/40/2","v":0.22500000000000001},{"$f":"1/30","v":3.3333333333333333E-2},100,7.4999999999999997E-3,{"$f":"IF(Invoer!$D$8=\"Aan\",IF($O73>0,$O73,($K73*Indexfactor_2)),($K73*Indexfactor_2))","v":7.4999999999999997E-3},"Conform D1100 03-2015","Prijs terggrekend naar m1. Per 40 m rioolput. "]
["Riolering","Buis beton 800","Gewapend","A,ME","INSP","Inspectie met tv unit","m",{"$f":"1400/500","v":2.8},{"$f":"1/14","v":7.1428571428571425E-2},100,0.19999999999999998,{"$f":"IF(Invoer!$D$8=\"Aan\",IF($O74>0,$O74,($K74*Indexfactor_2)),($K74*Indexfactor_2))","v":0.19999999999999998},"Conform D1100 03-2015","Productiesnelheid 500 meter per dag. Frequentie gelijk met reinigen"]
["Riolering","Buis beton 800","Gewapend","A,ME","DVO","Reinigen riool","m",3.6,{"$f":"1/14","v":7.1428571428571425E-2},100,0.25714285714285712,{"$f":"IF(Invoer!$D$8=\"Aan\",IF($O75>0,$O75,($K75*Indexfactor_2)),($K75*Indexfactor_2))","v":0.25714285714285712},"Conform D1100 03-2015"]
["Riolering","Buis beton 900","Gewapend","A,ME","INSP","Inspectie vanuit put","m",{"$f":"18/40/2","v":0.22500000000000001},{"$f":"1/30","v":3.3333333333333333E-2},100,7.4999999999999997E-3,{"$f":"IF(Invoer!$D$8=\"Aan\",IF($O76>0,$O76,($K76*Indexfactor_2)),($K76*Indexfactor_2))","v":7.4999999999999997E-3},"Conform D1100 03-2015","Prijs terggrekend naar m1. Per 40 m rioolput. "]
["Riolering","Buis beton 900","Gewapend","A,ME","INSP","Inspectie met tv unit","m",{"$f":"1400/500","v":2.8},{"$f":"1/14","v":7.1428571428571425E-2},100,0.19999999999999998,{"$f":"IF(Invoer!$D$8=\"Aan\",IF($O77>0,$O77,($K77*Indexfactor_2)),($K77*Indexfactor_2))","v":0.19999999999999998},"Conform D1100 03-2015","Productiesnelheid 500 meter per dag. Frequentie gelijk met reinigen"]
["Riolering","Buis beton 900","Gewapend","A,ME","DVO","Reinigen riool","m",4.3,{"$f":"1/14","v":7.1428571428571425E-2},100,0.30714285714285711,{"$f":"IF(Invoer!$D$8=\"Aan\",IF($O78>0,$O78,($K78*Indexfactor_2)),($K78*Indexfactor_2))","v":0.30714285714285711},"Conform D1100 03-2015"]
["Hemelwatersysteem","Centrale wadi",null,"A,ME","INSP","Inspecties","m²",9.5,6.7000000000000004E-2,100,0.63650000000000007,{"$f":"IF(Invoer!$D$8=\"Aan\",IF($O79>0,$O79,($K79*Indexfactor_2)),($K79*Indexfactor_2))","v":0.63650000000000007},"Conform D1100 03-2015","Onderzoek naar kwaliteit gebeurt in praktijk vrijwel nooit. Frequentie verlagen naar 1x/15 jaar."]
["Hemelwatersysteem","Centrale wadi",null,"A,ME","DVO","Maaien en vuil verwijderen, verticuleren, beluchten","m²",6.25E-2,24,100,1.5,{"$f":"IF(Invoer!$D$8=\"Aan\",IF($O80>0,$O80,($K80*Indexfactor_2)),($K80*Indexfactor_2))","v":1.5},"Conform D1100 03-2015","Gelijk aan onderhoud infiltratieveld. Dit is hoe de meeste gemeenten een wadi onderhouden."]
["Hemelwatersysteem","Centrale wadi",null,"A,MA,ME","CO","Bodem en toplaag verbetering","m²",0.22,1,100,0.22,{"$f":"IF(Invoer!$D$8=\"Aan\",IF($O81>0,$O81,($K81*Indexfactor_2)),($K81*Indexfactor_2))","v":0.22},"Conform D1100 03-2015","Blijkt in de praktijk vaak niet nodig. Bedrag aangehouden van infiltratieveld, maar dan met frequentie 1x/3 jaar"]
["Elementen verharding","Doorlatende verharding",null,"A,ME","INSP","Inspecties","m²",0.25,1,100,0.25,{"$f":"IF(Invoer!$D$8=\"Aan\",IF($O82>0,$O82,($K82*Indexfactor_2)),($K82*Indexfactor_2))","v":0.25},"Conform D1100 03-2015"]
["Elementen verharding","Doorlatende verharding",null,"A,ME","CO","Vegen","m²",0.45,0,100,0,{"$f":"IF(Invoer!$D$8=\"Aan\",IF($O83>0,$O83,($K83*Indexfactor_2)),($K83*Indexfactor_2))","v":0},"Conform D1100 03-2015","In praktijk worden alleen molgoten geveegd."]
["Elementen verharding","Doorlatende verharding",null,"A,ME","CO","Veeg/zuigen met ZOAB cleaner","m²",1.9,0.16666666666666666,100,0.31666666666666665,{"$f":"IF(Invoer!$D$8=\"Aan\",IF($O84>0,$O84,($K84*Indexfactor_2)),($K84*Indexfactor_2))","v":0.31666666666666665},"Conform D1100 03-2015","Uit de praktijk blijkt 1x in de 6 jaar "]
["Elementen verharding","Doorlatende verharding",null,"A,MA,ME","CO","Navullen voegmiddel","m²",0.45,0.16666666666666666,100,7.4999999999999997E-2,{"$f":"IF(Invoer!$D$8=\"Aan\",IF($O85>0,$O85,($K85*Indexfactor_2)),($K85*Indexfactor_2))","v":7.4999999999999997E-2},"Conform D1100 03-2015","Uit de praktijk blijkt 1x in de 6 jaar "]
["Elementen verharding","Doorlatende verharding",null,"A,ME","INSP","Metingen","m²",1.1000000000000001,0.2,100,0.22000000000000003,{"$f":"IF(Invoer!$D$8=\"Aan\",IF($O86>0,$O86,($K86*Indexfactor_2)),($K86*Indexfactor_2))","v":0.22000000000000003},"Conform D1100 03-2015","Uit de praktijk blijkt 1x in de 5 jaar "]
["Elementen verharding","Doorlatende verharding",null,"A,MA,ME","PO","Lokaal herstraten","m²",7.25,4.3999999999999997E-2,30,9.5699999999999993E-2,{"$f":"IF(Invoer!$D$8=\"Aan\",IF($O87>0,$O87,($K87*Indexfactor_2)),($K87*Indexfactor_2))","v":9.5699999999999993E-2},"Conform D1100 03-2015"]
["Riolering","Drainage",null,"A,ME","DVO","Reinigen drain","m",0.2,5,100,1,{"$f":"IF(Invoer!$D$8=\"Aan\",IF($O88>0,$O88,($K88*Indexfactor_2)),($K88*Indexfactor_2))","v":1},"Conform D1100 03-2015"]
["Elementen verharding","Fietspad van bestonstraatstenen",null,"A,ME","INSP","Inspecties","m²",0.03,1,100,0.03,{"$f":"IF(Invoer!$D$8=\"Aan\",IF($O89>0,$O89,($K89*Indexfactor_2)),($K89*Indexfactor_2))","v":0.03},"Ervaringscijfer gemeente Almere 2015"]
["Elementen verharding","Fietspad van bestonstraatstenen",null,"A,MA,ME","CO","Reparaties","m²",15.27,7.1999999999999995E-2,10,0.109944,{"$f":"IF(Invoer!$D$8=\"Aan\",IF($O90>0,$O90,($K90*Indexfactor_2)),($K90*Indexfactor_2))","v":0.109944},"Ervaringscijfer gemeente Almere 2015"]
["Elementen verharding","Fietspad van bestonstraatstenen",null,"A,MA,ME","PO","Lokaal herstraten","m²",7.25,4.3999999999999997E-2,30,9.5699999999999993E-2,{"$f":"IF(Invoer!$D$8=\"Aan\",IF($O91>0,$O91,($K91*Indexfactor_2)),($K91*Indexfactor_2))","v":9.5699999999999993E-2},"Ervaringscijfer gemeente Almere 2015"]
["Groenvoorziening","Gazon",null,"A,ME","DVO","Afzoeken grof vuil voor maaiseizoen","m²",6.1000000000000004E-3,1,100,6.1000000000000004E-3,{"$f":"IF(Invoer!$D$8=\"Aan\",IF($O92>0,$O92,($K92*Indexfactor_2)),($K92*Indexfactor_2))","v":6.1000000000000004E-3},"Ervaringscijfer gemeente Almere 2015"]
["Groenvoorziening","Gazon",null,"A,ME","DVO","Slepen molshopen","m²",0.02,1,40,8.0000000000000002E-3,{"$f":"IF(Invoer!$D$8=\"Aan\",IF($O93>0,$O93,($K93*Indexfactor_2)),($K93*Indexfactor_2))","v":8.0000000000000002E-3},"Ervaringscijfer gemeente Almere 2015"]
["Groenvoorziening","Gazon",null,"A,ME","DVO","Verwijderen grof zwerfaval","m²",7.7999999999999996E-3,5,7,2.7300000000000002E-3,{"$f":"IF(Invoer!$D$8=\"Aan\",IF($O94>0,$O94,($K94*Indexfactor_2)),($K94*Indexfactor_2))","v":2.7300000000000002E-3},"Ervaringscijfer gemeente Almere 2015"]
["Groenvoorziening","Gazon",null,"A,ME","DVO","Verwijderen stenen/glas/blik","m²",0.10730000000000001,12,1.2,1.5451200000000002E-2,{"$f":"IF(Invoer!$D$8=\"Aan\",IF($O95>0,$O95,($K95*Indexfactor_2)),($K95*Indexfactor_2))","v":1.5451200000000002E-2},"Ervaringscijfer gemeente Almere 2015"]
["Groenvoorziening","Gazon",null,"A,ME","DVO","Grashoogte maaien","m²",0.06,24,100,1.44,{"$f":"IF(Invoer!$D$8=\"Aan\",IF($O96>0,$O96,($K96*Indexfactor_2)),($K96*Indexfactor_2))","v":1.44},"Ervaringscijfer gemeente Almere 2015"]
["Groenvoorziening","Gazon",null,"A,ME","DVO","Bijmaaien obstakels en bomen","m²",0.46510000000000001,6,0.3,8.3718000000000004E-3,{"$f":"IF(Invoer!$D$8=\"Aan\",IF($O97>0,$O97,($K97*Indexfactor_2)),($K97*Indexfactor_2))","v":8.3718000000000004E-3},"Ervaringscijfer gemeente Almere 2015"]
["Groenvoorziening","Gazon",null,"A,ME","DVO","Steken kant plantsoen","m²",0.1852,2,6.1,2.2594400000000001E-2,{"$f":"IF(Invoer!$D$8=\"Aan\",IF($O98>0,$O98,($K98*Indexfactor_2)),($K98*Indexfactor_2))","v":2.2594400000000001E-2},"Ervaringscijfer gemeente Almere 2015"]
["Groenvoorziening","Gazon",null,"A,ME","DVO","Steken kant verharding","m²",0.1613,2,6.1,1.9678600000000001E-2,{"$f":"IF(Invoer!$D$8=\"Aan\",IF($O99>0,$O99,($K99*Indexfactor_2)),($K99*Indexfactor_2))","v":1.9678600000000001E-2},"Ervaringscijfer gemeente Almere 2015"]
["Groenvoorziening","Gazon",null,"A,ME","DVO","Bosplantsoen/heesters/rozen overgroei verwijderen","m²",9.2999999999999999E-2,2,6.1,1.1346E-2,{"$f":"IF(Invoer!$D$8=\"Aan\",IF($O100>0,$O100,($K100*Indexfactor_2)),($K100*Indexfactor_2))","v":1.1346E-2},"Ervaringscijfer gemeente Almere 2015"]
["Groenvoorziening","Gazon",null,"A,ME","DVO","Verwijderen natuurlijk afval (blad)","m²",1.09E-2,3,35,1.1444999999999999E-2,{"$f":"IF(Invoer!$D$8=\"Aan\",IF($O101>0,$O101,($K101*Indexfactor_2)),($K101*Indexfactor_2))","v":1.1444999999999999E-2},"Ervaringscijfer gemeente Almere 2015"]
["Groenvoorziening","Gazon",null,"A,ME","DVO","Bemesten bollen in gazon","m²",3.1699999999999999E-2,1,0.3,9.5099999999999994E-5,{"$f":"IF(Invoer!$D$8=\"Aan\",IF($O102>0,$O102,($K102*Indexfactor_2)),($K102*Indexfactor_2))","v":9.5099999999999994E-5},"Ervaringscijfer gemeente Almere 2015"]
["Groenvoorziening","Gazon",null,"A,ME","DVO","Maaien/afvoeren loof bollen","m²",0.1085,1,0.3,3.255E-4,{"$f":"IF(Invoer!$D$8=\"Aan\",IF($O103>0,$O103,($K103*Indexfactor_2)),($K103*Indexfactor_2))","v":3.255E-4},"Ervaringscijfer gemeente Almere 2015"]
["Groenvoorziening","Gazon",null,"A,MA,ME","CO","Inboet bollen","m²",8,1,0.08,{"$f":"H104*I104*(J104/100)","v":6.4000000000000003E-3},{"$f":"IF(Invoer!$D$8=\"Aan\",IF($O104>0,$O104,($K104*Indexfactor_2)),($K104*Indexfactor_2))","v":6.4000000000000003E-3},"Ervaringscijfer gemeente Almere 2015"]
["Groenvoorziening","Gazon",null,"A,MA,ME","CO","Kleinschalig gazonherstel","m²",1.8684000000000001,1,2,3.7368000000000005E-2,{"$f":"IF(Invoer!$D$8=\"Aan\",IF($O105>0,$O105,($K105*Indexfactor_2)),($K105*Indexfactor_2))","v":3.7368000000000005E-2},"Ervaringscijfer gemeente Almere 2015"]
["Hemelwatersysteem","Gesloten grindgoot","0,5 * 1 meter","A,ME","INSP","Inspecties","m",0,1,100,0,{"$f":"IF(Invoer!$D$8=\"Aan\",IF($O106>0,$O106,($K106*Indexfactor_2)),($K106*Indexfactor_2))","v":0},"Streetcare","Gebasseerd op granudrain"]
["Hemelwatersysteem","Gesloten grindgoot","0,5 * 1 meter","A,ME","INSP","Metingen","m",2.5,0.2,100,0.5,{"$f":"IF(Invoer!$D$8=\"Aan\",IF($O107>0,$O107,($K107*Indexfactor_2)),($K107*Indexfactor_2))","v":0.5},"Ervaringscijfers Tauw 2016 (Ing. R. Wentink)"]
["Hemelwatersysteem","Gesloten grindgoot","0,5 * 1 meter","A,ME","INSP","Inspecties bestrating","m",{"$f":"0.03/2","v":1.4999999999999999E-2},1,100,{"$f":"H108*I108*(J108/100)","v":1.4999999999999999E-2},{"$f":"IF(Invoer!$D$8=\"Aan\",IF($O108>0,$O108,($K108*Indexfactor_2)),($K108*Indexfactor_2))","v":1.4999999999999999E-2},"Ervaringscijfer gemeente Almere 2015"]
["Hemelwatersysteem","Gesloten grindgoot","0,5 * 1 meter","A,MA,ME","CO","Reparaties bestrating","m",{"$f":"15.27/2","v":7.6349999999999998},7.1999999999999995E-2,10,5.4972E-2,{"$f":"IF(Invoer!$D$8=\"Aan\",IF($O109>0,$O109,($K109*Indexfactor_2)),($K109*Indexfactor_2))","v":5.4972E-2},"Ervaringscijfer gemeente Almere 2015"]
["Hemelwatersysteem","Gesloten grindgoot","0,5 * 1 meter","A,MA,ME","PO","Lokaal herstraten","m",{"$f":"7.25/2","v":3.625},4.3999999999999997E-2,30,4.7849999999999997E-2,{"$f":"IF(Invoer!$D$8=\"Aan\",IF($O110>0,$O110,($K110*Indexfactor_2)),($K110*Indexfactor_2))","v":4.7849999999999997E-2},"Ervaringscijfer gemeente Almere 2015"]
["Hemelwatersysteem","Granudrain","42x175x16 per element","A,ME","INSP","Inspecties","m",{"$f":"0.25*0.4","v":0.1},1,100,0.1,{"$f":"IF(Invoer!$D$8=\"Aan\",IF($O111>0,$O111,($K111*Indexfactor_2)),($K111*Indexfactor_2))","v":0.1},"Streetcare","Prijs terggrekend naar m1"]
["Hemelwatersysteem","Granudrain","42x175x16 per element","A,ME","CO","Reinigen met speciale machine","m",0.5,1,100,0.5,{"$f":"IF(Invoer!$D$8=\"Aan\",IF($O112>0,$O112,($K112*Indexfactor_2)),($K112*Indexfactor_2))","v":0.5},"Streetcare"]
["Hemelwatersysteem","Granudrain","42x175x16 per element","A,ME","INSP","Metingen","m",2.5,0.2,100,0.5,{"$f":"IF(Invoer!$D$8=\"Aan\",IF($O113>0,$O113,($K113*Indexfactor_2)),($K113*Indexfactor_2))","v":0.5},"Ervaringscijfers Tauw 2016 (Ing. R. Wentink)","Prijs terggrekend naar m1"]
["Groenvoorziening","Haag",null,"A,ME","DVO","Snoeien","m²",0.63349999999999995,2.5,100,1.5837499999999998,{"$f":"IF(Invoer!$D$8=\"Aan\",IF($O114>0,$O114,($K114*Indexfactor_2)),($K114*Indexfactor_2))","v":1.5837499999999998},"Ervaringscijfer gemeente Almere 2015"]
["Groenvoorziening","Haag",null,"A,ME","DVO","Onkruidbeheersing","m²",0.72,8,50,2.88,{"$f":"IF(Invoer!$D$8=\"Aan\",IF($O115>0,$O115,($K115*Indexfactor_2)),($K115*Indexfactor_2))","v":2.88},"Ervaringscijfer gemeente Almere 2015"]
["Groenvoorziening","Haag",null,"A,ME","DVO","Zwerfvuil verwijderen","m²",0.10730000000000001,4,40,0.17168000000000003,{"$f":"IF(Invoer!$D$8=\"Aan\",IF($O116>0,$O116,($K116*Indexfactor_2)),($K116*Indexfactor_2))","v":0.17168000000000003},"Ervaringscijfer gemeente Almere 2015"]
["Groenvoorziening","Haag",null,"A,MA,ME","CO","Inboet","m²",7.26,1,2,0.1452,{"$f":"IF(Invoer!$D$8=\"Aan\",IF($O117>0,$O117,($K117*Indexfactor_2)),($K117*Indexfactor_2))","v":0.1452},"Ervaringscijfer gemeente Almere 2015"]
["Hemelwatersysteem","Infiltratie kolk",null,"A,ME","DVO","Kolkzuigen","st",2.25,2,100,4.5,{"$f":"IF(Invoer!$D$8=\"Aan\",IF($O118>0,$O118,($K118*Indexfactor_2)),($K118*Indexfactor_2))","v":4.5},"Conform D1100 03-2015","Gebasseerd op kolkreinigen"]
["Hemelwatersysteem","Infiltratiekrat gemeente makkelijk",null,"A,ME","INSP","Inspecties","st",{"$f":"1400/500","v":2.8},0.5,100,1.4,{"$f":"IF(Invoer!$D$8=\"Aan\",IF($O119>0,$O119,($K119*Indexfactor_2)),($K119*Indexfactor_2))","v":1.4},"Ervaringscijfers Tauw 2016 (Ing. R. Wentink)","Gebasseerd op rioolbuis 300"]
["Hemelwatersysteem","Infiltratiekrat gemeente makkelijk",null,"A,ME","INSP","Metingen","st",6,0.3,100,1.7999999999999998,{"$f":"IF(Invoer!$D$8=\"Aan\",IF($O120>0,$O120,($K120*Indexfactor_2)),($K120*Indexfactor_2))","v":1.7999999999999998},"Ervaringscijfers Tauw 2016 (Ing. R. Wentink)","Gebasseerd op metingen zakput"]
["Hemelwatersysteem","Infiltratiekrat particulier makkelijk",null,"A,ME","INSP","Inspecties","st",0,0,0,0,{"$f":"IF(Invoer!$D$8=\"Aan\",IF($O121>0,$O121,($K121*Indexfactor_2)),($K121*Indexfactor_2))","v":0},"Ervaringscijfers Tauw 2016 (Ing. R. Wentink)"]
["Hemelwatersysteem","Infiltratiekrat particulier makkelijk",null,"A,ME","INSP","Metingen","st",0,0,0,0,{"$f":"IF(Invoer!$D$8=\"Aan\",IF($O122>0,$O122,($K122*Indexfactor_2)),($K122*Indexfactor_2))","v":0},"Ervaringscijfers Tauw 2016 (Ing. R. Wentink)"]
["Hemelwatersysteem","Infiltratiekrat particulier moeilijk",null,"A,ME","INSP","Inspecties","st",0,0,0,0,{"$f":"IF(Invoer!$D$8=\"Aan\",IF($O123>0,$O123,($K123*Indexfactor_2)),($K123*Indexfactor_2))","v":0},"Ervaringscijfers Tauw 2016 (Ing. R. Wentink)"]
["Hemelwatersysteem","Infiltratiekrat particulier moeilijk",null,"A,ME","INSP","Metingen","st",0,0,0,0,{"$f":"IF(Invoer!$D$8=\"Aan\",IF($O124>0,$O124,($K124*Indexfactor_2)),($K124*Indexfactor_2))","v":0},"Ervaringscijfers Tauw 2016 (Ing. R. Wentink)"]
["Hemelwatersysteem","Infiltratiekrat perceelaansluiting makkelijk",null,"A,ME","DVO","Reinigen zandvang en bladvang","st",0,0,0,0,{"$f":"IF(Invoer!$D$8=\"Aan\",IF($O125>0,$O125,($K125*Indexfactor_2)),($K125*Indexfactor_2))","v":0},"Ervaringscijfers Tauw 2016 (Ing. R. Wentink)"]
["Hemelwatersysteem","Infiltratiekrat perceelaansluiting moeilijk",null,"A,ME","DVO","Reinigen zandvang en bladvang","st",0,0,0,0,{"$f":"IF(Invoer!$D$8=\"Aan\",IF($O126>0,$O126,($K126*Indexfactor_2)),($K126*Indexfactor_2))","v":0},"Ervaringscijfers Tauw 2016 (Ing. R. Wentink)"]
["Riolering","Kolk",null,"A,ME","DVO","Kolkzuigen","st",2.25,2,100,4.5,{"$f":"IF(Invoer!$D$8=\"Aan\",IF($O127>0,$O127,($K127*Indexfactor_2)),($K127*Indexfactor_2))","v":4.5},"Conform D1100 03-2015"]
["Hemelwatersysteem","Wadi (meerdere kleine)",null,"A,ME","INSP","Inspecties","m²",{"$f":"1.9*5","v":9.5},6.7000000000000004E-2,100,0.63650000000000007,{"$f":"IF(Invoer!$D$8=\"Aan\",IF($O128>0,$O128,($K128*Indexfactor_2)),($K128*Indexfactor_2))","v":0.63650000000000007},"Conform D1100 03-2015","Onderzoek naar kwaliteit gebeurt in praktijk vrijwel nooit. Frequentie verlagen naar 1x/15 jaar."]
["Hemelwatersysteem","Wadi (meerdere kleine)",null,"A,ME","DVO","Maaien en vuil verwijderen, verticuleren, beluchten","m²",0.25,24,100,6,{"$f":"IF(Invoer!$D$8=\"Aan\",IF($O129>0,$O129,($K129*Indexfactor_2)),($K129*Indexfactor_2))","v":6},"Conform D1100 03-2015"]
["Hemelwatersysteem","Wadi (meerdere kleine)",null,"A,MA,ME","CO","Bodem en toplaag verbetering","m²",0.22,1,100,0.22,{"$f":"IF(Invoer!$D$8=\"Aan\",IF($O130>0,$O130,($K130*Indexfactor_2)),($K130*Indexfactor_2))","v":0.22},"Conform D1100 03-2015","Blijkt in de praktijk vaak niet nodig. Bedrag aangehouden van infiltratieveld, maar dan met frequentie 1x/3 jaar"]
["Hemelwatersysteem","Open grindgoot","0,5 * 1 meter","A,ME","INSP","Inspecties","m",{"$f":"0.25*0.4","v":0.1},1,100,0.1,{"$f":"IF(Invoer!$D$8=\"Aan\",IF($O131>0,$O131,($K131*Indexfactor_2)),($K131*Indexfactor_2))","v":0.1},"Streetcare"]
["Hemelwatersysteem","Open grindgoot","0,5 * 1 meter","A,ME","INSP","Metingen","m",2.5,0.2,100,0.5,{"$f":"IF(Invoer!$D$8=\"Aan\",IF($O132>0,$O132,($K132*Indexfactor_2)),($K132*Indexfactor_2))","v":0.5},"Ervaringscijfers Tauw 2016 (Ing. R. Wentink)"]
["Hemelwatersysteem","Open grindgoot","0,5 * 1 meter","A,ME","DVO","Grof zwerfvuil verwijderen","m",{"$f":"0.1073/2","v":5.3650000000000003E-2},4,55,0.11803000000000001,{"$f":"IF(Invoer!$D$8=\"Aan\",IF($O133>0,$O133,($K133*Indexfactor_2)),($K133*Indexfactor_2))","v":0.11803000000000001},"Ervaringscijfer gemeente Almere 2015","Gebasseerd op sierplantsoen"]
["Hemelwatersysteem","Open grindgoot","0,5 * 1 meter","A,ME","DVO","Onkruidbeheersing rand","m",{"$f":"0.36/2","v":0.18},8,55,0.79200000000000004,{"$f":"IF(Invoer!$D$8=\"Aan\",IF($O134>0,$O134,($K134*Indexfactor_2)),($K134*Indexfactor_2))","v":0.79200000000000004},"Ervaringscijfer gemeente Almere 2015","Gebasseerd op sierplantsoen"]
["Hemelwatersysteem","Open grindgoot","0,5 * 1 meter","A,ME","DVO","Onkruidbeheersing hart","m",{"$f":"0.36/2","v":0.18},4,45,0.32400000000000001,{"$f":"IF(Invoer!$D$8=\"Aan\",IF($O135>0,$O135,($K135*Indexfactor_2)),($K135*Indexfactor_2))","v":0.32400000000000001},"Ervaringscijfer gemeente Almere 2015","Gebasseerd op sierplantsoen"]
["Hemelwatersysteem","Open grindgoot","0,5 * 1 meter","A,ME","DVO","Schoonspuiten","m",1,1,100,{"$f":"H136*I136*(J136/100)","v":1},{"$f":"IF(Invoer!$D$8=\"Aan\",IF($O136>0,$O136,($K136*Indexfactor_2)),($K136*Indexfactor_2))","v":1},"Ervaringscijfer gemeente Almere 2015"]
["Straatmeubilair","Paal beton",null,"A,MA,ME","DVO","Reparaties door vandelisme","st",210,1,1,2.1,{"$f":"IF(Invoer!$D$8=\"Aan\",IF($O137>0,$O137,($K137*Indexfactor_2)),($K137*Indexfactor_2))","v":2.1},"Ervaringscijfer gemeente Almere 2015"]
["Elementen verharding","Rubbertegels",null,"A,ME","DVO","Onkruid vrijhouden en reinigen","m²",0.09,4,100,0.36,{"$f":"IF(Invoer!$D$8=\"Aan\",IF($O138>0,$O138,($K138*Indexfactor_2)),($K138*Indexfactor_2))","v":0.36},"Ervaringscijfer gemeente Almere 2015"]
["Elementen verharding","Rubbertegels",null,"A,MA,ME","CO","Reparaties","m²",115,2,1,2.3000000000000003,{"$f":"IF(Invoer!$D$8=\"Aan\",IF($O139>0,$O139,($K139*Indexfactor_2)),($K139*Indexfactor_2))","v":2.3000000000000003},"Ervaringscijfer gemeente Almere 2015"]
["Groenvoorziening","Sierplantsoen",null,"A,ME","DVO","Onkruidbeheersing rand","m²",0.36,8,55,1.5840000000000001,{"$f":"IF(Invoer!$D$8=\"Aan\",IF($O140>0,$O140,($K140*Indexfactor_2)),($K140*Indexfactor_2))","v":1.5840000000000001},"Ervaringscijfer gemeente Almere 2015"]
["Groenvoorziening","Sierplantsoen",null,"A,ME","DVO","Onkruidbeheersing hart","m²",0.36,4,45,0.64800000000000002,{"$f":"IF(Invoer!$D$8=\"Aan\",IF($O141>0,$O141,($K141*Indexfactor_2)),($K141*Indexfactor_2))","v":0.64800000000000002},"Ervaringscijfer gemeente Almere 2015"]
["Groenvoorziening","Sierplantsoen",null,"A,ME","DVO","Overgroei verwijderen","m²",1.9099999999999999E-2,2,100,3.8199999999999998E-2,{"$f":"IF(Invoer!$D$8=\"Aan\",IF($O142>0,$O142,($K142*Indexfactor_2)),($K142*Indexfactor_2))","v":3.8199999999999998E-2},"Ervaringscijfer gemeente Almere 2015"]
["Groenvoorziening","Sierplantsoen",null,"A,ME","DVO","Grof zwerfvuil verwijderen","m²",0.10730000000000001,4,55,0.23606000000000002,{"$f":"IF(Invoer!$D$8=\"Aan\",IF($O143>0,$O143,($K143*Indexfactor_2)),($K143*Indexfactor_2))","v":0.23606000000000002},"Ervaringscijfer gemeente Almere 2015"]
["Groenvoorziening","Sierplantsoen",null,"A,ME","PO","Verjoningssnoei","m²",0.65,1,25,0.16250000000000001,{"$f":"IF(Invoer!$D$8=\"Aan\",IF($O144>0,$O144,($K144*Indexfactor_2)),($K144*Indexfactor_2))","v":0.16250000000000001},"Ervaringscijfer gemeente Almere 2015"]
["Groenvoorziening","Sierplantsoen",null,"A,MA,ME","CO","Inboet","m²",9.6,1,2,0.192,{"$f":"IF(Invoer!$D$8=\"Aan\",IF($O145>0,$O145,($K145*Indexfactor_2)),($K145*Indexfactor_2))","v":0.192},"Ervaringscijfer gemeente Almere 2015"]
["Straatmeubilair","Straatverlichting",null,"A,ME","INSP","Inspecties","st",0.25,1,100,0.25,{"$f":"IF(Invoer!$D$8=\"Aan\",IF($O146>0,$O146,($K146*Indexfactor_2)),($K146*Indexfactor_2))","v":0.25},"Ervaringscijfer gemeente Almere 2015"]
["Straatmeubilair","Straatverlichting",null,"MA","DVO","Energie ","st",20,1,100,20,{"$f":"IF(Invoer!$D$8=\"Aan\",IF($O147>0,$O147,($K147*Indexfactor_2)),($K147*Indexfactor_2))","v":20},"Ervaringscijfer gemeente Almere 2015"]
["Straatmeubilair","Straatverlichting",null,"A,ME","DVO","Storingen en schade afhandeling","st",12,1,100,12,{"$f":"IF(Invoer!$D$8=\"Aan\",IF($O148>0,$O148,($K148*Indexfactor_2)),($K148*Indexfactor_2))","v":12},"Ervaringscijfer gemeente Almere 2015"]
["Straatmeubilair","Straatverlichting",null,"A,ME","DVO","Reinigen","st",22,0.5,50,5.5,{"$f":"IF(Invoer!$D$8=\"Aan\",IF($O149>0,$O149,($K149*Indexfactor_2)),($K149*Indexfactor_2))","v":5.5},"Ervaringscijfer gemeente Almere 2015"]
["Hemelwatersysteem","Verbindingsleiding","Plastic 125mm","A,ME","DVO","Reinigen verbinding","m",0.2,5,100,1,{"$f":"IF(Invoer!$D$8=\"Aan\",IF($O150>0,$O150,($K150*Indexfactor_2)),($K150*Indexfactor_2))","v":1},"Conform D1100 03-2015"]
["Elementen verharding","Voetpad/plein van bestonstraatstenen",null,"A,ME","INSP","Inspecties","m²",0.03,1,100,0.03,{"$f":"IF(Invoer!$D$8=\"Aan\",IF($O151>0,$O151,($K151*Indexfactor_2)),($K151*Indexfactor_2))","v":0.03},"Ervaringscijfer gemeente Almere 2015"]
["Elementen verharding","Voetpad/plein van bestonstraatstenen",null,"A,MA,ME","CO","Reparaties","m²",15.27,7.1999999999999995E-2,10,0.109944,{"$f":"IF(Invoer!$D$8=\"Aan\",IF($O152>0,$O152,($K152*Indexfactor_2)),($K152*Indexfactor_2))","v":0.109944},"Ervaringscijfer gemeente Almere 2015"]
["Elementen verharding","Voetpad/plein van bestonstraatstenen",null,"A,MA,ME","PO","Lokaal herstraten","m²",7.25,4.3999999999999997E-2,30,9.5699999999999993E-2,{"$f":"IF(Invoer!$D$8=\"Aan\",IF($O153>0,$O153,($K153*Indexfactor_2)),($K153*Indexfactor_2))","v":9.5699999999999993E-2},"Ervaringscijfer gemeente Almere 2015"]
["Elementen verharding","Woonstraat en parkeerterrein van betonstraatstenen",null,"A,ME","INSP","Inspecties","m²",0.03,1,100,0.03,{"$f":"IF(Invoer!$D$8=\"Aan\",IF($O154>0,$O154,($K154*Indexfactor_2)),($K154*Indexfactor_2))","v":0.03},"Ervaringscijfer gemeente Almere 2015"]
["Elementen verharding","Woonstraat en parkeerterrein van betonstraatstenen",null,"A,MA,ME","CO","Reparaties","m²",15.27,7.1999999999999995E-2,10,0.109944,{"$f":"IF(Invoer!$D$8=\"Aan\",IF($O155>0,$O155,($K155*Indexfactor_2)),($K155*Indexfactor_2))","v":0.109944},"Ervaringscijfer gemeente Almere 2015"]
["Elementen verharding","Woonstraat en parkeerterrein van betonstraatstenen",null,"A,MA,ME","PO","Lokaal herstraten","m²",7.25,4.3999999999999997E-2,30,9.5699999999999993E-2,{"$f":"IF(Invoer!$D$8=\"Aan\",IF($O156>0,$O156,($K156*Indexfactor_2)),($K156*Indexfactor_2))","v":9.5699999999999993E-2},"Ervaringscijfer gemeente Almere 2015"]
["Hemelwatersysteem","Zakput","3*2 beton","A,ME","INSP","Inspecties","st",23,0.5,100,11.5,{"$f":"IF(Invoer!$D$8=\"Aan\",IF($O157>0,$O157,($K157*Indexfactor_2)),($K157*Indexfactor_2))","v":11.5},"Ervaringscijfers Tauw 2016 (Ing. R. Wentink)"]
["Hemelwatersysteem","Zakput","3*2 beton","A,ME","DVO","Leegzuigen","st",10,0.5,100,5,{"$f":"IF(Invoer!$D$8=\"Aan\",IF($O158>0,$O158,($K158*Indexfactor_2)),($K158*Indexfactor_2))","v":5},"Ervaringscijfers Tauw 2016 (Ing. R. Wentink)"]
["Hemelwatersysteem","Zakput","3*2 beton","A,MA,ME","CO","Bodem zakput verbetering","st",100,0.1,100,10,{"$f":"IF(Invoer!$D$8=\"Aan\",IF($O159>0,$O159,($K159*Indexfactor_2)),($K159*Indexfactor_2))","v":10},"Ervaringscijfers Tauw 2016 (Ing. R. Wentink)"]
["Hemelwatersysteem","Zakput","3*2 beton","A,ME","INSP","Metingen","st",15,0.3,100,4.5,{"$f":"IF(Invoer!$D$8=\"Aan\",IF($O160>0,$O160,($K160*Indexfactor_2)),($K160*Indexfactor_2))","v":4.5},"Ervaringscijfers Tauw 2016 (Ing. R. Wentink)"]
["Hemelwatersysteem","Onderhoudsarme wadi (inc. beplanting)","o.b.v. haag","A,ME","DVO","Snoeien","m²",0.63349999999999995,2,100,1.2669999999999999,{"$f":"IF(Invoer!$D$8=\"Aan\",IF($O161>0,$O161,($K161*Indexfactor_2)),($K161*Indexfactor_2))","v":1.2669999999999999},"Ervaringscijfer gemeente Almere 2015"]
["Hemelwatersysteem","Onderhoudsarme wadi (inc. beplanting)","o.b.v. haag","A,ME","DVO","Onkruidbeheersing","m²",0.72,8,50,2.88,{"$f":"IF(Invoer!$D$8=\"Aan\",IF($O162>0,$O162,($K162*Indexfactor_2)),($K162*Indexfactor_2))","v":2.88},"Ervaringscijfer gemeente Almere 2015"]
["Hemelwatersysteem","Onderhoudsarme wadi (inc. beplanting)","o.b.v. haag","A,ME","DVO","Zwerfvuil verwijderen","m²",0.10730000000000001,4,40,0.17168000000000003,{"$f":"IF(Invoer!$D$8=\"Aan\",IF($O163>0,$O163,($K163*Indexfactor_2)),($K163*Indexfactor_2))","v":0.17168000000000003},"Ervaringscijfer gemeente Almere 2015"]
["Hemelwatersysteem","Onderhoudsarme wadi (inc. beplanting)","o.b.v. haag","A,MA,ME","CO","Inboet","m²",7.26,1,2,0.1452,{"$f":"IF(Invoer!$D$8=\"Aan\",IF($O164>0,$O164,($K164*Indexfactor_2)),($K164*Indexfactor_2))","v":0.1452},"Ervaringscijfer gemeente Almere 2015"]
["Riolering","Tergakolk",null,"A,ME","DVO","Kolkzuigen","st",2.25,2,100,4.5,{"$f":"IF(Invoer!$D$8=\"Aan\",IF($O165>0,$O165,($K165*Indexfactor_2)),($K165*Indexfactor_2))","v":4.5},"Conform D1100 03-2015"]
[]
[]
[]
[]
[]
[]
[]
[]
[]
[]
[]
[]
[]
[]
[]
[]
[]
[]
[]
[]
[]
[]
[]
[]
[]
[]
[]
[]
[]
[]
[]
[]
[]
[]
[]
[]
[]
[]
[]
[]
[]
[]
[]
[]
[]
[]
[]
[]
[]
[]
[]
[]
[]
[]
[]
[]
[]
[]
[]
[]
[]
[]
[]
[]
[]
[]
[]
[]
[]
[]
[]
[]
[]
[]
[]
[]
[]
[]
[]
[]
[]
[]
[]
[]
[]
[]
[]
[]
[]
[]
[]
[]
[]
[]
[]
[]
[]
[]
[]
[]
[]
[]
[]
[]
[]
[]
[]
[]
[]
[]
[]
[]
[]
[]
[]
[]
[]
[]
[]
[]
[]
[]
[]
[]
[]
[]
[]
[]
[]
[]
[]
[]
[]
[]
[]
[]
[]
[]
[]
[]
[]
[]
[]
[]
[]
[]
[]
[]
[]
[]
[]
[]
[]
[]
[]
[]
[]
[]
[]
[null,null,null,null,null,null,null,null,null,null,null,null,null,null,null,null,0]

{"sheet":"Bronvermelding","index":9,"n_rows":21,"n_cols":4,"rows_kept":21,"cut":false,"hidden":false,"merged":[]}
[null,"Regel","Bron","Toelichting"]
[1,"Cijfers Woningmarkt","http://woningmarktcijfers.staanhier.nl/blog/2013/02/26/gemiddeld-inkomen-versus-gemiddelde-woz-per-wijk/"]
[2,"Inschatting (ondergrens) o.b.v. metingen (hedonic price studie) in 1997 bij in zeven verschillende gemeentes in Nederland. Hieruit bleek een waardestijging van 5 à 8 % voor binnenstedelijk groen.","Ruijgrok, et al. 2006"]
[3,"Vermindering water naar RWZI bespaard 0,50 euro/m3 per jaar","R. Wentink, 2016"]
[4,"Voorzichtige schatting is 5% meerwaarde groene t.o.v. versteende straat","Ruijgrok, et al. 2006","Uit een studie van Fennema (1995) bleek dat uitzicht op groen (bos of grasland) in de gemeente Apeldoorn een waardeverhogend effect van 6 % op de woningwaarde had. Uit een studie van Sijtsma e.a. (1996) kwam naar voren dat kopers in de Randstad bereid zijn om 9 à 11 % meer te betalen voor huizen met twee maal zoveel openbaar groen. Van Leeuwen (1997) stelt op basis van een enquete onder makelaars vast dat huizen nabij lokaal groen 7 % meer waard zijn dan  vergelijkbare huizen verre daarvan. Huizen met zowel lokaal als regionaal groen in de nabijheid blijken een meerwaarde van ca. 14 % te hebben. Luttik en Zijlstra (1997) vinden op basis van metingen in zeven verschillende gemeentes in Nederland een waardestijging van 5 à 8 % voor binnenstedelijk groen en van ca. 12 % voor uitzicht op open groene ruimte. Uit deze metingen kan worden afgeleid dat de meerwaarde van groen varieert van 5 tot 14 %."]
[5,"Watersysteemheffing (gebouwd binnendijks) o.b.v. WOZ-waarde. Varieert tussen 0.015967% en 0.0584% per waterschap (2016).","Waterschap HHNK, Waternet, Waterschap AGV en https://www.gblt.nl/","Waterschappen zorgen voor bescherming tegen wateroverlast, schoon water en voldoende water. Met het beheren van het waterpeil zorgen waterschappen voor goede aan- en afvoer van het oppervlaktewater om wateroverlast en verdroging tegen te gaan. De waterschappen bewaken ook de dijken langs rivieren en (rand)meren. Tot slot zoeken ze steeds naar nieuwe mogelijkheden om de kwaliteit van het oppervlaktewater op peil te houden of te verbeteren. Met de watersysteemheffing ingezetenen betalen inwoners mee aan de kosten van deze werkzaamheden. Rijn en Ijssel(0,029%); Vallei en Veluwe(0,022%); Zuiderzeeland(0,055%); Drentse Overijselse Delta(0,050%); Vechtstromen(0,042%); HHNK(0,049%); Waternet(0,016%);Amstel, Gooi en Vechtstreek(0,016%); Hollandse Delta(0,043%); Stichtse Rijnlanden (0,026%); Limburg (0,024%); Rivierenland (0,046%); Scheldestromen (0,058%). Op basis van gegevens uit 2016\n"]
[6,"Belasting over WOZ waarde is gemiddeld 0,75% per jaar (Ookwel eigenwoningforfait)","Belastingdienst","De hoogte van de te betalen inkomstenbelasting die gekoppeld is aan de waarde van uw woning heet eigenwoningforfait. Tijdens het invullen van uw jaarlijkse belastingaangifte dient u, indien u over een eigen woning beschikt, een gedeelte van de waarde van de woning op te tellen bij uw belastbaar inkomen. Dit gedeelte is een percentage van de WOZ-waarde: het eigenwoningforfait. Des te lager de waarde van uw woning c.q. de WOZ-waarde des te minder inkomstenbelasting u dient te betalen."]
[7,"De OZB varieert tussen de 0,05 en 0,25 omdat iedere stad hier een eigen lijn kan trekken (OZB-tarieven 2015). We nemen een gemiddelde: 0,15%","OZB-tarieven 2015"]
[8,"bladerdek: een boomkruin is een groot volume waarmee voor fijnstofafvang en effect op mentale gezondheid veel meer bijdraagt dan wanneer alleen het effect van de boomspiegel mee telt. Average crown density 60% * (π*r2). Gem radius nemen we 6m. 0,6*π*62 = 68","http://fhm.fs.fed.us/pubs/fhncs/chapter2/crown_density.htm\nhttp://www.forestry.gov.uk/fr/infd-6p3kqj"]
[9,"boomkroon diameter in de straat gemiddeld 6 m op basis van website en google earth","http://etiennethomassen.nl/notities/2015-07-09-Hoe-groot-worden-boomkronen/\nHemery 2005"]
[10,"1% toename groen binnen 1km geeft 0,835 minder patienten per 1000 inwoners geregistreerd bij huisarts","Maas et al., 2009, Morbidity is related to a green living environment"]
[11,"personen per huishouden is gebaseerd op gegevens van cbs per wijk","http://www.cbsinuwbuurt.nl/#wijken2015_gemiddelde_huishoudgrootte"]
[12,"Aandeel patiënten dat door vergroening werkzaam zou zijn geweest is 0,67 (gemiddelde participatiegraad in NL)","KPMG (2012)"]
[13,"Arbeidskosten per patiënt (die anders werkzaam zou zijn geweest) is € 6341","KPMG (2012)\nTNO (2010b)","Het betreft een schatting van de totale kosten van gezondheidsgerelateerde non-participatie. Het betreffen de kosten per ziektebeeld (samengesteld effect van 9 ziektebeelden is meegenomen) voor ziekteverzuim, minder productief werkzaam en arbeidsuitval (WIA)."]
[14,"Zorgkosten per patiënt zijn € 868","KPMG (2012) \nSlobbe (2011)","Inschatting van de curatieve behandelingskosten in de keten (zoals de huisarts en gezondheid) per gemiddelde patiënt door de totale behandelkosten van Nederland uitgesplitst naar ziektebeeld te delen door het aantal betreffende patiënten. Het kengetal betreft het gewogen gemiddelde van de negen gewaarderde ziektenbeelden (zijnde: infectie darmkanaal, migraine, diabetes, astma & COPD, bovenste luchtweginfectie, nek- en rugklachten, depressie, angststoornissen en coronaire hartziekten)."]
[15,"Jaarlijkse neerslagsom is gemiddeld 800mm. Daarvan stroomt 70% van verhard oppervlak af naar riool. Dat wordt bij een gemengd systeem voor 95% naar de RWZI afgevoerd en bij een verbeterd gescheiden systeem voor 70%. Bij 1000m2 (jaarlijks 800m3 neerslag) stroomt 560m3 naar riool. Hier stroomt zo'n 500m3/jr naar RWZI en dat kost €250,-/jr.","J. Kluck, 2016"]
[16,"Van groen, boomspiegel of een wadi stroomt niks af op het rioolsysteem. Daarom geeft 1 m² groen €0,25 besparing op het zuiveren van rioolwater."]
[17,"Afvoerend oppervlak per woning 150-250m2. Als we deze geheel infiltreren door voorzieningen bespaard dit ca €50,- per woning per jaar.","Rioned 2005, p 15"]
[18,"2.9 variant: maximale uurneerslag bij verschillende herhalingstijden voor de regenduurlijnen waarbij de neerslagintensiteit uit Buishand Nieuw (2006) is verhoogd met 40 % als gevolg van klimaatverandering","Malda en Terpstra (2006) Meteoconsult rapport"]
[19,"vanaf 2.10 bestaat het tabblad klimaatscenario en daarin in het scenario 2050 upper gekozen voor gebruik in de waterschadeschatter","STOWA 2019"]
[20,"Infiltratie percentage berekeningen geïnspireerd door (precies) en op basis van (ruw) Brolsma et al. (2022).","Brolsma et al., 2022."]

{"sheet":"Definities","index":10,"n_rows":33,"n_cols":6,"rows_kept":33,"cut":false,"hidden":false,"merged":[]}
[null,"Tabblad","Term / tabelnaam","Betekenis","Tabel","opmerking"]
[null,"resultaten","relatievecontante waarde","contante waarde / gedisconteerde waarde over 100 jaar uitgedrukt in % van de contante waarde van variant 0","relatievecontante waarde"]
[null,"resultaten","relatieve aanlegkosten per jaar","aanlegkosten variant n als percentage van de jaarkosten van variant 0","relatievecontante waarde"]
[null,"resultaten","relatieve onderhoudskosten per jaar","onderhoudskosten uit resultatentabel uitgedrukt in % van de contante waarde van variant 0","relatievecontante waarde"]
[null,"resultaten","relatieve schadekosten per jaar","schadekosten uit resultatentabel uitgedrukt in % van de contante waarde van variant 0","relatievecontante waarde"]
[null,"resultaten","Aanlegkosten","contante waarde over 100 jaar vermindert met de totale gedisconteerde jaarlijkse onderhoudskosten, schadekosten en restwaarde na 100 jaar","resultaten"]
[null,"resultaten","Onderhoudskosten ","totale jaarlijkse onderhoudskosten","resultaten"]
[null,"resultaten","Schadekosten","totale waterschadekosten","resultaten"]
[null,"berekeningen","totale waterschadekosten","som van de kosten van de 3 waterschadegrenzen samen","waterschadekosten"]
[null,"resultaten","Totale Jaarkosten","som van de aanlegkosten, onderhoudskosten en schadekosten","resultaten"]
[null,"resultaten","Restwaarde na 100 jaar","[Het over 100 jaar gedisconteerde verschil tussen de kosten incl. DWA en (verwijderen) HWA en de kosten excl. DWA en HWA. Dus de kosten van de DWA en HWA] / 60 *40 en daarbij (+) [de over 100 jaar gedisconteerde kosten excl. DWA en HWA] / 30 * 10. Dit gaat over de kosten van de 2e herinrichting.","resultaten"]
[null,"resultaten","Groenbaten","groenbaten (100 jaar) / 100","resultaten"]
[null,"resultaten","Groenbaten (100 jaar)","De totaalsom van alle gedisconteerde groenbaten van elk van de 100 jaar","resultaten"]
[null,"resultaten","contante waarde over 100 jaar","som van de naar jaar het eerste moment gedisconteerde aanlegkosten, onderhoudskosten en schadekosten voor elk van de 100 jaren.","uitgebreide resultaten"]
[null,"resultaten","gemeentelijke kosten per jaar","aanlegkosten en onderhoudskosten","uitgebreide resultaten & Kosten en Baten per stakeholder per jaar"]
[null,"resultaten","gemeentelijke baten per jaar","Onroerende zaak belasting. OZB.","uitgebreide resultaten & Kosten en Baten per stakeholder per jaar"]
[null,"resultaten","waterschaps kosten per jaar",null,"uitgebreide resultaten & Kosten en Baten per stakeholder per jaar"]
[null,"resultaten","waterschaps baten per jaar","Watersysteembelasting, vermindering afvoerkosten, afkoppelen verhard oppervlak en afkoppelen woningpercelen samen. Dat houdt in belasting en besparingen op de RWZI samen.","uitgebreide resultaten & Kosten en Baten per stakeholder per jaar"]
[null,"resultaten","verzekeraars kosten per jaar",null,"uitgebreide resultaten & Kosten en Baten per stakeholder per jaar"]
[null,"resultaten","verzekeraars baten per jaar","Schadekosten variant 0 - schadekosten variant #n + vermeden kosten van het minder patiënten hebben bij de huisarts","uitgebreide resultaten & Kosten en Baten per stakeholder per jaar"]
[null,"resultaten","Bewoners/woningeigenaar kosten per jaar","Belastingen bestaande uit OZB, eigenwoningforfait en watersysteembelasting","uitgebreide resultaten & Kosten en Baten per stakeholder per jaar"]
[null,"resultaten","Bewoners/woningeigenaar baten per jaar","Stijging woningwaarde (eenmalig) verdeeld over 100 jaar, niet gedisconteerd","uitgebreide resultaten & Kosten en Baten per stakeholder per jaar"]
[null,"resultaten","Het Rijk kosten per jaar",null,"uitgebreide resultaten & Kosten en Baten per stakeholder per jaar"]
[null,"resultaten","Het Rijk baten per jaar","Eigenwoningforfait","uitgebreide resultaten & Kosten en Baten per stakeholder per jaar"]
[null,"berekeningen","totale aanlegkosten","Som van de gedisconteerde waarde van de 4 herinrichtingsmomenten. Afhankelijk van de herinrichtingsronde zijn de kosten inclusies of exclusief DWA en HWA.","contante waarde"]
[null,"berekeningen","totale onderhoudskosten","som van de gedisconteerde onderhoudskosten","contante waarde"]
[null,"berekeningen","totale schadekosten","som van de gedisconteerde schadekosten","contante waarde"]
[null,"berekeningen","totale groenbaten","Som van de gedisconteerde groenbaten per jaar en de eenmalige woningwaarde stijging uit het eerste jaar","contante waarde"]
[null,"berekeningen","kostenpost tabel","tabel met aanleg en onderhoudskosten uitgesplitst","kostenpost"]
[null,"berekeningen","opslag"," De aanlegkosten incl. en excl. DWA&HWA zijn ook inclusief opslagkosten bestaande uit: Uitvoeringskosten, CAR-verzekering; Algemene kosten, winst en risico; Voorbereiding, toezicht en advies;","kostenpost"]
[null,"berekeningen","Kosten incl. DWA en (verwijderen) HWA","Kosten voor het herinrichten van de openbare ruimte én het rioolsysteem. Gegeven voor jaar 0 en voor de 2e herinrichting. Dus de totale realisatiekosten uit de uitgesplitste realisatiefases tabel","kostenpost"]
[null,"berekeningen","Kosten excl. DWA en HWA","Kosten voor het herinrichten van het projectgebied exclusief de riolering. Dus alleen de openbare ruimte. Dus de totale realisatiekosten uit de uitgesplitste realisatiefases tabel verminderd met de aanlegkosten voor (beide) riolering(en).","kostenpost"]
[null,"berekeningen","Restwaarde","((kosten inc. DWA en HWA - kosten ex. DWA en HWA)*discontofactor) / levensduur HWA en DWA(=60 jaar)) * resterende levensduur (=20jaar)) + (((kosten ex. DWA en HWA * discontofactor) / levensduur openbare ruimte bovengronds (=30jaar)) * resterende levensduur (=20jaar))","contante waarde"]